{"text_format":"3","workbook":"xlsx","n_sheets":26,"sheets":["data","BR","non-exercise","transposed","transposednonex","analysis","gender","bmi","adhd","analysisnonex","PlotArray1","females","males","ADD","non-ADD","high BMI","normal BMI","PlotArray1nonex","females-nonex","males-nonex","ADD-nonex","non-ADD-nonex","high BMI-nonex","normal BMI-nonex","int","intnonex"],"not_rendered":{"charts":80,"images":2,"defined_names":25},"read":"whole","date_system":"1900"}

{"sheet":"data","index":0,"n_rows":161,"n_cols":74,"rows_kept":161}
["ID","PM101","RK101","HR101","BH101","AA101","SN101","DZ101","ER101","TN101","EJ101","DJ101","KM101","JC102","DP101","JF101","CN101","DD101","MR101","AMP101","GS101","OA101","MT101","JB101","ZP101","LT101","IOD101","IF101","OB101","DY101","IH101","CJ101","AK101","AI101","AP102","DI101","AA102","JS102","TB101","JP101","EF101","JD101","SR101","NV101","DS101","DT101","LB101","FA101","KP101","MD101","IG101","GH101","DST102","RT101","JG101","CC101","SN102","SW101","FA102","JH102","RS101","TN102","SK101","SAV101","AS102","DE101","JR101","YS101","AP101","JM101","EC101","RB101","MK101","SGJ101"]
["Date","2010-11-12","2010-11-16","2010-11-18","2010-11-19","2010-12-02","2010-12-04","2010-11-18","2010-11-24","2010-11-25","2010-11-25","2010-12-02","2010-12-11","2010-12-11","2011-01-12","2011-01-27","2011-02-03","2011-02-03","2011-02-09","2011-02-09","2011-02-16","2011-02-17","2011-02-19","2011-03-08","2011-03-08","2011-03-09","2011-03-29","2011-04-19","2011-04-28","2011-04-30","2011-06-30","2011-07-20","2011-07-20","2011-07-26","2011-07-27","2011-08-03","2011-08-03","2011-08-10","2011-11-11","2009-09-30","2009-10-01","2009-10-01","2009-10-13","2009-10-23","2009-11-06","2009-11-06","2009-11-06","2009-11-11","2009-11-11","2009-11-11","2009-11-11","2009-11-13","2009-11-13","2009-11-13","2009-11-13","2010-04-06","2012-04-13","2012-04-26","2012-04-28","2011-06-12","2011-06-08","2012-07-10","2012-07-10","2012-07-10","2012-07-10","2012-07-11","2013-02-06","2010-11-20","2010-10-19","2009-09-30","2009-10-24","2010-11-19","2009-09-30","2011-01-27"]
[null,"12.16pm","1.20 pm","2.30 pm","12.20 pm","4.30 pm","11.59am","4.20 pm","2.20 pm","3.30 pm","2.20 pm","1:00 PM","2:00 PM","12 noon","11.30 pm","1.30 pm","2:00 PM","7:00 PM","1:00 PM","4:00 PM","12 noon","1.30 pm","8.00 am","11am","2pm","2pm","9am","12.25am","10.30am","11am","2.45pm","10am","11.23am","3.24pm","3.00pm","10.30am","3pm","11.30am","3.16pm","4.41pm","4.30pm","2.40pm","3.40pm","9.44am","1.31pm","11.11am","4.44pm","4.21pm","12.25pm","6.12pm","2.09pm","4.08pm","2.17pm","12.35pm","10.51am","2.22pm","6.30 pm","9.00 am","8.30 am","2.00 pm","2.00 pm","12.30 pm","10.45 am","9.00 am","1.15 pm","12.45 pm","9.50 am","3.20 pm","12:00:00","1.28pm","12.40pm","10.10 am","11.39am","12 noon"]
[]
["http://www.biology.unt.edu/~tam/SelfTests/StroopEffects1.html"]
["PreCongr1 Set1",14.51,21.009,21.719,12.999,16.791,20.239,16.847,10.661,17.016,18.592,17.544,17.8,14.544,22.815,15.368,18.388,14.815,19.638,21.96,13.753,19.088,42.32,18.175,27.447,36.336,21.904,17.999,30.568,22.359,16.382,21.804,22.944,28.658,15.729,23.379,18.305,20.687,17.175,15.264,17.987,26.719,15.832,19.416,13.672,23.112,19.312,23.736,21.76,56.805,18.232,17.672,13.745,37.385,21.608,19.051,27.736,9.358,14.059,16.825,36.008,18.532,21.709,13.922,18.836,26.488,28.894,15.511,20.806,23.537,20,20.904,19.848,13.592]
["PreIncongr1 Set1",29.233,40.992,35.279,55.902,24.535,39.871,25.887,27.502,34.471,32.584,39.863,37.071,26.616,41.032,31.433,40.983,46.783,33.256,44.309,41.631,59.49,50.699,36.687,29.974,35.177,35.248,39.066,34.105,33.112,38.904,30.704,23.313,38.071,32.391,56.934,34.625,28.336,30.359,31.762,38.706,37.146,30.488,23.72,29.565,63.977,33.077,39,33.368,48.841,36.295,42.681,27.177,42.921,32.377,35.386,52.453,27.295,30.293,31.08,44.956,28.803,44.157,28.39,30.981,43.568,45.415,40.918,28.9,55.994,39.769,48.966,36.609,24.571]
["PreCongr1 Set2",15.662,21.592,16.264,25.935,18.528,16.248,15.672,12.717,19.607,24.472,17.112,18.831,15.678,25.077,17.897,18.172,15.323,21.359,27.656,14.744,19.696,36.319,18.615,27.663,31.529,23.88,19.822,25.288,19.992,18.852,20.85,20.456,23.7,20.443,28.412,22.735,15.409,16.824,15.848,20.104,28.344,17.296,18.318,13.152,24.568,24.025,24.664,23.223,29.784,20.305,18.705,16.416,32.816,22.171,16.533,22.525,9.166,15.213,17.531,31.772,17.427,22.672,15.757,19.932,26.82,26.302,15.75,22.938,23.726,68.736,20.63,19.656,13.634]
["PreIncongr1 Set2",27.567,45.17,32.191,47.502,24.703,36.631,25.383,23.902,38.003,30.008,42.207,42.031,29.255,45.134,32.164,36.182,48.185,32.968,46.976,44.247,60.527,40.304,35.63,30.631,33.888,33.858,38.209,33.247,35.071,31.672,30.92,25.968,38.64,32.159,30.442,35.799,30.072,28.19,28.569,37.713,35.68,26.513,27.657,32.092,84.545,35.257,35.808,31.624,45.201,34.656,38.713,25.4,38.298,31.633,42.064,44.728,27.312,31.671,28.656,40.19,25.634,42.575,28.992,26.969,35.959,41.469,38.175,31.93,66.885,35.393,51.11,35.865,25.264]
["PreCongr2 Set1",15.256,19.152,17.167,16.207,17.576,19.088,15.935,12.656,19.759,24.352,16.76,17.496,15.608,23.6,15.937,17.328,15.096,18.296,22.471,14.879,20.527,37.936,19.775,27.831,27.776,22.904,17.487,24.064,22.281,16.848,18.439,18.4,23.913,19.159,27.433,22.472,19.113,16.664,15.203,18.416,28.214,14.736,17.863,13.672,{"v":24.864,"d":"25"},17.936,19.27,22.4,28.377,16.88,16.6,13.464,26.56,21.455,17.216,19.839,9.488,14.068,16.274,30.719,18.045,21.572,15.898,20.773,26.229,22.96,13.623,18.715,20.76,16.608,18.576,20.969,13.392]
["PreIncongr2 Set1",27.322,38.191,32.327,46.106,24.832,33.247,26.687,22.639,36.143,30.032,45.406,46.398,27.599,45.632,32.624,34.927,43.311,38.136,45.847,44.583,50.617,39.737,32.495,30.847,31.296,34.728,35.288,36.544,31.993,33.056,30.272,25.265,33.281,32.538,45.113,30.232,27.208,27.375,29.204,35.28,38.631,28.017,23.782,32.185,67.033,32.089,41.985,32.089,41.287,31.448,43.832,25.185,33.657,33.16,38.506,44.912,35.326,31.969,34.225,35.879,29.381,41.171,30.211,27.456,41.458,37.197,34.327,30.022,53.371,34.257,51.894,33.699,25.079]
["PreCongr2 Set2",15.307,22.073,17.84,13.943,15.951,18.76,13.832,10.991,18.023,21.888,15.936,18.112,15.378,23.608,14.91,15.471,14.631,19.76,21.112,13.76,18.591,35.464,17.504,25.934,22.208,20.088,17.472,25.873,22.273,16.057,20.435,18.59,22.194,19,25.617,20.407,16.544,17.544,14.871,17.944,27.526,14.736,16.832,11.512,27.056,19.649,18.151,20.336,22.609,17.544,16.689,14.895,24.913,21.304,16.277,19.872,9.199,13.489,16.702,29.846,16.242,20.864,15.357,18.123,27.058,23.916,13.896,18.592,17.656,17.664,20.983,17.52,12.583]
["PreIncongr2 Set2",25.858,42.329,31.703,42.526,23.896,36.647,25.399,27.335,31.703,30.536,38.167,41.198,29.4,43.021,31.284,37.944,43.68,32.009,43.808,39.079,63.519,36.823,31.878,31.166,27.72,31.905,39.864,34.456,33.216,30.024,30.512,23.762,37.753,35.568,40.84,33.417,31.16,27.567,27.593,35.033,37.68,28.688,24.248,31.808,125.57,33.505,42.344,33.736,44.704,45.045,44.992,28.497,33.633,31.08,45.905,43.952,28.192,30.714,27.889,36.55,27.549,49.861,27.625,26.631,40.256,33.887,32.9,34.435,50.275,33.92,56.958,29.882,26.792]
["PreCongr3 Set1",15.17,21.752,16.871,12.495,14.815,21.183,15.784,10.432,17.663,19.488,16.159,16.351,15.143,25.049,13.626,14.967,14.218,19.031,21.76,14.46,19.784,35.04,18.12,25.536,20.584,21.584,17.697,25.217,22.183,15.546,16.442,18.45,19.961,17.816,25.728,21.423,15.48,15.991,14.424,19.424,26.546,13.72,18.001,11.395,17.145,19.8,18.848,20.248,28.368,17.649,16.544,13.681000000000001,22.423,20.576,17.374,18.935,8.623,14.255,15.857,30.745,16.087,18.347,14.052,17.596,25.276,23.762,13.759,15.731,18.283,15.064,19.655,18.51,11.99]
["PreIncongr3 Set1",26.776,40.007,30.886,42.19,24.015,37.959,25.407,23.056,35.615,29.703,44.67,48.487,26.999,39.609,33.528,36.095,42.307,37.136,45.313,42.334,53.52,31.512,33.599,28.799,25.465,34.777,39.92,32.928,36.096,30.48,34.126,26.993,38.168,34.4,40.536,28.513,27.196,28.575,26.425,37.841,35.56,29.44,23.495,30.599,85.913,35.897,40.696,28.617,43.392,31.904,39.599,26.888,32.168,33.44,36.439,44.344,25.559,36.275,30.394,38.052,25.884,41.941,26.654,24.277,34.875,35.392,35.095,30.479,52.68,32.601,44.702,29.432,24.98]
["PreCongr3 Set2",14.823,21.673,17.056,11.664,14.848,17.984,14.24,9.151,17.703,20.568,19.055,17.655,15.032,21.088,13.647,15.008,14.014,17.648,19.671,14.512,18.711,25.137,17.344,26.087,19.127,21.192,15.336,26.648,22.84,15.863,16.785,16.522,19.137,17.41,22.792,20.232,15.936,16.767,14.209,17.336,28.801,13.72,16.772,11.4,31.832,20.785,19.329,19.801,27.496,16.776,16.681,13.856,19.608,19.96,17.92,18.792,8.775,14.396,16.508,33.486,16.668,17.071,13.827,16.81,27.266,23.011,12.928,16.722,20.665,16.641,20.511,17.905,14.216]
["PreIncongr3 Set2",26.766,43.065,29.43,38.726,19.695,43.015,27.758,20.631,33.831,32.303,37.679,40.911,26.567,39.798,34.456,33.463,42.931,31.854,40.696,46.347,59.808,31.224,31.342,33.495,26.544,34.504,30.64,35.831,38.935,30.176,30.77,24.199,34.559,46.962,37.367,36.513,26.168,28.191,29.615,36.552,36.617,26.669,23.552,30.977,120.747,36.433,47.213,28.68,51.865,31.305,44.097,30.608,33.145,33.465,35.921,45.016,26.336,26.012,30.344,36.143,25.261,43.63,33.254,27.146,38.983,33.571,36.694,25.877,52.091,31.586,57.342,30.011,26.487]
["PreCongr4 Set1",15.664,21.552,16.928,13.696,13.424,18.656,13.872,9.496,17.519,19.423,19.032,15.824,14.615,24.29,13.6,14.063,14.311,17.76,20.056,14.048,18.04,30.184,16.392,27.135,19.08,20.152,16.095,24.504,22.321,17.443,13.609,16.305,19.449,17.414,21.976,23.489,17.216,16.855,13.064,18.042,28.535,14.646,18.249,12.2,27.441,17.273,19.88,19.072,31.328,17.304,15.993,13.352,18.457,19.704,16.857,20.017,10.561,13.161,16.877,27.908,16.568,19.066,15.305,18.007,24.091,22.413,13.423,17.265,20.848,15.2,19.567,17.672,11.728]
["PreIncongr4 Set1",25.766,38.495,33.527,38.334,21.447,38.079,23.103,21.167,34.663,30.687,39.591,38.991,25.855,43.686,30.185,38.983,45.175,30.456,37.848,36.68,52.759,29.839,31.694,28.879,25.336,35.224,41.865,32.167,34.848,32.944,33.327,24.936,33.344,36.806,41.353,32.007,28.024,25.808,29,38.786,34.546,24.605,23.328,26.488,108.666,31.753,39.592,29.416,44.897,32.851,49.953,25.56,30.736,33.344,35.739,40.76,31.211,27.005,27.137,36.028,25.056,44.996,30.574,23.589,34.2,33.288,37.687,33.32,50.304,32.032,48.03,30.12,24.632]
["PreCongr4 Set2",15.13,22.616,16.335,12.279,15.12,17.424,13.655,9.535,18.223,19.287,18.199,18.519,14.623,21.441,12.44,14.168,14.144,17.152,18.761,13.087,18.367,25.223,16.44,28.487,17.632,20.48,16.96,24.687,22.784,16.536,12.887,15.432,17.816,18.864,21.4,19.776,15.408,16.935,13.417,18.2,27.469,13.648,17.504,10.944,28.449,17.08,17.352,18.392,26.409,17.325,16.336,14.128,18.368,18.616,17.813,18.503,9.896,13.588,15.108,26.755,16.465,17.312,14.961,17.997,24.452,24.814,16.855,20.286,18.536,15.528,19.655,16.084,12.68]
["PreIncongr4 Set2",27.065,42.705,30.447,39.135,21.152,38.711,26.904,20.823,30.215,31.111,36.903,41.543,26.895,45.6,33.95,35.303,39.083,32.218,42.783,37.32,44.225,26.848,32.102,27.791,25.872,35.704,30.342,32.816,31.473,30.784,31.713,25.17,32.649,35.496,38.799,35.88,32.232,25.017,27.464,38.089,37.216,23.928,23.144,28.665,102.251,33.969,33.272,28.161,36.241,36.056,41.712,26.537,35.577,38.137,39.074,42.713,25.519,28.72,25.499,32.268,24.711,74.558,29.948,25.92,38.942,35.509,33.302,26.419,55.614,31.825,42.799,31.201,27.463]
["PreCongr5 Set1",15.606,22.152,16.591,12.487,13.951,19.552,14.152,10.184,17.952,19.472,15.879,17.44,16.623,20.608,12.544,14.336,13.626,16.567,19.071,14.017,20.512,25.081,17.255,26.687,17.449,21.432,17.576,23.968,21.135,15.528,14.216,16.184,18.593,18.945,23.368,21.049,17.504,17.272,14.033,18.109,27.304,13.267,16.206,11.993,31.576,16.352,18.768,20.568,25.504,17.256,15.153,13.209,16.681,18.704,17.776,17.335,9.904,13.924,15.102,30.296,16.868,24.487,15.814,15.764,23.742,23.931,13.767,16.81,18.272,15.824,19.448,18.016,13.248]
["PreIncongr5 Set1",27.327,42.512,31.311,38.487,24.159,43.407,24.431,20.823,33.159,29.607,40.007,43.351,26.192,40.688,27.111,34.815,42.496,31.583,41.72,30.944,46.143,27.209,29.703,29.783,25.136,34,42.255,33.793,36.84,35.016,29.945,22.703,35.359,34.89,37.416,32.255,27.528,26.768,29.376,37.266,35.329,26.001,22.426,29.944,91.466,30.52,43.649,32.176,36.984,29.881,47.009,26.809,31.896,32.752,36.628,38.543,29.616,33.103,25.064,36.162,24.945,45.873,31.166,26.457,41.354,35.092,34.83,27.157,49.905,29.994,48.254,30.21,28.465]
["PreCongr5 Set2",14.84,23.913,16.856,12.191,13.711,20.744,13.288,9.087,17.784,19.6,17.032,17.383,15.495,24.872,12.057,15.312,13.672,17.48,18.056,13.663,17.68,23.68,16.831,26.183,16.048,19.048,17.776,24.992,20.686,15.24,17.6,15.376,16.401,19.61,20.833,19.991,18.656,15.111,12.767,18.72,25.864,14.273,16.201,10.912,24.84,18.336,17.537,17.653,25.784,17.136,14.972,12.775,16.92,19.616,16.7,17.04,9.303,12.929,15.841,29.025,16.563,15.415,15.147,15.857,24.345,22.341,15.216,17.441,18.299,14.864,19.007,17.91,12.288]
["PreIncongr5 Set2",27.26,43.273,31.094,39.23,21.68,41.295,25.583,21.151,30.447,29.216,37.575,40.375,29.335,54.384,29.208,35.775,40.672,30.417,37.463,32.847,51.188,30.696,30.703,28.312,22.792,34.336,37.299,29.208,31.926,29.656,31.481,24.016,31.087,34.505,33.496,27.103,28.216,27.624,29.552,36.009,34.185,22.688,26.529,27.289,112.722,29.624,51.665,30.345,33.954,31.96,48.936,26.352,29.608,31.177,35.409,36.57,28.192,27.335,28.837,35.506,24.216,44.016,30.393,25.751,34.931,33.453,35.462,27.033,47.606,29.745,50.07,31.872,26.715]
["PostCongr1 Set1",14.044,20.552,19.265,11.252,13.903,17.095,13.359,9.704,17.583,17.495,15.664,15.84,15.768,21.033,12.319,14.767,14.915,19.257,17.745,12.92,18.944,27.149,15.896,24.247,14.262,21.066,16.455,27.624,18.575,15.183,13.921,16.376,19.246,16.695,20.009,18.948,15.444,17.16,13.28,17.448,24.263,14.713,16.896,12.752,18.896,18.106,18.024,17.456,25.08,14.285,15.16,11.624,19.504,17.329,15.255,20.121,9.513,13.955,14.656,22.244,15.598,17.998,13.321,17.801,23.19,22.84,15.791,14.861,17.777,16.528,16.967,17.954,11.193]
["PostIncongr1 Set1",23.583,31.116,33.575,35.238,22.633,34.535,24.375,20.479,30.791,28.455,39.183,39.254,24.327,44.665,24.576,29.487,34.887,27.601,45.721,33.536,52.577,30.576,29.151,24.431,23.568,31.33,29.056,31.28,32.241,26.864,23.271,21.993,31.416,32.047,36.76,24.431,34.096,22.751,24.896,30.571,32.633,22.68,22.41,22.808,77.042,33.521,34.753,23.841,38.352,32.512,41.36,23.967,28.64,26.369,37.29,34.608,26.104,28.986,27.87,39.198,24.783,45.467,24.669,20.326,30.488,32.099,28.967,30.815,46.392,32.002,44.022,30.512,23.199]
["PostCongr1 Set2",15.154,20.712,16.624,12.296,13.432,18.248,12.984,9.991,18.055,18.352,18.816,16.608,14.4,20.752,12.631,15.368,13.564,16.937,17.888,13.608,17.904,24.221,16.28,22.767,15.344,19.233,15.968,24.896,18.536,15.335,14.864,14.777,16.736,17.144,21.303,18.14,18.788,16.74,13.007,15.839,23.416,14.52,16.481,11.848,18.128,16.332,16.327,16.508,25.057,15.304,14.707,12.08,18.264,17.712,14.607,18.423,10.6,15.79,14.354,21.291,16.317,19.832,12.732,15.888,24.837,23.562,15.327,18.611,17.504,14.272,18.263,17.104,11.704]
["PostIncongr1 Set2",24.112,34.789,29.415,34.231,19.887,32.607,24.751,18.92,35.86,28.944,36.976,38.71,25.855,48.966,27.609,33.343,34.872,25.376,35.878,41.342,44.002,26.8,30.83,26.039,22.142,32.728,28.896,34.4,30.455,26.247,26.85,26.929,28.7,32.632,33.169,30.767,28.576,25.279,23.297,29.383,31.576,24.006,23.297,22.416,58.041,30.952,33.816,24.712,34.616,25.857,49.577,24.32,32.985,26.304,38.25,36.32,29.952,28.492,23.26,27.786,24.885,40.256,29.53,23.324,32.165,32.47,31.935,27.289,43.028,31.352,48.198,34.072,24.642]
["PostCongr2 Set1",14.079,19.744,17.047,12.625,12.895,19.383,13.52,10.656,17.288,17.016,17.527,17.528,13.16,23.272,13.488,14.104,13.32,16.816,18.854,13.287,17.8,23,18.663,24.695,14.945,20.624,16.042,22.312,18.256,15.736,16.897,14.688,16.728,17.039,21.128,18.792,17.015,14.704,12.175,17.058,24.44,13.528,16.152,12.056,15.152,19.273,18,17.104,23.65,15.784,14.128,12.529,17.288,17.465,15.001,18.64,9.471,13.637,14.036,19.417,15.638,15.779,14.94,16.676,23.898,22.077,14.656,16.741,17.247,16.552,18.087,17.878,12.072]
["PostIncongr2 Set1",25.808,37.831,28.279,33.768,20.912,37.023,23.007,21.687,32.255,29.824,38.879,40.031,26.663,46.409,25.961,29.423,34.168,29.512,40.458,36.129,39.841,33.16,29.303,25.005,22.554,35.72,31.506,39.527,34.8,27.512,33.665,19.91,28.825,29.992,36.545,30.783,31.361,21.823,25.216,34.401,34.073,24.064,21.832,29.146,63.097,36.168,37.729,36.649,33.92,35.76,40.072,26.736,30.292,25.72,34.482,37.961,29.888,30.786,23.928,28.26,28.224,35.059,24.447,22.413,32.316,37.88,30.814,25.11,45.912,31.688,41.247,31.047,28.921]
["PostCongr2 Set2",14.05,19.207,13.136,13.191,13.087,18.903,16.031,10.431,18.335,16.56,16.16,19.512,13.977,19.04,13.024,12.376,12.456,16.808,18.384,14.257,18.615,20.928,16.287,24.367,13.799,19.2,15.713,19.383,16.935,14.728,15.616,14.81,16.61,16.047,19.816,16.81,17.12,14.832,13.048,16.527,23.336,12.864,16.376,12.12,15.368,18.008,19.28,17.312,24.52,15.816,14.018,11.399000000000001,17.137,17.456,14.759,16.935,9.862,14.738,15.004,18.368,17.534,13.665,12.498,17.132,24.982,22,13.327,19.643,18.207,14.24,16.935,15.92,12.057]
["PostIncongr2 Set2",25.75,39.68,30.327,39.214,20.016,39.67,27.895,20.935,30.407,30.208,43.359,46.967,25.184,45.946,29.67,30.959,35.609,32.36,37.034,35.738,42.92,25.448,29.223,27.303,21.304,36.296,28.137,30.369,32.943,28.056,33.343,18.656,33.714,32.207,36.169,30.584,29.025,23.912,24.838,32.729,34.046,22.593,20.383,25.384,58.377,27.672,38.873,25.705,36.305,30.689,37.183,26.744,28.249,27.552,33.001,37.608,25.984,31.88,25.182,30.481,23.998,38.485,27.706,23.525,32.212,35.83,28.351,25.073,52.065,36.017,40.39,32.546,25.007]
["PostCongr3 Set1",13.378,19.943,13.488,10.683,13.576,19.04,18.704,10.455,17.447,16.76,16.176,14.568,14.031,21.702,13.545,13.207,13.072,15.928,16.986,12.631,18.934,21.839,15.599,23.887,12.918,19.76,14.579,20.832,16.673,13.84,14.4,14.223,17.314,16.522,21.097,19.16,16.409,14.999,11.632,17.505,25.762,13.266,15.765,11.088,13.92,17.072,18.303,17.128,23.745,15.28,13.328,11.513,16.944,17.56,14.843,18.351,9.752,13.705,13.886,21.009,16.718,15.158,12.103,16.359,23.8,22.712,13.48,18.967,18.571,14.576,18.256,17.28,11.282]
["PostIncongr3 Set1",26.73,39.664,29.135,35.976,21.128,36.607,26.831,22.727,29.279,26.304,39.158,41.094,26.183,41.88,28.078,30.655,34.543,28.36,38.888,33.816,42.528,26.64,30.567,26.375,23.167,32.448,28.769,33.159,35.336,29.48,31.664,20.664,31.144,29.393,41.856,29.046,25.65,24.559,22.529,32.368,32.224,23.704,22.508,25.048,70.121,32.592,41.248,24.856,39.457,28.592,40.856,24.368,29.656,25.856,31.941,37.736,27.391,30.446,27.922,28.236,26.348,37.731,28.427,22.369,30.101,38.723,29.662,28.859,48.385,32.456,43.766,28.833,24.537]
["PostCongr3 Set2",13.55,20.048,14.327,11.815,11.464,18.823,19.479,10.136,17.142,15.791,19.607,16.711,14.063,27.102,13.454,12.696,12.601,15.879,17.282,13.607,17.185,22.608,17.16,24.415,14.511,17.272,15.367,20.232,16.537,17.056,16.032,12.753,15.76,16.847,21.866,18.208,15.145,14.839,11.878,18.346,23.96,12.912,15.504,10.5,16.192,17.383,17.432,16.361,27.977,15.15,13.744,12.024,17.025,16.6,15.204,18.183,9.864,13.37,14.17,21.038,16.128,14.323,11.768,16.544,25.329,23.161,13.823,16.152,16.896,15.736,16.535,16.145,11.616]
["PostIncongr3 Set2",27.998,37.166,30.207,34.265,20.063,45.447,26.558,22.375,28.415,30.927,36.495,50.719,25.088,41.688,28.625,29.815,37.048,29.728,35.749,34.856,40.392,24.048,28.622,25.527,23.025,33.2,30.36,31.984,37.128,25.032,26.417,20.408,35.648,35.065,36.352,26.535,25.769,23.904,24.488,32.018,32.248,21.2,28,28.385,78.217,36.299,43.985,28.977,35.504,27.979,41.465,24.952,30.888,27.169,36.009,37.76,25.343,28.867,29.075,31.176,23.147,47.889,27.859,22.69,32.369,32.72,28.463,30.327,56.081,32.193,44.063,30.951,27.704]
["PostCongr4 Set1",14.843,20.536,13.64,11.503,13.048,22.263,18.239,10.64,16.824,18.223,16.504,18.479,13.027,19.121,13.336,13.592,13.916,16.271,18.016,13.385,18.552,21.72,17.72,23.015,13.712,20.214,16.256,24.337,17.943,13.84,16.032,13.808,16.576,17.022,21.129,18.839,17.793,14.68,12.16,18.163,23.624,12.472,16.405,11.744,14.271,16.544,19.024,16.728,25.896,15.56,14.144,11.184,18.098,16.2,15.285,20.128,10.423,15.861,14.207,18.903,17.318,15.09,12.119,14.64,23.534,21.718,13.896,18.317,19.376,16.01,17.607,17.088,11.015]
["PostIncongr4 Set1",25.335,43.169,29.088,33.976,20.887,47.551,28.127,20.095,31.896,29.399,39.767,41.879,24.127,42.064,28.144,27.839,38.18,29.278,39.264,38.96,45.8,26.489,27.423,28.975,25.447,35.456,28.058,40.248,35.912,26.616,33.8,23.578,32.496,33.32,38.16,29,29.217,24.783,23.32,31.201,33.641,25.305,23.145,25.584,62.713,37.049,45.097,26.139,34.377,33.616,35.508,23.472,35.168,27.761,33.986,38.562,28.568,28.66,25.766,30.617,23.043,35.639,30.016,22.975,31.709,33.438,32.063,30.517,43.856,31.192,41.935,30.056,25.848]
["PostCongr4 Set2",13.66,19.511,14.287,11.591,12.416,21.983,18.247,9.992,16.408,17.432,16.871,18.272,15.568,20.383,13.208,13.216,13.75,15.449,17.664,12.799,17.896,20.967,15.671,25.383,14.751,18.519,15.288,19.895,17.103,14.112,13.656,13.401,14.92,16.735,22.002,19.417,17.881,15.551,11.505,16.795,23.625,11.889,15.993,10.512,15.233,15.497,18.953,15.953,24.456,14.19,12.719,11.023,18.291,16.304,15.043,20.16,9.64,13.55,14.571,20.05,17.282,15.76,12.069,13.709,23.014,23.226,15.335,17.729,17.992,15.384,17.615,15.681,12.256]
["PostIncongr4 Set2",23.879,36.615,30.679,33.455,22.167,43.662,28.167,23.391,27.512,34.783,38.375,45.238,24.551,44.406,28.016,30.279,33.456,27.935,35.112,37.185,39.745,26.402,26.695,25.447,24.27,34.624,26.419,42.424,31.633,33.024,31.216,23.295,32.04,30.32,32.961,26.759,25.088,22.888,23.468,31.758,32.217,22.688,20.288,26.552,68.465,33.705,40.817,27.097,35.113,27.272,47.825,24.217,31.648,24.752,32.768,37.624,27.376,37.848,29.058,29.776,24.148,38.875,34.955,22.882,30.767,31.718,27.039,28.145,{"v":51.76,"d":"51.760"},30.937,41.991,{"v":27.12,"d":"27.120"},{"v":23.27,"d":"23.270"}]
["PostCongr5 Set1",13.02,21.688,14.207,10.528,12.344,19.303,19.831,10.559,18.376,17.88,17.232,17.079,13.728,22.138,14.479,12.199,12.912,15.543,17.591,12.864,18.2,21.087,15.696,20.815,13.458,18.424,16.936,20.696,15.28,14.032,13.999,13.432,14.425,19.807,21.137,17.696,12.968,13.935,11.508,17.264,21.881,13.104,15.361,10.582,16.456,17.48,18.728,17.984,22.544,15.032,13.288,12.104,18.424,16.552,16.858,18.432,10.039,14.564,13.835,21.054,17.428,14.072,12.852,{"v":15.31,"d":"15.310"},22.836,{"v":21.99,"d":"21.990"},{"v":13.4,"d":"13.400"},18.877,17.992,14.944,17.631,17.409,10.762]
["PostIncongr5 Set1",23.778,37.423,33.248,33.351,21.319,46.271,25.551,22.951,29.679,29.711,4.775,43.111,23.735,43.266,27.618,30.095,33.422,26.84,38.614,33.4,43.553,27.302,27.463,23.959,24.616,38.881,33.061,36.48,32.375,34.184,30.36,21.752,30.385,30.425,38.529,32.497,27.024,23.664,24.601,33.744,31.385,23.505,21.239,28.249,80.673,34.145,39.696,29.64,33.456,30.784,37.423,23.688,30.609,25.488,35.129,34.816,30.376,31.667,27.957,30.463,22.597,38.381,25.566,22.825,32.336,31.335,31.335,27.047,53.025,{"v":32.88,"d":"32.880"},47.438,28.688,24.782]
["PostCongr5 Set2",13.114,19.08,19.359,10.493,12.759,22.863,19.759,10.496,16.791,17.416,18.007,15.664,14.927,18.518,13.038,12.896,12.737,15.153,18.064,13.568,16.607,21.528,15.568,19.335,13.128,17.84,16.04,19.535,14.711,14.84,13.816,12.529,14.969,18.848,24.872,18.175,13.144,14.327,11.269,15.295,22.713,12.032,15.215,10.568,18.217,16.183,18.096,17.705,22.88,16.424,13.121,11.136,16.284,16.464,13.833,18.424,{"v":10.75,"d":"10.750"},15.624,14.806,22.308,17.152,{"v":13.35,"d":"13.350"},12.083,13.669,23.444,22.276,13.415,{"v":22.18,"d":"22.180"},17.584,13.635,21.471,17.409,11.096]
["PostIncongr5 Set2",23.291,43.241,28.679,30.79,20.832,48.247,27.703,22.647,32.311,27.927,43.543,37.103,28.608,44.913,28.257,27.487,36.73,26.071,34.704,34.32,34.07,25.88,32.295,27.047,22.952,39.105,32.408,31.304,33.455,31.872,29.8,20.137,29.832,31.424,36.024,34.849,29.727,25.367,29.849,29.849,33.976,22.912,19.952,26.544,82.609,38.481,37.64,27.817,33.356,32.529,42.696,24.28,30.696,27.74,35.699,34.759,27.128,31.906,24.832,33.169,27.236,35.879,33.483,22.723,33.647,30.884,28.967,29.699,41.129,27.508,47.302,28.688,23.009]
["PreErrorC1 set 1",0,0,0,0,0,0,0,0,0,0,0,0,0,0,0,0,0,0,0,0,0,0,0,0,0,0,0,0,0,0,0,0,0,0,0,0,0,0,0,0,0,0,0,0,0,0,0,0,0,0,0,0,0,0,0,0,0,0,0,0,0,0,0,0,0,0,0,0,0,0,0,0,0]
["PreErrorI1 set 1",5,5,2.5,17.5,0,2.5,0,2.5,5,0,7.5,0,0,0,0,5,2.5,0,0,2.5,2.5,2.5,5,0,0,0,2.5,0,0,7.5,0,0,0,5,17.5,12.5,0,0,0,0,0,5,0,0,7.5,2.5,0,5,0,10,0,2.5,0,0,0,2.5,0,2.5,2.5,2.5,2.5,5,2.5,2.5,5,5,0,0,0,5,10,5,2.5]
["PreErrorC1 set 2",0,0,0,0,0,0,0,0,0,0,2.5,0,0,0,0,0,0,0,0,0,0,0,5,2.5,0,0,0,0,0,0,0,0,0,0,0,0,0,0,0,0,0,0,0,0,0,0,0,0,0,0,0,0,0,0,0,0,0,0,0,0,0,0,0,0,0,0,0,5,0,0,0,0,0]
["PreErrorI1 set 2",2.5,7.5,0,0,0,0,2.5,2.5,5,0,5,2.5,2.5,0,0,2.5,0,0,2.5,0,0,2.5,5,2.5,5,0,0,0,2.5,2.5,0,0,0,0,2.5,10,0,5,0,2.5,2.5,0,0,0,7.5,5,2.5,2.5,5,5,0,2.5,0,2.5,2.5,5,0,5,0,2.5,0,0,0,0,2.5,2.5,0,0,2.5,2.5,0,5,2.5]
["PreErrorC2 set 1",0,0,0,0,0,0,0,0,0,0,2.5,0,0,0,0,0,0,0,0,0,0,0,0,0,0,0,0,0,0,0,0,0,0,0,0,0,0,0,0,0,0,0,0,0,0,0,0,0,0,0,0,0,0,5,0,0,0,0,0,0,0,0,5,0,0,0,0,0,0,0,0,0,0]
["PreErrorI2 set 1",2.5,0,2.5,0,2.5,0,0,5,5,0,5,0,2.5,0,0,5,2.5,0,2.5,2.5,0,0,0,0,7.5,0,2.5,0,0,2.5,0,0,0,0,0,5,0,0,2.5,0,2.5,0,0,0,0,5,7.5,0,0,2.5,0,0,0,5,0,0,2.5,2.5,0,0,2.5,2.5,5,0,5,0,0,2.5,2.5,0,2.5,0,2.5]
["PreErrorC2 set 2",0,0,0,0,0,0,0,0,0,0,0,2.5,0,0,0,0,0,0,0,0,0,0,0,0,0,0,0,0,0,0,0,0,0,0,0,0,0,0,0,0,0,0,0,0,0,0,0,0,0,0,0,0,0,0,0,0,0,0,0,0,0,0,0,0,0,0,0,0,0,0,0,0,0]
["PreErrorI2 set 2",0,10,0,5,0,2.5,2.5,0,2.5,0,0,0,0,0,2.5,2.5,5,2.5,0,0,0,2.5,0,2.5,0,0,5,0,0,5,0,0,2.5,0,2.5,7.5,2.5,0,0,0,5,5,0,0,12.5,5,0,7.5,0,7.5,0,5,0,0,7.5,0,2.5,2.5,0,0,2.5,7.5,0,2.5,7.5,0,0,0,0,0,0,5,2.5]
["PreErrorC3 set 1 ",2.5,0,0,0,0,2.5,2.5,0,0,0,0,0,0,2.5,0,0,0,0,0,0,0,0,2.5,0,0,0,0,0,0,0,0,0,0,2.5,0,0,0,0,0,0,0,0,0,0,0,0,0,0,2.5,0,0,0,0,0,0,0,0,2.5,0,0,0,0,0,0,0,2.5,0,0,0,0,0,0,0]
["PreErrorI3 set 1 ",2.5,2.5,0,0,0,0,0,2.5,5,2.5,2.5,7.5,0,0,2.5,7.5,5,2.5,0,0,0,0,0,0,0,5,0,0,0,0,5,0,2.5,0,0,7.5,0,0,0,2.5,2.5,2.5,0,2.5,7.5,2.5,2.5,0,0,0,0,0,0,5,0,2.5,0,5,2.5,2.5,2.5,0,0,2.5,0,2.5,0,0,0,5,0,2.5,0]
["PreErrorC3 set 2",0,0,0,0,0,0,0,0,0,0,0,0,0,0,0,0,0,0,0,0,0,0,0,0,0,0,0,0,0,0,0,0,0,0,0,2.5,0,0,0,0,0,0,0,0,0,0,0,0,2.5,0,0,0,0,0,0,0,0,0,0,0,0,0,0,0,0,0,0,0,0,0,0,0,5]
["PreErrorI3 set 2",2.5,2.5,0,2.5,0,5,2.5,0,5,0,0,0,0,0,0,0,0,0,0,5,2.5,0,2.5,0,0,5,0,0,2.5,2.5,0,0,0,5,0,10,0,2.5,2.5,0,2.5,0,0,2.5,12.5,2.5,2.5,0,0,2.5,2.5,2.5,0,5,0,0,2.5,0,2.5,2.5,2.5,7.5,5,2.5,0,0,5,0,0,0,5,0,5]
["PreErrorC4 set 1",0,0,0,0,0,0,0,0,0,0,0,0,0,2.5,0,0,0,0,0,0,0,0,0,0,0,0,0,0,0,0,0,0,0,0,0,0,0,0,0,2.5,0,0,0,0,0,0,0,0,5,0,0,0,0,0,0,0,2.5,0,2.5,0,0,5,2.5,0,0,0,0,0,0,0,0,0,0]
["PreErrorI4 set 1",2.5,0,5,5,0,0,2.5,0,2.5,0,0,0,0,5,0,7.5,2.5,0,0,2.5,2.5,0,2.5,0,0,5,2.5,0,0,0,5,0,0,0,0,10,0,2.5,2.5,0,5,0,0,0,10,0,2.5,0,0,5,0,0,0,0,0,5,7.5,0,0,0,2.5,0,0,0,0,0,0,0,0,0,5,0,0]
["PreErrorC4 set 2",0,0,0,0,0,0,0,0,0,0,0,0,0,0,0,0,0,0,0,0,0,0,0,0,0,0,0,0,0,0,0,0,0,0,0,0,0,0,0,0,0,0,0,0,0,0,0,0,0,0,0,0,0,0,0,0,0,0,0,0,0,0,0,0,0,0,0,0,0,0,0,0,0]
["PreErrorI4 set 2",2.5,2.5,0,2.5,2.5,0,0,0,0,0,0,0,0,0,0,5,0,2.5,0,0,0,2.5,0,0,2.5,5,0,0,0,5,2.5,0,0,2.5,2.5,10,0,2.5,2.5,0,5,0,0,0,10,0,0,0,0,2.5,0,0,0,0,0,0,0,2.5,0,2.5,2.5,10,2.5,2.5,2.5,0,0,0,2.5,0,2.5,2.5,0]
["PreErrorC5 set 1",0,0,0,0,0,0,0,0,0,0,2.5,0,0,0,0,0,0,0,0,0,0,0,2.5,0,0,0,0,0,0,0,0,0,0,0,0,0,0,0,0,0,0,0,0,0,0,0,0,0,0,0,0,0,0,0,0,0,2.5,0,0,0,0,10,0,0,0,0,0,0,0,0,0,0,2.5]
["PreErrorI5 set 1",5,5,5,12.5,2.5,0,0,0,0,2.5,2.5,0,0,2.5,0,2.5,7.5,0,0,0,5,0,0,5,0,0,0,0,2.5,2.5,0,0,0,0,2.5,2.5,2.5,2.5,0,2.5,5,2.5,0,0,12.5,0,0,0,0,0,0,2.5,0,0,0,7.5,2.5,5,0,0,2.5,10,7.5,2.5,2.5,2.5,0,0,0,0,5,2.5,2.5]
["PreErrorC5 set 2",0,0,0,0,0,0,0,0,0,0,0,2.5,0,0,0,0,0,0,0,0,0,0,0,0,0,0,0,0,0,0,0,0,0,0,0,0,0,0,0,0,0,0,0,0,0,0,0,0,0,0,0,0,0,0,0,0,0,0,0,0,0,0,0,0,0,0,0,0,0,0,0,0,0]
["PreErrorI5 set 2",5,2.5,0,5,0,0,2.5,2.5,0,0,0,0,0,0,5,2.5,2.5,0,2.5,0,2.5,0,0,0,0,0,5,0,0,5,0,0,0,0,0,2.5,2.5,2.5,2.5,0,7.5,0,5,2.5,7.5,0,0,0,0,0,0,7.5,0,0,0,5,2.5,0,2.5,2.5,2.5,0,2.5,0,2.5,0,2.5,0,0,0,0,2.5,0]
["PostErrorC1 set 1",0,0,0,0,0,0,0,0,0,0,0,0,0,0,0,0,0,0,0,0,0,0,0,0,0,0,0,0,0,0,0,0,0,0,0,2.5,0,0,0,0,0,0,0,0,0,0,0,0,0,0,0,0,0,0,0,0,0,0,0,0,0,5,0,2.5,0,2.5,0,0,0,0,0,0,0]
["PostErrorII1 set 1",2.5,0,7.5,5,0,5,0,0,0,0,0,2.5,0,0,0,2.5,2.5,2.5,10,2.5,0,0,2.5,0,7.5,0,0,0,2.5,0,0,0,0,5,2.5,10,5,0,0,2.5,2.5,2.5,0,0,7.5,5,0,0,0,7.5,0,5,0,0,5,0,7.5,2.5,0,5,7.5,7.5,0,0,0,2.5,0,0,0,5,0,0,0]
["PostErrorC1 set 2 ",0,0,0,0,0,0,0,0,0,0,0,0,0,0,0,0,0,0,0,0,0,0,0,0,0,0,0,0,0,0,0,0,0,0,0,2.5,0,0,0,0,0,0,0,0,0,0,0,0,0,0,0,0,0,0,0,0,2.5,2.5,0,0,0,5,0,0,0,2.5,0,0,0,0,0,0,0]
["PostErrorII1 set 2 ",0,2.5,2.5,0,2.5,2.5,5,0,10,0,0,2.5,0,2.5,2.5,5,0,0,0,0,0,2.5,5,0,2.5,0,0,0,0,0,0,2.5,0,2.5,0,5,0,0,0,0,2.5,0,0,0,7.5,0,0,5,0,2.5,0,5,0,0,2.5,2.5,2.5,0,0,2.5,5,5,5,2.5,5,5,0,0,0,2.5,2.5,0,2.5]
["PostErrorC2 set 1",0,0,0,0,0,0,0,0,0,0,0,0,0,0,0,0,0,0,0,0,0,0,0,0,0,0,0,0,0,0,0,0,0,0,0,0,0,0,0,0,0,0,0,0,0,0,0,0,0,0,0,0,0,0,0,0,2.5,0,0,0,0,0,2.5,0,0,0,0,0,0,0,0,0,0]
["PostErrorI2 set 1",2.5,0,2.5,5,5,0,5,0,2.5,5,5,0,0,0,0,0,0,5,5,0,0,0,0,2.5,2.5,0,2.5,0,2.5,0,5,0,0,0,0,10,0,0,0,2.5,2.5,2.5,0,5,5,0,0,10,0,7.5,0,5,0,0,0,2.5,2.5,7.5,0,2.5,5,0,0,5,2.5,5,2.5,0,0,0,2.5,0,2.5]
["PostErrorC2 set 2 ",0,0,0,0,0,0,0,0,0,0,0,0,0,0,0,0,0,0,0,0,0,0,0,0,0,0,0,0,0,0,0,0,0,0,0,2.5,0,0,0,0,0,0,0,0,0,0,0,0,0,0,0,0,0,0,0,0,0,2.5,0,0,0,0,0,0,0,0,0,0,0,0,0,0,0]
["PostErrorI2 set 2 ",2.5,5,5,0,2.5,0,0,5,0,2.5,2.5,5,0,0,5,5,2.5,5,0,2.5,0,0,0,0,0,5,0,0,0,2.5,2.5,0,0,0,2.5,7.5,0,0,0,2.5,7.5,0,0,5,2.5,0,5,0,0,0,0,2.5,0,0,0,0,0,10,0,2.5,2.5,5,0,0,0,0,0,0,0,0,0,0,0]
["PostErrorC3 set 1",0,0,0,0,0,0,0,0,0,0,0,0,0,0,0,0,0,0,0,0,0,0,0,0,0,0,0,0,0,0,0,0,0,0,0,0,0,0,0,0,0,0,0,0,0,0,0,0,0,0,0,0,0,0,0,0,0,0,0,0,0,0,0,0,0,2.5,0,0,0,0,0,0,0]
["PostErrorI3 set 1",2.5,0,0,2.5,5,0,0,0,0,0,0,0,0,0,0,5,2.5,5,0,0,0,0,2.5,0,0,0,2.5,0,5,5,5,0,0,0,2.5,7.5,0,5,0,2.5,5,0,2.5,0,5,0,5,0,2.5,2.5,0,0,0,0,0,0,5,7.5,0,0,5,10,0,2.5,0,0,2.5,0,0,0,0,2.5,0]
["PostErrorC3 set 2 ",0,0,0,0,0,0,0,0,0,0,2.5,0,0,7.5,0,0,0,0,0,0,0,0,0,0,0,0,0,0,0,0,0,0,0,0,0,2.5,0,0,0,0,0,0,0,0,0,0,0,0,0,0,0,0,0,0,0,0,0,0,0,0,0,2.5,0,0,0,0,0,0,0,0,0,0,0]
["PostErrorI3 set 2 ",2.5,5,0,0,0,2.5,0,2.5,0,0,2.5,0,0,0,2.5,5,0,5,0,0,0,0,0,0,5,7.5,0,0,0,0,0,0,0,5,2.5,2.5,2.5,0,0,0,7.5,0,2.5,0,5,0,0,2.5,0,0,0,2.5,0,0,0,2.5,0,7.5,0,2.5,5,17.5,0,2.5,5,0,2.5,0,0,0,0,0,2.5]
["PostErrorC4 set 1 ",0,0,0,0,0,0,0,0,0,0,0,0,2.5,0,0,0,0,0,0,0,0,0,0,0,0,0,0,0,0,0,2.5,0,0,5,0,2.5,0,0,0,0,0,0,0,0,2.5,0,0,0,0,0,0,0,0,0,0,0,2.5,0,0,0,0,0,0,0,0,0,0,0,0,0,0,0,0]
["PostErrorI4 set 1 ",0,5,2.5,0,0,2.5,0,0,0,0,2.5,0,0,0,2.5,0,0,5,0,0,0,2.5,0,2.5,5,5,0,5,0,2.5,2.5,2.5,0,0,5,2.5,2.5,0,0,0,5,2.5,0,0,2.5,0,5,0,0,2.5,0,0,2.5,2.5,0,0,2.5,0,0,0,2.5,5,0,5,2.5,0,2.5,0,0,0,2.5,0,5]
["PostErrorC4 set 2 ",0,0,0,0,0,0,0,0,0,2.5,0,2.5,0,0,0,0,0,0,0,0,0,0,0,0,0,0,0,0,0,0,0,0,0,0,0,2.5,0,0,0,0,0,0,0,0,0,0,0,0,0,0,0,0,0,0,0,0,0,0,0,0,0,5,0,0,0,0,0,0,0,0,0,0,0]
["PostErrorI4 set 2 ",0,0,2.5,5,0,2.5,0,2.5,0,2.5,0,0,0,0,0,0,2.5,0,2.5,2.5,2.5,0,0,0,7.5,2.5,0,0,2.5,7.5,2.5,0,0,0,0,2.5,0,5,0,0,2.5,2.5,0,2.5,7.5,5,5,2.5,0,0,0,5,0,0,0,5,2.5,15,2.5,0,2.5,5,2.5,0,0,0,0,0,2.5,2.5,2.5,2.5,0]
["PostErrorC5 set 1",0,0,0,0,0,0,0,0,0,0,0,0,0,0,2.5,0,0,0,0,0,0,0,0,0,0,0,0,0,0,0,0,0,0,0,0,0,0,0,0,0,0,0,0,0,0,0,0,0,0,0,0,0,0,0,0,0,2.5,5,0,0,0,2.5,0,0,0,0,0,0,0,0,0,0,0]
["PostErrorI5 set 1",0,0,0,0,0,0,0,0,0,5,5,2.5,0,2.5,0,0,2.5,0,2.5,0,0,0,0,0,2.5,2.5,0,0,0,7.5,2.5,0,0,0,0,5,2.5,5,0,0,0,2.5,0,2.5,12.5,0,5,0,0,0,0,0,0,0,0,0,5,5,0,2.5,0,10,0,0,0,0,0,0,0,0,0,2.5,0]
["PostErrorC5 set 2 ",0,0,0,0,0,0,0,0,0,0,0,0,0,0,0,0,0,0,0,0,0,0,0,0,0,0,0,0,0,0,0,0,0,0,2.5,2.5,0,0,0,0,0,0,0,0,0,0,0,0,0,0,0,0,0,0,0,0,2.5,2.5,0,0,0,2.5,0,0,0,0,0,0,0,0,0,0,0]
["PostErrorI5 set 2 ",0,5,0,2.5,2.5,0,2.5,0,5,0,0,0,2.5,2.5,2.5,0,2.5,2.5,2.5,0,0,2.5,5,2.5,2.5,5,0,0,0,5,0,0,0,0,0,10,5,0,2.5,0,5,0,0,0,37.5,0,0,0,2.5,2.5,0,0,0,2.5,2.5,0,0,10,2.5,7.5,5,5,2.5,7.5,5,2.5,0,0,0,0,0,0,0]
["PreHRC1 set 1",76,98,87,null,116,128,73,70,77,74,84,103,86,70,74,96,68,93,96,124,69,88,118,107,89,94,86,100,86,88,110,91,92,88,71,95,71,90,99,54,90,null,null,83,77,76,95,82,90,115,58,102,83,79,89,74,95,84,103,99,75,82,69,75,92,72,null,82,91,null,80,null,85]
["PreHR I1 set 1",97,104,88,null,114,113,81,73,76,75,87,103,15,73,66,84,68,84,89,121,70,83,106,111,90,87,93,92,95,89,116,95,104,86,74,92,85,93,99,54,88,null,null,76,77,81,94,102,72,104,58,102,84,78,83,90,93,90,109,90,83,79,76,84,102,85,null,80,85,null,87,96,105]
["PreHRC1 set2",85,108,85,null,109,104,72,70,67,74,75,111,84,72,70,86,64,80,91,123,66,85,105,103,82,86,89,95,96,88,109,94,102,90,77,78,59,95,98,54,79,null,null,68,76,77,97,77,71,112,64,96,83,73,88,84,93,91,72,77,83,76,56,80,108,87,null,84,86,null,84,96,100]
["PreHR I1 set2",89,104,85,null,93,115,73,70,72,73,89,112,84,67,68,95,73,88,86,121,74,86,100,121,88,98,94,97,102,98,107,80,96,92,82,89,68,87,99,93,74,null,null,71,76,78,93,81,71,104,57,104,81,72,95,80,92,95,99,98,73,81,78,68,92,81,null,92,88,null,84,92,97]
["PreHR C2 set1",92,107,87,null,83,108,85,70,79,77,86,113,74,67,68,93,84,77,90,121,70,87,96,98,89,89,81,99,90,95,100,79,92,84,62,85,82,90,99,101,79,null,null,70,72,82,99,80,68,101,75,98,85,80,81,74,91,85,86,98,75,79,65,76,107,90,null,89,89,null,84,100,90]
["PreHR I2 set1",94,103,81,null,109,115,78,70,80,79,90,117,78,69,66,88,73,92,90,123,69,84,85,95,93,91,88,96,100,87,112,79,97,88,86,92,70,88,99,100,91,null,null,66,80,80,94,93,72,102,76,92,87,80,88,76,93,80,88,87,82,77,82,76,99,84,null,93,75,null,91,95,103]
["PreHR C2 set2",101,102,85,null,105,118,73,74,75,88,81,111,82,67,70,91,66,77,91,126,67,86,110,94,79,97,90,99,85,87,103,86,101,91,70,81,67,92,98,101,69,null,null,63,73,73,91,80,76,116,77,111,84,73,83,78,89,87,83,91,85,92,78,70,99,88,null,89,81,null,87,97,100]
["PreHR I2 set2",90,109,83,null,96,123,85,75,76,81,85,110,83,67,68,88,74,89,89,119,77,85,106,111,97,95,88,92,89,86,91,93,95,90,76,84,73,91,96,105,76,null,null,73,80,71,95,96,69,102,67,94,88,77,88,72,91,85,89,87,76,82,76,68,93,85,null,87,92,null,83,103,96]
["PreHR C3 set1",90,102,87,null,111,108,78,72,64,83,78,112,86,65,77,92,74,75,89,117,63,81,109,95,89,89,90,101,90,88,104,72,96,90,71,79,78,93,98,106,67,null,null,75,74,76,95,74,76,104,76,103,80,86,88,79,87,85,80,78,81,92,83,61,91,84,null,89,82,null,86,98,100]
["PreHR I3 set1",91,104,84,null,109,104,84,69,78,84,83,130,82,66,71,95,74,90,88,115,71,89,90,93,101,95,94,102,94,90,89,86,97,87,84,86,72,89,99,97,76,null,null,70,80,78,96,100,71,104,71,101,95,75,91,79,90,87,88,88,83,78,71,72,106,82,null,88,89,null,89,93,91]
["PreHR C3 set2",101,110,89,null,111,107,78,69,71,90,74,118,86,68,72,93,82,79,92,118,63,85,90,115,101,97,92,101,92,82,105,93,102,83,71,79,84,87,98,111,82,null,null,65,87,82,89,80,79,103,78,103,86,75,88,80,95,82,82,93,88,77,67,74,104,87,null,85,82,null,93,98,92]
["PreHR I3 set2",96,115,84,null,111,110,82,74,73,81,74,112,83,62,72,85,77,84,89,113,74,87,100,109,101,94,86,96,89,86,100,98,94,84,66,75,75,85,98,112,76,null,null,66,75,75,98,88,84,107,70,99,87,81,87,76,84,78,86,97,83,80,67,75,105,88,null,90,84,null,87,94,90]
["PreHR C4 set1",91,109,83,null,107,111,76,76,68,85,76,111,80,64,68,96,74,84,91,122,64,94,99,105,86,89,90,98,92,77,107,98,94,79,71,76,63,93,97,106,77,null,null,67,77,77,87,79,82,107,72,98,79,78,95,75,93,84,80,91,90,94,85,77,103,92,null,88,85,null,81,97,95]
["PreHR I4 set1",80,97,82,null,102,110,76,77,78,80,75,111,79,63,70,83,72,86,92,110,66,78,97,99,94,100,88,103,93,77,108,null,97,87,73,78,71,87,96,109,75,null,null,66,87,79,77,89,80,110,75,97,86,72,87,75,85,82,76,93,92,98,80,74,98,88,null,83,89,null,91,98,94]
["PreHR C4 set2",80,99,84,null,106,123,81,77,77,88,74,113,77,61,71,95,77,89,93,117,70,83,99,102,87,92,88,106,99,91,99,null,85,84,76,79,60,86,97,107,71,null,null,82,74,78,89,79,80,107,74,101,90,79,95,79,90,91,75,87,89,88,79,77,103,85,null,84,79,null,95,104,94]
["PreHR I4 set2",89,106,84,null,107,112,79,77,81,80,76,99,82,65,68,87,79,79,88,106,72,91,92,92,97,88,87,99,91,78,111,90,94,82,74,81,65,85,97,104,84,null,null,70,74,87,87,79,69,103,73,102,87,80,86,75,86,80,73,86,82,83,74,84,99,84,null,91,88,null,89,98,86]
["PreHR C5 set1",97,109,83,null,93,114,82,77,73,95,76,100,76,72,69,87,83,80,91,121,65,89,100,95,83,87,88,103,92,80,110,83,99,88,79,75,60,94,96,111,78,null,null,75,79,75,90,83,77,98,80,104,88,77,95,80,95,85,75,80,87,90,71,77,108,80,null,95,75,null,94,98,94]
["PreHR I5 set1",93,106,83,null,94,106,70,66,68,84,81,111,79,70,74,89,77,81,89,111,67,92,97,106,90,90,90,100,99,87,95,null,97,79,71,74,68,85,98,103,73,null,null,69,81,81,95,78,76,112,70,100,82,70,82,77,87,86,71,87,80,85,73,80,99,84,null,87,82,null,86,99,88]
["PreHR C5 set2",94,107,91,null,109,112,76,65,71,96,74,107,81,62,73,91,82,80,93,122,70,88,104,113,88,94,96,103,91,88,101,null,90,86,73,74,61,86,98,109,69,null,null,75,73,73,90,81,81,111,82,104,77,72,88,81,84,84,71,79,75,81,77,79,89,87,null,89,83,null,91,107,96]
["PreHR I5 set2",90,103,83,null,108,110,85,64,71,89,80,109,74,67,69,89,79,87,84,112,71,82,102,115,96,90,85,99,97,79,93,null,93,89,82,90,70,85,97,105,76,null,null,68,81,75,89,93,80,103,78,106,82,84,89,75,76,88,94,90,80,84,78,82,95,84,null,88,87,null,84,103,80]
["PostHR C1 set1",108,112,92,null,123,132,105,64,99,107,106,114,86,78,91,112,91,95,100,125,102,109,123,130,115,106,100,109,89,120,130,101,98,109,101,107,74,92,98,137,75,null,null,97,101,96,101,118,82,124,79,119,75,114,108,100,108,85,107,97,113,113,91,94,115,100,null,85,87,null,93,103,93]
["PostHR I1 set1",110,122,94,null,122,132,106,70,102,109,95,113,81,77,90,122,89,90,96,122,96,107,111,131,103,107,107,106,96,119,126,82,96,97,94,106,73,93,99,139,77,null,null,110,96,90,96,110,74,125,82,117,98,111,107,99,108,94,100,95,109,111,95,95,112,101,null,83,87,null,95,113,101]
["PostHR C1 set2",114,118,90,null,122,128,107,73,95,109,101,120,81,72,89,123,87,98,96,118,97,109,113,129,107,105,108,104,101,120,124,88,92,105,97,106,74,93,99,135,83,null,null,102,99,92,101,111,73,116,74,113,91,110,14,99,109,87,101,105,113,116,91,90,116,98,null,82,89,null,92,102,100]
["PostHR I1 set2",108,106,92,null,115,127,106,77,91,103,101,120,85,74,88,115,86,96,99,120,97,106,108,130,104,96,103,103,98,120,120,90,98,101,93,98,70,91,99,141,76,null,null,107,97,85,101,112,75,128,73,110,89,114,107,98,107,86,91,101,104,106,88,94,110,98,null,84,96,null,96,104,96]
["PostHR C2 set1",108,112,92,null,117,128,105,73,87,97,103,114,84,74,85,122,93,89,106,122,90,105,109,128,113,102,103,104,99,123,124,88,95,105,93,99,73,92,98,132,71,null,null,109,98,89,98,109,75,123,74,114,88,109,104,91,102,85,97,98,106,109,91,95,114,98,null,87,92,null,94,100,105]
["PostHR I2 set1",110,113,92,null,110,125,104,74,94,104,96,120,82,74,85,115,90,95,96,119,100,104,113,115,111,105,104,106,82,111,122,88,100,99,102,98,75,92,98,137,77,null,null,95,98,88,107,109,69,116,81,112,95,109,103,88,105,89,99,108,105,111,93,92,109,98,null,97,92,null,88,104,94]
["PostHR C2 set2",109,111,92,null,115,124,106,71,89,95,105,115,81,76,86,120,93,87,90,121,95,106,118,128,103,97,101,107,91,119,122,98,94,104,104,95,73,91,99,128,76,null,null,92,97,86,108,111,68,122,80,113,96,107,108,89,109,96,95,111,102,116,88,86,111,94,null,86,92,null,97,101,93]
["PostHR I2 set2",111,115,87,null,106,118,103,71,90,103,99,111,85,76,81,111,87,89,101,118,96,107,109,123,112,100,98,102,99,118,118,86,107,97,94,97,77,94,98,124,72,null,null,90,96,83,100,114,75,127,80,104,97,102,104,89,104,82,91,101,104,106,91,90,116,98,null,90,85,null,98,103,95]
["PostHR C3 set1",112,113,86,null,108,119,103,72,90,95,103,122,79,68,81,118,85,93,101,122,94,107,108,121,106,104,99,105,100,110,116,null,94,97,101,100,73,88,98,129,64,null,null,99,99,88,105,113,72,119,72,112,92,106,107,91,102,82,107,103,100,109,98,91,109,96,null,88,83,null,89,104,96]
["PostHR I3 set1",107,117,86,null,106,109,105,73,88,106,100,108,87,71,88,114,83,89,99,119,96,100,107,111,101,100,99,98,95,111,112,null,97,98,91,96,74,91,98,127,72,null,null,95,102,89,99,112,71,123,74,101,99,106,103,91,107,83,95,103,101,111,91,89,111,92,null,89,93,null,94,102,96]
["PostHR C3 set2",112,104,87,null,115,114,104,74,86,100,88,117,82,64,83,116,93,92,96,113,95,105,106,118,96,98,99,106,92,102,117,null,93,95,89,97,77,93,98,127,70,null,null,100,99,84,96,115,62,122,80,111,93,102,106,90,106,76,94,93,102,115,89,89,113,94,null,92,82,null,93,109,94]
["PostHR I3 set2",102,114,88,null,105,106,99,75,87,103,100,110,85,75,83,111,90,91,98,119,92,103,114,124,103,97,100,97,84,115,103,null,90,91,93,100,66,92,98,132,72,null,null,83,92,84,97,113,67,121,80,112,93,100,112,92,107,82,78,102,100,111,93,95,107,103,null,97,93,null,97,99,96]
["PostHR C4 set1",107,115,86,null,107,104,101,73,87,93,105,118,81,71,80,106,83,82,97,115,98,108,107,128,98,104,94,103,82,108,103,90,97,91,96,96,73,88,98,126,70,null,null,87,99,77,98,102,67,127,77,107,88,99,105,82,102,78,105,103,97,112,96,91,109,99,null,92,87,null,90,106,88]
["PostHR I4 set1",103,104,87,null,95,106,101,73,84,103,96,114,80,75,82,113,79,92,101,120,87,100,113,124,100,102,100,102,92,111,118,null,85,97,83,100,64,91,98,130,72,null,null,91,100,89,100,110,64,123,84,108,85,106,106,92,106,89,94,83,98,114,94,85,110,96,null,92,83,null,92,103,94]
["PostHR C4 set2",115,103,82,null,109,102,100,73,91,99,101,109,80,74,80,110,93,85,100,119,92,105,111,125,92,100,100,106,98,109,121,null,93,96,94,94,75,95,97,124,76,null,null,98,94,86,103,111,75,117,83,110,89,103,112,83,105,84,90,99,95,117,92,92,113,108,null,87,89,null,95,102,92]
["PostHR I4 set2",110,114,81,null,106,109,109,69,85,96,97,110,78,74,82,110,81,89,100,113,92,102,109,124,99,100,101,104,91,109,111,null,93,96,88,98,79,90,98,135,81,null,null,97,96,83,98,112,71,120,84,113,97,101,104,86,99,83,95,101,100,102,92,94,109,101,null,88,86,null,94,104,93]
["PostHR C5 set1",108,108,85,null,104,108,110,65,87,98,98,111,78,73,82,105,90,88,85,124,83,99,107,121,102,97,97,105,91,106,120,82,93,88,89,97,81,92,98,120,71,null,null,97,100,85,102,107,74,124,85,105,89,96,107,90,105,86,95,82,104,112,91,82,108,91,null,95,97,null,90,106,86]
["PostHR I5 set1",103,111,81,null,102,102,105,67,85,102,93,112,79,73,84,109,82,94,100,112,96,94,106,111,95,96,88,101,98,105,118,null,98,89,90,93,82,92,98,125,82,null,null,89,95,85,102,116,58,121,74,113,93,94,106,86,93,91,63,88,96,104,87,87,102,96,null,89,85,null,88,95,94]
["PostHR C5 set2",106,109,87,null,105,94,101,68,84,97,83,111,85,71,83,110,84,88,95,110,96,106,110,121,92,97,97,102,100,113,99,85,95,92,93,89,80,90,97,127,67,null,null,86,96,86,97,111,71,127,81,105,89,93,104,90,108,84,97,87,97,105,88,87,107,93,null,95,86,null,94,null,91]
["PostHR I5 set2",100,111,84,null,110,104,99,68,82,108,91,109,75,68,81,114,81,93,97,110,91,103,98,122,104,93,94,99,99,106,114,null,89,92,78,92,74,94,98,135,77,null,null,104,95,75,97,113,66,124,87,113,87,92,106,85,103,80,89,85,97,103,86,92,100,95,null,85,94,null,90,null,97]
["weight (lb)",157,130,140,125,107,120,140,160,125,185,170,93,215,165,250,175,162,126,133,143.3,185,110,136,95,128,115,110,217,140,115,180,140,115,120,140,121,165,160,230,160,198,130,127,114,160,165,149,134,214,191,171,113,138,126,140,120,158,126,120,140,122,165,149,105,132,170,126,140,158,105,155,150,135]
["Height (in)",69,66,66,64,62,65,70,70,65,70,69,62,70,64,73,62,71,63,66,64,72,60,63,60,64,65,63,71,62,62,69,67,66,62,65,63,77,60,66,62,71,63,61,66,67,70,73,63,72,64,70,108,65,68,63,64,66,64.5,66,63,63,71,72,62,63,66,64,62,67,60,62,67,61]
["Age",28,19,34,22,24,19,23,25,19,22,24,20,24,33,31,26,29,28,49,27,30,24,20,20,20,19,20,19,22,20,17,22,22,19,21,23,23,23,21,21,26,20,21,18,24,22,25,20,22,31,21,22,23,21,16,30,24,21,16,16,17,17,17,16,24,34,26,29,21,25,22,21,24]
["Gender","M","F","M","F","F","F","M","M","F","F","M","F","M","F","M","F","M","F","F","F","M","F","F","F","F","F","F","F","F","F","M","F","F","F","F","F","M","F","F","F","M","F","F","F","M","M","M","M","M ","F","M","M","F","F","F","F","M","F","F","F","F","M","M","F","F","F","F","F","F","F","F","F","F"]
["PreHeartRate (bpm)",74,101,95,107,103,100,78,58,64,74,94,125,75,60,62,95,70,69,95,101,64,88,99,105,72,92,102,106,87,71,94,82,82,78,67,62,56,94,117,94,83,90,99,63,70,79,99,84,75,117,54,107,80,74,84,74,89,97,82,84,77,78,68,73,96,91,80,90,21,88,84,104,95]
["prePO2 (%)",98,99,95,98,98,98,99,99,97,99,98,99,97,99,97,98,99,99,99,99,99,99,99,99,99,88,97,98,99,99,98,99,98,99,99,99,98,98,99,99,98,null,null,99,118,97,98,96,97,97,96,97,98,96,97,99,98,99,97,99,99,99,99,98,98,98,97,97,98,null,97,96,97]
["PreBreathingRate (bpm)",16,24,20,32,14,24,26,8,18,18,14,20,20,10,26,26,12,20,8,24,32,40,18,24,14,18,20,26,18,10,18,12,24,26,20,16,10,18,20,24,28,20,24,20,20,24,32,40,8,48,24,20,36,16,12,25,16,26,16,40,14,24,14,20,12,10,56,24,28,18,26,20,20]
["PostHeartRate (bpm)",127,125,118,150,154,132,117,142,124,145,137,159,125,128,131,173,132,115,130,153,120,164,164,157,106,105,166,156,123,147,157,142,142,137,156,122,119,120,128,150,69,147,105,144,150,130,150,125,100,148,135,163,151,144,150,150,163,117,167,162,138,150,125,156,154,139,80,105,104,150,135,null,108]
["postPO2 (%)",96,98,93,null,97,97,96,97,98,96,98,97,97,97,96,97,96,98,98,99,96,99,96,97,98,97,99,98,97,99,98,99,97,97,96,97,97,93,97,97,95,{"$nulls":3},97,98,94,92,96,null,94,96,98,97,97,96,99,98,96,97,97,96,97,99,98,98,98,98,97,null,98,null,98]
["PostBreathingRate (bpm)",26,22,26,28,26,30,32,12,24,22,16,26,22,16,50,52,18,22,10,22,52,50,26,26,14,24,40,48,32,22,26,18,32,28,38,24,8,24,28,28,36,null,null,12,28,32,28,44,40,60,32,28,24,24,56,41,32,28,18,68,30,22,20,40,14,8,52,30,44,null,40,null,22]
["calorie expenditure",150,206,658,186,184,320,480,607,363,300,131,310,290,373,286,608,659,128,156,361,307,325,399,338,399,246,486,256,542,456,407,587,225,184,414,505,691,194,168,193,162,125,159,629,183,252,178,277,239,179,229,240,153,30,430,346,255,420,545,361,664,819,629,566,159,242,145,115,95,196,444,null,379]
["Pre-Post time interval",30,30,30,30,30,30,30,30,30,30.25,30,30,30,30,30,30,30.25,30,30,30.44,31.45,30,30,31.12,30,30,31,30,31,30.01,30,30,30,30.09,30,32,30,30,30,30,30,32,30,30,30,30,30,null,null,34,30,30,30,30,30,30,30,29,30,30,30,30,30,30,30,30,30,30.08,34,null,30,20,30]
["BMI",23,21,16,21,20,20,20,23,21,27,25,17,29,28,30,32,23,22,22,25,25,22,24,19,22,19,19.53,30.26,25.6,21,26.78,21.97,19,22,23,21,20,31,37,29,28,23,24,18,25,24,20,24,29,33,25,22,23,19,25,28,26,21,19,25,22,23,20,19,23,27,22,26,25,21,28.3,31,26]
["Race","W","A(Middle eastern)","W","W","biracial(w+a)","W","W","W","A","W","W","W","W","W","Hispanic","W","W","hispanic-w","W","A(India)","B","south asian","A","W","A","Hispanic","W","B","Hispanic","A","W","W","W","A","W","M","W","A",null,"W",{"$nulls":3},"A","A","B","W","A","ME","W","W","W","A","W","A","A(South)","A","Middle eastern","A+W","B+W","A","A","A","A","H","W","Hispanic","A","B","W","W","W","W"]
["Dist travelled",{"$nulls":4},7.58,7.6,{"$nulls":3},7.78,5.75,6.97,7.31,7.11,7.99,7.19,8.25,7.12,6.06,4.96,8.27,5.27,4.76,5.08,5.26,4.89,5.46,3.2,5.9,5.85,6.62,6.46,5.07,6.66,6.08,5.9,7.29,6.78,6.72,8,6.44,5.89,7.64,6.32,8.83,7.96,6.62,7.31,6.8,8.53,7,9.81,6.59,7.34,25,5.49,6.7,3.82,5.92,4.79,5.99,7.64,5.68,5.59,7.44,9.42,null,6.42,4.85,6.63,null,null,5.85]
["ADD","T","T","T","T","T","T","F","F","F","F","F","T","F","T","T","T","T","F","F","F","F","F","F","F","F","F","F","F","F","F","F","F","F","F","T","F","F","F","F","F","T","F","F","F","T","F","F","F","F","T","F","F","F","F","T","F","F","F","F","F","F","F","F","F","F","F","F","F","F","F","T","F","F"]
[{"$nulls":4},"on meds, 4 hr",", non meds",": not on meds on day of exercise; takes Adderall",{"$nulls":5},"on meds but not today",null,"no meds, WPW wolff parkinson white",null,"on meds not today","on addorall, 4 hrs after meds",{"$nulls":27},"sleep deprivation ADD",{"$nulls":10},"on menstruation day 5"]
["Smoker","F","F","F","F","F","F","F","F","F","F","T","F","F","F","T","F","F","F","F","F","F","T","F","T","F","F","F","F","F","F","F","F","F","F","F","F","F","F","F","F","F","F","F","F","F","F","T","F","F","F","F","F","F","F","F","F","F","F","F","F","F","F","F","F","F","F","F","F","F","F","F","F","F"]
["color blind",{"$nulls":15},"partial"]
["left handed",{"$nulls":13},"T",null,"T"]
["http://www.thecalculatorsite.com/health/bmicalculator.php",{"$nulls":19},"(came walking)",{"$nulls":4},"(recording?)",null,null,"(calorie recording?)",{"$nulls":3},"(came biking)",null,"(was biking at v low intensity)","(confused pink with purple, learning disabilities)",null,"yogi, controlling breath","(came walking), lack of sleep"]
["http://www.bbc.com/news/health-18770328"]
["% Change HR",{"$f":"(B133-B130)/B130*100","v":71.62162162162163},23.762376237623762,24.210526315789473,40.18691588785047,49.51456310679612,32,50,144.82758620689654,93.75,95.94594594594594,45.744680851063826,27.200000000000003,66.66666666666666,113.33333333333333,111.29032258064515,82.10526315789474,88.57142857142857,66.66666666666666,36.84210526315789,51.48514851485149,87.5,86.36363636363636,65.65656565656566,49.523809523809526,47.22222222,{"$f":"(AA133-AA130)/AA130*100","v":14.130434782608695},62.745098039215684,47.16981132075472,41.37931034482759,107.04225352112675,67.02127659574468,73.17073170731707,73.17073170731707,75.64102564102564,132.8358208955224,96.7741935483871,112.5,27.659574468085108,9.401709401709402,59.57446808510638,-16.867469879518072,63.33333333333333,6.0606060606060606,128.57142857142858,114.28571428571428,64.55696202531645,51.515151515151516,48.80952380952381,33.33333333333333,26.495726495726498,150,52.336448598130836,88.75,94.5945945945946,78.57142857142857,102.7027027027027,83.14606741573034,20.618556701030926,103.65853658536585,92.85714285714286,79.22077922077922,92.3076923076923,83.82352941176471,113.69863013698631,60.416666666666664,52.74725274725275,0,0,395.2380952,70.45454545,60.71428571,-100,13.68421053]
["% Change BR",{"$f":"(B135-B132)/B132*100","v":62.5},-8.333333333333332,30,-12.5,85.71428571428571,25,23.076923076923077,50,33.33333333333333,22.22222222222222,14.285714285714285,30,10,60,92.3076923076923,100,50,10,25,-8.333333333333332,62.5,25,44.44444444444444,8.333333333333332,0,{"$f":"(AA135-AA132)/AA132*100","v":33.33333333333333},100,84.61538461538461,77.77777777777779,120,44.44444444444444,50,33.33333333333333,7.6923076923076925,90,50,-20,33.33333333333333,40,16.666666666666664,28.57142857142857,-100,-100,-40,40,33.33333333333333,-12.5,10,400,25,33.33333333333333,40,-33.33333333333333,50,366.66666666666663,64,100,7.6923076923076925,12.5,70,114.28571428571428,-8.333333333333332,42.857142857142854,100,16.666666666666664,-20,-7.142857143,-7.142857143,57.14285714,-100,53.84615385,-100,10]
["TotalPreCongError%",{"$f":"AVERAGE(B46,B48, B50, B52,B54, B56, B58, B60, B62, B64)","v":0.25},{"$f":"AVERAGE(C46,C48, C50, C52,C54, C56, C58, C60, C62, C64)","v":0},0,0,0,0.25,0.25,0,0,0,0.75,0.5,0,0.5,0,0,0,0,0,0,0,0,1,0.25,0,0,0,0,0,0,0,0,0,0.25,0,0.25,0,0,0,0.25,0,0,0,0,0,0,0,0,1,0,0,0,0,0.5,0,0,0.5,0.25,0.25,0,0,1.5,0.75,0,0,{"$f":"AVERAGE(BO46,BO48, BO50, BO52,BO54, BO56, BO58, BO60, BO62, BO64)","v":0.25},0,0.5,0,0,0,0,0.75]
["TotalPostCongError%",{"$f":"AVERAGE(B66, B68, B70, B72, B74, B76, B78, B80, B82, B84)","v":0},{"$f":"AVERAGE(C66, C68, C70, C72, C74, C76, C78, C80, C82, C84)","v":0},0,0,0,0,0,0,0,0.25,0.25,0.25,0.25,0.75,0.25,0,0,0,0,0,0,0,0,0,0,0,0,0,0,0,0.25,0,0,0.5,0.25,1.75,0,0,0,0,0,0,0,0,0.25,0,0,0,0,0,0,0,0,0,0,0,1.25,1.25,0,0,0,2.25,0.25,0.25,0,{"$f":"AVERAGE(BO66, BO68, BO70, BO72, BO74, BO76, BO78, BO80, BO82, BO84)","v":0.75},0,0,0,0,0,0,0]
["Total PreIncongError%",{"$f":"AVERAGE(B47, B49, B51, B53, B55, B57, B59, B61, B63, B65)","v":3},{"$f":"AVERAGE(C47, C49, C51, C53, C55, C57, C59, C61, C63, C65)","v":3.75},1.5,5,0.75,1,1.25,1.5,3,0.5,2.25,1,0.5,0.75,1,4,2.75,0.75,0.75,1.25,1.5,1,1.5,1,1.5,2,1.75,0,0.75,3.25,1.25,0,0.5,1.25,2.75,7.75,0.75,1.75,1.25,0.75,3.75,1.5,0.5,0.75,8.75,2.25,1.75,1.5,0.5,3.5,0.25,2.25,0,1.75,1,2.75,2,2.5,1,1.5,2.25,4.25,2.5,1.5,2.75,{"$f":"AVERAGE(BO47, BO49, BO51, BO53, BO55, BO57, BO59, BO61, BO63, BO65)","v":1.25},0.75,0.25,0.75,1.25,3,2.5,1.75]
["Total PostIncong Error%",{"$f":"AVERAGE(B67, B69, B71, B73, B75, B77, B79, B81, B83, B85)","v":1.25},{"$f":"AVERAGE(C67, C69, C71, C73, C75, C77, C79, C81, C83, C85)","v":2.25},2.25,2,1.75,1.5,1.25,1,1.75,1.5,1.75,1.25,0.25,0.75,1.5,2.25,1.5,3,2.25,0.75,0.25,0.75,1.5,0.75,3.5,2.75,0.5,0.5,1.25,3,2,0.5,0,1.25,1.5,6.25,1.75,1.5,0.25,1,4,1.25,0.5,1.5,9.25,1,2.5,2,0.5,2.5,0,2.5,0.25,0.5,1,1.25,2.75,6.5,0.5,2.5,4,7,1,2.5,2,{"$f":"AVERAGE(BO67, BO69, BO71, BO73, BO75, BO77, BO79, BO81, BO83, BO85)","v":1.5},1,0,0.25,1,1,0.75,1.25]
["Avg-PreCongr (sec)",{"$f":"AVERAGE(B6,B8,B10,B12,B14,B16,B18,B20,B22,B24)","v":15.196800000000001},21.748399999999997,17.3627,14.389600000000002,15.4715,18.9878,14.727700000000002,10.491,18.124899999999997,20.7142,17.2708,17.5411,15.273900000000001,23.244799999999998,14.202599999999999,15.721300000000003,14.385,18.4691,21.0574,14.0923,19.099600000000002,31.6384,17.6451,26.899,22.7769,{"$f":"AVERAGE(AA6,AA8,AA10,AA12,AA14,AA16,AA18,AA20,AA22,AA24)","v":21.266399999999997},17.422,25.580899999999996,21.885399999999997,16.429499999999997,17.3067,17.8659,20.9822,18.439,24.093799999999998,20.987900000000003,17.1953,16.7138,14.309999999999999,18.428199999999997,27.532199999999996,14.587399999999999,17.536199999999997,12.0852,26.088299999999997,19.0548,19.7535,20.3453,30.2464,17.6407,16.534499999999998,13.952099999999998,23.413099999999996,20.3714,17.3517,20.0594,9.427299999999999,13.908199999999999,16.2625,30.655999999999995,16.946499999999997,19.8515,15.004,17.969500000000004,25.5767,24.2344,14.4728,14.4728,20.0582,21.6129,19.8936,18.409,12.9351]
["Avg-PreIncongr (sec)",{"$f":"AVERAGE(B7,B9,B11,B13,B15,B17,B19,B21,B23,B25)","v":27.094},41.6739,31.819499999999998,42.8138,23.0114,38.8862,25.654200000000003,22.902900000000002,33.825,30.578700000000005,40.2068,42.0356,27.471300000000003,43.8584,31.594299999999997,36.446999999999996,43.462300000000006,33.0033,42.6763,39.6012,54.17960000000001,34.48910000000001,32.583299999999994,29.9677,27.9226,{"$f":"AVERAGE(AA7,AA9,AA11,AA13,AA15,AA17,AA19,AA21,AA23,AA25)","v":34.428399999999996},37.474799999999995,33.5095,34.351000000000006,32.2712,31.377,24.6325,35.2911,35.5715,40.22959999999999,32.63440000000001,28.614000000000004,27.5474,28.856,37.12750000000001,36.259,26.703700000000005,24.1881,29.961199999999998,96.289,33.212399999999995,41.5224,30.821199999999997,42.736599999999996,34.140100000000004,44.15239999999999,26.9013,34.1639,33.0565,38.107099999999996,43.399100000000004,28.4558,30.3097,28.9125,37.1734,26.144,47.2778,29.7207,26.5177,38.4526,36.4273,35.939,35.939,53.4725,33.1122,50.0125,31.8901,26.0448]
["Avg-PostCongr (sec)",{"$f":"AVERAGE(B26,B28,B30,B32,B34,B36,B38,B40,B42,B44)","v":13.889199999999999},20.1021,15.538,11.5977,12.892399999999999,19.790399999999998,17.015299999999996,10.306,17.4249,17.292499999999997,17.256400000000003,17.0261,14.2649,21.3061,13.252200000000002,13.4421,13.3243,16.404100000000003,17.8474,13.292600000000002,18.063699999999997,22.5047,16.454,23.292600000000004,14.0828,{"$f":"AVERAGE(AA26,AA28,AA30,AA32,AA34,AA36,AA38,AA40,AA42,AA44)","v":19.215200000000003},15.8644,21.9742,17.0549,14.8702,14.923300000000001,14.079699999999999,16.3284,17.270599999999995,21.435900000000004,18.4185,16.1707,15.1767,12.1462,17.023999999999997,23.701999999999998,13.13,16.0148,11.376999999999999,16.183300000000003,17.187799999999996,18.2167,17.023900000000005,24.5805,15.282500000000002,13.8357,11.661599999999998,17.725900000000003,16.964199999999998,15.068800000000001,18.7797,9.9914,14.479400000000002,14.352500000000001,20.568199999999997,16.7113,15.502699999999999,12.6485,15.7728,23.886400000000002,22.5562,14.245,14.245,17.9146,15.1877,17.9367,16.93988889,11.5053]
["Avg-PostIncongr (sec)",{"$f":"AVERAGE(B27,B29,B31,B33,B35,B37,B39,B41,B43,B45)","v":25.0264},38.069399999999995,30.263199999999994,34.4264,20.9844,41.162,26.296499999999998,21.6207,30.8405,29.648200000000003,36.051,42.4106,25.4321,44.420300000000005,27.655399999999997,29.938200000000002,35.291500000000006,28.306100000000004,38.142199999999995,35.9282,42.54280000000001,27.274500000000007,29.1572,26.0108,23.3045,{"$f":"AVERAGE(AA27,AA29,AA31,AA33,AA35,AA37,AA39,AA41,AA43,AA45)","v":34.9788},29.667,35.1175,33.62779999999999,28.8887,30.038600000000002,21.7322,31.419999999999998,31.682499999999997,36.652499999999996,29.5251,28.5533,23.893000000000004,24.650199999999995,31.8022,32.801899999999996,23.2657,22.305400000000002,26.011599999999998,69.9355,34.05839999999999,39.3654,27.543300000000006,35.4456,30.55899999999999,41.3965,24.6744,30.883100000000002,26.4711,34.8555,36.775400000000005,27.811,30.953799999999994,26.484999999999996,30.916199999999996,24.840899999999998,39.3661,28.665799999999997,22.605199999999996,31.810999999999996,33.709700000000005,29.7596,29.7596,48.1633,31.8225,44.0352,30.425,25.0919]
["%ChangeCongr (sec)",{"$f":"(B156-B154)/B154*100","v":-8.60444304064015},-7.569752257637329,-10.5093101879316,-19.40220714960806,-16.670006140322542,4.226924656884937,15.532635781554443,-1.7634162615575304,-3.8620902736014866,-16.518620077048617,-0.08337772425132833,-2.935961826795358,-6.606040369519247,-8.340359994493381,-6.691732499683132,-14.49752883031303,-7.373653110879393,-11.18083718210415,-15.244047223303925,-5.674730171795931,-5.4236737942156115,-28.869032568018614,-6.750315951737303,-13.407189858359036,-38.17069048,{"$f":"(AA156-AA154)/AA154*100","v":-9.645262009554953},-8.940420158420393,-14.099191193429462,-22.071792153673215,-9.49085486472502,-13.771545124142664,-21.192327282700568,-22.179752361525487,-6.336569228266205,-11.031468676588975,-12.242291987287919,-5.958604967636503,-9.196592037717329,-15.120894479385036,-7.619843500721718,-13.911710651528022,-9.990813990155875,-8.675767840239029,-5.860060238969992,-37.96721135528185,-9.798056132837942,-7.779887108613662,-16.32514634829664,-18.732477253491325,-13.367950251407237,-16.32223532613625,-16.416883479906254,-24.290674878593585,-16.72540915204651,-13.156635949215348,-6.379552728396671,5.983685678826405,4.106929724910505,-11.744811683320513,-32.906445720250524,-1.3878972059126986,-21.906656927688097,-15.699146894161553,-12.224602799187528,-6.608749369543363,-6.9248671310203695,-1.573987065,-1.573987065,-10.68690112,-29.72854175,-9.836831946,-7.980396062,-11.05364473]
["%ChangeIncongr (sec)",-7.631209861962067,-8.649298481783582,-4.891025943210937,-19.5904124371114,-8.808677438139346,5.852461798787221,2.503683607362518,-5.598417667631623,-8.823355506282347,-3.042967817467721,-10.336062556582466,0.8921009810731856,-7.423019660518449,1.281168487678532,-12.46712223407387,-17.85825993908962,-18.799741385062454,-14.232516142325155,-10.62439808511985,-9.27497146551115,-21.478194744885528,-20.918493089120908,-10.514895667412432,-13.20388284719882,-16.53893262,1.5986801594032933,-20.834800986262753,4.798639191870953,-2.1053244447032475,-10.481481940553808,-4.265544825827824,-11.774281944585411,-10.969054520828204,-10.932909773273556,-8.891711575556295,-9.527676317015198,-0.21213392045853144,-13.26586175101823,-14.575131688383722,-14.3432765470339,-9.534460409829295,-12.87462037095985,-7.783579528776532,-13.18238254809554,-27.36916989479587,2.547241391769329,-5.194786428530135,-10.635212126717947,-17.060318322000338,-10.489424459799512,-6.241789800780909,-8.278038607799626,-9.603119081837834,-19.92164929741503,-8.532793101547997,-15.262298066088926,-2.2659703821365067,2.12506227379352,-8.396022481625613,-16.83246622584968,-4.984317625458999,-16.734492721742544,-3.549378042912864,-14.754296187075067,-17.272174053249977,-7.4603388118251885,-17.19413451,-17.19413451,-9.928841928,-3.894939025,-11.9516121,-4.59421576,-3.658695786]
["%ChangeCongruentError",{"$f":"B151-B150","v":-0.25},{"$f":"C151-C150","v":0},0,0,0,-0.25,-0.25,0,0,0.25,-0.5,-0.25,0.25,0.25,0.25,0,0,0,0,0,0,0,-1,-0.25,0,0,0,0,0,0,0.25,0,0,0.25,0.25,1.5,0,0,0,-0.25,0,0,0,0,0.25,0,0,0,-1,0,0,0,0,-0.5,0,0,0.75,1,-0.25,0,0,0.75,-0.5,0.25,0,{"$f":"BO151-BO150","v":0.5},0,-0.5,0,0,0,0,-0.75]
["%ChangeIncongError",{"$f":"B153-B152","v":-1.75},{"$f":"C153-C152","v":-1.5},0.75,-3,1,0.5,0,-0.5,-1.25,1,-0.5,0.25,-0.25,0,0.5,-1.75,-1.25,2.25,1.5,-0.5,-1.25,-0.25,0,-0.25,2,0.75,-1.25,0.5,0.5,-0.25,0.75,0.5,-0.5,0,-1.25,-1.5,1,-0.25,-1,0.25,0.25,-0.25,0,0.75,0.5,-1.25,0.75,0.5,0,-1,-0.25,0.25,0.25,-1.25,0,-1.5,0.75,4,-0.5,1,1.75,2.75,-1.5,1,-0.75,{"$f":"BO153-BO152","v":0.25},0.25,-0.25,-0.5,-0.25,-2,-1.75,-0.5]

{"sheet":"BR","index":1,"n_rows":74,"n_cols":6,"rows_kept":74}
["% Change BR",{"$f":"AVERAGE(A:A)","v":37.577960091668345},"% Change HR",{"$f":"AVERAGE(C:C)","v":67.97045616039559},"PreBreathingRate (bpm)","PostBreathingRate (bpm)"]
[62.5,{"$f":"STDEV(A:A)","v":74.91722560308834},71.62162162162163,{"$f":"STDEV(C:C)","v":56.078318728539415},16,26]
[-8.333333333333332,{"$f":"COUNT(A:A)","v":73},23.762376237623762,{"$f":"COUNT(C:C)","v":73},24,22]
[30,{"$f":"B2/SQRT(B3)","v":8.768398029336785},24.210526315789473,{"$f":"D2/SQRT(D3)","v":6.563470756818508},20,26]
[-12.5,null,40.18691588785047,null,32,28]
[85.71428571428571,null,49.51456310679612,null,14,26]
[25,null,32,null,24,30]
[23.076923076923077,null,50,null,26,32]
[50,null,144.82758620689654,null,8,12]
[33.33333333333333,null,93.75,null,18,24]
[22.22222222222222,null,95.94594594594594,null,18,22]
[14.285714285714285,null,45.744680851063826,null,14,16]
[30,null,27.200000000000003,null,20,26]
[10,null,66.66666666666666,null,20,22]
[60,null,113.33333333333333,null,10,16]
[92.3076923076923,null,111.29032258064515,null,26,50]
[100,null,82.10526315789474,null,26,52]
[50,null,88.57142857142857,null,12,18]
[10,null,66.66666666666666,null,20,22]
[25,null,36.84210526315789,null,8,10]
[-8.333333333333332,null,51.48514851485149,null,24,22]
[62.5,null,87.5,null,32,52]
[25,null,86.36363636363636,null,40,50]
[44.44444444444444,null,65.65656565656566,null,18,26]
[8.333333333333332,null,49.523809523809526,null,24,26]
[0,null,47.22222222,null,14,14]
[33.33333333333333,null,14.130434782608695,null,18,24]
[100,null,62.745098039215684,null,20,40]
[84.61538461538461,null,47.16981132075472,null,26,48]
[77.77777777777779,null,41.37931034482759,null,18,32]
[120,null,107.04225352112675,null,10,22]
[44.44444444444444,null,67.02127659574468,null,18,26]
[50,null,73.17073170731707,null,12,18]
[33.33333333333333,null,73.17073170731707,null,24,32]
[7.6923076923076925,null,75.64102564102564,null,26,28]
[90,null,132.8358208955224,null,20,38]
[50,null,96.7741935483871,null,16,24]
[-20,null,112.5,null,10,8]
[33.33333333333333,null,27.659574468085108,null,18,24]
[40,null,9.401709401709402,null,20,28]
[16.666666666666664,null,59.57446808510638,null,24,28]
[28.57142857142857,null,-16.867469879518072,null,28,36]
[-100,null,63.33333333333333,null,20]
[-100,null,6.0606060606060606,null,24]
[-40,null,128.57142857142858,null,20,12]
[40,null,114.28571428571428,null,20,28]
[33.33333333333333,null,64.55696202531645,null,24,32]
[-12.5,null,51.515151515151516,null,32,28]
[10,null,48.80952380952381,null,40,44]
[400,null,33.33333333333333,null,8,40]
[25,null,26.495726495726498,null,48,60]
[33.33333333333333,null,150,null,24,32]
[40,null,52.336448598130836,null,20,28]
[-33.33333333333333,null,88.75,null,36,24]
[50,null,94.5945945945946,null,16,24]
[366.66666666666663,null,78.57142857142857,null,12,56]
[64,null,102.7027027027027,null,25,41]
[100,null,83.14606741573034,null,16,32]
[7.6923076923076925,null,20.618556701030926,null,26,28]
[12.5,null,103.65853658536585,null,16,18]
[70,null,92.85714285714286,null,40,68]
[114.28571428571428,null,79.22077922077922,null,14,30]
[-8.333333333333332,null,92.3076923076923,null,24,22]
[42.857142857142854,null,83.82352941176471,null,14,20]
[100,null,113.69863013698631,null,20,40]
[16.666666666666664,null,60.416666666666664,null,12,14]
[-20,null,52.74725274725275,null,10,8]
[-7.142857143,null,0,null,56,52]
[-7.142857143,null,0,null,24,30]
[57.14285714,null,395.2380952,null,28,44]
[-100,null,70.45454545,null,18]
[53.84615385,null,60.71428571,null,26,40]
[-100,null,-100,null,20]
[10,null,13.68421053,null,20,22]

{"sheet":"non-exercise","index":2,"n_rows":161,"n_cols":31,"rows_kept":161}
["ID","CN101-nonexercise","MR101-nonexercise","JF101-nonexercise","CJ101-nonexercise","TB101-nonexercise","SN102-nonexercise","SW101-nonexercise","FA102-nonexercise","JF102-nonexercise","BR102-nonexercise","FH101-nonexercise","JL101-nonexercise","RO101-nonexercise","KK101-nonexercise","KV101-nonexercise","DD101-nonexercise","MT102-nonexercise","TP101-nonexercise","RA101-nonexercise","KLA101-nonexercise","YS102-nonexercise","TM101-nonexercise","TR101-nonexercise","DJ102-nonexercise","MA101-nonexercise","SA102-nonexercise","JH102-nonexercise","RS101-nonexercise","AA102-nonexercise","JR101-nonexercise"]
["Date","2011-09-23","2011-09-23","2011-09-30","2011-10-07","2011-11-18","2012-04-18","2012-04-24","2012-04-26","2012-05-01","2012-05-01","2012-05-02","2012-05-02","2012-05-02","2012-05-02","2012-05-04","2012-05-04","2012-05-05","2012-05-05","2012-05-05","2012-05-05","2012-05-08","2012-05-08","2012-05-09","2012-05-11","2012-05-11","2012-05-11","2012-06-14","2012-06-14","2013-01-17","2013-02-07"]
[null,"1.20pm","3.07pm","2.22pm","4.00pm","1.00pm","9.00 pm","10.00 am","9.40 am","2.00 pm","2.30 pm","11.20 am","12.39 pm","1.10 pm","6.00 pm","1.00 pm","6.45 pm","9.17 am","10.00 am","11.40 am","1.20 pm","10:00:00","10.31 am","2.00 pm","10.00 am","10.30 am","1.30 pm","2.15 pm","2:00 p.m","4.46 pm","10.00 am"]
["http://www.biology.unt.edu/~tam/SelfTests/StroopEffects1.html"]
["http://www.biology.unt.edu/~tam/SelfTests/StroopEffects2.html"]
["PreCongr1 Set1",18.616,16.206,16.907,18.395,17.245,23.276,11.558,19.08,20.159,14.32,17.343,18.64,18.457,21.44,24.896,15.584,18.92,30.633,18.78,17.668,20.376,19.511,21.079,20.768,19.039,16.096,13.02,15.606,21.956,22.558]
["PreIncongr1 Set1",34.944,32.049,31.952,31.298,25.135,31.599,40.748,44.175,38.8,34.823,38.936,40.438,42.095,35.233,31.335,50.689,27.303,40.23,35.471,42.776,48.6,44.928,37.408,35.336,57.871,44.232,22.697,25.707,40.888,29.127]
["PreCongr1 Set2",16.375,17.096,14.22,19.572,16.646,18.82,12.026,22.952,20.521,14.222,15.6,16.343,16.495,22.08,20.792,16.277,20.185,28.336,18.136,17.336,16.88,19.719,21.23,20.424,20.041,17.36,13.765,17.339,22.225,21.375]
["PreIncongr1 Set2",36.352,29.289,28.384,35.97,25.232,39.976,41.224,38.967,36.523,34.202,34.551,41.903,39.976,31.385,28.08,48.74,25.744,39.943,32.68,39.24,49.73,34.975,36.062,33.208,56.808,39.112,22.09,25.229,36.947,33.438]
["PreCongr2 Set1",15.872,15.863,13.768,18.353,15.706,21.463,11.159,16.952,18.111,14.203,15.056,13.609,17.88,22.065,17.016,15.088,18.561,28.599,14.432,15.664,15.768,17.76,21.791,21.198,18.552,17.416,13.239,15.586,19.924,19.117]
["PreIncongr2 Set1",38.536,26.69,27.432,36.65,25.752,34.608,36.88,37.497,39.808,31.731,28.383,39.192,44.727,30.593,28.04,48.24,25.047,35.288,33.02,32.448,38.345,33.543,34.408,30.343,45.591,41.048,22.875,24.419,36.926,34.053]
["PreCongr2 Set2",15.417,16.066,13.92,23.003,15.811,21.48,19.426,16.352,17.035,13.889,14.408,14.392,16.808,20.887,19.72,15.128,17.896,26.832,15.96,15.72,16.224,16.592,21.92,19.255,17.848,15.768,13.984,16.679,20.085,18.564]
["PreIncongr2 Set2",39.535,31.234,31.745,34.969,25.484,37.976,37.288,35.64,38.172,31.38,30.519,35.391,43.759,27.481,27.279,38.833,23.272,38.069,35.903,38.968,49.959,32.424,31.88,29.112,51.512,36.663,24,27.267,33.554,34.691]
["PreCongr3 Set1",15.874,19.633,15.072,20.031,16.161,21.512,11.031,16.864,15.921,13.101,14.593,16.375,21.05,21.993,15.471,14.409,16.136,27.048,16.535,16.104,20.031,15.824,22.495,19.049,17.8,17.391,13.249,16.616,19.456,21.024]
["PreIncongr3 Set1",32.873,28.361,28.872,36.343,26.333,35.169,32.081,35.2,41.709,30.681,31.839,39.72,38.232,30.198,28.816,41.68,22.961,35.928,29.152,43.807,40.687,31.544,31.6,27.08,45.479,36.231,24.128,28.693,34.547,33.337]
["PreCongr3 Set2",15.368,16.256,13.52,18.84,16.138,18.039,11.359,16.864,15.636,12.46,14.856,15.976,21.937,22.808,16.207,14.704,15.944,25.927,16.28,16.12,14.215,15.048,21.776,18.536,18.68,16.663,13.209,15.53,21.02,21.643]
["PreIncongr3 Set2",32.151,30.224,28.817,36.008,24.145,31.224,32.936,31.015,33.261,30.329,33.768,36.984,40.4,26.744,27.936,36.983,24,36.216,33.48,38.031,40.336,32.241,33.575,29.168,44.287,45.592,24.078,27.669,32.332,35.795]
["PreCongr4 Set1",14.672,15.855,12.984,21.706,16.029,17.073,11.239,16.881,14.929,12.449,14.928,15.575,18.632,21.2,17.344,14.96,15.767,23.856,15.623,15.72,14.328,14.942,20.743,19.128,18.752,17.04,13.247,16.759,21.773,20.823]
["PreIncongr4 Set1",36.745,28.463,25.944,31.208,22.108,38.904,30.656,33.376,40.528,29.019,30.823,35.992,42.031,30.976,26.831,40.248,23.751,35.224,33.416,34.872,35.784,36.88,31.736,27.88,43.16,37.215,27.113,28.128,36.191,34.206]
["PreCongr4 Set2",15.032,19.977,12.896,20.754,16.025,16.335,11.56,15.12,15.13,11.679,14.776,14.456,19.192,22.016,16.504,15.009,14.8,24.631,15.623,14.248,14.848,14.76,21.615,16.792,17.303,18.247,13.575,15.597,22,23.309]
["PreIncongr4 Set2",32.473,31.729,27.521,32.08,21.524,32.031,31.616,31.552,33.357,29.075,28.009,35.28,39.183,28.032,26.377,39.52,22.92,34.6,32.72,30.712,33.984,34.424,31.681,33.232,42.736,39.32,25.004,26.519,33.858,32.876]
["PreCongr5 Set1",14.873,16.552,13.688,17.689,15.105,15.56,11.096,15.887,16.607,12.753,14.161,14.24,17.56,21.528,16.944,14.591,14.983,23.728,15.36,13.511,11.808,14.265,20.718,18.056,17.08,16.736,13.389,18.481,29.328,23.096]
["PreIncongr5 Set1",33.15,29.105,27.16,32.552,22.993,30.175,31.808,43.752,34.974,28.104,29.544,33.399,45.03,29.281,26.799,40.631,22.2,35.241,32.479,33.407,37.906,34.383,31.488,28.368,41.903,36.088,27.968,27.603,37.264,38.766]
["PreCongr5 Set2",15.824,15.72,13.224,18.152,15.494,17.871,13.568,16.223,15.642,12.301,14.4,14.184,18.16,21.207,16.464,13.768,14.911,23.447,15.399,14.441,15.176,13.127,20.456,16.896,17.584,16.248,14.223,16.55,25,18.915]
["PreIncongr5 Set2",38.969,29.338,27.112,33.185,24.879,34.44,31.544,33.096,43.945,28.361,30.6,40.512,43.431,25.248,26.031,38.815,26.234,33.277,31.041,30.02,33.567,37.544,31.088,31.183,42.473,34.321,26.266,27.808,33.552,32.536]
["PostCongr1 Set1",14.696,16.017,14.089,18.464,16.895,18.136,12.491,17.719,18.65,15.475,15.071,15.855,18.328,19.632,19.488,14,16.504,25.768,14.72,13.928,13.764,15.24,21.648,16.08,18.35,16.83,13.058,15.635,22.322,20.188]
["PostIncongr1 Set1",31.688,29.593,23.935,33.839,21.91,35.31,35.112,33.184,37.469,29.844,30.28,34.152,36.879,24.777,25.382,34.288,22.6,33.312,28.719,35.719,27.048,28.263,28.879,25.513,40.88,31.467,23.549,24.109,29.792,28.425]
["PostCongr1 Set2",16.176,18.998,14.871,17.602,15.59,16.287,12.825,17.424,16.821,14.689,14.04,15.48,19.688,20.312,18.158,14.025,14.6,22.473,15.2,15.968,13.216,13.631,21.776,16.47,16.442,16.744,14.112,14.414,21.278,19.002]
["PostIncongr1 Set2",31.785,28.417,24.577,32.065,26.504,35.961,31.544,34.606,39.439,33.329,31.04,33.855,37.848,26.049,28.586,41.952,21.056,32.248,30.52,33.527,28.032,30.44,35.95,35.032,40.031,33.346,22.546,23.692,35.658,33.318]
["PostCongr2 Set1",14.498,16.818,13.536,16.594,16.726,16.281,12.048,17.216,15.325,14.132,13.856,15.432,18.04,19.092,17.864,13.696,14.4,20.744,13.94,13.744,13.92,15.384,21.335,19.344,17.127,15.85,13.485,14.688,21,21.057]
["PostIncongr2 Set1",38.602,25.105,26.681,31.376,22.341,30.897,34.399,32.216,35.885,31.332,26.64,39.72,48.703,26.24,25.32,43.567,20.928,32.057,27.815,30.968,33.952,28.407,31.001,32.735,41.986,34.601,24.077,27.406,35.843,30.612]
["PostCongr2 Set2",13.457,16.945,13.055,15.792,15.975,15.838,11.615,14.896,13.536,13.018,13.184,14.24,22.16,19.617,18.631,14.197,13.92,19.736,14.063,12.928,14.832,13.753,20.375,16.696,17.569,14.268,12.861,14.155,23.711,20.556]
["PostIncongr2 Set2",29.576,26.569,25.194,30.114,23.628,40.575,30.485,36.512,31.384,30.464,31.793,29.375,38.631,25.784,26.256,41.429,23.848,35.439,31.017,28.839,33.695,27.856,30.424,33.544,50.321,35.911,21.56,27.817,33.504,28.928]
["PostCongr3 Set1",14.785,15.981,15.319,15.241,16.225,15.367,11.184,15.216,13.676,13.266,13.312,13.368,17.4,17.616,18.96,13.84,14.088,19.927,15.015,13.296,13.088,13.216,21.36,16.144,16.64,14.616,12.32,16.534,25.806,21.423]
["PostIncongr3 Set1",34.937,27.847,27.113,31.824,22.526,34.425,29.767,29.864,35.149,34.308,29.824,33.367,45.904,25.074,25.335,39.328,21.815,32.312,31.56,32.318,34.688,30.175,31.151,29.376,40.072,33.801,25.261,25.496,31.94,33.439]
["PostCongr3 Set2",13.625,16.296,12.712,16.184,15.744,16.302,12.232,16.6,14.64,13.281,13.057,14.064,18.056,18.272,18.088,15.223,14.017,19.976,13.416,14.368,13.192,13.167,20.183,16.04,16.967,14.197,12.959,15.803,26.05,20.788]
["PostIncongr3 Set2",30.521,30.913,29.976,31.641,27.487,33.73,31.864,33.616,33.733,33.87,28.263,30.904,40.688,25.832,25.888,32.759,22.688,35.488,30.809,33.263,37.815,32.631,31.767,35.776,40.488,35.231,22.913,24.637,33.736,32.081]
["PostCongr4 Set1",14.625,16.688,13.048,15.504,15.509,16.456,11.335,15.783,13.85,12.599,12.344,13.088,16.632,17.72,16.343,13.384,13.512,20.649,13.679,12.632,12.488,12.905,19.391,16.217,16.968,16.206,11.989,16.528,24.766,19.569]
["PostIncongr4 Set1",31.385,27.928,27.544,30.352,22.308,35.623,32.152,36.968,33.783,31.58,24.834,36.512,35.639,25.814,24.576,40.384,23.073,33.383,28.535,28.081,30.688,35.264,33.752,25.96,38.856,36.829,26.713,27.044,35.475,35.76]
["PostCongr4 Set2",12.889,15.889,12.488,14.992,15.46,16.751,11.56,17.288,14.418,12.35,12.84,13.631,15.072,18.584,15.976,15.496,14.895,21.928,13.159,13.112,14.85,11.832,20.024,16.56,15.967,16.479,12.948,18.087,21.437,19.883]
["PostIncongr4 Set2",33.168,30.297,28.872,30.266,24.347,34.392,31.768,32.24,39.274,29.795,27.712,34.561,39.591,26.425,25.992,39.136,21.793,32.671,29.312,32.408,31.384,28.991,33.025,27.079,40.408,34.396,29.251,25.552,33.638,32.648]
["PostCongr5 Set1",13.082,16.895,14.463,16.118,15.591,15.185,11.464,15.847,13.247,12.484,13.424,13.608,19.423,17.056,15.575,13.336,13.625,18.056,13.472,13.544,12.911,12.912,19.512,18.257,16.76,17.681,12.054,15.439,23.611,20.268]
["PostIncongr5 Set1",36.159,28.326,25.962,28.984,24.265,34.392,29.399,29.016,36.273,28.571,29.648,34.424,36.759,26.02,24.384,35.703,22.536,35,30.296,32.095,35.137,29.968,31.56,27.437,44.511,33.899,29.945,28.572,36.293,34.56]
["PostCongr5 Set2",13.28,15.599,14.519,15.152,15.339,16.137,10.439,16.224,14.226,11.566,12.878,12.471,13.808,17.408,17.44,13.504,13.8,16.76,13.664,13.343,12.032,13.583,20.159,17.096,17.168,15.324,12.511,14.955,23.11,18.53]
["PostIncongr5 Set2",33.968,25.697,27.033,29.969,24.163,35.032,29.319,37.991,36.551,33.57,29.585,31.745,36.2,27.48,25.336,39.175,21.225,35.295,26.839,31.473,29.97,28.105,31.142,28.744,42.696,31.632,26.553,28.559,37.384,32.602]
["PreErrorC1 set 1",0,0,0,0,0,0,0,0,0,0,0,0,0,0,0,0,0,0,0,0,0,0,0,0,0,0,0,0,5,0]
["PreErrorI1 set 1",2.5,2.5,0,2.5,5,0,0,5,0,0,5,10,15,0,0,2.5,7.5,2.5,0,5,7.5,0,0,5,12.5,7.5,0,0,12.5,0]
["PreErrorC1 set 2",0,0,0,0,0,0,0,0,0,0,0,0,0,0,0,0,0,0,0,0,0,0,0,0,0,0,0,0,0,0]
["PreErrorI1 set 2",7.5,0,2.5,7.5,2.5,5,7.5,5,0,0,5,5,32.5,0,0,0,0,10,2.5,5,12.5,5,15,2.5,10,7.5,2.5,0,12.5,5]
["PreErrorC2 set 1",0,0,0,0,0,0,0,0,0,0,0,0,0,0,0,0,0,0,0,0,0,0,0,0,0,0,0,0,0,0]
["PreErrorI2 set 1",2.5,0,2.5,2.5,0,2.5,0,5,0,0,2.5,7.5,7.5,0,0,22.5,0,2.5,2.5,0,2.5,0,2.5,2.5,5,5,0,2.5,12.5,5]
["PreErrorC2 set 2",0,0,0,0,0,0,0,0,0,0,0,0,0,0,0,0,0,0,0,0,0,0,0,0,0,0,0,0,0,0]
["PreErrorI2 set 2",12.5,2.5,5,0,7.5,2.5,2.5,5,2.5,0,5,5,15,0,5,0,0,5,0,5,5,0,5,2.5,7.5,5,0,5,7.5,7.5]
["PreErrorC3 set 1 ",7.5,5,0,2.5,0,2.5,0,0,0,0,0,2.5,0,0,0,0,0,0,0,0,0,2.5,2.5,0,0,0,0,0,0,0]
["PreErrorI3 set 1 ",7.5,0,2.5,0,7.5,5,0,2.5,0,0,5,20,0,0,2.5,0,0,2.5,0,22.5,7.5,0,0,7.5,2.5,0,0,2.5,5,0]
["PreErrorC3 set 2",0,2.5,0,0,0,0,2.5,0,0,0,0,0,2.5,0,0,0,0,0,0,0,0,0,0,0,0,0,0,2.5,2.5,0]
["PreErrorI3 set 2",0,2.5,2.5,5,0,0,0,0,0,2.5,2.5,17.5,17.5,0,2.5,0,2.5,7.5,5,2.5,5,2.5,2.5,0,7.5,7.5,0,0,5,2.5]
["PreErrorC4 set 1",0,0,0,0,0,0,0,0,0,0,0,2.5,2.5,0,0,0,0,0,0,0,2.5,0,0,2.5,0,0,0,2.5,2.5,0]
["PreErrorI4 set 1",5,0,2.5,0,0,10,0,0,0,0,2.5,5,10,2.5,0,2.5,2.5,0,2.5,2.5,5,5,5,5,5,2.5,0,0,12.5,0]
["PreErrorC4 set 2",0,2.5,0,0,0,0,0,0,0,0,0,0,2.5,0,0,0,0,0,0,5,0,0,0,0,0,0,0,0,2.5,10]
["PreErrorI4 set 2",7.5,2.5,0,2.5,2.5,2.5,2.5,2.5,0,2.5,5,10,7.5,2.5,0,0,0,2.5,5,2.5,2.5,5,2.5,10,0,0,2.5,0,12.5,0]
["PreErrorC5 set 1",0,0,0,0,0,0,0,0,0,0,0,2.5,0,0,0,0,0,0,0,0,0,0,0,0,0,0,0,0,0,0]
["PreErrorI5 set 1",2.5,0,5,2.5,7.5,0,0,7.5,0,2.5,5,12.5,10,0,0,2.5,0,2.5,0,5,10,2.5,0,5,0,2.5,5,5,10,2.5]
["PreErrorC5 set 2",2.5,0,2.5,0,0,2.5,5,2.5,0,0,0,0,0,0,0,0,0,0,0,0,0,0,0,0,0,0,0,2.5,5,0]
["PreErrorI5 set 2",12.5,2.5,0,2.5,0,7.5,0,5,2.5,2.5,2.5,12.5,22.5,0,0,2.5,7.5,0,0,2.5,7.5,10,7.5,12.5,2.5,0,2.5,0,5,0]
["PostErrorC1 set 1",0,0,0,0,0,2.5,2.5,2.5,2.5,2.5,0,0,0,0,0,0,0,0,0,0,0,0,2.5,0,0,0,0,0,0,0]
["PostErrorII1 set 1",5,2.5,2.5,0,2.5,0,5,7.5,2.5,2.5,5,5,10,0,0,0,0,2.5,0,0,0,5,2.5,12.5,0,0,0,0,12.5,0]
["PostErrorC1 set 2 ",2.5,0,2.5,0,0,0,0,0,0,0,0,0,0,0,0,0,0,0,0,0,0,0,0,2.5,0,0,2.5,0,2.5,0]
["PostErrorII1 set 2 ",12.5,5,0,0,5,5,0,5,5,2.5,0,0,10,0,2.5,5,0,5,2.5,2.5,5,2.5,7.5,15,0,0,0,0,15,2.5]
["PostErrorC2 set 1",0,0,0,0,0,0,0,0,0,0,0,2.5,0,0,0,0,0,0,0,0,0,2.5,0,2.5,0,0,0,2.5,0,0]
["PostErrorI2 set 1",10,0,5,2.5,2.5,2.5,2.5,0,0,0,2.5,15,10,0,0,0,2.5,5,0,10,2.5,0,5,12.5,2.5,0,2.5,0,10,0]
["PostErrorC2 set 2 ",0,0,0,0,0,0,0,0,0,0,0,0,2.5,0,0,0,0,0,0,0,0,2.5,0,0,0,0,0,0,0,0]
["PostErrorI2 set 2 ",0,2.5,0,2.5,0,15,0,5,0,2.5,7.5,7.5,0,0,0,0,2.5,5,0,5,2.5,0,5,7.5,5,5,0,0,5,0]
["PostErrorC3 set 1",0,0,7.5,0,0,0,0,0,0,0,0,0,0,0,0,0,0,0,2.5,0,0,0,0,0,0,0,0,7.5,2.5,0]
["PostErrorI3 set 1",7.5,2.5,7.5,2.5,2.5,5,0,0,2.5,2.5,2.5,7.5,2.5,0,0,5,0,0,2.5,12.5,12.5,0,10,5,0,0,2.5,2.5,5,0]
["PostErrorC3 set 2 ",0,0,0,0,0,0,0,0,0,0,0,5,0,0,0,0,0,0,0,0,0,0,0,0,0,0,0,2.5,2.5,0]
["PostErrorI3 set 2 ",5,0,10,0,10,0,0,2.5,2.5,0,0,2.5,5,5,2.5,0,0,12.5,5,2.5,12.5,2.5,2.5,12.5,0,5,0,0,10,2.5]
["PostErrorC4 set 1 ",0,2.5,0,0,0,0,0,0,0,0,0,0,0,0,0,0,0,0,2.5,0,0,0,0,0,2.5,0,0,0,0,0]
["PostErrorI4 set 1 ",5,0,2.5,2.5,7.5,5,2.5,5,0,0,0,2.5,2.5,0,0,0,5,12.5,2.5,7.5,5,2.5,0,0,5,0,2.5,2.5,12.5,2.5]
["PostErrorC4 set 2 ",0,0,0,0,0,0,0,2.5,0,2.5,0,0,0,0,0,0,0,2.5,0,0,2.5,0,0,5,0,0,0,2.5,0,0]
["PostErrorI4 set 2 ",10,2.5,2.5,2.5,0,2.5,0,0,5,0,0,10,0,0,0,5,0,2.5,2.5,2.5,7.5,0,0,15,2.5,2.5,5,2.5,5,2.5]
["PostErrorC5 set 1",0,2.5,0,0,0,0,0,0,0,0,0,0,0,0,0,0,0,0,0,5,0,0,0,2.5,0,0,0,0,2.5,0]
["PostErrorI5 set 1",15,0,0,5,0,7.5,0,0,2.5,2.5,0,2.5,0,0,0,5,7.5,7.5,5,0,5,5,2.5,5,7.5,0,10,2.5,10,0]
["PostErrorC5 set 2 ",0,0,0,0,0,0,2.5,0,0,0,0,0,0,0,0,0,0,0,0,0,0,2.5,0,0,0,0,0,0,2.5,0]
["PostErrorI5 set 2 ",5,0,0,10,5,0,0,10,0,2.5,2.5,0,2.5,2.5,0,0,0,5,0,5,2.5,0,0,7.5,0,0,2.5,0,20,0]
["PreHRC1 set 1",73,85,67,81,85,79,107,83,121,69,108,82,97,109,58,75,61,105,72,75,75,50,90,70,66,85,82,86,78,74]
["PreHR I1 set 1",77,91,82,71,81,76,107,98,118,69,70,82,84,88,78,73,58,67,85,69,75,56,94,81,77,78,79,92,79,72]
["PreHRC1 set2",64,84,75,70,84,79,103,90,116,68,101,84,83,87,81,74,56,113,81,64,77,57,91,81,74,70,63,82,77,72]
["PreHR I1 set2",79,88,73,72,84,82,96,95,119,72,112,83,89,96,78,75,65,112,96,66,68,65,102,78,81,76,74,90,85,69]
["PreHR C2 set1",73,91,73,89,85,80,102,96,116,74,104,82,91,93,88,76,68,84,80,65,79,56,92,75,65,70,65,87,85,74]
["PreHR I2 set1",76,84,76,86,84,86,104,91,109,71,102,82,96,101,85,76,63,81,80,64,81,49,99,80,72,76,65,93,87,72]
["PreHR C2 set2",72,91,76,86,88,80,99,78,108,72,108,86,92,88,73,79,63,106,91,70,85,59,94,84,77,76,64,89,76,72]
["PreHR I2 set2",74,86,75,86,87,80,100,88,107,75,103,83,96,90,82,81,74,97,90,68,87,60,99,81,80,77,67,77,75,75]
["PreHR C3 set1",74,90,71,80,80,80,97,93,99,77,101,80,82,90,88,84,66,104,91,77,74,60,95,81,72,78,62,90,73,71]
["PreHR I3 set1",77,90,76,73,82,79,100,88,113,82,102,77,95,90,80,79,72,102,95,64,70,59,104,72,87,81,68,93,81,71]
["PreHR C3 set2",77,87,69,73,80,76,96,79,108,73,106,75,93,93,87,81,80,98,89,62,87,57,100,81,88,68,76,95,81,82]
["PreHR I3 set2",73,85,77,84,78,78,98,87,112,75,109,79,95,93,72,76,71,98,95,76,78,56,88,81,86,68,75,77,77,72]
["PreHR C4 set1",67,85,70,95,79,67,95,82,105,74,110,79,82,93,82,84,61,88,88,67,80,58,97,76,82,79,77,83,69,72]
["PreHR I4 set1",73,80,74,101,82,66,96,86,111,70,109,75,101,94,84,78,68,115,93,66,83,53,96,75,76,71,69,97,75,74]
["PreHR C4 set2",68,88,76,100,84,65,93,86,111,73,101,81,76,93,79,79,65,94,86,74,76,53,96,79,80,73,73,92,64,69]
["PreHR I4 set2",76,85,73,87,83,64,100,87,114,68,107,77,76,86,79,78,65,102,92,69,86,68,93,74,81,69,64,77,66,72]
["PreHR C5 set1",73,83,72,86,80,63,103,82,112,72,106,79,75,98,90,79,77,103,89,65,85,54,95,76,88,74,77,76,79,74]
["PreHR I5 set1",77,87,71,80,79,77.76,91,86,106,73,105,82,74,89,86,77,73,90,93,74,74,55,96,77,83,86,69,89,78,76]
["PreHR C5 set2",74,85,72,80,84,85,96,77,104,74,96,82,81,97,73,78,69,101,95,70,80,58,100,75,84,74,70,86,72,75]
["PreHR I5 set2",74,84,74,91,78,81,93,87,100,72,108,81,78,86,84,76,74,101,88,73,87,59,89,78,80,67,67,75,76,79]
["PostHR C1 set1",84,80,66,82,80,85,95,76,93,62,104,82,70,90,80,77,77,94,75,59,75,49,94,63,51,65,74,77,73,71]
["PostHR I1 set1",76,73,70,73,89,77,87,81,93,68,103,84,73,92,87,78,72,82,75,61,85,49,91,66,51,75,64,94,62,71]
["PostHR C1 set2",77,74,65,100,83,84,100,85,97,69,98,77,75,90,85,80,58,70,77,72,75,57,89,56,65,71,67,88,60,71]
["PostHR I1 set2",78,73,66,92,77,78,97,81,102,65,102,79,74,90,69,74,58,77,71,63,74,61,97,57,76,73,73,89,68,76]
["PostHR C2 set1",72,76,66,102,76,81,100,85,95,67,98,81,78,89,81,77,60,70,74,61,69,54,77,61,78,74,68,91,73,70]
["PostHR I2 set1",79,73,74,88,87,79,98,74,95,71,98,79,73,100,82,75,61,90,76,59,76,48,89,62,80,70,74,90,73,71]
["PostHR C2 set2",71,78,64,96,84,78,94,73,91,71,96,78,76,95,81,74,56,90,80,67,74,54,82,60,77,70,87,88,65,71]
["PostHR I2 set2",76,73,66,94,78,81,90,77,93,65,95,76,73,88,79,78,55,85,75,72,76,51,89,62,70,71,72,78,67,77]
["PostHR C3 set1",82,76,65,96,72,83,88,81,99,68,101,79,73,97,77,77,58,93,77,71,74,52,104,60,59,72,64,79,77,77]
["PostHR I3 set1",77,73,67,95,82,80,93,76,99,65,101,79,81,91,76,77,62,90,86,70,66,56,92,63,64,71,72,88,71,74]
["PostHR C3 set2",75,76,70,88,81,83,98,77,99,68,98,79,81,89,79,77,64,89,71,74,76,53,101,57,65,69,68,90,80,68]
["PostHR I3 set2",81,78,66,89,73,76,89,85,97,68,97,82,93,85,76,74,65,83,74,57,64,55,82,63,75,74,76,90,74,77]
["PostHR C4 set1",77,77,66,64,81,84,94,84,101,64,99,77,80,84,76,85,65,80,75,73,79,54,80,57,71,77,81,85,74,78]
["PostHR I4 set1",81,77,66,66,84,78,87,74,97,70,95,78,70,91,86,77,65,88,80,69,68,49,89,56,73,76,68,92,77,68]
["PostHR C4 set2",74,74,68,83,79,80,97,74,95,67,97,79,70,90,80,74,68,79,84,59,73,51,100,57,67,80,69,92,75,71]
["PostHR I4 set2",77,72,67,82,77,80,104,75,109,74,92,81,70,91,85,77,58,90,83,73,73,56,89,55,75,67,71,95,75,77]
["PostHR C5 set1",72,74,66,92,76,80,102,78,100,73,95,75,70,88,74,77,56,84,85,68,73,58,86,57,74,70,67,88,62,76]
["PostHR I5 set1",76,74,67,82,82,80,99,76,104,63,95,80,70,91,71,71,55,100,84,76,73,56,91,56,70,70,61,81,71,74]
["PostHR C5 set2",79,75,70,93,83,77,102,8,101,67,97,77,63,87,76,75,59,90,74,70,79,53,87,60,62,69,87,81,66,75]
["PostHR I5 set2",86,75,65,98,91,77,91,77,104,69,95,83,63,88,75,77,60,83,76,56,77,48,87,56,60,68,75,90,69,81]
["weight (lb)",175,126,250,170,160,162,158,126,120,205,155,180,150,125,115,160,130,125,130,170,148,195,175,194,168,150,120,140,121,170]
["Height (in)",62,63,73,69,60,64,66,64.5,61,74,63,68.5,66,66,64,71,63,67,63,71,67,72,67.5,69,69,64,66,63,63,66]
["Age",26,29,31,17,23,30,24,21,19,27,21,24,24,21,25,34,18,19,23,19,23,20,18,20,23,20,16,16,24,34]
["Gender","F","F","M","M","F","F","M","F","F","M","F","F","F","F","F","M","F","F","F","M","M","M","M","M","M","F","F","F","F","F"]
["PreHeartRate (bpm)",70,95,67,88,89,79,100,100,126,61,108,79,83,90,58,77,67,105,65,89,86,60,93,87,83,77,71,86,78,83]
["prePO2 (%)",99,98,99,99,99,96,99,99,99,99,93,97,99,99,96,98,99,97,98,98,98,99,98,96,98,99,99,98,99,98]
["PreBreathingRate (bpm)",20,20,30,18,16,22,16,20,16,16,24,40,28,14,16,16,16,40,14,12,20,20,10,20,20,20,16,16,null,6]
["PostHeartRate (bpm)",68,77,65,78,75,77,103,75,97,68,104,95,72,91,75,77,62,68,82,89,69,48,87,58,51,78,75,76,70,81]
["postPO2 (%)",96,99,99,97,99,82,95,99,98,99,97,91,99,99,98,98,97,98,98,99,98,99,99,99,99,98,99,99,98,98]
["PostBreathingRate (bpm)",20,18,28,14,14,22,16,20,14,16,22,32,26,14,22,16,24,32,14,12,12,24,12,22,20,16,20,20,null,6]
["calorie expenditure"]
["Time(min)",30,30,30,30,30,30,20,30,30,30,20,35,30,30,30,25,30,30,30,30,30,30,30,30,30,30,30,30,30,30]
["BMI (Body Mass Index)",32,22,30,25,31,28,26,21,23,26,27,27,24,20,20,22,23,20,23,24,23,26,27,29,25,26,19,25,21,27]
["Race","W","hispanic-w","Hispanic","W","A","A(south)","A","Middle eastern","W","W","M","B","B","W","W","W","A","A","W","W","M","B","H","B","B (M)","W","A+W","B+W","M","W"]
["Dist travelled"]
["ADHD","T","F","T","F","F","F","F","F","F","F","F","F","F","T","F","T","F","F","T","F","F","F","F","F","T","F","F","F","F","F"]
["On meds","T",null,"F",{"$nulls":12},"6 hr back",null,null,"22 hr back",{"$nulls":7},"F","F","f"]
["Smoker","F","F","T","F","F","F","F","F","F","F","F","F","F","T","F","T","F","F","T","F","F","F","F","T","F","F","F","F","f","F"]
["color blind","partial, also dyslexia",null,null,"F","F","F","F","F","F","F","F","F","F","F","F","F","F","F","F","F","F","F","F","F","T","F","F","F","f"]
["left handed","T","F","F","F","F","F","F","F","F","F","F","F","F","F","F","F","F","F","F","F","F","F","F","F","F","F","F","F","f"]
["menstruation",{"$nulls":16},"F","F","F",{"$nulls":5},"congenital degenerative back disorder: got more comfy chair next time recording",null,"F","F","f"]
["http://www.thecalculatorsite.com/health/bmicalculator.php"]
["% Change HR",{"$f":"(B133-B130)/B130*100","v":-2.857142857142857},{"$f":"(C133-C130)/C130*100","v":-18.947368421052634},{"$f":"(D133-D130)/D130*100","v":-2.9850746268656714},-11.363636363636363,-15.730337078651685,-2.5316455696202533,3,-25,-23.015873015873016,11.475409836065573,-3.7037037037037033,20.253164556962027,-13.253012048192772,1.1111111111111112,29.310344827586203,0,-7.462686567164178,-35.23809523809524,26.153846153846157,0,-19.767441860465116,-20,-6.451612903225806,-33.33333333333333,-38.55421686746988,1.2987012987012987,5.633802816901409,-11.627906976744185,-10.256410256410255,-2.4096385542168677]
["% Change BR",{"$f":"(B135-B132)/B132*100","v":0},{"$f":"(C135-C132)/C132*100","v":-10},{"$f":"(D135-D132)/D132*100","v":-6.666666666666667},-22.22222222222222,-12.5,0,0,0,-12.5,0,-8.333333333333332,-20,-7.142857142857142,0,37.5,0,50,-20,0,0,-40,20,20,10,0,-20,25,25,{"$error":"#DIV/0!"},0]
["TotalPreCongError%",{"$f":"2.5*AVERAGE(B46,B48, B50, B52,B54, B56, B58, B60, B62, B64)","v":2.5},{"$f":"2.5*AVERAGE(C46,C48, C50, C52,C54, C56, C58, C60, C62, C64)","v":2.5},0.625,0.625,0,1.25,1.875,0.625,0,0,0,1.875,1.875,0,0,0,0,0,0,1.25,0.625,0.625,0.625,0.625,0,0,0,1.875,4.375,2.5]
["TotalPostCongError%",{"$f":"2.5*AVERAGE(B66, B68, B70, B72, B74, B76, B78, B80, B82, B84)","v":0.625},{"$f":"2.5*AVERAGE(C66, C68, C70, C72, C74, C76, C78, C80, C82, C84)","v":1.25},2.5,0,0,0.625,1.25,1.25,0.625,1.25,0,1.875,0.625,0,0,0,0,0.625,1.25,1.25,0.625,1.875,0.625,3.125,0.625,0,0.625,3.75,3.125,0]
["Total PreIncongError%",{"$f":"2.5*AVERAGE(B47, B49, B51, B53, B55, B57, B59, B61, B63, B65)","v":15},{"$f":"2.5*AVERAGE(C47, C49, C51, C53, C55, C57, C59, C61, C63, C65)","v":3.125},5.625,6.25,8.125,8.75,3.125,9.375,1.25,2.5,10,26.25,34.375,1.25,2.5,8.125,5,8.75,4.375,13.125,16.25,7.5,10,13.125,13.125,9.375,3.125,3.75,23.75,5.625]
["Total PostIncong Error%",{"$f":"2.5*AVERAGE(B67, B69, B71, B73, B75, B77, B79, B81, B83, B85)","v":18.75},{"$f":"2.5*AVERAGE(C67, C69, C71, C73, C75, C77, C79, C81, C83, C85)","v":3.75},7.5,6.875,8.75,10.625,2.5,8.75,5,3.75,5,13.125,10.625,1.875,1.25,5,4.375,14.375,5,11.875,13.75,4.375,8.75,23.125,5.625,3.125,6.25,2.5,26.25,2.5]
["Avg-PreCongr (sec)",{"$f":"AVERAGE(B6,B8,B10,B12,B14,B16,B18,B20,B22,B24)","v":15.792300000000001},16.9224,14.019899999999998,19.6495,16.036,19.142900000000004,12.4022,17.317500000000003,16.969099999999997,13.137699999999999,15.012099999999998,15.379000000000001,18.6171,21.722399999999997,18.135799999999996,14.9518,16.8103,26.3037,16.212799999999998,15.653200000000002,15.965399999999999,16.1548,21.382299999999997,19.010200000000005,18.267899999999997,16.896499999999996,13.49,16.4743,22.276699999999998,21.0424]
["Avg-PreIncongr (sec)",{"$f":"AVERAGE(B7,B9,B11,B13,B15,B17,B19,B21,B23,B25)","v":35.572799999999994},29.648200000000003,28.493900000000004,34.026300000000006,24.3585,34.6102,34.6781,36.427,38.1077,30.7705,31.6972,37.881099999999996,41.886399999999995,29.5171,27.7524,42.4379,24.3432,36.4016,32.9362,36.4281,40.8898,35.288599999999995,33.0926,30.491000000000003,47.182,38.9822,24.621899999999997,26.904200000000003,35.605900000000005,33.88250000000001]
["Avg-PostCongr (sec)",{"$f":"AVERAGE(B26,B28,B30,B32,B34,B36,B38,B40,B42,B44)","v":14.1113},16.612599999999997,13.809999999999999,16.164299999999997,15.9054,16.274,11.719299999999999,16.4213,14.8389,13.285999999999998,13.400599999999997,14.1237,17.860699999999998,18.530900000000003,17.6523,14.0701,14.336099999999998,20.6017,14.0328,13.6863,13.429300000000001,13.562300000000002,20.576299999999996,16.8904,16.9958,15.819500000000001,12.829700000000003,15.623800000000003,23.3091,20.1264]
["Avg-PostIncongr (sec)",{"$f":"AVERAGE(B27,B29,B31,B33,B35,B37,B39,B41,B43,B45)","v":33.1789},28.069200000000002,26.6887,31.043,23.947899999999997,35.033699999999996,31.580900000000003,33.621300000000005,35.894000000000005,31.6663,28.961900000000004,33.86149999999999,39.684200000000004,25.9495,25.7055,38.77210000000001,22.156200000000002,33.7205,29.5422,31.869099999999996,32.240899999999996,30.01000000000001,31.8651,30.119600000000002,42.0249,34.1113,25.2368,26.288400000000003,34.326299999999996,32.23729999999999]
["%ChangeCongr (sec)",{"$f":"(B156-B154)/B154*100","v":-10.644427980724789},{"$f":"(C156-C154)/C154*100","v":-1.8307095920200607},{"$f":"(D156-D154)/D154*100","v":-1.497157611680535},-17.736838087483157,-0.8144175604889071,-14.986757492333988,-5.506281143668073,-5.175111881045207,-12.553405896600273,1.1288125014271828,-10.73467402961612,-8.162429286689653,-4.06293139103299,-14.69220712260153,-2.6659976400268857,-5.896948862344336,-14.718357197670496,-21.6775586704532,-13.446165992302367,-12.56548181841414,-15.884976261164754,-16.047861935771408,-3.769472881776053,-11.150855856329784,-6.963580926105345,-6.3741011452075576,-4.894736842105245,-5.162586574239857,4.634438673591703,-4.353115614188497]
["%ChangeIncongr (sec)",{"$f":"(B157-B155)/B155*100","v":-6.72957990374667},{"$f":"(C157-C155)/C155*100","v":-5.325787062958293},-6.335391083705644,-8.767629745226506,-1.685653878522907,1.2236277166846685,-8.931285162681915,-7.702253822713906,-5.809062210524371,2.9112299117661435,-8.629468848983493,-10.611096298681941,-5.257553764467681,-12.086553218303962,-7.375578328360794,-8.63803345594384,-8.984028393966273,-7.365335589644413,-10.304771042196727,-12.51506392043506,-21.151729771238802,-14.958371825462011,-3.70928848141275,-1.2180643468564536,-10.930227629180619,-12.495190112410278,2.497370227317966,-2.2888619620728363,-3.5937864230366565,-4.855603925330234]
["%ChangeCongruentError",{"$f":"B151-B150","v":-1.875},{"$f":"C151-C150","v":-1.25},1.875,-0.625,0,-0.625,-0.625,0.625,0.625,1.25,0,0,-1.25,0,0,0,0,0.625,1.25,0,0,1.25,0,2.5,0.625,0,0.625,1.875,-1.25,-2.5]
["%ChangeIncongError",{"$f":"B153-B152","v":3.75},{"$f":"C153-C152","v":0.625},1.875,0.625,0.625,1.875,-0.625,-0.625,3.75,1.25,-5,-13.125,-23.75,0.625,-1.25,-3.125,-0.625,5.625,0.625,-1.25,-2.5,-3.125,-1.25,10,-7.5,-6.25,3.125,-1.25,2.5,-3.125]

{"sheet":"transposed","index":3,"n_rows":74,"n_cols":128,"rows_kept":74}
["ID (reds lack HR data)","PreCongr1 Set1","PreIncongr1 Set1","PreCongr1 Set2","PreIncongr1 Set2","PreCongr2 Set1","PreIncongr2 Set1","PreCongr2 Set2","PreIncongr2 Set2","PreCongr3 Set1","PreIncongr3 Set1","PreCongr3 Set2","PreIncongr3 Set2","PreCongr4 Set1","PreIncongr4 Set1","PreCongr4 Set2","PreIncongr4 Set2","PreCongr5 Set1","PreIncongr5 Set1","PreCongr5 Set2","PreIncongr5 Set2","PostCongr1 Set1","PostIncongr1 Set1","PostCongr1 Set2","PostIncongr1 Set2","PostCongr2 Set1","PostIncongr2 Set1","PostCongr2 Set2","PostIncongr2 Set2","PostCongr3 Set1","PostIncongr3 Set1","PostCongr3 Set2","PostIncongr3 Set2","PostCongr4 Set1","PostIncongr4 Set1","PostCongr4 Set2","PostIncongr4 Set2","PostCongr5 Set1","PostIncongr5 Set1","PostCongr5 Set2","PostIncongr5 Set2","PreErrorC1 set 1","PreErrorI1 set 1","PreErrorC1 set 2","PreErrorI1 set 2","PreErrorC2 set 1","PreErrorI2 set 1","PreErrorC2 set 2","PreErrorI2 set 2","PreErrorC3 set 1 ","PreErrorI3 set 1 ","PreErrorC3 set 2","PreErrorI3 set 2","PreErrorC4 set 1","PreErrorI4 set 1","PreErrorC4 set 2","PreErrorI4 set 2","PreErrorC5 set 1","PreErrorI5 set 1","PreErrorC5 set 2","PreErrorI5 set 2","PostErrorC1 set 1","PostErrorII1 set 1","PostErrorC1 set 2 ","PostErrorII1 set 2 ","PostErrorC2 set 1","PostErrorI2 set 1","PostErrorC2 set 2 ","PostErrorI2 set 2 ","PostErrorC3 set 1","PostErrorI3 set 1","PostErrorC3 set 2 ","PostErrorI3 set 2 ","PostErrorC4 set 1 ","PostErrorI4 set 1 ","PostErrorC4 set 2 ","PostErrorI4 set 2 ","PostErrorC5 set 1","PostErrorI5 set 1","PostErrorC5 set 2 ","PostErrorI5 set 2 ","PreHRC1 set 1","PreHR I1 set 1","PreHRC1 set2","PreHR I1 set2","PreHR C2 set1","PreHR I2 set1","PreHR C2 set2","PreHR I2 set2","PreHR C3 set1","PreHR I3 set1","PreHR C3 set2","PreHR I3 set2","PreHR C4 set1","PreHR I4 set1","PreHR C4 set2","PreHR I4 set2","PreHR C5 set1","PreHR I5 set1","PreHR C5 set2","PreHR I5 set2","PostHR C1 set1","PostHR I1 set1","PostHR C1 set2","PostHR I1 set2","PostHR C2 set1","PostHR I2 set1","PostHR C2 set2","PostHR I2 set2","PostHR C3 set1","PostHR I3 set1","PostHR C3 set2","PostHR I3 set2","PostHR C4 set1","PostHR I4 set1","PostHR C4 set2","PostHR I4 set2","PostHR C5 set1","PostHR I5 set1","PostHR C5 set2","PostHR I5 set2","Gender","BMI","ADD","On meds","Time","Race","Age"]
["PM101",14.51,29.233,15.662,27.567,15.256,27.322,15.307,25.858,15.17,26.776,14.823,26.766,15.664,25.766,15.13,27.065,15.606,27.327,14.84,27.26,14.044,23.583,15.154,24.112,14.079,25.808,14.05,25.75,13.378,26.73,13.55,27.998,14.843,25.335,13.66,23.879,13.02,23.778,13.114,23.291,0,5,0,2.5,0,2.5,0,0,2.5,2.5,0,2.5,0,2.5,0,2.5,0,5,0,5,0,2.5,0,0,0,2.5,0,2.5,0,2.5,0,2.5,0,0,0,0,0,0,0,0,76,97,85,89,92,94,101,90,90,91,101,96,91,80,80,89,97,93,94,90,108,110,114,108,108,110,109,111,112,107,112,102,107,103,115,110,108,103,106,100,"M",23,"T","F","12.16pm","W",28]
["RK101",21.009,40.992,21.592,45.17,19.152,38.191,22.073,42.329,21.752,40.007,21.673,43.065,21.552,38.495,22.616,42.705,22.152,42.512,23.913,43.273,20.552,31.116,20.712,34.789,19.744,37.831,19.207,39.68,19.943,39.664,20.048,37.166,20.536,43.169,19.511,36.615,21.688,37.423,19.08,43.241,0,5,0,7.5,0,0,0,10,0,2.5,0,2.5,0,0,0,2.5,0,5,0,2.5,0,0,0,2.5,0,0,0,5,0,0,0,5,0,5,0,0,0,0,0,5,98,104,108,104,107,103,102,109,102,104,110,115,109,97,99,106,109,106,107,103,112,122,118,106,112,113,111,115,113,117,104,114,115,104,103,114,108,111,109,111,"F",21,"T","F","1.20 pm","A(Middle eastern)",19]
["HR101",21.719,35.279,16.264,32.191,17.167,32.327,17.84,31.703,16.871,30.886,17.056,29.43,16.928,33.527,16.335,30.447,16.591,31.311,16.856,31.094,19.265,33.575,16.624,29.415,17.047,28.279,13.136,30.327,13.488,29.135,14.327,30.207,13.64,29.088,14.287,30.679,14.207,33.248,19.359,28.679,0,2.5,0,0,0,2.5,0,0,0,0,0,0,0,5,0,0,0,5,0,0,0,7.5,0,2.5,0,2.5,0,5,0,0,0,0,0,2.5,0,2.5,0,0,0,0,87,88,85,85,87,81,85,83,87,84,89,84,83,82,84,84,83,83,91,83,92,94,90,92,92,92,92,87,86,86,87,88,86,87,82,81,85,81,87,84,"M",16,"T","F","2.30 pm","W",34]
["BH101",12.999,55.902,25.935,47.502,16.207,46.106,13.943,42.526,12.495,42.19,11.664,38.726,13.696,38.334,12.279,39.135,12.487,38.487,12.191,39.23,11.252,35.238,12.296,34.231,12.625,33.768,13.191,39.214,10.683,35.976,11.815,34.265,11.503,33.976,11.591,33.455,10.528,33.351,10.493,30.79,0,17.5,0,0,0,0,0,5,0,0,0,2.5,0,5,0,2.5,0,12.5,0,5,0,5,0,0,0,5,0,0,0,2.5,0,0,0,0,0,5,0,0,0,2.5,{"$nulls":40},"F",21,"T","T, on meds, 4 hr","12.20 pm","W",22]
["AA101",16.791,24.535,18.528,24.703,17.576,24.832,15.951,23.896,14.815,24.015,14.848,19.695,13.424,21.447,15.12,21.152,13.951,24.159,13.711,21.68,13.903,22.633,13.432,19.887,12.895,20.912,13.087,20.016,13.576,21.128,11.464,20.063,13.048,20.887,12.416,22.167,12.344,21.319,12.759,20.832,0,0,0,0,0,2.5,0,0,0,0,0,0,0,0,0,2.5,0,2.5,0,0,0,0,0,2.5,0,5,0,2.5,0,5,0,0,0,0,0,0,0,0,0,2.5,116,114,109,93,83,109,105,96,111,109,111,111,107,102,106,107,93,94,109,108,123,122,122,115,117,110,115,106,108,106,115,105,107,95,109,106,104,102,105,110,"F",20,"T","T, on meds","4.30 pm","biracial(w+a)",24]
["SN101",20.239,39.871,16.248,36.631,19.088,33.247,18.76,36.647,21.183,37.959,17.984,43.015,18.656,38.079,17.424,38.711,19.552,43.407,20.744,41.295,17.095,34.535,18.248,32.607,19.383,37.023,18.903,39.67,19.04,36.607,18.823,45.447,22.263,47.551,21.983,43.662,19.303,46.271,22.863,48.247,0,2.5,0,0,0,0,0,2.5,2.5,0,0,5,0,0,0,0,0,0,0,0,0,5,0,2.5,0,0,0,0,0,0,0,2.5,0,2.5,0,2.5,0,0,0,0,128,113,104,115,108,115,118,123,108,104,107,110,111,110,123,112,114,106,112,110,132,132,128,127,128,125,124,118,119,109,114,106,104,106,102,109,108,102,94,104,"F",20,"T","T, not on meds on day of exercise; takes Adderall","11.59am","W",19]
["DZ101",16.847,25.887,15.672,25.383,15.935,26.687,13.832,25.399,15.784,25.407,14.24,27.758,13.872,23.103,13.655,26.904,14.152,24.431,13.288,25.583,13.359,24.375,12.984,24.751,13.52,23.007,16.031,27.895,18.704,26.831,19.479,26.558,18.239,28.127,18.247,28.167,19.831,25.551,19.759,27.703,0,0,0,2.5,0,0,0,2.5,2.5,0,0,2.5,0,2.5,0,0,0,0,0,2.5,0,0,0,5,0,5,0,0,0,0,0,0,0,0,0,0,0,0,0,2.5,73,81,72,73,85,78,73,85,78,84,78,82,76,76,81,79,82,70,76,85,105,106,107,106,105,104,106,103,103,105,104,99,101,101,100,109,110,105,101,99,"M",20,"F","F","4.20 pm","W",23]
["ER101",10.661,27.502,12.717,23.902,12.656,22.639,10.991,27.335,10.432,23.056,9.151,20.631,9.496,21.167,9.535,20.823,10.184,20.823,9.087,21.151,9.704,20.479,9.991,18.92,10.656,21.687,10.431,20.935,10.455,22.727,10.136,22.375,10.64,20.095,9.992,23.391,10.559,22.951,10.496,22.647,0,2.5,0,2.5,0,5,0,0,0,2.5,0,0,0,0,0,0,0,0,0,2.5,0,0,0,0,0,0,0,5,0,0,0,2.5,0,0,0,2.5,0,0,0,0,70,73,70,70,70,70,74,75,72,69,69,74,76,77,77,77,77,66,65,64,64,70,73,77,73,74,71,71,72,73,74,75,73,73,73,69,65,67,68,68,"M",23,"F","f","2.20 pm","W",25]
["TN101",17.016,34.471,19.607,38.003,19.759,36.143,18.023,31.703,17.663,35.615,17.703,33.831,17.519,34.663,18.223,30.215,17.952,33.159,17.784,30.447,17.583,30.791,18.055,35.86,17.288,32.255,18.335,30.407,17.447,29.279,17.142,28.415,16.824,31.896,16.408,27.512,18.376,29.679,16.791,32.311,0,5,0,5,0,5,0,2.5,0,5,0,5,0,2.5,0,0,0,0,0,0,0,0,0,10,0,2.5,0,0,0,0,0,0,0,0,0,0,0,0,0,5,77,76,67,72,79,80,75,76,64,78,71,73,68,78,77,81,73,68,71,71,99,102,95,91,87,94,89,90,90,88,86,87,87,84,91,85,87,85,84,82,"F",21,"F","f","3.30 pm","A",19]
["EJ101",18.592,32.584,24.472,30.008,24.352,30.032,21.888,30.536,19.488,29.703,20.568,32.303,19.423,30.687,19.287,31.111,19.472,29.607,19.6,29.216,17.495,28.455,18.352,28.944,17.016,29.824,16.56,30.208,16.76,26.304,15.791,30.927,18.223,29.399,17.432,34.783,17.88,29.711,17.416,27.927,0,0,0,0,0,0,0,0,0,2.5,0,0,0,0,0,0,0,2.5,0,0,0,0,0,0,0,5,0,2.5,0,0,0,0,0,0,2.5,2.5,0,5,0,0,74,75,74,73,77,79,88,81,83,84,90,81,85,80,88,80,95,84,96,89,107,109,109,103,97,104,95,103,95,106,100,103,93,103,99,96,98,102,97,108,"F",27,"F","f","2.20 pm","W",22]
["DJ101",17.544,39.863,17.112,42.207,16.76,45.406,15.936,38.167,16.159,44.67,19.055,37.679,19.032,39.591,18.199,36.903,15.879,40.007,17.032,37.575,15.664,39.183,18.816,36.976,17.527,38.879,16.16,43.359,16.176,39.158,19.607,36.495,16.504,39.767,16.871,38.375,17.232,4.775,18.007,43.543,0,7.5,2.5,5,2.5,5,0,0,0,2.5,0,0,0,0,0,0,2.5,2.5,0,0,0,0,0,0,0,5,0,2.5,0,0,2.5,2.5,0,2.5,0,0,0,5,0,0,84,87,75,89,86,90,81,85,78,83,74,74,76,75,74,76,76,81,74,80,106,95,101,101,103,96,105,99,103,100,88,100,105,96,101,97,98,93,83,91,"M",25,"F","f","1:00 PM","W",24]
["KM101",17.8,37.071,18.831,42.031,17.496,46.398,18.112,41.198,16.351,48.487,17.655,40.911,15.824,38.991,18.519,41.543,17.44,43.351,17.383,40.375,15.84,39.254,16.608,38.71,17.528,40.031,19.512,46.967,14.568,41.094,16.711,50.719,18.479,41.879,18.272,45.238,17.079,43.111,15.664,37.103,0,0,0,2.5,0,0,2.5,0,0,7.5,0,0,0,0,0,0,0,0,2.5,0,0,2.5,0,2.5,0,0,0,5,0,0,0,0,0,0,2.5,0,0,2.5,0,0,103,103,111,112,113,117,111,110,112,130,118,112,111,111,113,99,100,111,107,109,114,113,120,120,114,120,115,111,122,108,117,110,118,114,109,110,111,112,111,109,"F",17,"T","T, on meds but not today","2:00 PM","W",20]
["JC102",14.544,26.616,15.678,29.255,15.608,27.599,15.378,29.4,15.143,26.999,15.032,26.567,14.615,25.855,14.623,26.895,16.623,26.192,15.495,29.335,15.768,24.327,14.4,25.855,13.16,26.663,13.977,25.184,14.031,26.183,14.063,25.088,13.027,24.127,15.568,24.551,13.728,23.735,14.927,28.608,0,0,0,2.5,0,2.5,0,0,0,0,0,0,0,0,0,0,0,0,0,0,0,0,0,0,0,0,0,0,0,0,0,0,2.5,0,0,0,0,0,0,2.5,86,15,84,84,74,78,82,83,86,82,86,83,80,79,77,82,76,79,81,74,86,81,81,85,84,82,81,85,79,87,82,85,81,80,80,78,78,79,85,75,"M",29,"F","F","12 noon","W",24]
["DP101",22.815,41.032,25.077,45.134,23.6,45.632,23.608,43.021,25.049,39.609,21.088,39.798,24.29,43.686,21.441,45.6,20.608,40.688,24.872,54.384,21.033,44.665,20.752,48.966,23.272,46.409,19.04,45.946,21.702,41.88,27.102,41.688,19.121,42.064,20.383,44.406,22.138,43.266,18.518,44.913,0,0,0,0,0,0,0,0,2.5,0,0,0,2.5,5,0,0,0,2.5,0,0,0,0,0,2.5,0,0,0,0,0,0,7.5,0,0,0,0,0,0,2.5,0,2.5,70,73,72,67,67,69,67,67,65,66,68,62,64,63,61,65,72,70,62,67,78,77,72,74,74,74,76,76,68,71,64,75,71,75,74,74,73,73,71,68,"F",28,"T","F, no meds, WPW wolff parkinson white","11.30 pm","W",33]
["JF101",15.368,31.433,17.897,32.164,15.937,32.624,14.91,31.284,13.626,33.528,13.647,34.456,13.6,30.185,12.44,33.95,12.544,27.111,12.057,29.208,12.319,24.576,12.631,27.609,13.488,25.961,13.024,29.67,13.545,28.078,13.454,28.625,13.336,28.144,13.208,28.016,14.479,27.618,13.038,28.257,0,0,0,0,0,0,0,2.5,0,2.5,0,0,0,0,0,0,0,0,0,5,0,0,0,2.5,0,0,0,5,0,0,0,2.5,0,2.5,0,0,2.5,0,0,2.5,74,66,70,68,68,66,70,68,77,71,72,72,68,70,71,68,69,74,73,69,91,90,89,88,85,85,86,81,81,88,83,83,80,82,80,82,82,84,83,81,"M",30,"T","F","1.30 pm","Hispanic",31]
["CN101",18.388,40.983,18.172,36.182,17.328,34.927,15.471,37.944,14.967,36.095,15.008,33.463,14.063,38.983,14.168,35.303,14.336,34.815,15.312,35.775,14.767,29.487,15.368,33.343,14.104,29.423,12.376,30.959,13.207,30.655,12.696,29.815,13.592,27.839,13.216,30.279,12.199,30.095,12.896,27.487,0,5,0,2.5,0,5,0,2.5,0,7.5,0,0,0,7.5,0,5,0,2.5,0,2.5,0,2.5,0,5,0,0,0,5,0,5,0,5,0,0,0,0,0,0,0,0,96,84,86,95,93,88,91,88,92,95,93,85,96,83,95,87,87,89,91,89,112,122,123,115,122,115,120,111,118,114,116,111,106,113,110,110,105,109,110,114,"F",32,"T","T,on meds not today","2:00 PM","W",26]
["DD101",14.815,46.783,15.323,48.185,15.096,43.311,14.631,43.68,14.218,42.307,14.014,42.931,14.311,45.175,14.144,39.083,13.626,42.496,13.672,40.672,14.915,34.887,13.564,34.872,13.32,34.168,12.456,35.609,13.072,34.543,12.601,37.048,13.916,38.18,13.75,33.456,12.912,33.422,12.737,36.73,0,2.5,0,0,0,2.5,0,5,0,5,0,0,0,2.5,0,0,0,7.5,0,2.5,0,2.5,0,0,0,0,0,2.5,0,2.5,0,0,0,0,0,2.5,0,2.5,0,2.5,68,68,64,73,84,73,66,74,74,74,82,77,74,72,77,79,83,77,82,79,91,89,87,86,93,90,93,87,85,83,93,90,83,79,93,81,90,82,84,81,"M",23,"T","T,on addorall, 4 hrs after meds","7:00 PM","W",29]
["MR101",19.638,33.256,21.359,32.968,18.296,38.136,19.76,32.009,19.031,37.136,17.648,31.854,17.76,30.456,17.152,32.218,16.567,31.583,17.48,30.417,19.257,27.601,16.937,25.376,16.816,29.512,16.808,32.36,15.928,28.36,15.879,29.728,16.271,29.278,15.449,27.935,15.543,26.84,15.153,26.071,0,0,0,0,0,0,0,2.5,0,2.5,0,0,0,0,0,2.5,0,0,0,0,0,2.5,0,0,0,5,0,5,0,5,0,5,0,5,0,0,0,0,0,2.5,93,84,80,88,77,92,77,89,75,90,79,84,84,86,89,79,80,81,80,87,95,90,98,96,89,95,87,89,93,89,92,91,82,92,85,89,88,94,88,93,"F",22,"F","F","1:00 PM","hispanic-w",28]
["AMP101",21.96,44.309,27.656,46.976,22.471,45.847,21.112,43.808,21.76,45.313,19.671,40.696,20.056,37.848,18.761,42.783,19.071,41.72,18.056,37.463,17.745,45.721,17.888,35.878,18.854,40.458,18.384,37.034,16.986,38.888,17.282,35.749,18.016,39.264,17.664,35.112,17.591,38.614,18.064,34.704,0,0,0,2.5,0,2.5,0,0,0,0,0,0,0,0,0,0,0,0,0,2.5,0,10,0,0,0,5,0,0,0,0,0,0,0,0,0,2.5,0,2.5,0,2.5,96,89,91,86,90,90,91,89,89,88,92,89,91,92,93,88,91,89,93,84,100,96,96,99,106,96,90,101,101,99,96,98,97,101,100,100,85,100,95,97,"F",22,"F","F","4:00 PM","W",49]
["GS101",13.753,41.631,14.744,44.247,14.879,44.583,13.76,39.079,14.46,42.334,14.512,46.347,14.048,36.68,13.087,37.32,14.017,30.944,13.663,32.847,12.92,33.536,13.608,41.342,13.287,36.129,14.257,35.738,12.631,33.816,13.607,34.856,13.385,38.96,12.799,37.185,12.864,33.4,13.568,34.32,0,2.5,0,0,0,2.5,0,0,0,0,0,5,0,2.5,0,0,0,0,0,0,0,2.5,0,0,0,0,0,2.5,0,0,0,0,0,0,0,2.5,0,0,0,0,124,121,123,121,121,123,126,119,117,115,118,113,122,110,117,106,121,111,122,112,125,122,118,120,122,119,121,118,122,119,113,119,115,120,119,113,124,112,110,110,"F",25,"F","F","12 noon","A(India)",27]
["OA101",19.088,59.49,19.696,60.527,20.527,50.617,18.591,63.519,19.784,53.52,18.711,59.808,18.04,52.759,18.367,44.225,20.512,46.143,17.68,51.188,18.944,52.577,17.904,44.002,17.8,39.841,18.615,42.92,18.934,42.528,17.185,40.392,18.552,45.8,17.896,39.745,18.2,43.553,16.607,34.07,0,2.5,0,0,0,0,0,0,0,0,0,2.5,0,2.5,0,0,0,5,0,2.5,0,0,0,0,0,0,0,0,0,0,0,0,0,0,0,2.5,0,0,0,0,69,70,66,74,70,69,67,77,63,71,63,74,64,66,70,72,65,67,70,71,102,96,97,97,90,100,95,96,94,96,95,92,98,87,92,92,83,96,96,91,"M",25,"F","F","1.30 pm","B",30]
["MT101",42.32,50.699,36.319,40.304,37.936,39.737,35.464,36.823,35.04,31.512,25.137,31.224,30.184,29.839,25.223,26.848,25.081,27.209,23.68,30.696,27.149,30.576,24.221,26.8,23,33.16,20.928,25.448,21.839,26.64,22.608,24.048,21.72,26.489,20.967,26.402,21.087,27.302,21.528,25.88,0,2.5,0,2.5,0,0,0,2.5,0,0,0,0,0,0,0,2.5,0,0,0,0,0,0,0,2.5,0,0,0,0,0,0,0,0,0,2.5,0,0,0,0,0,2.5,88,83,85,86,87,84,86,85,81,89,85,87,94,78,83,91,89,92,88,82,109,107,109,106,105,104,106,107,107,100,105,103,108,100,105,102,99,94,106,103,"F",22,"F","F","8.00 am","south asian",24]
["JB101",18.175,36.687,18.615,35.63,19.775,32.495,17.504,31.878,18.12,33.599,17.344,31.342,16.392,31.694,16.44,32.102,17.255,29.703,16.831,30.703,15.896,29.151,16.28,30.83,18.663,29.303,16.287,29.223,15.599,30.567,17.16,28.622,17.72,27.423,15.671,26.695,15.696,27.463,15.568,32.295,0,5,5,5,0,0,0,0,2.5,0,0,2.5,0,2.5,0,0,2.5,0,0,0,0,2.5,0,5,0,0,0,0,0,2.5,0,0,0,0,0,0,0,0,0,5,118,106,105,100,96,85,110,106,109,90,90,100,99,97,99,92,100,97,104,102,123,111,113,108,109,113,118,109,108,107,106,114,107,113,111,109,107,106,110,98,"F",24,"F","F","11am","A",20]
["ZP101",27.447,29.974,27.663,30.631,27.831,30.847,25.934,31.166,25.536,28.799,26.087,33.495,27.135,28.879,28.487,27.791,26.687,29.783,26.183,28.312,24.247,24.431,22.767,26.039,24.695,25.005,24.367,27.303,23.887,26.375,24.415,25.527,23.015,28.975,25.383,25.447,20.815,23.959,19.335,27.047,0,0,2.5,2.5,0,0,0,2.5,0,0,0,0,0,0,0,0,0,5,0,0,0,0,0,0,0,2.5,0,0,0,0,0,0,0,2.5,0,0,0,0,0,2.5,107,111,103,121,98,95,94,111,95,93,115,109,105,99,102,92,95,106,113,115,130,131,129,130,128,115,128,123,121,111,118,124,128,124,125,124,121,111,121,122,"F",19,"F","F","2pm","W",20]
["LT101",36.336,35.177,31.529,33.888,27.776,31.296,22.208,27.72,20.584,25.465,19.127,26.544,19.08,25.336,17.632,25.872,17.449,25.136,16.048,22.792,14.262,23.568,15.344,22.142,14.945,22.554,13.799,21.304,12.918,23.167,14.511,23.025,13.712,25.447,14.751,24.27,13.458,24.616,13.128,22.952,0,0,0,5,0,7.5,0,0,0,0,0,0,0,0,0,2.5,0,0,0,0,0,7.5,0,2.5,0,2.5,0,0,0,0,0,5,0,5,0,7.5,0,2.5,0,2.5,89,90,82,88,89,93,79,97,89,101,101,101,86,94,87,97,83,90,88,96,115,103,107,104,113,111,103,112,106,101,96,103,98,100,92,99,102,95,92,104,"F",22,"F","F","2pm","A",20]
["IOD101",21.904,35.248,23.88,33.858,22.904,34.728,20.088,31.905,21.584,34.777,21.192,34.504,20.152,35.224,20.48,35.704,21.432,34,19.048,34.336,21.066,31.33,19.233,32.728,20.624,35.72,19.2,36.296,19.76,32.448,17.272,33.2,20.214,35.456,18.519,34.624,18.424,38.881,17.84,39.105,0,0,0,0,0,0,0,0,0,5,0,5,0,5,0,5,0,0,0,0,0,0,0,0,0,0,0,5,0,0,0,7.5,0,5,0,2.5,0,2.5,0,5,94,87,86,98,89,91,97,95,89,95,97,94,89,100,92,88,87,90,94,90,106,107,105,96,102,105,97,100,104,100,98,97,104,102,100,100,97,96,97,93,"F",19,"F","F","9am","Hispanic",19]
["IF101",17.999,39.066,19.822,38.209,17.487,35.288,17.472,39.864,17.697,39.92,15.336,30.64,16.095,41.865,16.96,30.342,17.576,42.255,17.776,37.299,16.455,29.056,15.968,28.896,16.042,31.506,15.713,28.137,14.579,28.769,15.367,30.36,16.256,28.058,15.288,26.419,16.936,33.061,16.04,32.408,0,2.5,0,0,0,2.5,0,5,0,0,0,0,0,2.5,0,0,0,0,0,5,0,0,0,0,0,2.5,0,0,0,2.5,0,0,0,0,0,0,0,0,0,0,86,93,89,94,81,88,90,88,90,94,92,86,90,88,88,87,88,90,96,85,100,107,108,103,103,104,101,98,99,99,99,100,94,100,100,101,97,88,97,94,"F",19.53,"F","F","12.25am","W",20]
["OB101",30.568,34.105,25.288,33.247,24.064,36.544,25.873,34.456,25.217,32.928,26.648,35.831,24.504,32.167,24.687,32.816,23.968,33.793,24.992,29.208,27.624,31.28,24.896,34.4,22.312,39.527,19.383,30.369,20.832,33.159,20.232,31.984,24.337,40.248,19.895,42.424,20.696,36.48,19.535,31.304,0,0,0,0,0,0,0,0,0,0,0,0,0,0,0,0,0,0,0,0,0,0,0,0,0,0,0,0,0,0,0,0,0,5,0,0,0,0,0,0,100,92,95,97,99,96,99,92,101,102,101,96,98,103,106,99,103,100,103,99,109,106,104,103,104,106,107,102,105,98,106,97,103,102,106,104,105,101,102,99,"F",30.26,"F","F","10.30am","B",19]
["DY101",22.359,33.112,19.992,35.071,22.281,31.993,22.273,33.216,22.183,36.096,22.84,38.935,22.321,34.848,22.784,31.473,21.135,36.84,20.686,31.926,18.575,32.241,18.536,30.455,18.256,34.8,16.935,32.943,16.673,35.336,16.537,37.128,17.943,35.912,17.103,31.633,15.28,32.375,14.711,33.455,0,0,0,2.5,0,0,0,0,0,0,0,2.5,0,0,0,0,0,2.5,0,0,0,2.5,0,0,0,2.5,0,0,0,5,0,0,0,0,0,2.5,0,0,0,0,86,95,96,102,90,100,85,89,90,94,92,89,92,93,99,91,92,99,91,97,89,96,101,98,99,82,91,99,100,95,92,84,82,92,98,91,91,98,100,99,"F",25.6,"F","F","11am","Hispanic",22]
["IH101",16.382,38.904,18.852,31.672,16.848,33.056,16.057,30.024,15.546,30.48,15.863,30.176,17.443,32.944,16.536,30.784,15.528,35.016,15.24,29.656,15.183,26.864,15.335,26.247,15.736,27.512,14.728,28.056,13.84,29.48,17.056,25.032,13.84,26.616,14.112,33.024,14.032,34.184,14.84,31.872,0,7.5,0,2.5,0,2.5,0,5,0,0,0,2.5,0,0,0,5,0,2.5,0,5,0,0,0,0,0,0,0,2.5,0,5,0,0,0,2.5,0,7.5,0,7.5,0,5,88,89,88,98,95,87,87,86,88,90,82,86,77,77,91,78,80,87,88,79,120,119,120,120,123,111,119,118,110,111,102,115,108,111,109,109,106,105,113,106,"F",21,"F","F","2.45pm","A",20]
["CJ101",21.804,30.704,20.85,30.92,18.439,30.272,20.435,30.512,16.442,34.126,16.785,30.77,13.609,33.327,12.887,31.713,14.216,29.945,17.6,31.481,13.921,23.271,14.864,26.85,16.897,33.665,15.616,33.343,14.4,31.664,16.032,26.417,16.032,33.8,13.656,31.216,13.999,30.36,13.816,29.8,0,0,0,0,0,0,0,0,0,5,0,0,0,5,0,2.5,0,0,0,0,0,0,0,0,0,5,0,2.5,0,5,0,0,2.5,2.5,0,2.5,0,2.5,0,0,110,116,109,107,100,112,103,91,104,89,105,100,107,108,99,111,110,95,101,93,130,126,124,120,124,122,122,118,116,112,117,103,103,118,121,111,120,118,99,114,"M",26.78,"F","F","10am","W",17]
["AK101",22.944,23.313,20.456,25.968,18.4,25.265,18.59,23.762,18.45,26.993,16.522,24.199,16.305,24.936,15.432,25.17,16.184,22.703,15.376,24.016,16.376,21.993,14.777,26.929,14.688,19.91,14.81,18.656,14.223,20.664,12.753,20.408,13.808,23.578,13.401,23.295,13.432,21.752,12.529,20.137,0,0,0,0,0,0,0,0,0,0,0,0,0,0,0,0,0,0,0,0,0,0,0,2.5,0,0,0,0,0,0,0,0,0,2.5,0,0,0,0,0,0,91,95,94,80,79,79,86,93,72,86,93,98,98,98,98,90,83,83,83,83,101,82,88,90,88,88,98,86,90,90,90,90,90,90,90,90,82,85,85,85,"F",21.97,"F","F","11.23am","W",22]
["AI101",28.658,38.071,23.7,38.64,23.913,33.281,22.194,37.753,19.961,38.168,19.137,34.559,19.449,33.344,17.816,32.649,18.593,35.359,16.401,31.087,19.246,31.416,16.736,28.7,16.728,28.825,16.61,33.714,17.314,31.144,15.76,35.648,16.576,32.496,14.92,32.04,14.425,30.385,14.969,29.832,0,0,0,0,0,0,0,2.5,0,2.5,0,0,0,0,0,0,0,0,0,0,0,0,0,0,0,0,0,0,0,0,0,0,0,0,0,0,0,0,0,0,92,104,102,96,92,97,101,95,96,97,102,94,94,97,85,94,99,97,90,93,98,96,92,98,95,100,94,107,94,97,93,90,97,85,93,93,93,98,95,89,"F",19,"F","F","3.24pm","W",22]
["AP102",15.729,32.391,20.443,32.159,19.159,32.538,19,35.568,17.816,34.4,17.41,46.962,17.414,36.806,18.864,35.496,18.945,34.89,19.61,34.505,16.695,32.047,17.144,32.632,17.039,29.992,16.047,32.207,16.522,29.393,16.847,35.065,17.022,33.32,16.735,30.32,19.807,30.425,18.848,31.424,0,5,0,0,0,0,0,0,2.5,0,0,5,0,0,0,2.5,0,0,0,0,0,5,0,2.5,0,0,0,0,0,0,0,5,5,0,0,0,0,0,0,0,88,86,90,92,84,88,91,90,90,87,83,84,79,87,84,82,88,79,86,89,109,97,105,101,105,99,104,97,97,98,95,91,91,97,96,96,88,89,92,92,"F",22,"F","F","3.00pm","A",19]
["DI101",23.379,56.934,28.412,30.442,27.433,45.113,25.617,40.84,25.728,40.536,22.792,37.367,21.976,41.353,21.4,38.799,23.368,37.416,20.833,33.496,20.009,36.76,21.303,33.169,21.128,36.545,19.816,36.169,21.097,41.856,21.866,36.352,21.129,38.16,22.002,32.961,21.137,38.529,24.872,36.024,0,17.5,0,2.5,0,0,0,2.5,0,0,0,0,0,0,0,2.5,0,2.5,0,0,0,2.5,0,0,0,0,0,2.5,0,2.5,0,2.5,0,5,0,0,0,0,2.5,0,71,74,77,82,62,86,70,76,71,84,71,66,71,73,76,74,79,71,73,82,101,94,97,93,93,102,104,94,101,91,89,93,96,83,94,88,89,90,93,78,"F",23,"T","F","10.30am","W",21]
["AA102",18.305,34.625,22.735,35.799,22.472,30.232,20.407,33.417,21.423,28.513,20.232,36.513,23.489,32.007,19.776,35.88,21.049,32.255,19.991,27.103,18.948,24.431,18.14,30.767,18.792,30.783,16.81,30.584,19.16,29.046,18.208,26.535,18.839,29,19.417,26.759,17.696,32.497,18.175,34.849,0,12.5,0,10,0,5,0,7.5,0,7.5,2.5,10,0,10,0,10,0,2.5,0,2.5,2.5,10,2.5,5,0,10,2.5,7.5,0,7.5,2.5,2.5,2.5,2.5,2.5,2.5,0,5,2.5,10,95,92,78,89,85,92,81,84,79,86,79,75,76,78,79,81,75,74,74,90,107,106,106,98,99,98,95,97,100,96,97,100,96,100,94,98,97,93,89,92,"F",21,"F","F","3pm","M",23]
["JS102",20.687,28.336,15.409,30.072,19.113,27.208,16.544,31.16,15.48,27.196,15.936,26.168,17.216,28.024,15.408,32.232,17.504,27.528,18.656,28.216,15.444,34.096,18.788,28.576,17.015,31.361,17.12,29.025,16.409,25.65,15.145,25.769,17.793,29.217,17.881,25.088,12.968,27.024,13.144,29.727,0,0,0,0,0,0,0,2.5,0,0,0,0,0,0,0,0,0,2.5,0,2.5,0,5,0,0,0,0,0,0,0,0,0,2.5,0,2.5,0,0,0,2.5,0,5,71,85,59,68,82,70,67,73,78,72,84,75,63,71,60,65,60,68,61,70,74,73,74,70,73,75,73,77,73,74,77,66,73,64,75,79,81,82,80,74,"M",20,"F","F","11.30am","W",23]
["TB101",17.175,30.359,16.824,28.19,16.664,27.375,17.544,27.567,15.991,28.575,16.767,28.191,16.855,25.808,16.935,25.017,17.272,26.768,15.111,27.624,17.16,22.751,16.74,25.279,14.704,21.823,14.832,23.912,14.999,24.559,14.839,23.904,14.68,24.783,15.551,22.888,13.935,23.664,14.327,25.367,0,0,0,5,0,0,0,0,0,0,0,2.5,0,2.5,0,2.5,0,2.5,0,2.5,0,0,0,0,0,0,0,0,0,5,0,0,0,0,0,5,0,5,0,0,90,93,95,87,90,88,92,91,93,89,87,85,93,87,86,85,94,85,86,85,92,93,93,91,92,92,91,94,88,91,93,92,88,91,95,90,92,92,90,94,"F",31,"F","F","3.16pm","A",23]
["JP101",15.264,31.762,15.848,28.569,15.203,29.204,14.871,27.593,14.424,26.425,14.209,29.615,13.064,29,13.417,27.464,14.033,29.376,12.767,29.552,13.28,24.896,13.007,23.297,12.175,25.216,13.048,24.838,11.632,22.529,11.878,24.488,12.16,23.32,11.505,23.468,11.508,24.601,11.269,29.849,0,0,0,0,0,2.5,0,0,0,0,0,2.5,0,2.5,0,2.5,0,0,0,2.5,0,0,0,0,0,0,0,0,0,0,0,0,0,0,0,0,0,0,0,2.5,99,99,98,99,99,99,98,96,98,99,98,98,97,96,97,97,96,98,98,97,98,99,99,99,98,98,99,98,98,98,98,98,98,98,97,98,98,98,97,98,"F",37,"F","F","4.41pm",null,21]
["EF101",17.987,38.706,20.104,37.713,18.416,35.28,17.944,35.033,19.424,37.841,17.336,36.552,18.042,38.786,18.2,38.089,18.109,37.266,18.72,36.009,17.448,30.571,15.839,29.383,17.058,34.401,16.527,32.729,17.505,32.368,18.346,32.018,18.163,31.201,16.795,31.758,17.264,33.744,15.295,29.849,0,0,0,2.5,0,0,0,0,0,2.5,0,0,2.5,0,0,0,0,2.5,0,0,0,2.5,0,0,0,2.5,0,2.5,0,2.5,0,0,0,0,0,0,0,0,0,0,54,54,54,93,101,100,101,105,106,97,111,112,106,109,107,104,111,103,109,105,137,139,135,141,132,137,128,124,129,127,127,132,126,130,124,135,120,125,127,135,"F",29,"F","F","4.30pm","W",21]
["JD101",26.719,37.146,28.344,35.68,28.214,38.631,27.526,37.68,26.546,35.56,28.801,36.617,28.535,34.546,27.469,37.216,27.304,35.329,25.864,34.185,24.263,32.633,23.416,31.576,24.44,34.073,23.336,34.046,25.762,32.224,23.96,32.248,23.624,33.641,23.625,32.217,21.881,31.385,22.713,33.976,0,0,0,2.5,0,2.5,0,5,0,2.5,0,2.5,0,5,0,5,0,5,0,7.5,0,2.5,0,2.5,0,2.5,0,7.5,0,5,0,7.5,0,5,0,2.5,0,0,0,5,90,88,79,74,79,91,69,76,67,76,82,76,77,75,71,84,78,73,69,76,75,77,83,76,71,77,76,72,64,72,70,72,70,72,76,81,71,82,67,77,"M",28,"T","F","2.40pm",null,26]
["SR101",15.832,30.488,17.296,26.513,14.736,28.017,14.736,28.688,13.72,29.44,13.72,26.669,14.646,24.605,13.648,23.928,13.267,26.001,14.273,22.688,14.713,22.68,14.52,24.006,13.528,24.064,12.864,22.593,13.266,23.704,12.912,21.2,12.472,25.305,11.889,22.688,13.104,23.505,12.032,22.912,0,5,0,0,0,0,0,5,0,2.5,0,0,0,0,0,0,0,2.5,0,0,0,2.5,0,0,0,2.5,0,0,0,0,0,0,0,2.5,0,2.5,0,2.5,0,0,{"$nulls":40},"F",23,"F","F","3.40pm",null,20]
["NV101",19.416,23.72,18.318,27.657,17.863,23.782,16.832,24.248,18.001,23.495,16.772,23.552,18.249,23.328,17.504,23.144,16.206,22.426,16.201,26.529,16.896,22.41,16.481,23.297,16.152,21.832,16.376,20.383,15.765,22.508,15.504,28,16.405,23.145,15.993,20.288,15.361,21.239,15.215,19.952,0,0,0,0,0,0,0,0,0,0,0,0,0,0,0,0,0,0,0,5,0,0,0,0,0,0,0,0,0,2.5,0,2.5,0,0,0,0,0,0,0,0,{"$nulls":40},"F",24,"F","F","9.44am",null,21]
["DS101",13.672,29.565,13.152,32.092,13.672,32.185,11.512,31.808,11.395,30.599,11.4,30.977,12.2,26.488,10.944,28.665,11.993,29.944,10.912,27.289,12.752,22.808,11.848,22.416,12.056,29.146,12.12,25.384,11.088,25.048,10.5,28.385,11.744,25.584,10.512,26.552,10.582,28.249,10.568,26.544,0,0,0,0,0,0,0,0,0,2.5,0,2.5,0,0,0,0,0,0,0,2.5,0,0,0,0,0,5,0,5,0,0,0,0,0,0,0,2.5,0,2.5,0,0,83,76,68,71,70,66,63,73,75,70,65,66,67,66,82,70,75,69,75,68,97,110,102,107,109,95,92,90,99,95,100,83,87,91,98,97,97,89,86,104,"F",18,"F","F","1.31pm","A",18]
["DT101",23.112,63.977,24.568,84.545,{"v":24.864,"d":"25"},67.033,27.056,125.57,17.145,85.913,31.832,120.747,27.441,108.666,28.449,102.251,31.576,91.466,24.84,112.722,18.896,77.042,18.128,58.041,15.152,63.097,15.368,58.377,13.92,70.121,16.192,78.217,14.271,62.713,15.233,68.465,16.456,80.673,18.217,82.609,0,7.5,0,7.5,0,0,0,12.5,0,7.5,0,12.5,0,10,0,10,0,12.5,0,7.5,0,7.5,0,7.5,0,5,0,2.5,0,5,0,5,2.5,2.5,0,7.5,0,12.5,0,37.5,77,77,76,76,72,80,73,80,74,80,87,75,77,87,74,74,79,81,73,81,101,96,99,97,98,98,97,96,99,102,99,92,99,100,94,96,100,95,96,95,"M",25,"T","F, sleep deprivation ADD","11.11am","A",24]
["LB101",19.312,33.077,24.025,35.257,17.936,32.089,19.649,33.505,19.8,35.897,20.785,36.433,17.273,31.753,17.08,33.969,16.352,30.52,18.336,29.624,18.106,33.521,16.332,30.952,19.273,36.168,18.008,27.672,17.072,32.592,17.383,36.299,16.544,37.049,15.497,33.705,17.48,34.145,16.183,38.481,0,2.5,0,5,0,5,0,5,0,2.5,0,2.5,0,0,0,0,0,0,0,0,0,5,0,0,0,0,0,0,0,0,0,0,0,0,0,5,0,0,0,0,76,81,77,78,82,80,73,71,76,78,82,75,77,79,78,87,75,81,73,75,96,90,92,85,89,88,86,83,88,89,84,84,77,89,86,83,85,85,86,75,"M",24,"F","F, sleep deprivbfion BDD","4.44pm","B",22]
["FA101",23.736,39,24.664,35.808,19.27,41.985,18.151,42.344,18.848,40.696,19.329,47.213,19.88,39.592,17.352,33.272,18.768,43.649,17.537,51.665,18.024,34.753,16.327,33.816,18,37.729,19.28,38.873,18.303,41.248,17.432,43.985,19.024,45.097,18.953,40.817,18.728,39.696,18.096,37.64,0,0,0,2.5,0,7.5,0,0,0,2.5,0,2.5,0,2.5,0,0,0,0,0,0,0,0,0,0,0,0,0,5,0,5,0,0,0,5,0,5,0,5,0,0,95,94,97,93,99,94,91,95,95,96,89,98,87,77,89,87,90,95,90,89,101,96,101,101,98,107,108,100,105,99,96,97,98,100,103,98,102,102,97,97,"M",20,"F","F","4.21pm","W",25]
["KP101",21.76,33.368,23.223,31.624,22.4,32.089,20.336,33.736,20.248,28.617,19.801,28.68,19.072,29.416,18.392,28.161,20.568,32.176,17.653,30.345,17.456,23.841,16.508,24.712,17.104,36.649,17.312,25.705,17.128,24.856,16.361,28.977,16.728,26.139,15.953,27.097,17.984,29.64,17.705,27.817,0,5,0,2.5,0,0,0,7.5,0,0,0,0,0,0,0,0,0,0,0,0,0,0,0,5,0,10,0,0,0,0,0,2.5,0,0,0,2.5,0,0,0,0,82,102,77,81,80,93,80,96,74,100,80,88,79,89,79,79,83,78,81,93,118,110,111,112,109,109,111,114,113,112,115,113,102,110,111,112,107,116,111,113,"M",24,"F","f","12.25pm","A",20]
["MD101",56.805,48.841,29.784,45.201,28.377,41.287,22.609,44.704,28.368,43.392,27.496,51.865,31.328,44.897,26.409,36.241,25.504,36.984,25.784,33.954,25.08,38.352,25.057,34.616,23.65,33.92,24.52,36.305,23.745,39.457,27.977,35.504,25.896,34.377,24.456,35.113,22.544,33.456,22.88,33.356,0,0,0,5,0,0,0,0,2.5,0,2.5,0,5,0,0,0,0,0,0,0,0,0,0,0,0,0,0,0,0,2.5,0,0,0,0,0,0,0,0,0,2.5,90,72,71,71,68,72,76,69,76,71,79,84,82,80,80,69,77,76,81,80,82,74,73,75,75,69,68,75,72,71,62,67,67,64,75,71,74,58,71,66,"M ",29,"F","f","6.12pm","ME",22]
["IG101",18.232,36.295,20.305,34.656,16.88,31.448,17.544,45.045,17.649,31.904,16.776,31.305,17.304,32.851,17.325,36.056,17.256,29.881,17.136,31.96,14.285,32.512,15.304,25.857,15.784,35.76,15.816,30.689,15.28,28.592,15.15,27.979,15.56,33.616,14.19,27.272,15.032,30.784,16.424,32.529,0,10,0,5,0,2.5,0,7.5,0,0,0,2.5,0,5,0,2.5,0,0,0,0,0,7.5,0,2.5,0,7.5,0,0,0,2.5,0,0,0,2.5,0,0,0,0,0,2.5,115,104,112,104,101,102,116,102,104,104,103,107,107,110,107,103,98,112,111,103,124,125,116,128,123,116,122,127,119,123,122,121,127,123,117,120,124,121,127,124,"F",33,"T","f","2.09pm","W",31]
["GH101",17.672,42.681,18.705,38.713,16.6,43.832,16.689,44.992,16.544,39.599,16.681,44.097,15.993,49.953,16.336,41.712,15.153,47.009,14.972,48.936,15.16,41.36,14.707,49.577,14.128,40.072,14.018,37.183,13.328,40.856,13.744,41.465,14.144,35.508,12.719,47.825,13.288,37.423,13.121,42.696,0,0,0,0,0,0,0,0,0,0,0,2.5,0,0,0,0,0,0,0,0,0,0,0,0,0,0,0,0,0,0,0,0,0,0,0,0,0,0,0,0,58,58,64,57,75,76,77,67,76,71,78,70,72,75,74,73,80,70,82,78,79,82,74,73,74,81,80,80,72,74,80,80,77,84,83,84,85,74,81,87,"M",25,"F","f","4.08pm","W",21]
["DST102",13.745,27.177,16.416,25.4,13.464,25.185,14.895,28.497,13.681000000000001,26.888,13.856,30.608,13.352,25.56,14.128,26.537,13.209,26.809,12.775,26.352,11.624,23.967,12.08,24.32,12.529,26.736,11.399000000000001,26.744,11.513,24.368,12.024,24.952,11.184,23.472,11.023,24.217,12.104,23.688,11.136,24.28,0,2.5,0,2.5,0,0,0,5,0,0,0,2.5,0,0,0,0,0,2.5,0,7.5,0,5,0,5,0,5,0,2.5,0,0,0,2.5,0,0,0,5,0,0,0,0,102,102,96,104,98,92,111,94,103,101,103,99,98,97,101,102,104,100,104,106,119,117,113,110,114,112,113,104,112,101,111,112,107,108,110,113,105,113,105,113,"M",22,"F","f","2.17pm","W",22]
["RT101",37.385,42.921,32.816,38.298,26.56,33.657,24.913,33.633,22.423,32.168,19.608,33.145,18.457,30.736,18.368,35.577,16.681,31.896,16.92,29.608,19.504,28.64,18.264,32.985,17.288,30.292,17.137,28.249,16.944,29.656,17.025,30.888,18.098,35.168,18.291,31.648,18.424,30.609,16.284,30.696,0,0,0,0,0,0,0,0,0,0,0,0,0,0,0,0,0,0,0,0,0,0,0,0,0,0,0,0,0,0,0,0,0,2.5,0,0,0,0,0,0,83,84,83,81,85,87,84,88,80,95,86,87,79,86,90,87,88,82,77,82,75,98,91,89,88,95,96,97,92,99,93,93,88,85,89,97,89,93,89,87,"F",23,"F","f","12.35pm","A",23]
["JG101",21.608,32.377,22.171,31.633,21.455,33.16,21.304,31.08,20.576,33.44,19.96,33.465,19.704,33.344,18.616,38.137,18.704,32.752,19.616,31.177,17.329,26.369,17.712,26.304,17.465,25.72,17.456,27.552,17.56,25.856,16.6,27.169,16.2,27.761,16.304,24.752,16.552,25.488,16.464,27.74,0,0,0,2.5,5,5,0,0,0,5,0,5,0,0,0,0,0,0,0,0,0,0,0,0,0,0,0,0,0,0,0,0,0,2.5,0,0,0,0,0,2.5,79,78,73,72,80,80,73,77,86,75,75,81,78,72,79,80,77,70,72,84,114,111,110,114,109,109,107,102,106,106,102,100,99,106,103,101,96,94,93,92,"F",19,"F","f","10.51am","W",21]
["CC101",19.051,35.386,16.533,42.064,17.216,38.506,16.277,45.905,17.374,36.439,17.92,35.921,16.857,35.739,17.813,39.074,17.776,36.628,16.7,35.409,15.255,37.29,14.607,38.25,15.001,34.482,14.759,33.001,14.843,31.941,15.204,36.009,15.285,33.986,15.043,32.768,16.858,35.129,13.833,35.699,0,0,0,2.5,0,0,0,7.5,0,0,0,0,0,0,0,0,0,0,0,0,0,5,0,2.5,0,0,0,0,0,0,0,0,0,0,0,0,0,0,0,2.5,89,83,88,95,81,88,83,88,88,91,88,87,95,87,95,86,95,82,88,89,108,107,14,107,104,103,108,104,107,103,106,112,105,106,112,104,107,106,104,106,"F",25,"T","f","2.22pm","A",16]
["SN102",27.736,52.453,22.525,44.728,19.839,44.912,19.872,43.952,18.935,44.344,18.792,45.016,20.017,40.76,18.503,42.713,17.335,38.543,17.04,36.57,20.121,34.608,18.423,36.32,18.64,37.961,16.935,37.608,18.351,37.736,18.183,37.76,20.128,38.562,20.16,37.624,18.432,34.816,18.424,34.759,0,2.5,0,5,0,0,0,0,0,2.5,0,0,0,5,0,0,0,7.5,0,5,0,0,0,2.5,0,2.5,0,0,0,0,0,2.5,0,0,0,5,0,0,0,0,74,90,84,80,74,76,78,72,79,79,80,76,75,75,79,75,80,77,81,75,100,99,99,98,91,88,89,89,91,91,90,92,82,92,83,86,90,86,90,85,"F",28,"F","F, on menstruation day 5","6.30 pm","A(South)",30]
["SW101",9.358,27.295,9.166,27.312,9.488,35.326,9.199,28.192,8.623,25.559,8.775,26.336,10.561,31.211,9.896,25.519,9.904,29.616,9.303,28.192,9.513,26.104,10.6,29.952,9.471,29.888,9.862,25.984,9.752,27.391,9.864,25.343,10.423,28.568,9.64,27.376,10.039,30.376,{"v":10.75,"d":"10.750"},27.128,0,0,0,0,0,2.5,0,2.5,0,0,0,2.5,2.5,7.5,0,0,2.5,2.5,0,2.5,0,7.5,2.5,2.5,2.5,2.5,0,0,0,5,0,0,2.5,2.5,0,2.5,2.5,5,2.5,0,95,93,93,92,91,93,89,91,87,90,95,84,93,85,90,86,95,87,84,76,108,108,109,107,102,105,109,104,102,107,106,107,102,106,105,99,105,93,108,103,"M",26,"F","F","9.00 am","A",24]
["FA102",14.059,30.293,15.213,31.671,14.068,31.969,13.489,30.714,14.255,36.275,14.396,26.012,13.161,27.005,13.588,28.72,13.924,33.103,12.929,27.335,13.955,28.986,15.79,28.492,13.637,30.786,14.738,31.88,13.705,30.446,13.37,28.867,15.861,28.66,13.55,37.848,14.564,31.667,15.624,31.906,0,2.5,0,5,0,2.5,0,2.5,2.5,5,0,0,0,0,0,2.5,0,5,0,0,0,2.5,2.5,0,0,7.5,2.5,10,0,7.5,0,7.5,0,0,0,15,5,5,2.5,10,84,90,91,95,85,80,87,85,85,87,82,78,84,82,91,80,85,86,84,88,85,94,87,86,85,89,96,82,82,83,76,82,78,89,84,83,86,91,84,80,"F",21,"F","F","8.30 am","Middle eastern",21]
["JH102",16.825,31.08,17.531,28.656,16.274,34.225,16.702,27.889,15.857,30.394,16.508,30.344,16.877,27.137,15.108,25.499,15.102,25.064,15.841,28.837,14.656,27.87,14.354,23.26,14.036,23.928,15.004,25.182,13.886,27.922,14.17,29.075,14.207,25.766,14.571,29.058,13.835,27.957,14.806,24.832,0,2.5,0,0,0,0,0,0,0,2.5,0,2.5,2.5,0,0,0,0,0,0,2.5,0,0,0,0,0,0,0,0,0,0,0,0,0,0,0,2.5,0,0,0,2.5,103,109,72,99,86,88,83,89,80,88,82,86,80,76,75,73,75,71,71,94,107,100,101,91,97,99,95,91,107,95,94,78,105,94,90,95,95,63,97,89,"F",19,"F","F","2.00 pm","A+W",16]
["RS101",36.008,44.956,31.772,40.19,30.719,35.879,29.846,36.55,30.745,38.052,33.486,36.143,27.908,36.028,26.755,32.268,30.296,36.162,29.025,35.506,22.244,39.198,21.291,27.786,19.417,28.26,18.368,30.481,21.009,28.236,21.038,31.176,18.903,30.617,20.05,29.776,21.054,30.463,22.308,33.169,0,2.5,0,2.5,0,0,0,0,0,2.5,0,2.5,0,0,0,2.5,0,0,0,2.5,0,5,0,2.5,0,2.5,0,2.5,0,0,0,2.5,0,0,0,0,0,2.5,0,7.5,99,90,77,98,98,87,91,87,78,88,93,97,91,93,87,86,80,87,79,90,97,95,105,101,98,108,111,101,103,103,93,102,103,83,99,101,82,88,87,85,"F",25,"F","F","2.00 pm","B+W",16]
["TN102",18.532,28.803,17.427,25.634,18.045,29.381,16.242,27.549,16.087,25.884,16.668,25.261,16.568,25.056,16.465,24.711,16.868,24.945,16.563,24.216,15.598,24.783,16.317,24.885,15.638,28.224,17.534,23.998,16.718,26.348,16.128,23.147,17.318,23.043,17.282,24.148,17.428,22.597,17.152,27.236,0,2.5,0,0,0,2.5,0,2.5,0,2.5,0,2.5,0,2.5,0,2.5,0,2.5,0,2.5,0,7.5,0,5,0,5,0,2.5,0,5,0,5,0,2.5,0,2.5,0,0,0,5,75,83,83,73,75,82,85,76,81,83,88,83,90,92,89,82,87,80,75,80,113,109,113,104,106,105,102,104,100,101,102,100,97,98,95,100,104,96,97,97,"F",22,"F","f","12.30 pm","A",17]
["SK101",21.709,44.157,22.672,42.575,21.572,41.171,20.864,49.861,18.347,41.941,17.071,43.63,19.066,44.996,17.312,74.558,24.487,45.873,15.415,44.016,17.998,45.467,19.832,40.256,15.779,35.059,13.665,38.485,15.158,37.731,14.323,47.889,15.09,35.639,15.76,38.875,14.072,38.381,{"v":13.35,"d":"13.350"},35.879,0,5,0,0,0,2.5,0,7.5,0,0,0,7.5,5,0,0,10,10,10,0,0,5,7.5,5,5,0,0,0,5,0,10,2.5,17.5,0,5,5,5,2.5,10,2.5,5,82,79,76,81,79,77,92,82,92,78,77,80,94,98,88,83,90,85,81,84,113,111,116,106,109,111,116,106,109,111,115,111,112,114,117,102,112,104,105,103,"M",23,"F","f","10.45 am","A",17]
["SAV101",13.922,28.39,15.757,28.992,15.898,30.211,15.357,27.625,14.052,26.654,13.827,33.254,15.305,30.574,14.961,29.948,15.814,31.166,15.147,30.393,13.321,24.669,12.732,29.53,14.94,24.447,12.498,27.706,12.103,28.427,11.768,27.859,12.119,30.016,12.069,34.955,12.852,25.566,12.083,33.483,0,2.5,0,0,5,5,0,0,0,0,0,5,2.5,0,0,2.5,0,7.5,0,2.5,0,0,0,5,2.5,0,0,0,0,0,0,0,0,0,0,2.5,0,0,0,2.5,69,76,56,78,65,82,78,76,83,71,67,67,85,80,79,74,71,73,77,78,91,95,91,88,91,93,88,91,98,91,89,93,96,94,92,92,91,87,88,86,"M",20,"F","f","9.00 am","A",17]
["AS102",18.836,30.981,19.932,26.969,20.773,27.456,18.123,26.631,17.596,24.277,16.81,27.146,18.007,23.589,17.997,25.92,15.764,26.457,15.857,25.751,17.801,20.326,15.888,23.324,16.676,22.413,17.132,23.525,16.359,22.369,16.544,22.69,14.64,22.975,13.709,22.882,{"v":15.31,"d":"15.310"},22.825,13.669,22.723,0,2.5,0,0,0,0,0,2.5,0,2.5,0,2.5,0,0,0,2.5,0,2.5,0,0,2.5,0,0,2.5,0,5,0,0,0,2.5,0,2.5,0,5,0,0,0,0,0,7.5,75,84,80,68,76,76,70,68,61,72,74,75,77,74,77,84,77,80,79,82,94,95,90,94,95,92,86,90,91,89,89,95,91,85,92,94,82,87,87,92,"F",19,"F","f","1.15 pm","A",16]
["DE101",26.488,43.568,26.82,35.959,26.229,41.458,27.058,40.256,25.276,34.875,27.266,38.983,24.091,34.2,24.452,38.942,23.742,41.354,24.345,34.931,23.19,30.488,24.837,32.165,23.898,32.316,24.982,32.212,23.8,30.101,25.329,32.369,23.534,31.709,23.014,30.767,22.836,32.336,23.444,33.647,0,5,0,2.5,0,5,0,7.5,0,0,0,0,0,0,0,2.5,0,2.5,0,2.5,0,0,0,5,0,2.5,0,0,0,0,0,5,0,2.5,0,0,0,0,0,5,92,102,108,92,107,99,99,93,91,106,104,105,103,98,103,99,108,99,89,95,115,112,116,110,114,109,111,116,109,111,113,107,109,110,113,109,108,102,107,100,"F",23,"F","f","12.45 pm","H",24]
["JR101",28.894,45.415,26.302,41.469,22.96,37.197,23.916,33.887,23.762,35.392,23.011,33.571,22.413,33.288,24.814,35.509,23.931,35.092,22.341,33.453,22.84,32.099,23.562,32.47,22.077,37.88,22,35.83,22.712,38.723,23.161,32.72,21.718,33.438,23.226,31.718,{"v":21.99,"d":"21.990"},31.335,22.276,30.884,0,5,0,2.5,0,0,0,0,2.5,2.5,0,0,0,0,0,0,0,2.5,0,0,2.5,2.5,2.5,5,0,5,0,0,2.5,0,0,0,0,0,0,0,0,0,0,2.5,72,85,87,81,90,84,88,85,84,82,87,88,92,88,85,84,80,84,87,84,100,101,98,98,98,98,94,98,96,92,94,103,99,96,108,101,91,96,93,95,"F",27,"F","f","9.50 am","W",34]
["YS101",15.511,40.918,15.75,38.175,13.623,34.327,13.896,32.9,13.759,35.095,12.928,36.694,13.423,37.687,16.855,33.302,13.767,34.83,15.216,35.462,15.791,28.967,15.327,31.935,14.656,30.814,13.327,28.351,13.48,29.662,13.823,28.463,13.896,32.063,15.335,27.039,{"v":13.4,"d":"13.400"},31.335,13.415,28.967,0,0,0,0,0,0,0,0,0,0,0,5,0,0,0,0,0,0,0,2.5,0,0,0,0,0,2.5,0,0,0,2.5,0,2.5,0,2.5,0,0,0,0,0,0,{"$nulls":40},"F",22,"F","f","3.20 pm","Hispanic",26]
["AP101",20.806,28.9,22.938,31.93,18.715,30.022,18.592,34.435,15.731,30.479,16.722,25.877,17.265,33.32,20.286,26.419,16.81,27.157,17.441,27.033,14.861,30.815,18.611,27.289,16.741,25.11,19.643,25.073,18.967,28.859,16.152,30.327,18.317,30.517,17.729,28.145,18.877,27.047,{"v":22.18,"d":"22.180"},29.699,0,0,5,0,0,2.5,0,0,0,0,0,0,0,0,0,0,0,0,0,0,0,0,0,0,0,0,0,0,0,0,0,0,0,0,0,0,0,0,0,0,82,80,84,92,89,93,89,87,89,88,85,90,88,83,84,91,95,87,89,88,85,83,82,84,87,97,86,90,88,89,92,97,92,92,87,88,95,89,95,85,"F",26,"F","f","12.00 pm","A",29]
["JM101",23.537,55.994,23.726,66.885,20.76,53.371,17.656,50.275,18.283,52.68,20.665,52.091,20.848,50.304,18.536,55.614,18.272,49.905,18.299,47.606,17.777,46.392,17.504,43.028,17.247,45.912,18.207,52.065,18.571,48.385,16.896,56.081,19.376,43.856,17.992,{"v":51.76,"d":"51.760"},17.992,53.025,17.584,41.129,0,0,0,2.5,0,2.5,0,0,0,0,0,0,0,0,0,2.5,0,0,0,0,0,0,0,0,0,0,0,0,0,0,0,0,0,0,0,2.5,0,0,0,0,91,85,86,88,89,75,81,92,82,89,82,84,85,89,79,88,75,82,83,87,87,87,89,96,92,92,92,85,83,93,82,93,87,83,89,86,97,85,86,94,"F",25,"F","f","1.28pm","B",21]
["EC101",20,39.769,68.736,35.393,16.608,34.257,17.664,33.92,15.064,32.601,16.641,31.586,15.2,32.032,15.528,31.825,15.824,29.994,14.864,29.745,16.528,32.002,14.272,31.352,16.552,31.688,14.24,36.017,14.576,32.456,15.736,32.193,16.01,31.192,15.384,30.937,14.944,{"v":32.88,"d":"32.880"},13.635,27.508,0,5,0,2.5,0,0,0,0,0,5,0,0,0,0,0,0,0,0,0,0,0,5,0,2.5,0,0,0,0,0,0,0,0,0,0,0,2.5,0,0,0,0,{"$nulls":40},"F",21,"F","f","12.40pm","W",25]
["RB101",20.904,48.966,20.63,51.11,18.576,51.894,20.983,56.958,19.655,44.702,20.511,57.342,19.567,48.03,19.655,42.799,19.448,48.254,19.007,50.07,16.967,44.022,18.263,48.198,18.087,41.247,16.935,40.39,18.256,43.766,16.535,44.063,17.607,41.935,17.615,41.991,17.631,47.438,21.471,47.302,0,10,0,0,0,2.5,0,0,0,0,0,5,0,5,0,2.5,0,5,0,0,0,0,0,2.5,0,2.5,0,0,0,0,0,0,0,2.5,0,2.5,0,0,0,0,80,87,84,84,84,91,87,83,86,89,93,87,81,91,95,89,94,86,91,84,93,95,92,96,94,88,97,98,89,94,93,97,90,92,95,94,90,88,94,90,"F",28.3,"T","f","10.10 am","W",22]
["MK101",19.848,36.609,19.656,35.865,20.969,33.699,17.52,29.882,18.51,29.432,17.905,30.011,17.672,30.12,16.084,31.201,18.016,30.21,17.91,31.872,17.954,30.512,17.104,34.072,17.878,31.047,15.92,32.546,17.28,28.833,16.145,30.951,17.088,30.056,15.681,{"v":27.12,"d":"27.120"},17.409,28.688,17.409,28.688,0,5,0,5,0,0,0,5,0,2.5,0,0,0,0,0,2.5,0,2.5,0,2.5,0,0,0,0,0,0,0,0,0,2.5,0,0,0,0,0,2.5,0,2.5,0,0,null,96,96,92,100,95,97,103,98,93,98,94,97,98,104,98,98,99,107,103,103,113,102,104,100,104,101,103,104,102,109,99,106,103,102,104,106,95,95,95,"F",31,"F","f","11.39am","W",21]
["SGJ101",13.592,24.571,13.634,25.264,13.392,25.079,12.583,26.792,11.99,24.98,14.216,26.487,11.728,24.632,12.68,27.463,13.248,28.465,12.288,26.715,11.193,23.199,11.704,24.642,12.072,28.921,12.057,25.007,11.282,24.537,11.616,27.704,11.015,25.848,12.256,{"v":23.27,"d":"23.270"},10.762,24.782,11.096,23.009,0,2.5,0,2.5,0,2.5,0,2.5,0,0,5,5,0,0,0,0,2.5,2.5,0,0,0,0,0,2.5,0,2.5,0,0,0,0,0,2.5,0,5,0,0,0,0,0,0,85,105,100,97,90,103,100,96,100,91,92,90,95,94,94,86,94,88,96,80,93,101,100,96,105,94,93,95,96,96,94,96,88,94,92,93,86,94,91,97,"F",26,"F","f","12 noon","W",24]

{"sheet":"transposednonex","index":4,"n_rows":31,"n_cols":127,"rows_kept":31}
["ID","PreCongr1 Set1","PreIncongr1 Set1","PreCongr1 Set2","PreIncongr1 Set2","PreCongr2 Set1","PreIncongr2 Set1","PreCongr2 Set2","PreIncongr2 Set2","PreCongr3 Set1","PreIncongr3 Set1","PreCongr3 Set2","PreIncongr3 Set2","PreCongr4 Set1","PreIncongr4 Set1","PreCongr4 Set2","PreIncongr4 Set2","PreCongr5 Set1","PreIncongr5 Set1","PreCongr5 Set2","PreIncongr5 Set2","PostCongr1 Set1","PostIncongr1 Set1","PostCongr1 Set2","PostIncongr1 Set2","PostCongr2 Set1","PostIncongr2 Set1","PostCongr2 Set2","PostIncongr2 Set2","PostCongr3 Set1","PostIncongr3 Set1","PostCongr3 Set2","PostIncongr3 Set2","PostCongr4 Set1","PostIncongr4 Set1","PostCongr4 Set2","PostIncongr4 Set2","PostCongr5 Set1","PostIncongr5 Set1","PostCongr5 Set2","PostIncongr5 Set2","PreErrorC1 set 1","PreErrorI1 set 1","PreErrorC1 set 2","PreErrorI1 set 2","PreErrorC2 set 1","PreErrorI2 set 1","PreErrorC2 set 2","PreErrorI2 set 2","PreErrorC3 set 1 ","PreErrorI3 set 1 ","PreErrorC3 set 2","PreErrorI3 set 2","PreErrorC4 set 1","PreErrorI4 set 1","PreErrorC4 set 2","PreErrorI4 set 2","PreErrorC5 set 1","PreErrorI5 set 1","PreErrorC5 set 2","PreErrorI5 set 2","PostErrorC1 set 1","PostErrorII1 set 1","PostErrorC1 set 2 ","PostErrorII1 set 2 ","PostErrorC2 set 1","PostErrorI2 set 1","PostErrorC2 set 2 ","PostErrorI2 set 2 ","PostErrorC3 set 1","PostErrorI3 set 1","PostErrorC3 set 2 ","PostErrorI3 set 2 ","PostErrorC4 set 1 ","PostErrorI4 set 1 ","PostErrorC4 set 2 ","PostErrorI4 set 2 ","PostErrorC5 set 1","PostErrorI5 set 1","PostErrorC5 set 2 ","PostErrorI5 set 2 ","PreHRC1 set 1","PreHR I1 set 1","PreHRC1 set2","PreHR I1 set2","PreHR C2 set1","PreHR I2 set1","PreHR C2 set2","PreHR I2 set2","PreHR C3 set1","PreHR I3 set1","PreHR C3 set2","PreHR I3 set2","PreHR C4 set1","PreHR I4 set1","PreHR C4 set2","PreHR I4 set2","PreHR C5 set1","PreHR I5 set1","PreHR C5 set2","PreHR I5 set2","PostHR C1 set1","PostHR I1 set1","PostHR C1 set2","PostHR I1 set2","PostHR C2 set1","PostHR I2 set1","PostHR C2 set2","PostHR I2 set2","PostHR C3 set1","PostHR I3 set1","PostHR C3 set2","PostHR I3 set2","PostHR C4 set1","PostHR I4 set1","PostHR C4 set2","PostHR I4 set2","PostHR C5 set1","PostHR I5 set1","PostHR C5 set2","PostHR I5 set2","Gender","BMI (Body Mass Index)","ADHD","Age","Race","On meds"]
["CN101-nonexercise",18.616,34.944,16.375,36.352,15.872,38.536,15.417,39.535,15.874,32.873,15.368,32.151,14.672,36.745,15.032,32.473,14.873,33.15,15.824,38.969,14.696,31.688,16.176,31.785,14.498,38.602,13.457,29.576,14.785,34.937,13.625,30.521,14.625,31.385,12.889,33.168,13.082,36.159,13.28,33.968,0,2.5,0,7.5,0,2.5,0,12.5,7.5,7.5,0,0,0,5,0,7.5,0,2.5,2.5,12.5,0,5,2.5,12.5,0,10,0,0,0,7.5,0,5,0,5,0,10,0,15,0,5,73,77,64,79,73,76,72,74,74,77,77,73,67,73,68,76,73,77,74,74,84,76,77,78,72,79,71,76,82,77,75,81,77,81,74,77,72,76,79,86,"F",32,"T",26,"W","T"]
["MR101-nonexercise",16.206,32.049,17.096,29.289,15.863,26.69,16.066,31.234,19.633,28.361,16.256,30.224,15.855,28.463,19.977,31.729,16.552,29.105,15.72,29.338,16.017,29.593,18.998,28.417,16.818,25.105,16.945,26.569,15.981,27.847,16.296,30.913,16.688,27.928,15.889,30.297,16.895,28.326,15.599,25.697,0,2.5,0,0,0,0,0,2.5,5,0,2.5,2.5,0,0,2.5,2.5,0,0,0,2.5,0,2.5,0,5,0,0,0,2.5,0,2.5,0,0,2.5,0,0,2.5,2.5,0,0,0,85,91,84,88,91,84,91,86,90,90,87,85,85,80,88,85,83,87,85,84,80,73,74,73,76,73,78,73,76,73,76,78,77,77,74,72,74,74,75,75,"F",22,"F",29,"hispanic-w"]
["JF101-nonexercise",16.907,31.952,14.22,28.384,13.768,27.432,13.92,31.745,15.072,28.872,13.52,28.817,12.984,25.944,12.896,27.521,13.688,27.16,13.224,27.112,14.089,23.935,14.871,24.577,13.536,26.681,13.055,25.194,15.319,27.113,12.712,29.976,13.048,27.544,12.488,28.872,14.463,25.962,14.519,27.033,0,0,0,2.5,0,2.5,0,5,0,2.5,0,2.5,0,2.5,0,0,0,5,2.5,0,0,2.5,2.5,0,0,5,0,0,7.5,7.5,0,10,0,2.5,0,2.5,0,0,0,0,67,82,75,73,73,76,76,75,71,76,69,77,70,74,76,73,72,71,72,74,66,70,65,66,66,74,64,66,65,67,70,66,66,66,68,67,66,67,70,65,"M",30,"T",31,"Hispanic","F"]
["CJ101-nonexercise",18.395,31.298,19.572,35.97,18.353,36.65,23.003,34.969,20.031,36.343,18.84,36.008,21.706,31.208,20.754,32.08,17.689,32.552,18.152,33.185,18.464,33.839,17.602,32.065,16.594,31.376,15.792,30.114,15.241,31.824,16.184,31.641,15.504,30.352,14.992,30.266,16.118,28.984,15.152,29.969,0,2.5,0,7.5,0,2.5,0,0,2.5,0,0,5,0,0,0,2.5,0,2.5,0,2.5,0,0,0,0,0,2.5,0,2.5,0,2.5,0,0,0,2.5,0,2.5,0,5,0,10,81,71,70,72,89,86,86,86,80,73,73,84,95,101,100,87,86,80,80,91,82,73,100,92,102,88,96,94,96,95,88,89,64,66,83,82,92,82,93,98,"M",25,"F",17,"W"]
["TB101-nonexercise",17.245,25.135,16.646,25.232,15.706,25.752,15.811,25.484,16.161,26.333,16.138,24.145,16.029,22.108,16.025,21.524,15.105,22.993,15.494,24.879,16.895,21.91,15.59,26.504,16.726,22.341,15.975,23.628,16.225,22.526,15.744,27.487,15.509,22.308,15.46,24.347,15.591,24.265,15.339,24.163,0,5,0,2.5,0,0,0,7.5,0,7.5,0,0,0,0,0,2.5,0,7.5,0,0,0,2.5,0,5,0,2.5,0,0,0,2.5,0,10,0,7.5,0,0,0,0,0,5,85,81,84,84,85,84,88,87,80,82,80,78,79,82,84,83,80,79,84,78,80,89,83,77,76,87,84,78,72,82,81,73,81,84,79,77,76,82,83,91,"F",31,"F",23,"A"]
["SN102-nonexercise",23.276,31.599,18.82,39.976,21.463,34.608,21.48,37.976,21.512,35.169,18.039,31.224,17.073,38.904,16.335,32.031,15.56,30.175,17.871,34.44,18.136,35.31,16.287,35.961,16.281,30.897,15.838,40.575,15.367,34.425,16.302,33.73,16.456,35.623,16.751,34.392,15.185,34.392,16.137,35.032,0,0,0,5,0,2.5,0,2.5,2.5,5,0,0,0,10,0,2.5,0,0,2.5,7.5,2.5,0,0,5,0,2.5,0,15,0,5,0,0,0,5,0,2.5,0,7.5,0,0,79,76,79,82,80,86,80,80,80,79,76,78,67,66,65,64,63,77.76,85,81,85,77,84,78,81,79,78,81,83,80,83,76,84,78,80,80,80,80,77,77,"F",28,"F",30,"A(south)"]
["SW101-nonexercise",11.558,40.748,12.026,41.224,11.159,36.88,19.426,37.288,11.031,32.081,11.359,32.936,11.239,30.656,11.56,31.616,11.096,31.808,13.568,31.544,12.491,35.112,12.825,31.544,12.048,34.399,11.615,30.485,11.184,29.767,12.232,31.864,11.335,32.152,11.56,31.768,11.464,29.399,10.439,29.319,0,0,0,7.5,0,0,0,2.5,0,0,2.5,0,0,0,0,2.5,0,0,5,0,2.5,5,0,0,0,2.5,0,0,0,0,0,0,0,2.5,0,0,0,0,2.5,0,107,107,103,96,102,104,99,100,97,100,96,98,95,96,93,100,103,91,96,93,95,87,100,97,100,98,94,90,88,93,98,89,94,87,97,104,102,99,102,91,"M",26,"F",24,"A"]
["FA102-nonexercise",19.08,44.175,22.952,38.967,16.952,37.497,16.352,35.64,16.864,35.2,16.864,31.015,16.881,33.376,15.12,31.552,15.887,43.752,16.223,33.096,17.719,33.184,17.424,34.606,17.216,32.216,14.896,36.512,15.216,29.864,16.6,33.616,15.783,36.968,17.288,32.24,15.847,29.016,16.224,37.991,0,5,0,5,0,5,0,5,0,2.5,0,0,0,0,0,2.5,0,7.5,2.5,5,2.5,7.5,0,5,0,0,0,5,0,0,0,2.5,0,5,2.5,0,0,0,0,10,83,98,90,95,96,91,78,88,93,88,79,87,82,86,86,87,82,86,77,87,76,81,85,81,85,74,73,77,81,76,77,85,84,74,74,75,78,76,8,77,"F",21,"F",21,"Middle eastern"]
["JF102-nonexercise",20.159,38.8,20.521,36.523,18.111,39.808,17.035,38.172,15.921,41.709,15.636,33.261,14.929,40.528,15.13,33.357,16.607,34.974,15.642,43.945,18.65,37.469,16.821,39.439,15.325,35.885,13.536,31.384,13.676,35.149,14.64,33.733,13.85,33.783,14.418,39.274,13.247,36.273,14.226,36.551,0,0,0,0,0,0,0,2.5,0,0,0,0,0,0,0,0,0,0,0,2.5,2.5,2.5,0,5,0,0,0,0,0,2.5,0,2.5,0,0,0,5,0,2.5,0,0,121,118,116,119,116,109,108,107,99,113,108,112,105,111,111,114,112,106,104,100,93,93,97,102,95,95,91,93,99,99,99,97,101,97,95,109,100,104,101,104,"F",23,"F",19,"W"]
["BR102-nonexercise",14.32,34.823,14.222,34.202,14.203,31.731,13.889,31.38,13.101,30.681,12.46,30.329,12.449,29.019,11.679,29.075,12.753,28.104,12.301,28.361,15.475,29.844,14.689,33.329,14.132,31.332,13.018,30.464,13.266,34.308,13.281,33.87,12.599,31.58,12.35,29.795,12.484,28.571,11.566,33.57,0,0,0,0,0,0,0,0,0,0,0,2.5,0,0,0,2.5,0,2.5,0,2.5,2.5,2.5,0,2.5,0,0,0,2.5,0,2.5,0,0,0,0,2.5,0,0,2.5,0,2.5,69,69,68,72,74,71,72,75,77,82,73,75,74,70,73,68,72,73,74,72,62,68,69,65,67,71,71,65,68,65,68,68,64,70,67,74,73,63,67,69,"M",26,"F",27,"W"]
["FH101-nonexercise",17.343,38.936,15.6,34.551,15.056,28.383,14.408,30.519,14.593,31.839,14.856,33.768,14.928,30.823,14.776,28.009,14.161,29.544,14.4,30.6,15.071,30.28,14.04,31.04,13.856,26.64,13.184,31.793,13.312,29.824,13.057,28.263,12.344,24.834,12.84,27.712,13.424,29.648,12.878,29.585,0,5,0,5,0,2.5,0,5,0,5,0,2.5,0,2.5,0,5,0,5,0,2.5,0,5,0,0,0,2.5,0,7.5,0,2.5,0,0,0,0,0,0,0,0,0,2.5,108,70,101,112,104,102,108,103,101,102,106,109,110,109,101,107,106,105,96,108,104,103,98,102,98,98,96,95,101,101,98,97,99,95,97,92,95,95,97,95,"F",27,"F",21,"M"]
["JL101-nonexercise",18.64,40.438,16.343,41.903,13.609,39.192,14.392,35.391,16.375,39.72,15.976,36.984,15.575,35.992,14.456,35.28,14.24,33.399,14.184,40.512,15.855,34.152,15.48,33.855,15.432,39.72,14.24,29.375,13.368,33.367,14.064,30.904,13.088,36.512,13.631,34.561,13.608,34.424,12.471,31.745,0,10,0,5,0,7.5,0,5,2.5,20,0,17.5,2.5,5,0,10,2.5,12.5,0,12.5,0,5,0,0,2.5,15,0,7.5,0,7.5,5,2.5,0,2.5,0,10,0,2.5,0,0,82,82,84,83,82,82,86,83,80,77,75,79,79,75,81,77,79,82,82,81,82,84,77,79,81,79,78,76,79,79,79,82,77,78,79,81,75,80,77,83,"F",27,"F",24,"B"]
["RO101-nonexercise",18.457,42.095,16.495,39.976,17.88,44.727,16.808,43.759,21.05,38.232,21.937,40.4,18.632,42.031,19.192,39.183,17.56,45.03,18.16,43.431,18.328,36.879,19.688,37.848,18.04,48.703,22.16,38.631,17.4,45.904,18.056,40.688,16.632,35.639,15.072,39.591,19.423,36.759,13.808,36.2,0,15,0,32.5,0,7.5,0,15,0,0,2.5,17.5,2.5,10,2.5,7.5,0,10,0,22.5,0,10,0,10,0,10,2.5,0,0,2.5,0,5,0,2.5,0,0,0,0,0,2.5,97,84,83,89,91,96,92,96,82,95,93,95,82,101,76,76,75,74,81,78,70,73,75,74,78,73,76,73,73,81,81,93,80,70,70,70,70,70,63,63,"F",24,"F",24,"B"]
["KK101-nonexercise",21.44,35.233,22.08,31.385,22.065,30.593,20.887,27.481,21.993,30.198,22.808,26.744,21.2,30.976,22.016,28.032,21.528,29.281,21.207,25.248,19.632,24.777,20.312,26.049,19.092,26.24,19.617,25.784,17.616,25.074,18.272,25.832,17.72,25.814,18.584,26.425,17.056,26.02,17.408,27.48,0,0,0,0,0,0,0,0,0,0,0,0,0,2.5,0,2.5,0,0,0,0,0,0,0,0,0,0,0,0,0,0,0,5,0,0,0,0,0,0,0,2.5,109,88,87,96,93,101,88,90,90,90,93,93,93,94,93,86,98,89,97,86,90,92,90,90,89,100,95,88,97,91,89,85,84,91,90,91,88,91,87,88,"F",20,"T",21,"W"]
["KV101-nonexercise",24.896,31.335,20.792,28.08,17.016,28.04,19.72,27.279,15.471,28.816,16.207,27.936,17.344,26.831,16.504,26.377,16.944,26.799,16.464,26.031,19.488,25.382,18.158,28.586,17.864,25.32,18.631,26.256,18.96,25.335,18.088,25.888,16.343,24.576,15.976,25.992,15.575,24.384,17.44,25.336,0,0,0,0,0,0,0,5,0,2.5,0,2.5,0,0,0,0,0,0,0,0,0,0,0,2.5,0,0,0,0,0,0,0,2.5,0,0,0,0,0,0,0,0,58,78,81,78,88,85,73,82,88,80,87,72,82,84,79,79,90,86,73,84,80,87,85,69,81,82,81,79,77,76,79,76,76,86,80,85,74,71,76,75,"F",20,"F",25,"W"]
["DD101-nonexercise",15.584,50.689,16.277,48.74,15.088,48.24,15.128,38.833,14.409,41.68,14.704,36.983,14.96,40.248,15.009,39.52,14.591,40.631,13.768,38.815,14,34.288,14.025,41.952,13.696,43.567,14.197,41.429,13.84,39.328,15.223,32.759,13.384,40.384,15.496,39.136,13.336,35.703,13.504,39.175,0,2.5,0,0,0,22.5,0,0,0,0,0,0,0,2.5,0,0,0,2.5,0,2.5,0,0,0,5,0,0,0,0,0,5,0,0,0,0,0,5,0,5,0,0,75,73,74,75,76,76,79,81,84,79,81,76,84,78,79,78,79,77,78,76,77,78,80,74,77,75,74,78,77,77,77,74,85,77,74,77,77,71,75,77,"M",22,"T",34,"W","6 hr back"]
["MT102-nonexercise",18.92,27.303,20.185,25.744,18.561,25.047,17.896,23.272,16.136,22.961,15.944,24,15.767,23.751,14.8,22.92,14.983,22.2,14.911,26.234,16.504,22.6,14.6,21.056,14.4,20.928,13.92,23.848,14.088,21.815,14.017,22.688,13.512,23.073,14.895,21.793,13.625,22.536,13.8,21.225,0,7.5,0,0,0,0,0,0,0,0,0,2.5,0,2.5,0,0,0,0,0,7.5,0,0,0,0,0,2.5,0,2.5,0,0,0,0,0,5,0,0,0,7.5,0,0,61,58,56,65,68,63,63,74,66,72,80,71,61,68,65,65,77,73,69,74,77,72,58,58,60,61,56,55,58,62,64,65,65,65,68,58,56,55,59,60,"F",23,"F",18,"A"]
["TP101-nonexercise",30.633,40.23,28.336,39.943,28.599,35.288,26.832,38.069,27.048,35.928,25.927,36.216,23.856,35.224,24.631,34.6,23.728,35.241,23.447,33.277,25.768,33.312,22.473,32.248,20.744,32.057,19.736,35.439,19.927,32.312,19.976,35.488,20.649,33.383,21.928,32.671,18.056,35,16.76,35.295,0,2.5,0,10,0,2.5,0,5,0,2.5,0,7.5,0,0,0,2.5,0,2.5,0,0,0,2.5,0,5,0,5,0,5,0,0,0,12.5,0,12.5,2.5,2.5,0,7.5,0,5,105,67,113,112,84,81,106,97,104,102,98,98,88,115,94,102,103,90,101,101,94,82,70,77,70,90,90,85,93,90,89,83,80,88,79,90,84,100,90,83,"F",20,"F",19,"A"]
["RA101-nonexercise",18.78,35.471,18.136,32.68,14.432,33.02,15.96,35.903,16.535,29.152,16.28,33.48,15.623,33.416,15.623,32.72,15.36,32.479,15.399,31.041,14.72,28.719,15.2,30.52,13.94,27.815,14.063,31.017,15.015,31.56,13.416,30.809,13.679,28.535,13.159,29.312,13.472,30.296,13.664,26.839,0,0,0,2.5,0,2.5,0,0,0,0,0,5,0,2.5,0,5,0,0,0,0,0,0,0,2.5,0,0,0,0,2.5,2.5,0,5,2.5,2.5,0,2.5,0,5,0,0,72,85,81,96,80,80,91,90,91,95,89,95,88,93,86,92,89,93,95,88,75,75,77,71,74,76,80,75,77,86,71,74,75,80,84,83,85,84,74,76,"F",23,"T",23,"W","22 hr back"]
["KLA101-nonexercise",17.668,42.776,17.336,39.24,15.664,32.448,15.72,38.968,16.104,43.807,16.12,38.031,15.72,34.872,14.248,30.712,13.511,33.407,14.441,30.02,13.928,35.719,15.968,33.527,13.744,30.968,12.928,28.839,13.296,32.318,14.368,33.263,12.632,28.081,13.112,32.408,13.544,32.095,13.343,31.473,0,5,0,5,0,0,0,5,0,22.5,0,2.5,0,2.5,5,2.5,0,5,0,2.5,0,0,0,2.5,0,10,0,5,0,12.5,0,2.5,0,7.5,0,2.5,5,0,0,5,75,69,64,66,65,64,70,68,77,64,62,76,67,66,74,69,65,74,70,73,59,61,72,63,61,59,67,72,71,70,74,57,73,69,59,73,68,76,70,56,"M",24,"F",19,"W"]
["YS102-nonexercise",20.376,48.6,16.88,49.73,15.768,38.345,16.224,49.959,20.031,40.687,14.215,40.336,14.328,35.784,14.848,33.984,11.808,37.906,15.176,33.567,13.764,27.048,13.216,28.032,13.92,33.952,14.832,33.695,13.088,34.688,13.192,37.815,12.488,30.688,14.85,31.384,12.911,35.137,12.032,29.97,0,7.5,0,12.5,0,2.5,0,5,0,7.5,0,5,2.5,5,0,2.5,0,10,0,7.5,0,0,0,5,0,2.5,0,2.5,0,12.5,0,12.5,0,5,2.5,7.5,0,5,0,2.5,75,75,77,68,79,81,85,87,74,70,87,78,80,83,76,86,85,74,80,87,75,85,75,74,69,76,74,76,74,66,76,64,79,68,73,73,73,73,79,77,"M",23,"F",23,"M"]
["TM101-nonexercise",19.511,44.928,19.719,34.975,17.76,33.543,16.592,32.424,15.824,31.544,15.048,32.241,14.942,36.88,14.76,34.424,14.265,34.383,13.127,37.544,15.24,28.263,13.631,30.44,15.384,28.407,13.753,27.856,13.216,30.175,13.167,32.631,12.905,35.264,11.832,28.991,12.912,29.968,13.583,28.105,0,0,0,5,0,0,0,0,2.5,0,0,2.5,0,5,0,5,0,2.5,0,10,0,5,0,2.5,2.5,0,2.5,0,0,0,0,2.5,0,2.5,0,0,0,5,2.5,0,50,56,57,65,56,49,59,60,60,59,57,56,58,53,53,68,54,55,58,59,49,49,57,61,54,48,54,51,52,56,53,55,54,49,51,56,58,56,53,48,"M",26,"F",20,"B"]
["TR101-nonexercise",21.079,37.408,21.23,36.062,21.791,34.408,21.92,31.88,22.495,31.6,21.776,33.575,20.743,31.736,21.615,31.681,20.718,31.488,20.456,31.088,21.648,28.879,21.776,35.95,21.335,31.001,20.375,30.424,21.36,31.151,20.183,31.767,19.391,33.752,20.024,33.025,19.512,31.56,20.159,31.142,0,0,0,15,0,2.5,0,5,2.5,0,0,2.5,0,5,0,2.5,0,0,0,7.5,2.5,2.5,0,7.5,0,5,0,5,0,10,0,2.5,0,0,0,0,0,2.5,0,0,90,94,91,102,92,99,94,99,95,104,100,88,97,96,96,93,95,96,100,89,94,91,89,97,77,89,82,89,104,92,101,82,80,89,100,89,86,91,87,87,"M",27,"F",18,"H"]
["DJ102-nonexercise",20.768,35.336,20.424,33.208,21.198,30.343,19.255,29.112,19.049,27.08,18.536,29.168,19.128,27.88,16.792,33.232,18.056,28.368,16.896,31.183,16.08,25.513,16.47,35.032,19.344,32.735,16.696,33.544,16.144,29.376,16.04,35.776,16.217,25.96,16.56,27.079,18.257,27.437,17.096,28.744,0,5,0,2.5,0,2.5,0,2.5,0,7.5,0,0,2.5,5,0,10,0,5,0,12.5,0,12.5,2.5,15,2.5,12.5,0,7.5,0,5,0,12.5,0,0,5,15,2.5,5,0,7.5,70,81,81,78,75,80,84,81,81,72,81,81,76,75,79,74,76,77,75,78,63,66,56,57,61,62,60,62,60,63,57,63,57,56,57,55,57,56,60,56,"M",29,"F",20,"B"]
["MA101-nonexercise",19.039,57.871,20.041,56.808,18.552,45.591,17.848,51.512,17.8,45.479,18.68,44.287,18.752,43.16,17.303,42.736,17.08,41.903,17.584,42.473,18.35,40.88,16.442,40.031,17.127,41.986,17.569,50.321,16.64,40.072,16.967,40.488,16.968,38.856,15.967,40.408,16.76,44.511,17.168,42.696,0,12.5,0,10,0,5,0,7.5,0,2.5,0,7.5,0,5,0,0,0,0,0,2.5,0,0,0,0,0,2.5,0,5,0,0,0,0,2.5,5,0,2.5,0,7.5,0,0,66,77,74,81,65,72,77,80,72,87,88,86,82,76,80,81,88,83,84,80,51,51,65,76,78,80,77,70,59,64,65,75,71,73,67,75,74,70,62,60,"M",25,"T",23,"B (M)"]
["SA102-nonexercise",16.096,44.232,17.36,39.112,17.416,41.048,15.768,36.663,17.391,36.231,16.663,45.592,17.04,37.215,18.247,39.32,16.736,36.088,16.248,34.321,16.83,31.467,16.744,33.346,15.85,34.601,14.268,35.911,14.616,33.801,14.197,35.231,16.206,36.829,16.479,34.396,17.681,33.899,15.324,31.632,0,7.5,0,7.5,0,5,0,5,0,0,0,7.5,0,2.5,0,0,0,2.5,0,0,0,0,0,0,0,0,0,5,0,0,0,5,0,0,0,2.5,0,0,0,0,85,78,70,76,70,76,76,77,78,81,68,68,79,71,73,69,74,86,74,67,65,75,71,73,74,70,70,71,72,71,69,74,77,76,80,67,70,70,69,68,"F",26,"F",20,"W"]
["JH102-nonexercise",13.02,22.697,13.765,22.09,13.239,22.875,13.984,24,13.249,24.128,13.209,24.078,13.247,27.113,13.575,25.004,13.389,27.968,14.223,26.266,13.058,23.549,14.112,22.546,13.485,24.077,12.861,21.56,12.32,25.261,12.959,22.913,11.989,26.713,12.948,29.251,12.054,29.945,12.511,26.553,0,0,0,2.5,0,0,0,0,0,0,0,0,0,0,0,2.5,0,5,0,2.5,0,0,2.5,0,0,2.5,0,0,0,2.5,0,0,0,2.5,0,5,0,10,0,2.5,82,79,63,74,65,65,64,67,62,68,76,75,77,69,73,64,77,69,70,67,74,64,67,73,68,74,87,72,64,72,68,76,81,68,69,71,67,61,87,75,"F",19,"F",16,"A+W","F"]
["RS101-nonexercise",15.606,25.707,17.339,25.229,15.586,24.419,16.679,27.267,16.616,28.693,15.53,27.669,16.759,28.128,15.597,26.519,18.481,27.603,16.55,27.808,15.635,24.109,14.414,23.692,14.688,27.406,14.155,27.817,16.534,25.496,15.803,24.637,16.528,27.044,18.087,25.552,15.439,28.572,14.955,28.559,0,0,0,0,0,2.5,0,5,0,2.5,2.5,0,2.5,0,0,0,0,5,2.5,0,0,0,0,0,2.5,0,0,0,7.5,2.5,2.5,0,0,2.5,2.5,2.5,0,2.5,0,0,86,92,82,90,87,93,89,77,90,93,95,77,83,97,92,77,76,89,86,75,77,94,88,89,91,90,88,78,79,88,90,90,85,92,92,95,88,81,81,90,"F",25,"F",16,"B+W","F"]
["AA102-nonexercise",21.956,40.888,22.225,36.947,19.924,36.926,20.085,33.554,19.456,34.547,21.02,32.332,21.773,36.191,22,33.858,29.328,37.264,25,33.552,22.322,29.792,21.278,35.658,21,35.843,23.711,33.504,25.806,31.94,26.05,33.736,24.766,35.475,21.437,33.638,23.611,36.293,23.11,37.384,5,12.5,0,12.5,0,12.5,0,7.5,0,5,2.5,5,2.5,12.5,2.5,12.5,0,10,5,5,0,12.5,2.5,15,0,10,0,5,2.5,5,2.5,10,0,12.5,0,5,2.5,10,2.5,20,78,79,77,85,85,87,76,75,73,81,81,77,69,75,64,66,79,78,72,76,73,62,60,68,73,73,65,67,77,71,80,74,74,77,75,75,62,71,66,69,"F",21,"F",24,"M","f"]
["JR101-nonexercise",22.558,29.127,21.375,33.438,19.117,34.053,18.564,34.691,21.024,33.337,21.643,35.795,20.823,34.206,23.309,32.876,23.096,38.766,18.915,32.536,20.188,28.425,19.002,33.318,21.057,30.612,20.556,28.928,21.423,33.439,20.788,32.081,19.569,35.76,19.883,32.648,20.268,34.56,18.53,32.602,0,0,0,5,0,5,0,7.5,0,0,0,2.5,0,0,10,0,0,2.5,0,0,0,0,0,2.5,0,0,0,0,0,0,0,2.5,0,2.5,0,2.5,0,0,0,0,74,72,72,69,74,72,72,75,71,71,82,72,72,74,69,72,74,76,75,79,71,71,71,76,70,71,71,77,77,74,68,77,78,68,71,77,76,74,75,81,"F",27,"F",34,"W"]

{"sheet":"analysis","index":5,"n_rows":74,"n_cols":137,"rows_kept":74}
["ID (reds lack HR data)",{"$f":"transposed!B1","v":"PreCongr1 Set1"},{"$f":"transposed!D1","v":"PreCongr1 Set2"},{"$f":"transposed!F1","v":"PreCongr2 Set1"},{"$f":"transposed!H1","v":"PreCongr2 Set2"},{"$f":"transposed!J1","v":"PreCongr3 Set1"},{"$f":"transposed!L1","v":"PreCongr3 Set2"},{"$f":"transposed!N1","v":"PreCongr4 Set1"},{"$f":"transposed!P1","v":"PreCongr4 Set2"},{"$f":"transposed!R1","v":"PreCongr5 Set1"},{"$f":"transposed!T1","v":"PreCongr5 Set2"},"avg-pre-cong",{"$f":"transposed!V1","v":"PostCongr1 Set1"},{"$f":"transposed!X1","v":"PostCongr1 Set2"},{"$f":"transposed!Z1","v":"PostCongr2 Set1"},{"$f":"transposed!AB1","v":"PostCongr2 Set2"},{"$f":"transposed!AD1","v":"PostCongr3 Set1"},{"$f":"transposed!AF1","v":"PostCongr3 Set2"},{"$f":"transposed!AH1","v":"PostCongr4 Set1"},{"$f":"transposed!AJ1","v":"PostCongr4 Set2"},{"$f":"transposed!AL1","v":"PostCongr5 Set1"},{"$f":"transposed!AN1","v":"PostCongr5 Set2"},"avg-post-cong",{"$f":"transposed!C1","v":"PreIncongr1 Set1"},{"$f":"transposed!E1","v":"PreIncongr1 Set2"},{"$f":"transposed!G1","v":"PreIncongr2 Set1"},{"$f":"transposed!I1","v":"PreIncongr2 Set2"},{"$f":"transposed!K1","v":"PreIncongr3 Set1"},{"$f":"transposed!M1","v":"PreIncongr3 Set2"},{"$f":"transposed!O1","v":"PreIncongr4 Set1"},{"$f":"transposed!Q1","v":"PreIncongr4 Set2"},{"$f":"transposed!S1","v":"PreIncongr5 Set1"},{"$f":"transposed!U1","v":"PreIncongr5 Set2"},"avg-pre-i",{"$f":"transposed!W1","v":"PostIncongr1 Set1"},{"$f":"transposed!Y1","v":"PostIncongr1 Set2"},{"$f":"transposed!AA1","v":"PostIncongr2 Set1"},{"$f":"transposed!AC1","v":"PostIncongr2 Set2"},{"$f":"transposed!AE1","v":"PostIncongr3 Set1"},{"$f":"transposed!AG1","v":"PostIncongr3 Set2"},{"$f":"transposed!AI1","v":"PostIncongr4 Set1"},{"$f":"transposed!AK1","v":"PostIncongr4 Set2"},{"$f":"transposed!AM1","v":"PostIncongr5 Set1"},{"$f":"transposed!AO1","v":"PostIncongr5 Set2"},"avg-post-incong",{"$f":"transposed!AP1","v":"PreErrorC1 set 1"},{"$f":"transposed!AR1","v":"PreErrorC1 set 2"},{"$f":"transposed!AT1","v":"PreErrorC2 set 1"},{"$f":"transposed!AV1","v":"PreErrorC2 set 2"},{"$f":"transposed!AX1","v":"PreErrorC3 set 1 "},{"$f":"transposed!AZ1","v":"PreErrorC3 set 2"},{"$f":"transposed!BB1","v":"PreErrorC4 set 1"},{"$f":"transposed!BD1","v":"PreErrorC4 set 2"},{"$f":"transposed!BF1","v":"PreErrorC5 set 1"},{"$f":"transposed!BH1","v":"PreErrorC5 set 2"},"avg-pre-err-c",{"$f":"transposed!BJ1","v":"PostErrorC1 set 1"},{"$f":"transposed!BL1","v":"PostErrorC1 set 2 "},{"$f":"transposed!BN1","v":"PostErrorC2 set 1"},{"$f":"transposed!BP1","v":"PostErrorC2 set 2 "},{"$f":"transposed!BR1","v":"PostErrorC3 set 1"},{"$f":"transposed!BT1","v":"PostErrorC3 set 2 "},{"$f":"transposed!BV1","v":"PostErrorC4 set 1 "},{"$f":"transposed!BX1","v":"PostErrorC4 set 2 "},{"$f":"transposed!BZ1","v":"PostErrorC5 set 1"},{"$f":"transposed!CB1","v":"PostErrorC5 set 2 "},"avg-post-c",{"$f":"transposed!AQ1","v":"PreErrorI1 set 1"},{"$f":"transposed!AS1","v":"PreErrorI1 set 2"},{"$f":"transposed!AU1","v":"PreErrorI2 set 1"},{"$f":"transposed!AW1","v":"PreErrorI2 set 2"},{"$f":"transposed!AY1","v":"PreErrorI3 set 1 "},{"$f":"transposed!BA1","v":"PreErrorI3 set 2"},{"$f":"transposed!BC1","v":"PreErrorI4 set 1"},{"$f":"transposed!BE1","v":"PreErrorI4 set 2"},{"$f":"transposed!BG1","v":"PreErrorI5 set 1"},{"$f":"transposed!BI1","v":"PreErrorI5 set 2"},"avg-pre-err-i",{"$f":"transposed!BK1","v":"PostErrorII1 set 1"},{"$f":"transposed!BM1","v":"PostErrorII1 set 2 "},{"$f":"transposed!BO1","v":"PostErrorI2 set 1"},{"$f":"transposed!BQ1","v":"PostErrorI2 set 2 "},{"$f":"transposed!BS1","v":"PostErrorI3 set 1"},{"$f":"transposed!BU1","v":"PostErrorI3 set 2 "},{"$f":"transposed!BW1","v":"PostErrorI4 set 1 "},{"$f":"transposed!BY1","v":"PostErrorI4 set 2 "},{"$f":"transposed!CA1","v":"PostErrorI5 set 1"},{"$f":"transposed!CC1","v":"PostErrorI5 set 2 "},"avg-post-err-i",{"$f":"transposed!CD1","v":"PreHRC1 set 1"},{"$f":"transposed!CF1","v":"PreHRC1 set2"},{"$f":"transposed!CH1","v":"PreHR C2 set1"},{"$f":"transposed!CJ1","v":"PreHR C2 set2"},{"$f":"transposed!CL1","v":"PreHR C3 set1"},{"$f":"transposed!CN1","v":"PreHR C3 set2"},{"$f":"transposed!CP1","v":"PreHR C4 set1"},{"$f":"transposed!CR1","v":"PreHR C4 set2"},{"$f":"transposed!CT1","v":"PreHR C5 set1"},{"$f":"transposed!CV1","v":"PreHR C5 set2"},"avg-preHR-c",{"$f":"transposed!CX1","v":"PostHR C1 set1"},{"$f":"transposed!CZ1","v":"PostHR C1 set2"},{"$f":"transposed!DB1","v":"PostHR C2 set1"},{"$f":"transposed!DD1","v":"PostHR C2 set2"},{"$f":"transposed!DF1","v":"PostHR C3 set1"},{"$f":"transposed!DH1","v":"PostHR C3 set2"},{"$f":"transposed!DJ1","v":"PostHR C4 set1"},{"$f":"transposed!DL1","v":"PostHR C4 set2"},{"$f":"transposed!DN1","v":"PostHR C5 set1"},{"$f":"transposed!DP1","v":"PostHR C5 set2"},"avg-postHR-c",{"$f":"transposed!CE1","v":"PreHR I1 set 1"},{"$f":"transposed!CG1","v":"PreHR I1 set2"},{"$f":"transposed!CI1","v":"PreHR I2 set1"},{"$f":"transposed!CK1","v":"PreHR I2 set2"},{"$f":"transposed!CM1","v":"PreHR I3 set1"},{"$f":"transposed!CO1","v":"PreHR I3 set2"},{"$f":"transposed!CQ1","v":"PreHR I4 set1"},{"$f":"transposed!CS1","v":"PreHR I4 set2"},{"$f":"transposed!CU1","v":"PreHR I5 set1"},{"$f":"transposed!CW1","v":"PreHR I5 set2"},"avg-pre-HR-i",{"$f":"transposed!CY1","v":"PostHR I1 set1"},{"$f":"transposed!DA1","v":"PostHR I1 set2"},{"$f":"transposed!DC1","v":"PostHR I2 set1"},{"$f":"transposed!DE1","v":"PostHR I2 set2"},{"$f":"transposed!DG1","v":"PostHR I3 set1"},{"$f":"transposed!DI1","v":"PostHR I3 set2"},{"$f":"transposed!DK1","v":"PostHR I4 set1"},{"$f":"transposed!DM1","v":"PostHR I4 set2"},{"$f":"transposed!DO1","v":"PostHR I5 set1"},{"$f":"transposed!DQ1","v":"PostHR I5 set2"},"avg-postHR-i",{"$f":"transposed!DR1","v":"Gender"},{"$f":"transposed!DS1","v":"BMI"},{"$f":"transposed!DT1","v":"ADD"},"ID (reds lack HR data)"]
["AA102",{"$f":"transposed!B37","v":18.305},{"$f":"transposed!D37","v":22.735},{"$f":"transposed!F37","v":22.472},{"$f":"transposed!H37","v":20.407},{"$f":"transposed!J37","v":21.423},{"$f":"transposed!L37","v":20.232},{"$f":"transposed!N37","v":23.489},{"$f":"transposed!P37","v":19.776},{"$f":"transposed!R37","v":21.049},{"$f":"transposed!T37","v":19.991},{"$f":"AVERAGE(B2:K2)","v":20.987900000000003},{"$f":"transposed!V37","v":18.948},{"$f":"transposed!X37","v":18.14},{"$f":"transposed!Z37","v":18.792},{"$f":"transposed!AB37","v":16.81},{"$f":"transposed!AD37","v":19.16},{"$f":"transposed!AF37","v":18.208},{"$f":"transposed!AH37","v":18.839},{"$f":"transposed!AJ37","v":19.417},{"$f":"transposed!AL37","v":17.696},{"$f":"transposed!AN37","v":18.175},{"$f":"AVERAGE(M2:V2)","v":18.4185},{"$f":"transposed!C37","v":34.625},{"$f":"transposed!E37","v":35.799},{"$f":"transposed!G37","v":30.232},{"$f":"transposed!I37","v":33.417},{"$f":"transposed!K37","v":28.513},{"$f":"transposed!M37","v":36.513},{"$f":"transposed!O37","v":32.007},{"$f":"transposed!Q37","v":35.88},{"$f":"transposed!S37","v":32.255},{"$f":"transposed!U37","v":27.103},{"$f":"AVERAGE(X2:AG2)","v":32.63440000000001},{"$f":"transposed!W37","v":24.431},{"$f":"transposed!Y37","v":30.767},{"$f":"transposed!AA37","v":30.783},{"$f":"transposed!AC37","v":30.584},{"$f":"transposed!AE37","v":29.046},{"$f":"transposed!AG37","v":26.535},{"$f":"transposed!AI37","v":29},{"$f":"transposed!AK37","v":26.759},{"$f":"transposed!AM37","v":32.497},{"$f":"transposed!AO37","v":34.849},{"$f":"AVERAGE(AI2:AR2)","v":29.5251},{"$f":"transposed!AP37*2.5","v":0},{"$f":"2.5*transposed!AR37","v":0},{"$f":"2.5*transposed!AT37","v":0},{"$f":"2.5*transposed!AV37","v":0},{"$f":"2.5*transposed!AX37","v":0},{"$f":"transposed!AZ37","v":2.5},{"$f":"transposed!BB37","v":0},{"$f":"transposed!BD37","v":0},{"$f":"transposed!BF37","v":0},{"$f":"transposed!BH37","v":0},{"$f":"AVERAGE(AT2:BC2)","v":0.25},{"$f":"transposed!BJ37","v":2.5},{"$f":"transposed!BL37","v":2.5},{"$f":"transposed!BN37","v":0},{"$f":"transposed!BP37","v":2.5},{"$f":"transposed!BR37","v":0},{"$f":"transposed!BT37","v":2.5},{"$f":"transposed!BV37","v":2.5},{"$f":"transposed!BX37","v":2.5},{"$f":"transposed!BZ37","v":0},{"$f":"transposed!CB37","v":2.5},{"$f":"AVERAGE(BE2:BN2)","v":1.75},{"$f":"transposed!AQ37","v":12.5},{"$f":"transposed!AS37","v":10},{"$f":"transposed!AU37","v":5},{"$f":"transposed!AW37","v":7.5},{"$f":"transposed!AY37","v":7.5},{"$f":"transposed!BA37","v":10},{"$f":"transposed!BC37","v":10},{"$f":"transposed!BE37","v":10},{"$f":"transposed!BG37","v":2.5},{"$f":"transposed!BI37","v":2.5},{"$f":"AVERAGE(BP2:BY2)","v":7.75},{"$f":"transposed!BK37","v":10},{"$f":"transposed!BM37","v":5},{"$f":"transposed!BO37","v":10},{"$f":"transposed!BQ37","v":7.5},{"$f":"transposed!BS37","v":7.5},{"$f":"transposed!BU37","v":2.5},{"$f":"transposed!BW37","v":2.5},{"$f":"transposed!BY37","v":2.5},{"$f":"transposed!CA37","v":5},{"$f":"transposed!CC37","v":10},{"$f":"AVERAGE(CA2:CJ2)","v":6.25},{"$f":"transposed!CD37","v":95},{"$f":"transposed!CF37","v":78},{"$f":"transposed!CH37","v":85},{"$f":"transposed!CJ37","v":81},{"$f":"transposed!CL37","v":79},{"$f":"transposed!CN37","v":79},{"$f":"transposed!CP37","v":76},{"$f":"transposed!CR37","v":79},{"$f":"transposed!CT37","v":75},{"$f":"transposed!CV37","v":74},{"$f":"AVERAGE(CL2:CU2)","v":80.1},{"$f":"transposed!CX37","v":107},{"$f":"transposed!CZ37","v":106},{"$f":"transposed!DB37","v":99},{"$f":"transposed!DD37","v":95},{"$f":"transposed!DF37","v":100},{"$f":"transposed!DH37","v":97},{"$f":"transposed!DJ37","v":96},{"$f":"transposed!DL37","v":94},{"$f":"transposed!DN37","v":97},{"$f":"transposed!DP37","v":89},{"$f":"AVERAGE(CW2:DF2)","v":98},{"$f":"transposed!CE37","v":92},{"$f":"transposed!CG37","v":89},{"$f":"transposed!CI37","v":92},{"$f":"transposed!CK37","v":84},{"$f":"transposed!CM37","v":86},{"$f":"transposed!CO37","v":75},{"$f":"transposed!CQ37","v":78},{"$f":"transposed!CS37","v":81},{"$f":"transposed!CU37","v":74},{"$f":"transposed!CW37","v":90},{"$f":"AVERAGE(DH2:DQ2)","v":84.1},{"$f":"transposed!CY37","v":106},{"$f":"transposed!DA37","v":98},{"$f":"transposed!DC37","v":98},{"$f":"transposed!DE37","v":97},{"$f":"transposed!DG37","v":96},{"$f":"transposed!DI37","v":100},{"$f":"transposed!DK37","v":100},{"$f":"transposed!DM37","v":98},{"$f":"transposed!DO37","v":93},{"$f":"transposed!DQ37","v":92},{"$f":"AVERAGE(DS2:EB2)","v":97.8},{"$f":"transposed!DR37","v":"F"},{"$f":"transposed!DS37","v":21},{"$f":"transposed!DT37","v":"F"},"AA102"]
["CJ101",{"$f":"transposed!B32","v":21.804},{"$f":"transposed!D32","v":20.85},{"$f":"transposed!F32","v":18.439},{"$f":"transposed!H32","v":20.435},{"$f":"transposed!J32","v":16.442},{"$f":"transposed!L32","v":16.785},{"$f":"transposed!N32","v":13.609},{"$f":"transposed!P32","v":12.887},{"$f":"transposed!R32","v":14.216},{"$f":"transposed!T32","v":17.6},17.3067,{"$f":"transposed!V32","v":13.921},{"$f":"transposed!X32","v":14.864},{"$f":"transposed!Z32","v":16.897},{"$f":"transposed!AB32","v":15.616},{"$f":"transposed!AD32","v":14.4},{"$f":"transposed!AF32","v":16.032},{"$f":"transposed!AH32","v":16.032},{"$f":"transposed!AJ32","v":13.656},{"$f":"transposed!AL32","v":13.999},{"$f":"transposed!AN32","v":13.816},14.923300000000001,{"$f":"transposed!C32","v":30.704},{"$f":"transposed!E32","v":30.92},{"$f":"transposed!G32","v":30.272},{"$f":"transposed!I32","v":30.512},{"$f":"transposed!K32","v":34.126},{"$f":"transposed!M32","v":30.77},{"$f":"transposed!O32","v":33.327},{"$f":"transposed!Q32","v":31.713},{"$f":"transposed!S32","v":29.945},{"$f":"transposed!U32","v":31.481},31.377,{"$f":"transposed!W32","v":23.271},{"$f":"transposed!Y32","v":26.85},{"$f":"transposed!AA32","v":33.665},{"$f":"transposed!AC32","v":33.343},{"$f":"transposed!AE32","v":31.664},{"$f":"transposed!AG32","v":26.417},{"$f":"transposed!AI32","v":33.8},{"$f":"transposed!AK32","v":31.216},{"$f":"transposed!AM32","v":30.36},{"$f":"transposed!AO32","v":29.8},30.038600000000002,{"$f":"transposed!AP32","v":0},{"$f":"transposed!AR32","v":0},{"$f":"transposed!AT32","v":0},{"$f":"transposed!AV32","v":0},{"$f":"transposed!AX32","v":0},{"$f":"transposed!AZ32","v":0},{"$f":"transposed!BB32","v":0},{"$f":"transposed!BD32","v":0},{"$f":"transposed!BF32","v":0},{"$f":"transposed!BH32","v":0},{"$f":"AVERAGE(AT3:BC3)","v":0},{"$f":"transposed!BJ32","v":0},{"$f":"transposed!BL32","v":0},{"$f":"transposed!BN32","v":0},{"$f":"transposed!BP32","v":0},{"$f":"transposed!BR32","v":0},{"$f":"transposed!BT32","v":0},{"$f":"transposed!BV32","v":2.5},{"$f":"transposed!BX32","v":0},{"$f":"transposed!BZ32","v":0},{"$f":"transposed!CB32","v":0},{"$f":"AVERAGE(BE3:BN3)","v":0.25},{"$f":"transposed!AQ32","v":0},{"$f":"transposed!AS32","v":0},{"$f":"transposed!AU32","v":0},{"$f":"transposed!AW32","v":0},{"$f":"transposed!AY32","v":5},{"$f":"transposed!BA32","v":0},{"$f":"transposed!BC32","v":5},{"$f":"transposed!BE32","v":2.5},{"$f":"transposed!BG32","v":0},{"$f":"transposed!BI32","v":0},{"$f":"AVERAGE(BP3:BY3)","v":1.25},{"$f":"transposed!BK32","v":0},{"$f":"transposed!BM32","v":0},{"$f":"transposed!BO32","v":5},{"$f":"transposed!BQ32","v":2.5},{"$f":"transposed!BS32","v":5},{"$f":"transposed!BU32","v":0},{"$f":"transposed!BW32","v":2.5},{"$f":"transposed!BY32","v":2.5},{"$f":"transposed!CA32","v":2.5},{"$f":"transposed!CC32","v":0},{"$f":"AVERAGE(CA3:CJ3)","v":2},{"$f":"transposed!CD32","v":110},{"$f":"transposed!CF32","v":109},{"$f":"transposed!CH32","v":100},{"$f":"transposed!CJ32","v":103},{"$f":"transposed!CL32","v":104},{"$f":"transposed!CN32","v":105},{"$f":"transposed!CP32","v":107},{"$f":"transposed!CR32","v":99},{"$f":"transposed!CT32","v":110},{"$f":"transposed!CV32","v":101},104.8,{"$f":"transposed!CX32","v":130},{"$f":"transposed!CZ32","v":124},{"$f":"transposed!DB32","v":124},{"$f":"transposed!DD32","v":122},{"$f":"transposed!DF32","v":116},{"$f":"transposed!DH32","v":117},{"$f":"transposed!DJ32","v":103},{"$f":"transposed!DL32","v":121},{"$f":"transposed!DN32","v":120},{"$f":"transposed!DP32","v":99},117.6,{"$f":"transposed!CE32","v":116},{"$f":"transposed!CG32","v":107},{"$f":"transposed!CI32","v":112},{"$f":"transposed!CK32","v":91},{"$f":"transposed!CM32","v":89},{"$f":"transposed!CO32","v":100},{"$f":"transposed!CQ32","v":108},{"$f":"transposed!CS32","v":111},{"$f":"transposed!CU32","v":95},{"$f":"transposed!CW32","v":93},102.2,{"$f":"transposed!CY32","v":126},{"$f":"transposed!DA32","v":120},{"$f":"transposed!DC32","v":122},{"$f":"transposed!DE32","v":118},{"$f":"transposed!DG32","v":112},{"$f":"transposed!DI32","v":103},{"$f":"transposed!DK32","v":118},{"$f":"transposed!DM32","v":111},{"$f":"transposed!DO32","v":118},{"$f":"transposed!DQ32","v":114},116.2,{"$f":"transposed!DR32","v":"M"},{"$f":"transposed!DS32","v":26.78},{"$f":"transposed!DT32","v":"F"},"CJ101"]
["CN101",{"$f":"transposed!B17","v":18.388},{"$f":"transposed!D17","v":18.172},{"$f":"transposed!F17","v":17.328},{"$f":"transposed!H17","v":15.471},{"$f":"transposed!J17","v":14.967},{"$f":"transposed!L17","v":15.008},{"$f":"transposed!N17","v":14.063},{"$f":"transposed!P17","v":14.168},{"$f":"transposed!R17","v":14.336},{"$f":"transposed!T17","v":15.312},15.721300000000003,{"$f":"transposed!V17","v":14.767},{"$f":"transposed!X17","v":15.368},{"$f":"transposed!Z17","v":14.104},{"$f":"transposed!AB17","v":12.376},{"$f":"transposed!AD17","v":13.207},{"$f":"transposed!AF17","v":12.696},{"$f":"transposed!AH17","v":13.592},{"$f":"transposed!AJ17","v":13.216},{"$f":"transposed!AL17","v":12.199},{"$f":"transposed!AN17","v":12.896},13.4421,{"$f":"transposed!C17","v":40.983},{"$f":"transposed!E17","v":36.182},{"$f":"transposed!G17","v":34.927},{"$f":"transposed!I17","v":37.944},{"$f":"transposed!K17","v":36.095},{"$f":"transposed!M17","v":33.463},{"$f":"transposed!O17","v":38.983},{"$f":"transposed!Q17","v":35.303},{"$f":"transposed!S17","v":34.815},{"$f":"transposed!U17","v":35.775},36.446999999999996,{"$f":"transposed!W17","v":29.487},{"$f":"transposed!Y17","v":33.343},{"$f":"transposed!AA17","v":29.423},{"$f":"transposed!AC17","v":30.959},{"$f":"transposed!AE17","v":30.655},{"$f":"transposed!AG17","v":29.815},{"$f":"transposed!AI17","v":27.839},{"$f":"transposed!AK17","v":30.279},{"$f":"transposed!AM17","v":30.095},{"$f":"transposed!AO17","v":27.487},29.938200000000002,{"$f":"transposed!AP17","v":0},{"$f":"transposed!AR17","v":0},{"$f":"transposed!AT17","v":0},{"$f":"transposed!AV17","v":0},{"$f":"transposed!AX17","v":0},{"$f":"transposed!AZ17","v":0},{"$f":"transposed!BB17","v":0},{"$f":"transposed!BD17","v":0},{"$f":"transposed!BF17","v":0},{"$f":"transposed!BH17","v":0},0,{"$f":"transposed!BJ17","v":0},{"$f":"transposed!BL17","v":0},{"$f":"transposed!BN17","v":0},{"$f":"transposed!BP17","v":0},{"$f":"transposed!BR17","v":0},{"$f":"transposed!BT17","v":0},{"$f":"transposed!BV17","v":0},{"$f":"transposed!BX17","v":0},{"$f":"transposed!BZ17","v":0},{"$f":"transposed!CB17","v":0},0,{"$f":"transposed!AQ17","v":5},{"$f":"transposed!AS17","v":2.5},{"$f":"transposed!AU17","v":5},{"$f":"transposed!AW17","v":2.5},{"$f":"transposed!AY17","v":7.5},{"$f":"transposed!BA17","v":0},{"$f":"transposed!BC17","v":7.5},{"$f":"transposed!BE17","v":5},{"$f":"transposed!BG17","v":2.5},{"$f":"transposed!BI17","v":2.5},4,{"$f":"transposed!BK17","v":2.5},{"$f":"transposed!BM17","v":5},{"$f":"transposed!BO17","v":0},{"$f":"transposed!BQ17","v":5},{"$f":"transposed!BS17","v":5},{"$f":"transposed!BU17","v":5},{"$f":"transposed!BW17","v":0},{"$f":"transposed!BY17","v":0},{"$f":"transposed!CA17","v":0},{"$f":"transposed!CC17","v":0},2.25,{"$f":"transposed!CD17","v":96},{"$f":"transposed!CF17","v":86},{"$f":"transposed!CH17","v":93},{"$f":"transposed!CJ17","v":91},{"$f":"transposed!CL17","v":92},{"$f":"transposed!CN17","v":93},{"$f":"transposed!CP17","v":96},{"$f":"transposed!CR17","v":95},{"$f":"transposed!CT17","v":87},{"$f":"transposed!CV17","v":91},92,{"$f":"transposed!CX17","v":112},{"$f":"transposed!CZ17","v":123},{"$f":"transposed!DB17","v":122},{"$f":"transposed!DD17","v":120},{"$f":"transposed!DF17","v":118},{"$f":"transposed!DH17","v":116},{"$f":"transposed!DJ17","v":106},{"$f":"transposed!DL17","v":110},{"$f":"transposed!DN17","v":105},{"$f":"transposed!DP17","v":110},114.2,{"$f":"transposed!CE17","v":84},{"$f":"transposed!CG17","v":95},{"$f":"transposed!CI17","v":88},{"$f":"transposed!CK17","v":88},{"$f":"transposed!CM17","v":95},{"$f":"transposed!CO17","v":85},{"$f":"transposed!CQ17","v":83},{"$f":"transposed!CS17","v":87},{"$f":"transposed!CU17","v":89},{"$f":"transposed!CW17","v":89},88.3,{"$f":"transposed!CY17","v":122},{"$f":"transposed!DA17","v":115},{"$f":"transposed!DC17","v":115},{"$f":"transposed!DE17","v":111},{"$f":"transposed!DG17","v":114},{"$f":"transposed!DI17","v":111},{"$f":"transposed!DK17","v":113},{"$f":"transposed!DM17","v":110},{"$f":"transposed!DO17","v":109},{"$f":"transposed!DQ17","v":114},113.4,{"$f":"transposed!DR17","v":"F"},{"$f":"transposed!DS17","v":32},{"$f":"transposed!DT17","v":"T"},"CN101"]
["DD101",{"$f":"transposed!B18","v":14.815},{"$f":"transposed!D18","v":15.323},{"$f":"transposed!F18","v":15.096},{"$f":"transposed!H18","v":14.631},{"$f":"transposed!J18","v":14.218},{"$f":"transposed!L18","v":14.014},{"$f":"transposed!N18","v":14.311},{"$f":"transposed!P18","v":14.144},{"$f":"transposed!R18","v":13.626},{"$f":"transposed!T18","v":13.672},14.385,{"$f":"transposed!V18","v":14.915},{"$f":"transposed!X18","v":13.564},{"$f":"transposed!Z18","v":13.32},{"$f":"transposed!AB18","v":12.456},{"$f":"transposed!AD18","v":13.072},{"$f":"transposed!AF18","v":12.601},{"$f":"transposed!AH18","v":13.916},{"$f":"transposed!AJ18","v":13.75},{"$f":"transposed!AL18","v":12.912},{"$f":"transposed!AN18","v":12.737},13.3243,{"$f":"transposed!C18","v":46.783},{"$f":"transposed!E18","v":48.185},{"$f":"transposed!G18","v":43.311},{"$f":"transposed!I18","v":43.68},{"$f":"transposed!K18","v":42.307},{"$f":"transposed!M18","v":42.931},{"$f":"transposed!O18","v":45.175},{"$f":"transposed!Q18","v":39.083},{"$f":"transposed!S18","v":42.496},{"$f":"transposed!U18","v":40.672},43.462300000000006,{"$f":"transposed!W18","v":34.887},{"$f":"transposed!Y18","v":34.872},{"$f":"transposed!AA18","v":34.168},{"$f":"transposed!AC18","v":35.609},{"$f":"transposed!AE18","v":34.543},{"$f":"transposed!AG18","v":37.048},{"$f":"transposed!AI18","v":38.18},{"$f":"transposed!AK18","v":33.456},{"$f":"transposed!AM18","v":33.422},{"$f":"transposed!AO18","v":36.73},35.291500000000006,{"$f":"transposed!AP18","v":0},{"$f":"transposed!AR18","v":0},{"$f":"transposed!AT18","v":0},{"$f":"transposed!AV18","v":0},{"$f":"transposed!AX18","v":0},{"$f":"transposed!AZ18","v":0},{"$f":"transposed!BB18","v":0},{"$f":"transposed!BD18","v":0},{"$f":"transposed!BF18","v":0},{"$f":"transposed!BH18","v":0},0,{"$f":"transposed!BJ18","v":0},{"$f":"transposed!BL18","v":0},{"$f":"transposed!BN18","v":0},{"$f":"transposed!BP18","v":0},{"$f":"transposed!BR18","v":0},{"$f":"transposed!BT18","v":0},{"$f":"transposed!BV18","v":0},{"$f":"transposed!BX18","v":0},{"$f":"transposed!BZ18","v":0},{"$f":"transposed!CB18","v":0},0,{"$f":"transposed!AQ18","v":2.5},{"$f":"transposed!AS18","v":0},{"$f":"transposed!AU18","v":2.5},{"$f":"transposed!AW18","v":5},{"$f":"transposed!AY18","v":5},{"$f":"transposed!BA18","v":0},{"$f":"transposed!BC18","v":2.5},{"$f":"transposed!BE18","v":0},{"$f":"transposed!BG18","v":7.5},{"$f":"transposed!BI18","v":2.5},2.75,{"$f":"transposed!BK18","v":2.5},{"$f":"transposed!BM18","v":0},{"$f":"transposed!BO18","v":0},{"$f":"transposed!BQ18","v":2.5},{"$f":"transposed!BS18","v":2.5},{"$f":"transposed!BU18","v":0},{"$f":"transposed!BW18","v":0},{"$f":"transposed!BY18","v":2.5},{"$f":"transposed!CA18","v":2.5},{"$f":"transposed!CC18","v":2.5},1.5,{"$f":"transposed!CD18","v":68},{"$f":"transposed!CF18","v":64},{"$f":"transposed!CH18","v":84},{"$f":"transposed!CJ18","v":66},{"$f":"transposed!CL18","v":74},{"$f":"transposed!CN18","v":82},{"$f":"transposed!CP18","v":74},{"$f":"transposed!CR18","v":77},{"$f":"transposed!CT18","v":83},{"$f":"transposed!CV18","v":82},75.4,{"$f":"transposed!CX18","v":91},{"$f":"transposed!CZ18","v":87},{"$f":"transposed!DB18","v":93},{"$f":"transposed!DD18","v":93},{"$f":"transposed!DF18","v":85},{"$f":"transposed!DH18","v":93},{"$f":"transposed!DJ18","v":83},{"$f":"transposed!DL18","v":93},{"$f":"transposed!DN18","v":90},{"$f":"transposed!DP18","v":84},89.2,{"$f":"transposed!CE18","v":68},{"$f":"transposed!CG18","v":73},{"$f":"transposed!CI18","v":73},{"$f":"transposed!CK18","v":74},{"$f":"transposed!CM18","v":74},{"$f":"transposed!CO18","v":77},{"$f":"transposed!CQ18","v":72},{"$f":"transposed!CS18","v":79},{"$f":"transposed!CU18","v":77},{"$f":"transposed!CW18","v":79},74.6,{"$f":"transposed!CY18","v":89},{"$f":"transposed!DA18","v":86},{"$f":"transposed!DC18","v":90},{"$f":"transposed!DE18","v":87},{"$f":"transposed!DG18","v":83},{"$f":"transposed!DI18","v":90},{"$f":"transposed!DK18","v":79},{"$f":"transposed!DM18","v":81},{"$f":"transposed!DO18","v":82},{"$f":"transposed!DQ18","v":81},84.8,{"$f":"transposed!DR18","v":"M"},{"$f":"transposed!DS18","v":23},{"$f":"transposed!DT18","v":"T"},"DD101"]
["FA102",{"$f":"transposed!B59","v":14.059},{"$f":"transposed!D59","v":15.213},{"$f":"transposed!F59","v":14.068},{"$f":"transposed!H59","v":13.489},{"$f":"transposed!J59","v":14.255},{"$f":"transposed!L59","v":14.396},{"$f":"transposed!N59","v":13.161},{"$f":"transposed!P59","v":13.588},{"$f":"transposed!R59","v":13.924},{"$f":"transposed!T59","v":12.929},13.908199999999999,{"$f":"transposed!V59","v":13.955},{"$f":"transposed!X59","v":15.79},{"$f":"transposed!Z59","v":13.637},{"$f":"transposed!AB59","v":14.738},{"$f":"transposed!AD59","v":13.705},{"$f":"transposed!AF59","v":13.37},{"$f":"transposed!AH59","v":15.861},{"$f":"transposed!AJ59","v":13.55},{"$f":"transposed!AL59","v":14.564},{"$f":"transposed!AN59","v":15.624},14.479400000000002,{"$f":"transposed!C59","v":30.293},{"$f":"transposed!E59","v":31.671},{"$f":"transposed!G59","v":31.969},{"$f":"transposed!I59","v":30.714},{"$f":"transposed!K59","v":36.275},{"$f":"transposed!M59","v":26.012},{"$f":"transposed!O59","v":27.005},{"$f":"transposed!Q59","v":28.72},{"$f":"transposed!S59","v":33.103},{"$f":"transposed!U59","v":27.335},30.3097,{"$f":"transposed!W59","v":28.986},{"$f":"transposed!Y59","v":28.492},{"$f":"transposed!AA59","v":30.786},{"$f":"transposed!AC59","v":31.88},{"$f":"transposed!AE59","v":30.446},{"$f":"transposed!AG59","v":28.867},{"$f":"transposed!AI59","v":28.66},{"$f":"transposed!AK59","v":37.848},{"$f":"transposed!AM59","v":31.667},{"$f":"transposed!AO59","v":31.906},30.953799999999994,{"$f":"transposed!AP59","v":0},{"$f":"transposed!AR59","v":0},{"$f":"transposed!AT59","v":0},{"$f":"transposed!AV59","v":0},{"$f":"transposed!AX59","v":2.5},{"$f":"transposed!AZ59","v":0},{"$f":"transposed!BB59","v":0},{"$f":"transposed!BD59","v":0},{"$f":"transposed!BF59","v":0},{"$f":"transposed!BH59","v":0},0.25,{"$f":"transposed!BJ59","v":0},{"$f":"transposed!BL59","v":2.5},{"$f":"transposed!BN59","v":0},{"$f":"transposed!BP59","v":2.5},{"$f":"transposed!BR59","v":0},{"$f":"transposed!BT59","v":0},{"$f":"transposed!BV59","v":0},{"$f":"transposed!BX59","v":0},{"$f":"transposed!BZ59","v":5},{"$f":"transposed!CB59","v":2.5},1.25,{"$f":"transposed!AQ59","v":2.5},{"$f":"transposed!AS59","v":5},{"$f":"transposed!AU59","v":2.5},{"$f":"transposed!AW59","v":2.5},{"$f":"transposed!AY59","v":5},{"$f":"transposed!BA59","v":0},{"$f":"transposed!BC59","v":0},{"$f":"transposed!BE59","v":2.5},{"$f":"transposed!BG59","v":5},{"$f":"transposed!BI59","v":0},2.5,{"$f":"transposed!BK59","v":2.5},{"$f":"transposed!BM59","v":0},{"$f":"transposed!BO59","v":7.5},{"$f":"transposed!BQ59","v":10},{"$f":"transposed!BS59","v":7.5},{"$f":"transposed!BU59","v":7.5},{"$f":"transposed!BW59","v":0},{"$f":"transposed!BY59","v":15},{"$f":"transposed!CA59","v":5},{"$f":"transposed!CC59","v":10},6.5,{"$f":"transposed!CD59","v":84},{"$f":"transposed!CF59","v":91},{"$f":"transposed!CH59","v":85},{"$f":"transposed!CJ59","v":87},{"$f":"transposed!CL59","v":85},{"$f":"transposed!CN59","v":82},{"$f":"transposed!CP59","v":84},{"$f":"transposed!CR59","v":91},{"$f":"transposed!CT59","v":85},{"$f":"transposed!CV59","v":84},85.8,{"$f":"transposed!CX59","v":85},{"$f":"transposed!CZ59","v":87},{"$f":"transposed!DB59","v":85},{"$f":"transposed!DD59","v":96},{"$f":"transposed!DF59","v":82},{"$f":"transposed!DH59","v":76},{"$f":"transposed!DJ59","v":78},{"$f":"transposed!DL59","v":84},{"$f":"transposed!DN59","v":86},{"$f":"transposed!DP59","v":84},84.3,{"$f":"transposed!CE59","v":90},{"$f":"transposed!CG59","v":95},{"$f":"transposed!CI59","v":80},{"$f":"transposed!CK59","v":85},{"$f":"transposed!CM59","v":87},{"$f":"transposed!CO59","v":78},{"$f":"transposed!CQ59","v":82},{"$f":"transposed!CS59","v":80},{"$f":"transposed!CU59","v":86},{"$f":"transposed!CW59","v":88},85.1,{"$f":"transposed!CY59","v":94},{"$f":"transposed!DA59","v":86},{"$f":"transposed!DC59","v":89},{"$f":"transposed!DE59","v":82},{"$f":"transposed!DG59","v":83},{"$f":"transposed!DI59","v":82},{"$f":"transposed!DK59","v":89},{"$f":"transposed!DM59","v":83},{"$f":"transposed!DO59","v":91},{"$f":"transposed!DQ59","v":80},85.9,{"$f":"transposed!DR59","v":"F"},{"$f":"transposed!DS59","v":21},{"$f":"transposed!DT59","v":"F"},"FA102"]
["JF101",{"$f":"transposed!B16","v":15.368},{"$f":"transposed!D16","v":17.897},{"$f":"transposed!F16","v":15.937},{"$f":"transposed!H16","v":14.91},{"$f":"transposed!J16","v":13.626},{"$f":"transposed!L16","v":13.647},{"$f":"transposed!N16","v":13.6},{"$f":"transposed!P16","v":12.44},{"$f":"transposed!R16","v":12.544},{"$f":"transposed!T16","v":12.057},14.202599999999999,{"$f":"transposed!V16","v":12.319},{"$f":"transposed!X16","v":12.631},{"$f":"transposed!Z16","v":13.488},{"$f":"transposed!AB16","v":13.024},{"$f":"transposed!AD16","v":13.545},{"$f":"transposed!AF16","v":13.454},{"$f":"transposed!AH16","v":13.336},{"$f":"transposed!AJ16","v":13.208},{"$f":"transposed!AL16","v":14.479},{"$f":"transposed!AN16","v":13.038},13.252200000000002,{"$f":"transposed!C16","v":31.433},{"$f":"transposed!E16","v":32.164},{"$f":"transposed!G16","v":32.624},{"$f":"transposed!I16","v":31.284},{"$f":"transposed!K16","v":33.528},{"$f":"transposed!M16","v":34.456},{"$f":"transposed!O16","v":30.185},{"$f":"transposed!Q16","v":33.95},{"$f":"transposed!S16","v":27.111},{"$f":"transposed!U16","v":29.208},31.594299999999997,{"$f":"transposed!W16","v":24.576},{"$f":"transposed!Y16","v":27.609},{"$f":"transposed!AA16","v":25.961},{"$f":"transposed!AC16","v":29.67},{"$f":"transposed!AE16","v":28.078},{"$f":"transposed!AG16","v":28.625},{"$f":"transposed!AI16","v":28.144},{"$f":"transposed!AK16","v":28.016},{"$f":"transposed!AM16","v":27.618},{"$f":"transposed!AO16","v":28.257},27.655399999999997,{"$f":"transposed!AP16","v":0},{"$f":"transposed!AR16","v":0},{"$f":"transposed!AT16","v":0},{"$f":"transposed!AV16","v":0},{"$f":"transposed!AX16","v":0},{"$f":"transposed!AZ16","v":0},{"$f":"transposed!BB16","v":0},{"$f":"transposed!BD16","v":0},{"$f":"transposed!BF16","v":0},{"$f":"transposed!BH16","v":0},0,{"$f":"transposed!BJ16","v":0},{"$f":"transposed!BL16","v":0},{"$f":"transposed!BN16","v":0},{"$f":"transposed!BP16","v":0},{"$f":"transposed!BR16","v":0},{"$f":"transposed!BT16","v":0},{"$f":"transposed!BV16","v":0},{"$f":"transposed!BX16","v":0},{"$f":"transposed!BZ16","v":2.5},{"$f":"transposed!CB16","v":0},0.25,{"$f":"transposed!AQ16","v":0},{"$f":"transposed!AS16","v":0},{"$f":"transposed!AU16","v":0},{"$f":"transposed!AW16","v":2.5},{"$f":"transposed!AY16","v":2.5},{"$f":"transposed!BA16","v":0},{"$f":"transposed!BC16","v":0},{"$f":"transposed!BE16","v":0},{"$f":"transposed!BG16","v":0},{"$f":"transposed!BI16","v":5},1,{"$f":"transposed!BK16","v":0},{"$f":"transposed!BM16","v":2.5},{"$f":"transposed!BO16","v":0},{"$f":"transposed!BQ16","v":5},{"$f":"transposed!BS16","v":0},{"$f":"transposed!BU16","v":2.5},{"$f":"transposed!BW16","v":2.5},{"$f":"transposed!BY16","v":0},{"$f":"transposed!CA16","v":0},{"$f":"transposed!CC16","v":2.5},1.5,{"$f":"transposed!CD16","v":74},{"$f":"transposed!CF16","v":70},{"$f":"transposed!CH16","v":68},{"$f":"transposed!CJ16","v":70},{"$f":"transposed!CL16","v":77},{"$f":"transposed!CN16","v":72},{"$f":"transposed!CP16","v":68},{"$f":"transposed!CR16","v":71},{"$f":"transposed!CT16","v":69},{"$f":"transposed!CV16","v":73},71.2,{"$f":"transposed!CX16","v":91},{"$f":"transposed!CZ16","v":89},{"$f":"transposed!DB16","v":85},{"$f":"transposed!DD16","v":86},{"$f":"transposed!DF16","v":81},{"$f":"transposed!DH16","v":83},{"$f":"transposed!DJ16","v":80},{"$f":"transposed!DL16","v":80},{"$f":"transposed!DN16","v":82},{"$f":"transposed!DP16","v":83},84,{"$f":"transposed!CE16","v":66},{"$f":"transposed!CG16","v":68},{"$f":"transposed!CI16","v":66},{"$f":"transposed!CK16","v":68},{"$f":"transposed!CM16","v":71},{"$f":"transposed!CO16","v":72},{"$f":"transposed!CQ16","v":70},{"$f":"transposed!CS16","v":68},{"$f":"transposed!CU16","v":74},{"$f":"transposed!CW16","v":69},69.2,{"$f":"transposed!CY16","v":90},{"$f":"transposed!DA16","v":88},{"$f":"transposed!DC16","v":85},{"$f":"transposed!DE16","v":81},{"$f":"transposed!DG16","v":88},{"$f":"transposed!DI16","v":83},{"$f":"transposed!DK16","v":82},{"$f":"transposed!DM16","v":82},{"$f":"transposed!DO16","v":84},{"$f":"transposed!DQ16","v":81},84.4,{"$f":"transposed!DR16","v":"M"},{"$f":"transposed!DS16","v":30},{"$f":"transposed!DT16","v":"T"},"JF101"]
["JH102",{"$f":"transposed!B60","v":16.825},{"$f":"transposed!D60","v":17.531},{"$f":"transposed!F60","v":16.274},{"$f":"transposed!H60","v":16.702},{"$f":"transposed!J60","v":15.857},{"$f":"transposed!L60","v":16.508},{"$f":"transposed!N60","v":16.877},{"$f":"transposed!P60","v":15.108},{"$f":"transposed!R60","v":15.102},{"$f":"transposed!T60","v":15.841},16.2625,{"$f":"transposed!V60","v":14.656},{"$f":"transposed!X60","v":14.354},{"$f":"transposed!Z60","v":14.036},{"$f":"transposed!AB60","v":15.004},{"$f":"transposed!AD60","v":13.886},{"$f":"transposed!AF60","v":14.17},{"$f":"transposed!AH60","v":14.207},{"$f":"transposed!AJ60","v":14.571},{"$f":"transposed!AL60","v":13.835},{"$f":"transposed!AN60","v":14.806},14.352500000000001,{"$f":"transposed!C60","v":31.08},{"$f":"transposed!E60","v":28.656},{"$f":"transposed!G60","v":34.225},{"$f":"transposed!I60","v":27.889},{"$f":"transposed!K60","v":30.394},{"$f":"transposed!M60","v":30.344},{"$f":"transposed!O60","v":27.137},{"$f":"transposed!Q60","v":25.499},{"$f":"transposed!S60","v":25.064},{"$f":"transposed!U60","v":28.837},28.9125,{"$f":"transposed!W60","v":27.87},{"$f":"transposed!Y60","v":23.26},{"$f":"transposed!AA60","v":23.928},{"$f":"transposed!AC60","v":25.182},{"$f":"transposed!AE60","v":27.922},{"$f":"transposed!AG60","v":29.075},{"$f":"transposed!AI60","v":25.766},{"$f":"transposed!AK60","v":29.058},{"$f":"transposed!AM60","v":27.957},{"$f":"transposed!AO60","v":24.832},26.484999999999996,{"$f":"transposed!AP60","v":0},{"$f":"transposed!AR60","v":0},{"$f":"transposed!AT60","v":0},{"$f":"transposed!AV60","v":0},{"$f":"transposed!AX60","v":0},{"$f":"transposed!AZ60","v":0},{"$f":"transposed!BB60","v":2.5},{"$f":"transposed!BD60","v":0},{"$f":"transposed!BF60","v":0},{"$f":"transposed!BH60","v":0},0.25,{"$f":"transposed!BJ60","v":0},{"$f":"transposed!BL60","v":0},{"$f":"transposed!BN60","v":0},{"$f":"transposed!BP60","v":0},{"$f":"transposed!BR60","v":0},{"$f":"transposed!BT60","v":0},{"$f":"transposed!BV60","v":0},{"$f":"transposed!BX60","v":0},{"$f":"transposed!BZ60","v":0},{"$f":"transposed!CB60","v":0},0,{"$f":"transposed!AQ60","v":2.5},{"$f":"transposed!AS60","v":0},{"$f":"transposed!AU60","v":0},{"$f":"transposed!AW60","v":0},{"$f":"transposed!AY60","v":2.5},{"$f":"transposed!BA60","v":2.5},{"$f":"transposed!BC60","v":0},{"$f":"transposed!BE60","v":0},{"$f":"transposed!BG60","v":0},{"$f":"transposed!BI60","v":2.5},1,{"$f":"transposed!BK60","v":0},{"$f":"transposed!BM60","v":0},{"$f":"transposed!BO60","v":0},{"$f":"transposed!BQ60","v":0},{"$f":"transposed!BS60","v":0},{"$f":"transposed!BU60","v":0},{"$f":"transposed!BW60","v":0},{"$f":"transposed!BY60","v":2.5},{"$f":"transposed!CA60","v":0},{"$f":"transposed!CC60","v":2.5},0.5,{"$f":"transposed!CD60","v":103},{"$f":"transposed!CF60","v":72},{"$f":"transposed!CH60","v":86},{"$f":"transposed!CJ60","v":83},{"$f":"transposed!CL60","v":80},{"$f":"transposed!CN60","v":82},{"$f":"transposed!CP60","v":80},{"$f":"transposed!CR60","v":75},{"$f":"transposed!CT60","v":75},{"$f":"transposed!CV60","v":71},80.7,{"$f":"transposed!CX60","v":107},{"$f":"transposed!CZ60","v":101},{"$f":"transposed!DB60","v":97},{"$f":"transposed!DD60","v":95},{"$f":"transposed!DF60","v":107},{"$f":"transposed!DH60","v":94},{"$f":"transposed!DJ60","v":105},{"$f":"transposed!DL60","v":90},{"$f":"transposed!DN60","v":95},{"$f":"transposed!DP60","v":97},98.8,{"$f":"transposed!CE60","v":109},{"$f":"transposed!CG60","v":99},{"$f":"transposed!CI60","v":88},{"$f":"transposed!CK60","v":89},{"$f":"transposed!CM60","v":88},{"$f":"transposed!CO60","v":86},{"$f":"transposed!CQ60","v":76},{"$f":"transposed!CS60","v":73},{"$f":"transposed!CU60","v":71},{"$f":"transposed!CW60","v":94},87.3,{"$f":"transposed!CY60","v":100},{"$f":"transposed!DA60","v":91},{"$f":"transposed!DC60","v":99},{"$f":"transposed!DE60","v":91},{"$f":"transposed!DG60","v":95},{"$f":"transposed!DI60","v":78},{"$f":"transposed!DK60","v":94},{"$f":"transposed!DM60","v":95},{"$f":"transposed!DO60","v":63},{"$f":"transposed!DQ60","v":89},89.5,{"$f":"transposed!DR60","v":"F"},{"$f":"transposed!DS60","v":19},{"$f":"transposed!DT60","v":"F"},"JH102"]
["JR101",{"$f":"transposed!B67","v":28.894},{"$f":"transposed!D67","v":26.302},{"$f":"transposed!F67","v":22.96},{"$f":"transposed!H67","v":23.916},{"$f":"transposed!J67","v":23.762},{"$f":"transposed!L67","v":23.011},{"$f":"transposed!N67","v":22.413},{"$f":"transposed!P67","v":24.814},{"$f":"transposed!R67","v":23.931},{"$f":"transposed!T67","v":22.341},24.2344,{"$f":"transposed!V67","v":22.84},{"$f":"transposed!X67","v":23.562},{"$f":"transposed!Z67","v":22.077},{"$f":"transposed!AB67","v":22},{"$f":"transposed!AD67","v":22.712},{"$f":"transposed!AF67","v":23.161},{"$f":"transposed!AH67","v":21.718},{"$f":"transposed!AJ67","v":23.226},{"$f":"transposed!AL67","v":21.99},{"$f":"transposed!AN67","v":22.276},22.5562,{"$f":"transposed!C67","v":45.415},{"$f":"transposed!E67","v":41.469},{"$f":"transposed!G67","v":37.197},{"$f":"transposed!I67","v":33.887},{"$f":"transposed!K67","v":35.392},{"$f":"transposed!M67","v":33.571},{"$f":"transposed!O67","v":33.288},{"$f":"transposed!Q67","v":35.509},{"$f":"transposed!S67","v":35.092},{"$f":"transposed!U67","v":33.453},36.4273,{"$f":"transposed!W67","v":32.099},{"$f":"transposed!Y67","v":32.47},{"$f":"transposed!AA67","v":37.88},{"$f":"transposed!AC67","v":35.83},{"$f":"transposed!AE67","v":38.723},{"$f":"transposed!AG67","v":32.72},{"$f":"transposed!AI67","v":33.438},{"$f":"transposed!AK67","v":31.718},{"$f":"transposed!AM67","v":31.335},{"$f":"transposed!AO67","v":30.884},33.709700000000005,{"$f":"transposed!AP67","v":0},{"$f":"transposed!AR67","v":0},{"$f":"transposed!AT67","v":0},{"$f":"transposed!AV67","v":0},{"$f":"transposed!AX67","v":2.5},{"$f":"transposed!AZ67","v":0},{"$f":"transposed!BB67","v":0},{"$f":"transposed!BD67","v":0},{"$f":"transposed!BF67","v":0},{"$f":"transposed!BH67","v":0},0.25,{"$f":"transposed!BJ67","v":2.5},{"$f":"transposed!BL67","v":2.5},{"$f":"transposed!BN67","v":0},{"$f":"transposed!BP67","v":0},{"$f":"transposed!BR67","v":2.5},{"$f":"transposed!BT67","v":0},{"$f":"transposed!BV67","v":0},{"$f":"transposed!BX67","v":0},{"$f":"transposed!BZ67","v":0},{"$f":"transposed!CB67","v":0},0.75,{"$f":"transposed!AQ67","v":5},{"$f":"transposed!AS67","v":2.5},{"$f":"transposed!AU67","v":0},{"$f":"transposed!AW67","v":0},{"$f":"transposed!AY67","v":2.5},{"$f":"transposed!BA67","v":0},{"$f":"transposed!BC67","v":0},{"$f":"transposed!BE67","v":0},{"$f":"transposed!BG67","v":2.5},{"$f":"transposed!BI67","v":0},1.25,{"$f":"transposed!BK67","v":2.5},{"$f":"transposed!BM67","v":5},{"$f":"transposed!BO67","v":5},{"$f":"transposed!BQ67","v":0},{"$f":"transposed!BS67","v":0},{"$f":"transposed!BU67","v":0},{"$f":"transposed!BW67","v":0},{"$f":"transposed!BY67","v":0},{"$f":"transposed!CA67","v":0},{"$f":"transposed!CC67","v":2.5},1.5,{"$f":"transposed!CD67","v":72},{"$f":"transposed!CF67","v":87},{"$f":"transposed!CH67","v":90},{"$f":"transposed!CJ67","v":88},{"$f":"transposed!CL67","v":84},{"$f":"transposed!CN67","v":87},{"$f":"transposed!CP67","v":92},{"$f":"transposed!CR67","v":85},{"$f":"transposed!CT67","v":80},{"$f":"transposed!CV67","v":87},85.2,{"$f":"transposed!CX67","v":100},{"$f":"transposed!CZ67","v":98},{"$f":"transposed!DB67","v":98},{"$f":"transposed!DD67","v":94},{"$f":"transposed!DF67","v":96},{"$f":"transposed!DH67","v":94},{"$f":"transposed!DJ67","v":99},{"$f":"transposed!DL67","v":108},{"$f":"transposed!DN67","v":91},{"$f":"transposed!DP67","v":93},97.1,{"$f":"transposed!CE67","v":85},{"$f":"transposed!CG67","v":81},{"$f":"transposed!CI67","v":84},{"$f":"transposed!CK67","v":85},{"$f":"transposed!CM67","v":82},{"$f":"transposed!CO67","v":88},{"$f":"transposed!CQ67","v":88},{"$f":"transposed!CS67","v":84},{"$f":"transposed!CU67","v":84},{"$f":"transposed!CW67","v":84},84.5,{"$f":"transposed!CY67","v":101},{"$f":"transposed!DA67","v":98},{"$f":"transposed!DC67","v":98},{"$f":"transposed!DE67","v":98},{"$f":"transposed!DG67","v":92},{"$f":"transposed!DI67","v":103},{"$f":"transposed!DK67","v":96},{"$f":"transposed!DM67","v":101},{"$f":"transposed!DO67","v":96},{"$f":"transposed!DQ67","v":95},97.8,{"$f":"transposed!DR67","v":"F"},{"$f":"transposed!DS67","v":27},{"$f":"transposed!DT67","v":"F"},"JR101"]
["MR101",{"$f":"transposed!B19","v":19.638},{"$f":"transposed!D19","v":21.359},{"$f":"transposed!F19","v":18.296},{"$f":"transposed!H19","v":19.76},{"$f":"transposed!J19","v":19.031},{"$f":"transposed!L19","v":17.648},{"$f":"transposed!N19","v":17.76},{"$f":"transposed!P19","v":17.152},{"$f":"transposed!R19","v":16.567},{"$f":"transposed!T19","v":17.48},18.4691,{"$f":"transposed!V19","v":19.257},{"$f":"transposed!X19","v":16.937},{"$f":"transposed!Z19","v":16.816},{"$f":"transposed!AB19","v":16.808},{"$f":"transposed!AD19","v":15.928},{"$f":"transposed!AF19","v":15.879},{"$f":"transposed!AH19","v":16.271},{"$f":"transposed!AJ19","v":15.449},{"$f":"transposed!AL19","v":15.543},{"$f":"transposed!AN19","v":15.153},16.404100000000003,{"$f":"transposed!C19","v":33.256},{"$f":"transposed!E19","v":32.968},{"$f":"transposed!G19","v":38.136},{"$f":"transposed!I19","v":32.009},{"$f":"transposed!K19","v":37.136},{"$f":"transposed!M19","v":31.854},{"$f":"transposed!O19","v":30.456},{"$f":"transposed!Q19","v":32.218},{"$f":"transposed!S19","v":31.583},{"$f":"transposed!U19","v":30.417},33.0033,{"$f":"transposed!W19","v":27.601},{"$f":"transposed!Y19","v":25.376},{"$f":"transposed!AA19","v":29.512},{"$f":"transposed!AC19","v":32.36},{"$f":"transposed!AE19","v":28.36},{"$f":"transposed!AG19","v":29.728},{"$f":"transposed!AI19","v":29.278},{"$f":"transposed!AK19","v":27.935},{"$f":"transposed!AM19","v":26.84},{"$f":"transposed!AO19","v":26.071},28.306100000000004,{"$f":"transposed!AP19","v":0},{"$f":"transposed!AR19","v":0},{"$f":"transposed!AT19","v":0},{"$f":"transposed!AV19","v":0},{"$f":"transposed!AX19","v":0},{"$f":"transposed!AZ19","v":0},{"$f":"transposed!BB19","v":0},{"$f":"transposed!BD19","v":0},{"$f":"transposed!BF19","v":0},{"$f":"transposed!BH19","v":0},0,{"$f":"transposed!BJ19","v":0},{"$f":"transposed!BL19","v":0},{"$f":"transposed!BN19","v":0},{"$f":"transposed!BP19","v":0},{"$f":"transposed!BR19","v":0},{"$f":"transposed!BT19","v":0},{"$f":"transposed!BV19","v":0},{"$f":"transposed!BX19","v":0},{"$f":"transposed!BZ19","v":0},{"$f":"transposed!CB19","v":0},0,{"$f":"transposed!AQ19","v":0},{"$f":"transposed!AS19","v":0},{"$f":"transposed!AU19","v":0},{"$f":"transposed!AW19","v":2.5},{"$f":"transposed!AY19","v":2.5},{"$f":"transposed!BA19","v":0},{"$f":"transposed!BC19","v":0},{"$f":"transposed!BE19","v":2.5},{"$f":"transposed!BG19","v":0},{"$f":"transposed!BI19","v":0},0.75,{"$f":"transposed!BK19","v":2.5},{"$f":"transposed!BM19","v":0},{"$f":"transposed!BO19","v":5},{"$f":"transposed!BQ19","v":5},{"$f":"transposed!BS19","v":5},{"$f":"transposed!BU19","v":5},{"$f":"transposed!BW19","v":5},{"$f":"transposed!BY19","v":0},{"$f":"transposed!CA19","v":0},{"$f":"transposed!CC19","v":2.5},3,{"$f":"transposed!CD19","v":93},{"$f":"transposed!CF19","v":80},{"$f":"transposed!CH19","v":77},{"$f":"transposed!CJ19","v":77},{"$f":"transposed!CL19","v":75},{"$f":"transposed!CN19","v":79},{"$f":"transposed!CP19","v":84},{"$f":"transposed!CR19","v":89},{"$f":"transposed!CT19","v":80},{"$f":"transposed!CV19","v":80},81.4,{"$f":"transposed!CX19","v":95},{"$f":"transposed!CZ19","v":98},{"$f":"transposed!DB19","v":89},{"$f":"transposed!DD19","v":87},{"$f":"transposed!DF19","v":93},{"$f":"transposed!DH19","v":92},{"$f":"transposed!DJ19","v":82},{"$f":"transposed!DL19","v":85},{"$f":"transposed!DN19","v":88},{"$f":"transposed!DP19","v":88},89.7,{"$f":"transposed!CE19","v":84},{"$f":"transposed!CG19","v":88},{"$f":"transposed!CI19","v":92},{"$f":"transposed!CK19","v":89},{"$f":"transposed!CM19","v":90},{"$f":"transposed!CO19","v":84},{"$f":"transposed!CQ19","v":86},{"$f":"transposed!CS19","v":79},{"$f":"transposed!CU19","v":81},{"$f":"transposed!CW19","v":87},86,{"$f":"transposed!CY19","v":90},{"$f":"transposed!DA19","v":96},{"$f":"transposed!DC19","v":95},{"$f":"transposed!DE19","v":89},{"$f":"transposed!DG19","v":89},{"$f":"transposed!DI19","v":91},{"$f":"transposed!DK19","v":92},{"$f":"transposed!DM19","v":89},{"$f":"transposed!DO19","v":94},{"$f":"transposed!DQ19","v":93},91.8,{"$f":"transposed!DR19","v":"F"},{"$f":"transposed!DS19","v":22},{"$f":"transposed!DT19","v":"F"},"MR101"]
["RS101",{"$f":"transposed!B61","v":36.008},{"$f":"transposed!D61","v":31.772},{"$f":"transposed!F61","v":30.719},{"$f":"transposed!H61","v":29.846},{"$f":"transposed!J61","v":30.745},{"$f":"transposed!L61","v":33.486},{"$f":"transposed!N61","v":27.908},{"$f":"transposed!P61","v":26.755},{"$f":"transposed!R61","v":30.296},{"$f":"transposed!T61","v":29.025},30.655999999999995,{"$f":"transposed!V61","v":22.244},{"$f":"transposed!X61","v":21.291},{"$f":"transposed!Z61","v":19.417},{"$f":"transposed!AB61","v":18.368},{"$f":"transposed!AD61","v":21.009},{"$f":"transposed!AF61","v":21.038},{"$f":"transposed!AH61","v":18.903},{"$f":"transposed!AJ61","v":20.05},{"$f":"transposed!AL61","v":21.054},{"$f":"transposed!AN61","v":22.308},20.568199999999997,{"$f":"transposed!C61","v":44.956},{"$f":"transposed!E61","v":40.19},{"$f":"transposed!G61","v":35.879},{"$f":"transposed!I61","v":36.55},{"$f":"transposed!K61","v":38.052},{"$f":"transposed!M61","v":36.143},{"$f":"transposed!O61","v":36.028},{"$f":"transposed!Q61","v":32.268},{"$f":"transposed!S61","v":36.162},{"$f":"transposed!U61","v":35.506},37.1734,{"$f":"transposed!W61","v":39.198},{"$f":"transposed!Y61","v":27.786},{"$f":"transposed!AA61","v":28.26},{"$f":"transposed!AC61","v":30.481},{"$f":"transposed!AE61","v":28.236},{"$f":"transposed!AG61","v":31.176},{"$f":"transposed!AI61","v":30.617},{"$f":"transposed!AK61","v":29.776},{"$f":"transposed!AM61","v":30.463},{"$f":"transposed!AO61","v":33.169},30.916199999999996,{"$f":"transposed!AP61","v":0},{"$f":"transposed!AR61","v":0},{"$f":"transposed!AT61","v":0},{"$f":"transposed!AV61","v":0},{"$f":"transposed!AX61","v":0},{"$f":"transposed!AZ61","v":0},{"$f":"transposed!BB61","v":0},{"$f":"transposed!BD61","v":0},{"$f":"transposed!BF61","v":0},{"$f":"transposed!BH61","v":0},0,{"$f":"transposed!BJ61","v":0},{"$f":"transposed!BL61","v":0},{"$f":"transposed!BN61","v":0},{"$f":"transposed!BP61","v":0},{"$f":"transposed!BR61","v":0},{"$f":"transposed!BT61","v":0},{"$f":"transposed!BV61","v":0},{"$f":"transposed!BX61","v":0},{"$f":"transposed!BZ61","v":0},{"$f":"transposed!CB61","v":0},0,{"$f":"transposed!AQ61","v":2.5},{"$f":"transposed!AS61","v":2.5},{"$f":"transposed!AU61","v":0},{"$f":"transposed!AW61","v":0},{"$f":"transposed!AY61","v":2.5},{"$f":"transposed!BA61","v":2.5},{"$f":"transposed!BC61","v":0},{"$f":"transposed!BE61","v":2.5},{"$f":"transposed!BG61","v":0},{"$f":"transposed!BI61","v":2.5},1.5,{"$f":"transposed!BK61","v":5},{"$f":"transposed!BM61","v":2.5},{"$f":"transposed!BO61","v":2.5},{"$f":"transposed!BQ61","v":2.5},{"$f":"transposed!BS61","v":0},{"$f":"transposed!BU61","v":2.5},{"$f":"transposed!BW61","v":0},{"$f":"transposed!BY61","v":0},{"$f":"transposed!CA61","v":2.5},{"$f":"transposed!CC61","v":7.5},2.5,{"$f":"transposed!CD61","v":99},{"$f":"transposed!CF61","v":77},{"$f":"transposed!CH61","v":98},{"$f":"transposed!CJ61","v":91},{"$f":"transposed!CL61","v":78},{"$f":"transposed!CN61","v":93},{"$f":"transposed!CP61","v":91},{"$f":"transposed!CR61","v":87},{"$f":"transposed!CT61","v":80},{"$f":"transposed!CV61","v":79},87.3,{"$f":"transposed!CX61","v":97},{"$f":"transposed!CZ61","v":105},{"$f":"transposed!DB61","v":98},{"$f":"transposed!DD61","v":111},{"$f":"transposed!DF61","v":103},{"$f":"transposed!DH61","v":93},{"$f":"transposed!DJ61","v":103},{"$f":"transposed!DL61","v":99},{"$f":"transposed!DN61","v":82},{"$f":"transposed!DP61","v":87},97.8,{"$f":"transposed!CE61","v":90},{"$f":"transposed!CG61","v":98},{"$f":"transposed!CI61","v":87},{"$f":"transposed!CK61","v":87},{"$f":"transposed!CM61","v":88},{"$f":"transposed!CO61","v":97},{"$f":"transposed!CQ61","v":93},{"$f":"transposed!CS61","v":86},{"$f":"transposed!CU61","v":87},{"$f":"transposed!CW61","v":90},90.3,{"$f":"transposed!CY61","v":95},{"$f":"transposed!DA61","v":101},{"$f":"transposed!DC61","v":108},{"$f":"transposed!DE61","v":101},{"$f":"transposed!DG61","v":103},{"$f":"transposed!DI61","v":102},{"$f":"transposed!DK61","v":83},{"$f":"transposed!DM61","v":101},{"$f":"transposed!DO61","v":88},{"$f":"transposed!DQ61","v":85},96.7,{"$f":"transposed!DR61","v":"F"},{"$f":"transposed!DS61","v":25},{"$f":"transposed!DT61","v":"F"},"RS101"]
["SN102",{"$f":"transposed!B57","v":27.736},{"$f":"transposed!D57","v":22.525},{"$f":"transposed!F57","v":19.839},{"$f":"transposed!H57","v":19.872},{"$f":"transposed!J57","v":18.935},{"$f":"transposed!L57","v":18.792},{"$f":"transposed!N57","v":20.017},{"$f":"transposed!P57","v":18.503},{"$f":"transposed!R57","v":17.335},{"$f":"transposed!T57","v":17.04},20.0594,{"$f":"transposed!V57","v":20.121},{"$f":"transposed!X57","v":18.423},{"$f":"transposed!Z57","v":18.64},{"$f":"transposed!AB57","v":16.935},{"$f":"transposed!AD57","v":18.351},{"$f":"transposed!AF57","v":18.183},{"$f":"transposed!AH57","v":20.128},{"$f":"transposed!AJ57","v":20.16},{"$f":"transposed!AL57","v":18.432},{"$f":"transposed!AN57","v":18.424},18.7797,{"$f":"transposed!C57","v":52.453},{"$f":"transposed!E57","v":44.728},{"$f":"transposed!G57","v":44.912},{"$f":"transposed!I57","v":43.952},{"$f":"transposed!K57","v":44.344},{"$f":"transposed!M57","v":45.016},{"$f":"transposed!O57","v":40.76},{"$f":"transposed!Q57","v":42.713},{"$f":"transposed!S57","v":38.543},{"$f":"transposed!U57","v":36.57},43.399100000000004,{"$f":"transposed!W57","v":34.608},{"$f":"transposed!Y57","v":36.32},{"$f":"transposed!AA57","v":37.961},{"$f":"transposed!AC57","v":37.608},{"$f":"transposed!AE57","v":37.736},{"$f":"transposed!AG57","v":37.76},{"$f":"transposed!AI57","v":38.562},{"$f":"transposed!AK57","v":37.624},{"$f":"transposed!AM57","v":34.816},{"$f":"transposed!AO57","v":34.759},36.775400000000005,{"$f":"transposed!AP57","v":0},{"$f":"transposed!AR57","v":0},{"$f":"transposed!AT57","v":0},{"$f":"transposed!AV57","v":0},{"$f":"transposed!AX57","v":0},{"$f":"transposed!AZ57","v":0},{"$f":"transposed!BB57","v":0},{"$f":"transposed!BD57","v":0},{"$f":"transposed!BF57","v":0},{"$f":"transposed!BH57","v":0},0,{"$f":"transposed!BJ57","v":0},{"$f":"transposed!BL57","v":0},{"$f":"transposed!BN57","v":0},{"$f":"transposed!BP57","v":0},{"$f":"transposed!BR57","v":0},{"$f":"transposed!BT57","v":0},{"$f":"transposed!BV57","v":0},{"$f":"transposed!BX57","v":0},{"$f":"transposed!BZ57","v":0},{"$f":"transposed!CB57","v":0},0,{"$f":"transposed!AQ57","v":2.5},{"$f":"transposed!AS57","v":5},{"$f":"transposed!AU57","v":0},{"$f":"transposed!AW57","v":0},{"$f":"transposed!AY57","v":2.5},{"$f":"transposed!BA57","v":0},{"$f":"transposed!BC57","v":5},{"$f":"transposed!BE57","v":0},{"$f":"transposed!BG57","v":7.5},{"$f":"transposed!BI57","v":5},2.75,{"$f":"transposed!BK57","v":0},{"$f":"transposed!BM57","v":2.5},{"$f":"transposed!BO57","v":2.5},{"$f":"transposed!BQ57","v":0},{"$f":"transposed!BS57","v":0},{"$f":"transposed!BU57","v":2.5},{"$f":"transposed!BW57","v":0},{"$f":"transposed!BY57","v":5},{"$f":"transposed!CA57","v":0},{"$f":"transposed!CC57","v":0},1.25,{"$f":"transposed!CD57","v":74},{"$f":"transposed!CF57","v":84},{"$f":"transposed!CH57","v":74},{"$f":"transposed!CJ57","v":78},{"$f":"transposed!CL57","v":79},{"$f":"transposed!CN57","v":80},{"$f":"transposed!CP57","v":75},{"$f":"transposed!CR57","v":79},{"$f":"transposed!CT57","v":80},{"$f":"transposed!CV57","v":81},78.4,{"$f":"transposed!CX57","v":100},{"$f":"transposed!CZ57","v":99},{"$f":"transposed!DB57","v":91},{"$f":"transposed!DD57","v":89},{"$f":"transposed!DF57","v":91},{"$f":"transposed!DH57","v":90},{"$f":"transposed!DJ57","v":82},{"$f":"transposed!DL57","v":83},{"$f":"transposed!DN57","v":90},{"$f":"transposed!DP57","v":90},90.5,{"$f":"transposed!CE57","v":90},{"$f":"transposed!CG57","v":80},{"$f":"transposed!CI57","v":76},{"$f":"transposed!CK57","v":72},{"$f":"transposed!CM57","v":79},{"$f":"transposed!CO57","v":76},{"$f":"transposed!CQ57","v":75},{"$f":"transposed!CS57","v":75},{"$f":"transposed!CU57","v":77},{"$f":"transposed!CW57","v":75},77.5,{"$f":"transposed!CY57","v":99},{"$f":"transposed!DA57","v":98},{"$f":"transposed!DC57","v":88},{"$f":"transposed!DE57","v":89},{"$f":"transposed!DG57","v":91},{"$f":"transposed!DI57","v":92},{"$f":"transposed!DK57","v":92},{"$f":"transposed!DM57","v":86},{"$f":"transposed!DO57","v":86},{"$f":"transposed!DQ57","v":85},90.6,{"$f":"transposed!DR57","v":"F"},{"$f":"transposed!DS57","v":28},{"$f":"transposed!DT57","v":"F"},"SN102"]
["TB101",{"$f":"transposed!B39","v":17.175},{"$f":"transposed!D39","v":16.824},{"$f":"transposed!F39","v":16.664},{"$f":"transposed!H39","v":17.544},{"$f":"transposed!J39","v":15.991},{"$f":"transposed!L39","v":16.767},{"$f":"transposed!N39","v":16.855},{"$f":"transposed!P39","v":16.935},{"$f":"transposed!R39","v":17.272},{"$f":"transposed!T39","v":15.111},16.7138,{"$f":"transposed!V39","v":17.16},{"$f":"transposed!X39","v":16.74},{"$f":"transposed!Z39","v":14.704},{"$f":"transposed!AB39","v":14.832},{"$f":"transposed!AD39","v":14.999},{"$f":"transposed!AF39","v":14.839},{"$f":"transposed!AH39","v":14.68},{"$f":"transposed!AJ39","v":15.551},{"$f":"transposed!AL39","v":13.935},{"$f":"transposed!AN39","v":14.327},15.1767,{"$f":"transposed!C39","v":30.359},{"$f":"transposed!E39","v":28.19},{"$f":"transposed!G39","v":27.375},{"$f":"transposed!I39","v":27.567},{"$f":"transposed!K39","v":28.575},{"$f":"transposed!M39","v":28.191},{"$f":"transposed!O39","v":25.808},{"$f":"transposed!Q39","v":25.017},{"$f":"transposed!S39","v":26.768},{"$f":"transposed!U39","v":27.624},27.5474,{"$f":"transposed!W39","v":22.751},{"$f":"transposed!Y39","v":25.279},{"$f":"transposed!AA39","v":21.823},{"$f":"transposed!AC39","v":23.912},{"$f":"transposed!AE39","v":24.559},{"$f":"transposed!AG39","v":23.904},{"$f":"transposed!AI39","v":24.783},{"$f":"transposed!AK39","v":22.888},{"$f":"transposed!AM39","v":23.664},{"$f":"transposed!AO39","v":25.367},23.893000000000004,{"$f":"transposed!AP39","v":0},{"$f":"transposed!AR39","v":0},{"$f":"transposed!AT39","v":0},{"$f":"transposed!AV39","v":0},{"$f":"transposed!AX39","v":0},{"$f":"transposed!AZ39","v":0},{"$f":"transposed!BB39","v":0},{"$f":"transposed!BD39","v":0},{"$f":"transposed!BF39","v":0},{"$f":"transposed!BH39","v":0},0,{"$f":"transposed!BJ39","v":0},{"$f":"transposed!BL39","v":0},{"$f":"transposed!BN39","v":0},{"$f":"transposed!BP39","v":0},{"$f":"transposed!BR39","v":0},{"$f":"transposed!BT39","v":0},{"$f":"transposed!BV39","v":0},{"$f":"transposed!BX39","v":0},{"$f":"transposed!BZ39","v":0},{"$f":"transposed!CB39","v":0},0,{"$f":"transposed!AQ39","v":0},{"$f":"transposed!AS39","v":5},{"$f":"transposed!AU39","v":0},{"$f":"transposed!AW39","v":0},{"$f":"transposed!AY39","v":0},{"$f":"transposed!BA39","v":2.5},{"$f":"transposed!BC39","v":2.5},{"$f":"transposed!BE39","v":2.5},{"$f":"transposed!BG39","v":2.5},{"$f":"transposed!BI39","v":2.5},1.75,{"$f":"transposed!BK39","v":0},{"$f":"transposed!BM39","v":0},{"$f":"transposed!BO39","v":0},{"$f":"transposed!BQ39","v":0},{"$f":"transposed!BS39","v":5},{"$f":"transposed!BU39","v":0},{"$f":"transposed!BW39","v":0},{"$f":"transposed!BY39","v":5},{"$f":"transposed!CA39","v":5},{"$f":"transposed!CC39","v":0},1.5,{"$f":"transposed!CD39","v":90},{"$f":"transposed!CF39","v":95},{"$f":"transposed!CH39","v":90},{"$f":"transposed!CJ39","v":92},{"$f":"transposed!CL39","v":93},{"$f":"transposed!CN39","v":87},{"$f":"transposed!CP39","v":93},{"$f":"transposed!CR39","v":86},{"$f":"transposed!CT39","v":94},{"$f":"transposed!CV39","v":86},90.6,{"$f":"transposed!CX39","v":92},{"$f":"transposed!CZ39","v":93},{"$f":"transposed!DB39","v":92},{"$f":"transposed!DD39","v":91},{"$f":"transposed!DF39","v":88},{"$f":"transposed!DH39","v":93},{"$f":"transposed!DJ39","v":88},{"$f":"transposed!DL39","v":95},{"$f":"transposed!DN39","v":92},{"$f":"transposed!DP39","v":90},91.4,{"$f":"transposed!CE39","v":93},{"$f":"transposed!CG39","v":87},{"$f":"transposed!CI39","v":88},{"$f":"transposed!CK39","v":91},{"$f":"transposed!CM39","v":89},{"$f":"transposed!CO39","v":85},{"$f":"transposed!CQ39","v":87},{"$f":"transposed!CS39","v":85},{"$f":"transposed!CU39","v":85},{"$f":"transposed!CW39","v":85},87.5,{"$f":"transposed!CY39","v":93},{"$f":"transposed!DA39","v":91},{"$f":"transposed!DC39","v":92},{"$f":"transposed!DE39","v":94},{"$f":"transposed!DG39","v":91},{"$f":"transposed!DI39","v":92},{"$f":"transposed!DK39","v":91},{"$f":"transposed!DM39","v":90},{"$f":"transposed!DO39","v":92},{"$f":"transposed!DQ39","v":94},92,{"$f":"transposed!DR39","v":"F"},{"$f":"transposed!DS39","v":31},{"$f":"transposed!DT39","v":"F"},"TB101"]
["SW101",{"$f":"transposed!B58","v":9.358},{"$f":"transposed!D58","v":9.166},{"$f":"transposed!F58","v":9.488},{"$f":"transposed!H58","v":9.199},{"$f":"transposed!J58","v":8.623},{"$f":"transposed!L58","v":8.775},{"$f":"transposed!N58","v":10.561},{"$f":"transposed!P58","v":9.896},{"$f":"transposed!R58","v":9.904},{"$f":"transposed!T58","v":9.303},9.427299999999999,{"$f":"transposed!V58","v":9.513},{"$f":"transposed!X58","v":10.6},{"$f":"transposed!Z58","v":9.471},{"$f":"transposed!AB58","v":9.862},{"$f":"transposed!AD58","v":9.752},{"$f":"transposed!AF58","v":9.864},{"$f":"transposed!AH58","v":10.423},{"$f":"transposed!AJ58","v":9.64},{"$f":"transposed!AL58","v":10.039},{"$f":"transposed!AN58","v":10.75},9.9914,{"$f":"transposed!C58","v":27.295},{"$f":"transposed!E58","v":27.312},{"$f":"transposed!G58","v":35.326},{"$f":"transposed!I58","v":28.192},{"$f":"transposed!K58","v":25.559},{"$f":"transposed!M58","v":26.336},{"$f":"transposed!O58","v":31.211},{"$f":"transposed!Q58","v":25.519},{"$f":"transposed!S58","v":29.616},{"$f":"transposed!U58","v":28.192},28.4558,{"$f":"transposed!W58","v":26.104},{"$f":"transposed!Y58","v":29.952},{"$f":"transposed!AA58","v":29.888},{"$f":"transposed!AC58","v":25.984},{"$f":"transposed!AE58","v":27.391},{"$f":"transposed!AG58","v":25.343},{"$f":"transposed!AI58","v":28.568},{"$f":"transposed!AK58","v":27.376},{"$f":"transposed!AM58","v":30.376},{"$f":"transposed!AO58","v":27.128},27.811,{"$f":"transposed!AP58","v":0},{"$f":"transposed!AR58","v":0},{"$f":"transposed!AT58","v":0},{"$f":"transposed!AV58","v":0},{"$f":"transposed!AX58","v":0},{"$f":"transposed!AZ58","v":0},{"$f":"transposed!BB58","v":2.5},{"$f":"transposed!BD58","v":0},{"$f":"transposed!BF58","v":2.5},{"$f":"transposed!BH58","v":0},0.5,{"$f":"transposed!BJ58","v":0},{"$f":"transposed!BL58","v":2.5},{"$f":"transposed!BN58","v":2.5},{"$f":"transposed!BP58","v":0},{"$f":"transposed!BR58","v":0},{"$f":"transposed!BT58","v":0},{"$f":"transposed!BV58","v":2.5},{"$f":"transposed!BX58","v":0},{"$f":"transposed!BZ58","v":2.5},{"$f":"transposed!CB58","v":2.5},1.25,{"$f":"transposed!AQ58","v":0},{"$f":"transposed!AS58","v":0},{"$f":"transposed!AU58","v":2.5},{"$f":"transposed!AW58","v":2.5},{"$f":"transposed!AY58","v":0},{"$f":"transposed!BA58","v":2.5},{"$f":"transposed!BC58","v":7.5},{"$f":"transposed!BE58","v":0},{"$f":"transposed!BG58","v":2.5},{"$f":"transposed!BI58","v":2.5},2,{"$f":"transposed!BK58","v":7.5},{"$f":"transposed!BM58","v":2.5},{"$f":"transposed!BO58","v":2.5},{"$f":"transposed!BQ58","v":0},{"$f":"transposed!BS58","v":5},{"$f":"transposed!BU58","v":0},{"$f":"transposed!BW58","v":2.5},{"$f":"transposed!BY58","v":2.5},{"$f":"transposed!CA58","v":5},{"$f":"transposed!CC58","v":0},2.75,{"$f":"transposed!CD58","v":95},{"$f":"transposed!CF58","v":93},{"$f":"transposed!CH58","v":91},{"$f":"transposed!CJ58","v":89},{"$f":"transposed!CL58","v":87},{"$f":"transposed!CN58","v":95},{"$f":"transposed!CP58","v":93},{"$f":"transposed!CR58","v":90},{"$f":"transposed!CT58","v":95},{"$f":"transposed!CV58","v":84},91.2,{"$f":"transposed!CX58","v":108},{"$f":"transposed!CZ58","v":109},{"$f":"transposed!DB58","v":102},{"$f":"transposed!DD58","v":109},{"$f":"transposed!DF58","v":102},{"$f":"transposed!DH58","v":106},{"$f":"transposed!DJ58","v":102},{"$f":"transposed!DL58","v":105},{"$f":"transposed!DN58","v":105},{"$f":"transposed!DP58","v":108},105.6,{"$f":"transposed!CE58","v":93},{"$f":"transposed!CG58","v":92},{"$f":"transposed!CI58","v":93},{"$f":"transposed!CK58","v":91},{"$f":"transposed!CM58","v":90},{"$f":"transposed!CO58","v":84},{"$f":"transposed!CQ58","v":85},{"$f":"transposed!CS58","v":86},{"$f":"transposed!CU58","v":87},{"$f":"transposed!CW58","v":76},87.7,{"$f":"transposed!CY58","v":108},{"$f":"transposed!DA58","v":107},{"$f":"transposed!DC58","v":105},{"$f":"transposed!DE58","v":104},{"$f":"transposed!DG58","v":107},{"$f":"transposed!DI58","v":107},{"$f":"transposed!DK58","v":106},{"$f":"transposed!DM58","v":99},{"$f":"transposed!DO58","v":93},{"$f":"transposed!DQ58","v":103},103.9,{"$f":"transposed!DR58","v":"M"},{"$f":"transposed!DS58","v":26},{"$f":"transposed!DT58","v":"F"},"SW101"]
["AA101",{"$f":"transposed!B6","v":16.791},{"$f":"transposed!D6","v":18.528},{"$f":"transposed!F6","v":17.576},{"$f":"transposed!H6","v":15.951},{"$f":"transposed!J6","v":14.815},{"$f":"transposed!L6","v":14.848},{"$f":"transposed!N6","v":13.424},{"$f":"transposed!P6","v":15.12},{"$f":"transposed!R6","v":13.951},{"$f":"transposed!T6","v":13.711},15.4715,{"$f":"transposed!V6","v":13.903},{"$f":"transposed!X6","v":13.432},{"$f":"transposed!Z6","v":12.895},{"$f":"transposed!AB6","v":13.087},{"$f":"transposed!AD6","v":13.576},{"$f":"transposed!AF6","v":11.464},{"$f":"transposed!AH6","v":13.048},{"$f":"transposed!AJ6","v":12.416},{"$f":"transposed!AL6","v":12.344},{"$f":"transposed!AN6","v":12.759},12.892399999999999,{"$f":"transposed!C6","v":24.535},{"$f":"transposed!E6","v":24.703},{"$f":"transposed!G6","v":24.832},{"$f":"transposed!I6","v":23.896},{"$f":"transposed!K6","v":24.015},{"$f":"transposed!M6","v":19.695},{"$f":"transposed!O6","v":21.447},{"$f":"transposed!Q6","v":21.152},{"$f":"transposed!S6","v":24.159},{"$f":"transposed!U6","v":21.68},23.0114,{"$f":"transposed!W6","v":22.633},{"$f":"transposed!Y6","v":19.887},{"$f":"transposed!AA6","v":20.912},{"$f":"transposed!AC6","v":20.016},{"$f":"transposed!AE6","v":21.128},{"$f":"transposed!AG6","v":20.063},{"$f":"transposed!AI6","v":20.887},{"$f":"transposed!AK6","v":22.167},{"$f":"transposed!AM6","v":21.319},{"$f":"transposed!AO6","v":20.832},20.9844,{"$f":"transposed!AP6","v":0},{"$f":"transposed!AR6","v":0},{"$f":"transposed!AT6","v":0},{"$f":"transposed!AV6","v":0},{"$f":"transposed!AX6","v":0},{"$f":"transposed!AZ6","v":0},{"$f":"transposed!BB6","v":0},{"$f":"transposed!BD6","v":0},{"$f":"transposed!BF6","v":0},{"$f":"transposed!BH6","v":0},0,{"$f":"transposed!BJ6","v":0},{"$f":"transposed!BL6","v":0},{"$f":"transposed!BN6","v":0},{"$f":"transposed!BP6","v":0},{"$f":"transposed!BR6","v":0},{"$f":"transposed!BT6","v":0},{"$f":"transposed!BV6","v":0},{"$f":"transposed!BX6","v":0},{"$f":"transposed!BZ6","v":0},{"$f":"transposed!CB6","v":0},0,{"$f":"transposed!AQ6","v":0},{"$f":"transposed!AS6","v":0},{"$f":"transposed!AU6","v":2.5},{"$f":"transposed!AW6","v":0},{"$f":"transposed!AY6","v":0},{"$f":"transposed!BA6","v":0},{"$f":"transposed!BC6","v":0},{"$f":"transposed!BE6","v":2.5},{"$f":"transposed!BG6","v":2.5},{"$f":"transposed!BI6","v":0},0.75,{"$f":"transposed!BK6","v":0},{"$f":"transposed!BM6","v":2.5},{"$f":"transposed!BO6","v":5},{"$f":"transposed!BQ6","v":2.5},{"$f":"transposed!BS6","v":5},{"$f":"transposed!BU6","v":0},{"$f":"transposed!BW6","v":0},{"$f":"transposed!BY6","v":0},{"$f":"transposed!CA6","v":0},{"$f":"transposed!CC6","v":2.5},1.75,{"$f":"transposed!CD6","v":116},{"$f":"transposed!CF6","v":109},{"$f":"transposed!CH6","v":83},{"$f":"transposed!CJ6","v":105},{"$f":"transposed!CL6","v":111},{"$f":"transposed!CN6","v":111},{"$f":"transposed!CP6","v":107},{"$f":"transposed!CR6","v":106},{"$f":"transposed!CT6","v":93},{"$f":"transposed!CV6","v":109},105,{"$f":"transposed!CX6","v":123},{"$f":"transposed!CZ6","v":122},{"$f":"transposed!DB6","v":117},{"$f":"transposed!DD6","v":115},{"$f":"transposed!DF6","v":108},{"$f":"transposed!DH6","v":115},{"$f":"transposed!DJ6","v":107},{"$f":"transposed!DL6","v":109},{"$f":"transposed!DN6","v":104},{"$f":"transposed!DP6","v":105},112.5,{"$f":"transposed!CE6","v":114},{"$f":"transposed!CG6","v":93},{"$f":"transposed!CI6","v":109},{"$f":"transposed!CK6","v":96},{"$f":"transposed!CM6","v":109},{"$f":"transposed!CO6","v":111},{"$f":"transposed!CQ6","v":102},{"$f":"transposed!CS6","v":107},{"$f":"transposed!CU6","v":94},{"$f":"transposed!CW6","v":108},104.3,{"$f":"transposed!CY6","v":122},{"$f":"transposed!DA6","v":115},{"$f":"transposed!DC6","v":110},{"$f":"transposed!DE6","v":106},{"$f":"transposed!DG6","v":106},{"$f":"transposed!DI6","v":105},{"$f":"transposed!DK6","v":95},{"$f":"transposed!DM6","v":106},{"$f":"transposed!DO6","v":102},{"$f":"transposed!DQ6","v":110},107.7,{"$f":"transposed!DR6","v":"F"},{"$f":"transposed!DS6","v":20},{"$f":"transposed!DT6","v":"T"},"AA101"]
["AI101",{"$f":"transposed!B34","v":28.658},{"$f":"transposed!D34","v":23.7},{"$f":"transposed!F34","v":23.913},{"$f":"transposed!H34","v":22.194},{"$f":"transposed!J34","v":19.961},{"$f":"transposed!L34","v":19.137},{"$f":"transposed!N34","v":19.449},{"$f":"transposed!P34","v":17.816},{"$f":"transposed!R34","v":18.593},{"$f":"transposed!T34","v":16.401},20.9822,{"$f":"transposed!V34","v":19.246},{"$f":"transposed!X34","v":16.736},{"$f":"transposed!Z34","v":16.728},{"$f":"transposed!AB34","v":16.61},{"$f":"transposed!AD34","v":17.314},{"$f":"transposed!AF34","v":15.76},{"$f":"transposed!AH34","v":16.576},{"$f":"transposed!AJ34","v":14.92},{"$f":"transposed!AL34","v":14.425},{"$f":"transposed!AN34","v":14.969},16.3284,{"$f":"transposed!C34","v":38.071},{"$f":"transposed!E34","v":38.64},{"$f":"transposed!G34","v":33.281},{"$f":"transposed!I34","v":37.753},{"$f":"transposed!K34","v":38.168},{"$f":"transposed!M34","v":34.559},{"$f":"transposed!O34","v":33.344},{"$f":"transposed!Q34","v":32.649},{"$f":"transposed!S34","v":35.359},{"$f":"transposed!U34","v":31.087},35.2911,{"$f":"transposed!W34","v":31.416},{"$f":"transposed!Y34","v":28.7},{"$f":"transposed!AA34","v":28.825},{"$f":"transposed!AC34","v":33.714},{"$f":"transposed!AE34","v":31.144},{"$f":"transposed!AG34","v":35.648},{"$f":"transposed!AI34","v":32.496},{"$f":"transposed!AK34","v":32.04},{"$f":"transposed!AM34","v":30.385},{"$f":"transposed!AO34","v":29.832},31.419999999999998,{"$f":"transposed!AP34","v":0},{"$f":"transposed!AR34","v":0},{"$f":"transposed!AT34","v":0},{"$f":"transposed!AV34","v":0},{"$f":"transposed!AX34","v":0},{"$f":"transposed!AZ34","v":0},{"$f":"transposed!BB34","v":0},{"$f":"transposed!BD34","v":0},{"$f":"transposed!BF34","v":0},{"$f":"transposed!BH34","v":0},0,{"$f":"transposed!BJ34","v":0},{"$f":"transposed!BL34","v":0},{"$f":"transposed!BN34","v":0},{"$f":"transposed!BP34","v":0},{"$f":"transposed!BR34","v":0},{"$f":"transposed!BT34","v":0},{"$f":"transposed!BV34","v":0},{"$f":"transposed!BX34","v":0},{"$f":"transposed!BZ34","v":0},{"$f":"transposed!CB34","v":0},0,{"$f":"transposed!AQ34","v":0},{"$f":"transposed!AS34","v":0},{"$f":"transposed!AU34","v":0},{"$f":"transposed!AW34","v":2.5},{"$f":"transposed!AY34","v":2.5},{"$f":"transposed!BA34","v":0},{"$f":"transposed!BC34","v":0},{"$f":"transposed!BE34","v":0},{"$f":"transposed!BG34","v":0},{"$f":"transposed!BI34","v":0},0.5,{"$f":"transposed!BK34","v":0},{"$f":"transposed!BM34","v":0},{"$f":"transposed!BO34","v":0},{"$f":"transposed!BQ34","v":0},{"$f":"transposed!BS34","v":0},{"$f":"transposed!BU34","v":0},{"$f":"transposed!BW34","v":0},{"$f":"transposed!BY34","v":0},{"$f":"transposed!CA34","v":0},{"$f":"transposed!CC34","v":0},0,{"$f":"transposed!CD34","v":92},{"$f":"transposed!CF34","v":102},{"$f":"transposed!CH34","v":92},{"$f":"transposed!CJ34","v":101},{"$f":"transposed!CL34","v":96},{"$f":"transposed!CN34","v":102},{"$f":"transposed!CP34","v":94},{"$f":"transposed!CR34","v":85},{"$f":"transposed!CT34","v":99},{"$f":"transposed!CV34","v":90},95.3,{"$f":"transposed!CX34","v":98},{"$f":"transposed!CZ34","v":92},{"$f":"transposed!DB34","v":95},{"$f":"transposed!DD34","v":94},{"$f":"transposed!DF34","v":94},{"$f":"transposed!DH34","v":93},{"$f":"transposed!DJ34","v":97},{"$f":"transposed!DL34","v":93},{"$f":"transposed!DN34","v":93},{"$f":"transposed!DP34","v":95},94.4,{"$f":"transposed!CE34","v":104},{"$f":"transposed!CG34","v":96},{"$f":"transposed!CI34","v":97},{"$f":"transposed!CK34","v":95},{"$f":"transposed!CM34","v":97},{"$f":"transposed!CO34","v":94},{"$f":"transposed!CQ34","v":97},{"$f":"transposed!CS34","v":94},{"$f":"transposed!CU34","v":97},{"$f":"transposed!CW34","v":93},96.4,{"$f":"transposed!CY34","v":96},{"$f":"transposed!DA34","v":98},{"$f":"transposed!DC34","v":100},{"$f":"transposed!DE34","v":107},{"$f":"transposed!DG34","v":97},{"$f":"transposed!DI34","v":90},{"$f":"transposed!DK34","v":85},{"$f":"transposed!DM34","v":93},{"$f":"transposed!DO34","v":98},{"$f":"transposed!DQ34","v":89},95.3,{"$f":"transposed!DR34","v":"F"},{"$f":"transposed!DS34","v":19},{"$f":"transposed!DT34","v":"F"},"AI101"]
["AK101",{"$f":"transposed!B33","v":22.944},{"$f":"transposed!D33","v":20.456},{"$f":"transposed!F33","v":18.4},{"$f":"transposed!H33","v":18.59},{"$f":"transposed!J33","v":18.45},{"$f":"transposed!L33","v":16.522},{"$f":"transposed!N33","v":16.305},{"$f":"transposed!P33","v":15.432},{"$f":"transposed!R33","v":16.184},{"$f":"transposed!T33","v":15.376},17.8659,{"$f":"transposed!V33","v":16.376},{"$f":"transposed!X33","v":14.777},{"$f":"transposed!Z33","v":14.688},{"$f":"transposed!AB33","v":14.81},{"$f":"transposed!AD33","v":14.223},{"$f":"transposed!AF33","v":12.753},{"$f":"transposed!AH33","v":13.808},{"$f":"transposed!AJ33","v":13.401},{"$f":"transposed!AL33","v":13.432},{"$f":"transposed!AN33","v":12.529},14.079699999999999,{"$f":"transposed!C33","v":23.313},{"$f":"transposed!E33","v":25.968},{"$f":"transposed!G33","v":25.265},{"$f":"transposed!I33","v":23.762},{"$f":"transposed!K33","v":26.993},{"$f":"transposed!M33","v":24.199},{"$f":"transposed!O33","v":24.936},{"$f":"transposed!Q33","v":25.17},{"$f":"transposed!S33","v":22.703},{"$f":"transposed!U33","v":24.016},24.6325,{"$f":"transposed!W33","v":21.993},{"$f":"transposed!Y33","v":26.929},{"$f":"transposed!AA33","v":19.91},{"$f":"transposed!AC33","v":18.656},{"$f":"transposed!AE33","v":20.664},{"$f":"transposed!AG33","v":20.408},{"$f":"transposed!AI33","v":23.578},{"$f":"transposed!AK33","v":23.295},{"$f":"transposed!AM33","v":21.752},{"$f":"transposed!AO33","v":20.137},21.7322,{"$f":"transposed!AP33","v":0},{"$f":"transposed!AR33","v":0},{"$f":"transposed!AT33","v":0},{"$f":"transposed!AV33","v":0},{"$f":"transposed!AX33","v":0},{"$f":"transposed!AZ33","v":0},{"$f":"transposed!BB33","v":0},{"$f":"transposed!BD33","v":0},{"$f":"transposed!BF33","v":0},{"$f":"transposed!BH33","v":0},0,{"$f":"transposed!BJ33","v":0},{"$f":"transposed!BL33","v":0},{"$f":"transposed!BN33","v":0},{"$f":"transposed!BP33","v":0},{"$f":"transposed!BR33","v":0},{"$f":"transposed!BT33","v":0},{"$f":"transposed!BV33","v":0},{"$f":"transposed!BX33","v":0},{"$f":"transposed!BZ33","v":0},{"$f":"transposed!CB33","v":0},0,{"$f":"transposed!AQ33","v":0},{"$f":"transposed!AS33","v":0},{"$f":"transposed!AU33","v":0},{"$f":"transposed!AW33","v":0},{"$f":"transposed!AY33","v":0},{"$f":"transposed!BA33","v":0},{"$f":"transposed!BC33","v":0},{"$f":"transposed!BE33","v":0},{"$f":"transposed!BG33","v":0},{"$f":"transposed!BI33","v":0},0,{"$f":"transposed!BK33","v":0},{"$f":"transposed!BM33","v":2.5},{"$f":"transposed!BO33","v":0},{"$f":"transposed!BQ33","v":0},{"$f":"transposed!BS33","v":0},{"$f":"transposed!BU33","v":0},{"$f":"transposed!BW33","v":2.5},{"$f":"transposed!BY33","v":0},{"$f":"transposed!CA33","v":0},{"$f":"transposed!CC33","v":0},0.5,{"$f":"transposed!CD33","v":91},{"$f":"transposed!CF33","v":94},{"$f":"transposed!CH33","v":79},{"$f":"transposed!CJ33","v":86},{"$f":"transposed!CL33","v":72},{"$f":"transposed!CN33","v":93},{"$f":"transposed!CP33","v":98},{"$f":"transposed!CR33","v":98},{"$f":"transposed!CT33","v":83},{"$f":"transposed!CV33","v":83},87.7,{"$f":"transposed!CX33","v":101},{"$f":"transposed!CZ33","v":88},{"$f":"transposed!DB33","v":88},{"$f":"transposed!DD33","v":98},{"$f":"transposed!DF33","v":90},{"$f":"transposed!DH33","v":90},{"$f":"transposed!DJ33","v":90},{"$f":"transposed!DL33","v":90},{"$f":"transposed!DN33","v":82},{"$f":"transposed!DP33","v":85},90.2,{"$f":"transposed!CE33","v":95},{"$f":"transposed!CG33","v":80},{"$f":"transposed!CI33","v":79},{"$f":"transposed!CK33","v":93},{"$f":"transposed!CM33","v":86},{"$f":"transposed!CO33","v":98},{"$f":"transposed!CQ33","v":98},{"$f":"transposed!CS33","v":90},{"$f":"transposed!CU33","v":83},{"$f":"transposed!CW33","v":83},88.5,{"$f":"transposed!CY33","v":82},{"$f":"transposed!DA33","v":90},{"$f":"transposed!DC33","v":88},{"$f":"transposed!DE33","v":86},{"$f":"transposed!DG33","v":90},{"$f":"transposed!DI33","v":90},{"$f":"transposed!DK33","v":90},{"$f":"transposed!DM33","v":90},{"$f":"transposed!DO33","v":85},{"$f":"transposed!DQ33","v":85},87.6,{"$f":"transposed!DR33","v":"F"},{"$f":"transposed!DS33","v":21.97},{"$f":"transposed!DT33","v":"F"},"AK101"]
["AMP101",{"$f":"transposed!B20","v":21.96},{"$f":"transposed!D20","v":27.656},{"$f":"transposed!F20","v":22.471},{"$f":"transposed!H20","v":21.112},{"$f":"transposed!J20","v":21.76},{"$f":"transposed!L20","v":19.671},{"$f":"transposed!N20","v":20.056},{"$f":"transposed!P20","v":18.761},{"$f":"transposed!R20","v":19.071},{"$f":"transposed!T20","v":18.056},21.0574,{"$f":"transposed!V20","v":17.745},{"$f":"transposed!X20","v":17.888},{"$f":"transposed!Z20","v":18.854},{"$f":"transposed!AB20","v":18.384},{"$f":"transposed!AD20","v":16.986},{"$f":"transposed!AF20","v":17.282},{"$f":"transposed!AH20","v":18.016},{"$f":"transposed!AJ20","v":17.664},{"$f":"transposed!AL20","v":17.591},{"$f":"transposed!AN20","v":18.064},17.8474,{"$f":"transposed!C20","v":44.309},{"$f":"transposed!E20","v":46.976},{"$f":"transposed!G20","v":45.847},{"$f":"transposed!I20","v":43.808},{"$f":"transposed!K20","v":45.313},{"$f":"transposed!M20","v":40.696},{"$f":"transposed!O20","v":37.848},{"$f":"transposed!Q20","v":42.783},{"$f":"transposed!S20","v":41.72},{"$f":"transposed!U20","v":37.463},42.6763,{"$f":"transposed!W20","v":45.721},{"$f":"transposed!Y20","v":35.878},{"$f":"transposed!AA20","v":40.458},{"$f":"transposed!AC20","v":37.034},{"$f":"transposed!AE20","v":38.888},{"$f":"transposed!AG20","v":35.749},{"$f":"transposed!AI20","v":39.264},{"$f":"transposed!AK20","v":35.112},{"$f":"transposed!AM20","v":38.614},{"$f":"transposed!AO20","v":34.704},38.142199999999995,{"$f":"transposed!AP20","v":0},{"$f":"transposed!AR20","v":0},{"$f":"transposed!AT20","v":0},{"$f":"transposed!AV20","v":0},{"$f":"transposed!AX20","v":0},{"$f":"transposed!AZ20","v":0},{"$f":"transposed!BB20","v":0},{"$f":"transposed!BD20","v":0},{"$f":"transposed!BF20","v":0},{"$f":"transposed!BH20","v":0},0,{"$f":"transposed!BJ20","v":0},{"$f":"transposed!BL20","v":0},{"$f":"transposed!BN20","v":0},{"$f":"transposed!BP20","v":0},{"$f":"transposed!BR20","v":0},{"$f":"transposed!BT20","v":0},{"$f":"transposed!BV20","v":0},{"$f":"transposed!BX20","v":0},{"$f":"transposed!BZ20","v":0},{"$f":"transposed!CB20","v":0},0,{"$f":"transposed!AQ20","v":0},{"$f":"transposed!AS20","v":2.5},{"$f":"transposed!AU20","v":2.5},{"$f":"transposed!AW20","v":0},{"$f":"transposed!AY20","v":0},{"$f":"transposed!BA20","v":0},{"$f":"transposed!BC20","v":0},{"$f":"transposed!BE20","v":0},{"$f":"transposed!BG20","v":0},{"$f":"transposed!BI20","v":2.5},0.75,{"$f":"transposed!BK20","v":10},{"$f":"transposed!BM20","v":0},{"$f":"transposed!BO20","v":5},{"$f":"transposed!BQ20","v":0},{"$f":"transposed!BS20","v":0},{"$f":"transposed!BU20","v":0},{"$f":"transposed!BW20","v":0},{"$f":"transposed!BY20","v":2.5},{"$f":"transposed!CA20","v":2.5},{"$f":"transposed!CC20","v":2.5},2.25,{"$f":"transposed!CD20","v":96},{"$f":"transposed!CF20","v":91},{"$f":"transposed!CH20","v":90},{"$f":"transposed!CJ20","v":91},{"$f":"transposed!CL20","v":89},{"$f":"transposed!CN20","v":92},{"$f":"transposed!CP20","v":91},{"$f":"transposed!CR20","v":93},{"$f":"transposed!CT20","v":91},{"$f":"transposed!CV20","v":93},91.7,{"$f":"transposed!CX20","v":100},{"$f":"transposed!CZ20","v":96},{"$f":"transposed!DB20","v":106},{"$f":"transposed!DD20","v":90},{"$f":"transposed!DF20","v":101},{"$f":"transposed!DH20","v":96},{"$f":"transposed!DJ20","v":97},{"$f":"transposed!DL20","v":100},{"$f":"transposed!DN20","v":85},{"$f":"transposed!DP20","v":95},96.6,{"$f":"transposed!CE20","v":89},{"$f":"transposed!CG20","v":86},{"$f":"transposed!CI20","v":90},{"$f":"transposed!CK20","v":89},{"$f":"transposed!CM20","v":88},{"$f":"transposed!CO20","v":89},{"$f":"transposed!CQ20","v":92},{"$f":"transposed!CS20","v":88},{"$f":"transposed!CU20","v":89},{"$f":"transposed!CW20","v":84},88.4,{"$f":"transposed!CY20","v":96},{"$f":"transposed!DA20","v":99},{"$f":"transposed!DC20","v":96},{"$f":"transposed!DE20","v":101},{"$f":"transposed!DG20","v":99},{"$f":"transposed!DI20","v":98},{"$f":"transposed!DK20","v":101},{"$f":"transposed!DM20","v":100},{"$f":"transposed!DO20","v":100},{"$f":"transposed!DQ20","v":97},98.7,{"$f":"transposed!DR20","v":"F"},{"$f":"transposed!DS20","v":22},{"$f":"transposed!DT20","v":"F"},"AMP101"]
["AP101",{"$f":"transposed!B69","v":20.806},{"$f":"transposed!D69","v":22.938},{"$f":"transposed!F69","v":18.715},{"$f":"transposed!H69","v":18.592},{"$f":"transposed!J69","v":15.731},{"$f":"transposed!L69","v":16.722},{"$f":"transposed!N69","v":17.265},{"$f":"transposed!P69","v":20.286},{"$f":"transposed!R69","v":16.81},{"$f":"transposed!T69","v":17.441},18.5306,{"$f":"transposed!V69","v":14.861},{"$f":"transposed!X69","v":18.611},{"$f":"transposed!Z69","v":16.741},{"$f":"transposed!AB69","v":19.643},{"$f":"transposed!AD69","v":18.967},{"$f":"transposed!AF69","v":16.152},{"$f":"transposed!AH69","v":18.317},{"$f":"transposed!AJ69","v":17.729},{"$f":"transposed!AL69","v":18.877},{"$f":"transposed!AN69","v":22.18},18.207800000000002,{"$f":"transposed!C69","v":28.9},{"$f":"transposed!E69","v":31.93},{"$f":"transposed!G69","v":30.022},{"$f":"transposed!I69","v":34.435},{"$f":"transposed!K69","v":30.479},{"$f":"transposed!M69","v":25.877},{"$f":"transposed!O69","v":33.32},{"$f":"transposed!Q69","v":26.419},{"$f":"transposed!S69","v":27.157},{"$f":"transposed!U69","v":27.033},29.557200000000005,{"$f":"transposed!W69","v":30.815},{"$f":"transposed!Y69","v":27.289},{"$f":"transposed!AA69","v":25.11},{"$f":"transposed!AC69","v":25.073},{"$f":"transposed!AE69","v":28.859},{"$f":"transposed!AG69","v":30.327},{"$f":"transposed!AI69","v":30.517},{"$f":"transposed!AK69","v":28.145},{"$f":"transposed!AM69","v":27.047},{"$f":"transposed!AO69","v":29.699},28.288100000000004,{"$f":"transposed!AP69","v":0},{"$f":"transposed!AR69","v":5},{"$f":"transposed!AT69","v":0},{"$f":"transposed!AV69","v":0},{"$f":"transposed!AX69","v":0},{"$f":"transposed!AZ69","v":0},{"$f":"transposed!BB69","v":0},{"$f":"transposed!BD69","v":0},{"$f":"transposed!BF69","v":0},{"$f":"transposed!BH69","v":0},0.5,{"$f":"transposed!BJ69","v":0},{"$f":"transposed!BL69","v":0},{"$f":"transposed!BN69","v":0},{"$f":"transposed!BP69","v":0},{"$f":"transposed!BR69","v":0},{"$f":"transposed!BT69","v":0},{"$f":"transposed!BV69","v":0},{"$f":"transposed!BX69","v":0},{"$f":"transposed!BZ69","v":0},{"$f":"transposed!CB69","v":0},0,{"$f":"transposed!AQ69","v":0},{"$f":"transposed!AS69","v":0},{"$f":"transposed!AU69","v":2.5},{"$f":"transposed!AW69","v":0},{"$f":"transposed!AY69","v":0},{"$f":"transposed!BA69","v":0},{"$f":"transposed!BC69","v":0},{"$f":"transposed!BE69","v":0},{"$f":"transposed!BG69","v":0},{"$f":"transposed!BI69","v":0},0.25,{"$f":"transposed!BK69","v":0},{"$f":"transposed!BM69","v":0},{"$f":"transposed!BO69","v":0},{"$f":"transposed!BQ69","v":0},{"$f":"transposed!BS69","v":0},{"$f":"transposed!BU69","v":0},{"$f":"transposed!BW69","v":0},{"$f":"transposed!BY69","v":0},{"$f":"transposed!CA69","v":0},{"$f":"transposed!CC69","v":0},0,{"$f":"transposed!CD69","v":82},{"$f":"transposed!CF69","v":84},{"$f":"transposed!CH69","v":89},{"$f":"transposed!CJ69","v":89},{"$f":"transposed!CL69","v":89},{"$f":"transposed!CN69","v":85},{"$f":"transposed!CP69","v":88},{"$f":"transposed!CR69","v":84},{"$f":"transposed!CT69","v":95},{"$f":"transposed!CV69","v":89},87.4,{"$f":"transposed!CX69","v":85},{"$f":"transposed!CZ69","v":82},{"$f":"transposed!DB69","v":87},{"$f":"transposed!DD69","v":86},{"$f":"transposed!DF69","v":88},{"$f":"transposed!DH69","v":92},{"$f":"transposed!DJ69","v":92},{"$f":"transposed!DL69","v":87},{"$f":"transposed!DN69","v":95},{"$f":"transposed!DP69","v":95},88.9,{"$f":"transposed!CE69","v":80},{"$f":"transposed!CG69","v":92},{"$f":"transposed!CI69","v":93},{"$f":"transposed!CK69","v":87},{"$f":"transposed!CM69","v":88},{"$f":"transposed!CO69","v":90},{"$f":"transposed!CQ69","v":83},{"$f":"transposed!CS69","v":91},{"$f":"transposed!CU69","v":87},{"$f":"transposed!CW69","v":88},87.9,{"$f":"transposed!CY69","v":83},{"$f":"transposed!DA69","v":84},{"$f":"transposed!DC69","v":97},{"$f":"transposed!DE69","v":90},{"$f":"transposed!DG69","v":89},{"$f":"transposed!DI69","v":97},{"$f":"transposed!DK69","v":92},{"$f":"transposed!DM69","v":88},{"$f":"transposed!DO69","v":89},{"$f":"transposed!DQ69","v":85},89.4,{"$f":"transposed!DR69","v":"F"},{"$f":"transposed!DS69","v":26},{"$f":"transposed!DT69","v":"F"},"AP101"]
["AP102",{"$f":"transposed!B35","v":15.729},{"$f":"transposed!D35","v":20.443},{"$f":"transposed!F35","v":19.159},{"$f":"transposed!H35","v":19},{"$f":"transposed!J35","v":17.816},{"$f":"transposed!L35","v":17.41},{"$f":"transposed!N35","v":17.414},{"$f":"transposed!P35","v":18.864},{"$f":"transposed!R35","v":18.945},{"$f":"transposed!T35","v":19.61},18.439,{"$f":"transposed!V35","v":16.695},{"$f":"transposed!X35","v":17.144},{"$f":"transposed!Z35","v":17.039},{"$f":"transposed!AB35","v":16.047},{"$f":"transposed!AD35","v":16.522},{"$f":"transposed!AF35","v":16.847},{"$f":"transposed!AH35","v":17.022},{"$f":"transposed!AJ35","v":16.735},{"$f":"transposed!AL35","v":19.807},{"$f":"transposed!AN35","v":18.848},17.270599999999995,{"$f":"transposed!C35","v":32.391},{"$f":"transposed!E35","v":32.159},{"$f":"transposed!G35","v":32.538},{"$f":"transposed!I35","v":35.568},{"$f":"transposed!K35","v":34.4},{"$f":"transposed!M35","v":46.962},{"$f":"transposed!O35","v":36.806},{"$f":"transposed!Q35","v":35.496},{"$f":"transposed!S35","v":34.89},{"$f":"transposed!U35","v":34.505},35.5715,{"$f":"transposed!W35","v":32.047},{"$f":"transposed!Y35","v":32.632},{"$f":"transposed!AA35","v":29.992},{"$f":"transposed!AC35","v":32.207},{"$f":"transposed!AE35","v":29.393},{"$f":"transposed!AG35","v":35.065},{"$f":"transposed!AI35","v":33.32},{"$f":"transposed!AK35","v":30.32},{"$f":"transposed!AM35","v":30.425},{"$f":"transposed!AO35","v":31.424},31.682499999999997,{"$f":"transposed!AP35","v":0},{"$f":"transposed!AR35","v":0},{"$f":"transposed!AT35","v":0},{"$f":"transposed!AV35","v":0},{"$f":"transposed!AX35","v":2.5},{"$f":"transposed!AZ35","v":0},{"$f":"transposed!BB35","v":0},{"$f":"transposed!BD35","v":0},{"$f":"transposed!BF35","v":0},{"$f":"transposed!BH35","v":0},0.25,{"$f":"transposed!BJ35","v":0},{"$f":"transposed!BL35","v":0},{"$f":"transposed!BN35","v":0},{"$f":"transposed!BP35","v":0},{"$f":"transposed!BR35","v":0},{"$f":"transposed!BT35","v":0},{"$f":"transposed!BV35","v":5},{"$f":"transposed!BX35","v":0},{"$f":"transposed!BZ35","v":0},{"$f":"transposed!CB35","v":0},0.5,{"$f":"transposed!AQ35","v":5},{"$f":"transposed!AS35","v":0},{"$f":"transposed!AU35","v":0},{"$f":"transposed!AW35","v":0},{"$f":"transposed!AY35","v":0},{"$f":"transposed!BA35","v":5},{"$f":"transposed!BC35","v":0},{"$f":"transposed!BE35","v":2.5},{"$f":"transposed!BG35","v":0},{"$f":"transposed!BI35","v":0},1.25,{"$f":"transposed!BK35","v":5},{"$f":"transposed!BM35","v":2.5},{"$f":"transposed!BO35","v":0},{"$f":"transposed!BQ35","v":0},{"$f":"transposed!BS35","v":0},{"$f":"transposed!BU35","v":5},{"$f":"transposed!BW35","v":0},{"$f":"transposed!BY35","v":0},{"$f":"transposed!CA35","v":0},{"$f":"transposed!CC35","v":0},1.25,{"$f":"transposed!CD35","v":88},{"$f":"transposed!CF35","v":90},{"$f":"transposed!CH35","v":84},{"$f":"transposed!CJ35","v":91},{"$f":"transposed!CL35","v":90},{"$f":"transposed!CN35","v":83},{"$f":"transposed!CP35","v":79},{"$f":"transposed!CR35","v":84},{"$f":"transposed!CT35","v":88},{"$f":"transposed!CV35","v":86},86.3,{"$f":"transposed!CX35","v":109},{"$f":"transposed!CZ35","v":105},{"$f":"transposed!DB35","v":105},{"$f":"transposed!DD35","v":104},{"$f":"transposed!DF35","v":97},{"$f":"transposed!DH35","v":95},{"$f":"transposed!DJ35","v":91},{"$f":"transposed!DL35","v":96},{"$f":"transposed!DN35","v":88},{"$f":"transposed!DP35","v":92},98.2,{"$f":"transposed!CE35","v":86},{"$f":"transposed!CG35","v":92},{"$f":"transposed!CI35","v":88},{"$f":"transposed!CK35","v":90},{"$f":"transposed!CM35","v":87},{"$f":"transposed!CO35","v":84},{"$f":"transposed!CQ35","v":87},{"$f":"transposed!CS35","v":82},{"$f":"transposed!CU35","v":79},{"$f":"transposed!CW35","v":89},86.4,{"$f":"transposed!CY35","v":97},{"$f":"transposed!DA35","v":101},{"$f":"transposed!DC35","v":99},{"$f":"transposed!DE35","v":97},{"$f":"transposed!DG35","v":98},{"$f":"transposed!DI35","v":91},{"$f":"transposed!DK35","v":97},{"$f":"transposed!DM35","v":96},{"$f":"transposed!DO35","v":89},{"$f":"transposed!DQ35","v":92},95.7,{"$f":"transposed!DR35","v":"F"},{"$f":"transposed!DS35","v":22},{"$f":"transposed!DT35","v":"F"},"AP102"]
["AS102",{"$f":"transposed!B65","v":18.836},{"$f":"transposed!D65","v":19.932},{"$f":"transposed!F65","v":20.773},{"$f":"transposed!H65","v":18.123},{"$f":"transposed!J65","v":17.596},{"$f":"transposed!L65","v":16.81},{"$f":"transposed!N65","v":18.007},{"$f":"transposed!P65","v":17.997},{"$f":"transposed!R65","v":15.764},{"$f":"transposed!T65","v":15.857},17.969500000000004,{"$f":"transposed!V65","v":17.801},{"$f":"transposed!X65","v":15.888},{"$f":"transposed!Z65","v":16.676},{"$f":"transposed!AB65","v":17.132},{"$f":"transposed!AD65","v":16.359},{"$f":"transposed!AF65","v":16.544},{"$f":"transposed!AH65","v":14.64},{"$f":"transposed!AJ65","v":13.709},{"$f":"transposed!AL65","v":15.31},{"$f":"transposed!AN65","v":13.669},15.7728,{"$f":"transposed!C65","v":30.981},{"$f":"transposed!E65","v":26.969},{"$f":"transposed!G65","v":27.456},{"$f":"transposed!I65","v":26.631},{"$f":"transposed!K65","v":24.277},{"$f":"transposed!M65","v":27.146},{"$f":"transposed!O65","v":23.589},{"$f":"transposed!Q65","v":25.92},{"$f":"transposed!S65","v":26.457},{"$f":"transposed!U65","v":25.751},26.5177,{"$f":"transposed!W65","v":20.326},{"$f":"transposed!Y65","v":23.324},{"$f":"transposed!AA65","v":22.413},{"$f":"transposed!AC65","v":23.525},{"$f":"transposed!AE65","v":22.369},{"$f":"transposed!AG65","v":22.69},{"$f":"transposed!AI65","v":22.975},{"$f":"transposed!AK65","v":22.882},{"$f":"transposed!AM65","v":22.825},{"$f":"transposed!AO65","v":22.723},22.605199999999996,{"$f":"transposed!AP65","v":0},{"$f":"transposed!AR65","v":0},{"$f":"transposed!AT65","v":0},{"$f":"transposed!AV65","v":0},{"$f":"transposed!AX65","v":0},{"$f":"transposed!AZ65","v":0},{"$f":"transposed!BB65","v":0},{"$f":"transposed!BD65","v":0},{"$f":"transposed!BF65","v":0},{"$f":"transposed!BH65","v":0},0,{"$f":"transposed!BJ65","v":2.5},{"$f":"transposed!BL65","v":0},{"$f":"transposed!BN65","v":0},{"$f":"transposed!BP65","v":0},{"$f":"transposed!BR65","v":0},{"$f":"transposed!BT65","v":0},{"$f":"transposed!BV65","v":0},{"$f":"transposed!BX65","v":0},{"$f":"transposed!BZ65","v":0},{"$f":"transposed!CB65","v":0},0.25,{"$f":"transposed!AQ65","v":2.5},{"$f":"transposed!AS65","v":0},{"$f":"transposed!AU65","v":0},{"$f":"transposed!AW65","v":2.5},{"$f":"transposed!AY65","v":2.5},{"$f":"transposed!BA65","v":2.5},{"$f":"transposed!BC65","v":0},{"$f":"transposed!BE65","v":2.5},{"$f":"transposed!BG65","v":2.5},{"$f":"transposed!BI65","v":0},1.5,{"$f":"transposed!BK65","v":0},{"$f":"transposed!BM65","v":2.5},{"$f":"transposed!BO65","v":5},{"$f":"transposed!BQ65","v":0},{"$f":"transposed!BS65","v":2.5},{"$f":"transposed!BU65","v":2.5},{"$f":"transposed!BW65","v":5},{"$f":"transposed!BY65","v":0},{"$f":"transposed!CA65","v":0},{"$f":"transposed!CC65","v":7.5},2.5,{"$f":"transposed!CD65","v":75},{"$f":"transposed!CF65","v":80},{"$f":"transposed!CH65","v":76},{"$f":"transposed!CJ65","v":70},{"$f":"transposed!CL65","v":61},{"$f":"transposed!CN65","v":74},{"$f":"transposed!CP65","v":77},{"$f":"transposed!CR65","v":77},{"$f":"transposed!CT65","v":77},{"$f":"transposed!CV65","v":79},74.6,{"$f":"transposed!CX65","v":94},{"$f":"transposed!CZ65","v":90},{"$f":"transposed!DB65","v":95},{"$f":"transposed!DD65","v":86},{"$f":"transposed!DF65","v":91},{"$f":"transposed!DH65","v":89},{"$f":"transposed!DJ65","v":91},{"$f":"transposed!DL65","v":92},{"$f":"transposed!DN65","v":82},{"$f":"transposed!DP65","v":87},89.7,{"$f":"transposed!CE65","v":84},{"$f":"transposed!CG65","v":68},{"$f":"transposed!CI65","v":76},{"$f":"transposed!CK65","v":68},{"$f":"transposed!CM65","v":72},{"$f":"transposed!CO65","v":75},{"$f":"transposed!CQ65","v":74},{"$f":"transposed!CS65","v":84},{"$f":"transposed!CU65","v":80},{"$f":"transposed!CW65","v":82},76.3,{"$f":"transposed!CY65","v":95},{"$f":"transposed!DA65","v":94},{"$f":"transposed!DC65","v":92},{"$f":"transposed!DE65","v":90},{"$f":"transposed!DG65","v":89},{"$f":"transposed!DI65","v":95},{"$f":"transposed!DK65","v":85},{"$f":"transposed!DM65","v":94},{"$f":"transposed!DO65","v":87},{"$f":"transposed!DQ65","v":92},91.3,{"$f":"transposed!DR65","v":"F"},{"$f":"transposed!DS65","v":19},{"$f":"transposed!DT65","v":"F"},"AS102"]
["BH101",{"$f":"transposed!B5","v":12.999},{"$f":"transposed!D5","v":25.935},{"$f":"transposed!F5","v":16.207},{"$f":"transposed!H5","v":13.943},{"$f":"transposed!J5","v":12.495},{"$f":"transposed!L5","v":11.664},{"$f":"transposed!N5","v":13.696},{"$f":"transposed!P5","v":12.279},{"$f":"transposed!R5","v":12.487},{"$f":"transposed!T5","v":12.191},14.389600000000002,{"$f":"transposed!V5","v":11.252},{"$f":"transposed!X5","v":12.296},{"$f":"transposed!Z5","v":12.625},{"$f":"transposed!AB5","v":13.191},{"$f":"transposed!AD5","v":10.683},{"$f":"transposed!AF5","v":11.815},{"$f":"transposed!AH5","v":11.503},{"$f":"transposed!AJ5","v":11.591},{"$f":"transposed!AL5","v":10.528},{"$f":"transposed!AN5","v":10.493},11.5977,{"$f":"transposed!C5","v":55.902},{"$f":"transposed!E5","v":47.502},{"$f":"transposed!G5","v":46.106},{"$f":"transposed!I5","v":42.526},{"$f":"transposed!K5","v":42.19},{"$f":"transposed!M5","v":38.726},{"$f":"transposed!O5","v":38.334},{"$f":"transposed!Q5","v":39.135},{"$f":"transposed!S5","v":38.487},{"$f":"transposed!U5","v":39.23},42.8138,{"$f":"transposed!W5","v":35.238},{"$f":"transposed!Y5","v":34.231},{"$f":"transposed!AA5","v":33.768},{"$f":"transposed!AC5","v":39.214},{"$f":"transposed!AE5","v":35.976},{"$f":"transposed!AG5","v":34.265},{"$f":"transposed!AI5","v":33.976},{"$f":"transposed!AK5","v":33.455},{"$f":"transposed!AM5","v":33.351},{"$f":"transposed!AO5","v":30.79},34.4264,{"$f":"transposed!AP5","v":0},{"$f":"transposed!AR5","v":0},{"$f":"transposed!AT5","v":0},{"$f":"transposed!AV5","v":0},{"$f":"transposed!AX5","v":0},{"$f":"transposed!AZ5","v":0},{"$f":"transposed!BB5","v":0},{"$f":"transposed!BD5","v":0},{"$f":"transposed!BF5","v":0},{"$f":"transposed!BH5","v":0},0,{"$f":"transposed!BJ5","v":0},{"$f":"transposed!BL5","v":0},{"$f":"transposed!BN5","v":0},{"$f":"transposed!BP5","v":0},{"$f":"transposed!BR5","v":0},{"$f":"transposed!BT5","v":0},{"$f":"transposed!BV5","v":0},{"$f":"transposed!BX5","v":0},{"$f":"transposed!BZ5","v":0},{"$f":"transposed!CB5","v":0},0,{"$f":"transposed!AQ5","v":17.5},{"$f":"transposed!AS5","v":0},{"$f":"transposed!AU5","v":0},{"$f":"transposed!AW5","v":5},{"$f":"transposed!AY5","v":0},{"$f":"transposed!BA5","v":2.5},{"$f":"transposed!BC5","v":5},{"$f":"transposed!BE5","v":2.5},{"$f":"transposed!BG5","v":12.5},{"$f":"transposed!BI5","v":5},5,{"$f":"transposed!BK5","v":5},{"$f":"transposed!BM5","v":0},{"$f":"transposed!BO5","v":5},{"$f":"transposed!BQ5","v":0},{"$f":"transposed!BS5","v":2.5},{"$f":"transposed!BU5","v":0},{"$f":"transposed!BW5","v":0},{"$f":"transposed!BY5","v":5},{"$f":"transposed!CA5","v":0},{"$f":"transposed!CC5","v":2.5},2,{"$f":"transposed!CD5","v":0},{"$f":"transposed!CF5","v":0},{"$f":"transposed!CH5","v":0},{"$f":"transposed!CJ5","v":0},{"$f":"transposed!CL5","v":0},{"$f":"transposed!CN5","v":0},{"$f":"transposed!CP5","v":0},{"$f":"transposed!CR5","v":0},{"$f":"transposed!CT5","v":0},{"$f":"transposed!CV5","v":0},0,{"$f":"transposed!CX5","v":0},{"$f":"transposed!CZ5","v":0},{"$f":"transposed!DB5","v":0},{"$f":"transposed!DD5","v":0},{"$f":"transposed!DF5","v":0},{"$f":"transposed!DH5","v":0},{"$f":"transposed!DJ5","v":0},{"$f":"transposed!DL5","v":0},{"$f":"transposed!DN5","v":0},{"$f":"transposed!DP5","v":0},0,{"$f":"transposed!CE5","v":0},{"$f":"transposed!CG5","v":0},{"$f":"transposed!CI5","v":0},{"$f":"transposed!CK5","v":0},{"$f":"transposed!CM5","v":0},{"$f":"transposed!CO5","v":0},{"$f":"transposed!CQ5","v":0},{"$f":"transposed!CS5","v":0},{"$f":"transposed!CU5","v":0},{"$f":"transposed!CW5","v":0},0,{"$f":"transposed!CY5","v":0},{"$f":"transposed!DA5","v":0},{"$f":"transposed!DC5","v":0},{"$f":"transposed!DE5","v":0},{"$f":"transposed!DG5","v":0},{"$f":"transposed!DI5","v":0},{"$f":"transposed!DK5","v":0},{"$f":"transposed!DM5","v":0},{"$f":"transposed!DO5","v":0},{"$f":"transposed!DQ5","v":0},0,{"$f":"transposed!DR5","v":"F"},{"$f":"transposed!DS5","v":21},{"$f":"transposed!DT5","v":"T"},"BH101"]
["CC101",{"$f":"transposed!B56","v":19.051},{"$f":"transposed!D56","v":16.533},{"$f":"transposed!F56","v":17.216},{"$f":"transposed!H56","v":16.277},{"$f":"transposed!J56","v":17.374},{"$f":"transposed!L56","v":17.92},{"$f":"transposed!N56","v":16.857},{"$f":"transposed!P56","v":17.813},{"$f":"transposed!R56","v":17.776},{"$f":"transposed!T56","v":16.7},17.3517,{"$f":"transposed!V56","v":15.255},{"$f":"transposed!X56","v":14.607},{"$f":"transposed!Z56","v":15.001},{"$f":"transposed!AB56","v":14.759},{"$f":"transposed!AD56","v":14.843},{"$f":"transposed!AF56","v":15.204},{"$f":"transposed!AH56","v":15.285},{"$f":"transposed!AJ56","v":15.043},{"$f":"transposed!AL56","v":16.858},{"$f":"transposed!AN56","v":13.833},15.068800000000001,{"$f":"transposed!C56","v":35.386},{"$f":"transposed!E56","v":42.064},{"$f":"transposed!G56","v":38.506},{"$f":"transposed!I56","v":45.905},{"$f":"transposed!K56","v":36.439},{"$f":"transposed!M56","v":35.921},{"$f":"transposed!O56","v":35.739},{"$f":"transposed!Q56","v":39.074},{"$f":"transposed!S56","v":36.628},{"$f":"transposed!U56","v":35.409},38.107099999999996,{"$f":"transposed!W56","v":37.29},{"$f":"transposed!Y56","v":38.25},{"$f":"transposed!AA56","v":34.482},{"$f":"transposed!AC56","v":33.001},{"$f":"transposed!AE56","v":31.941},{"$f":"transposed!AG56","v":36.009},{"$f":"transposed!AI56","v":33.986},{"$f":"transposed!AK56","v":32.768},{"$f":"transposed!AM56","v":35.129},{"$f":"transposed!AO56","v":35.699},34.8555,{"$f":"transposed!AP56","v":0},{"$f":"transposed!AR56","v":0},{"$f":"transposed!AT56","v":0},{"$f":"transposed!AV56","v":0},{"$f":"transposed!AX56","v":0},{"$f":"transposed!AZ56","v":0},{"$f":"transposed!BB56","v":0},{"$f":"transposed!BD56","v":0},{"$f":"transposed!BF56","v":0},{"$f":"transposed!BH56","v":0},0,{"$f":"transposed!BJ56","v":0},{"$f":"transposed!BL56","v":0},{"$f":"transposed!BN56","v":0},{"$f":"transposed!BP56","v":0},{"$f":"transposed!BR56","v":0},{"$f":"transposed!BT56","v":0},{"$f":"transposed!BV56","v":0},{"$f":"transposed!BX56","v":0},{"$f":"transposed!BZ56","v":0},{"$f":"transposed!CB56","v":0},0,{"$f":"transposed!AQ56","v":0},{"$f":"transposed!AS56","v":2.5},{"$f":"transposed!AU56","v":0},{"$f":"transposed!AW56","v":7.5},{"$f":"transposed!AY56","v":0},{"$f":"transposed!BA56","v":0},{"$f":"transposed!BC56","v":0},{"$f":"transposed!BE56","v":0},{"$f":"transposed!BG56","v":0},{"$f":"transposed!BI56","v":0},1,{"$f":"transposed!BK56","v":5},{"$f":"transposed!BM56","v":2.5},{"$f":"transposed!BO56","v":0},{"$f":"transposed!BQ56","v":0},{"$f":"transposed!BS56","v":0},{"$f":"transposed!BU56","v":0},{"$f":"transposed!BW56","v":0},{"$f":"transposed!BY56","v":0},{"$f":"transposed!CA56","v":0},{"$f":"transposed!CC56","v":2.5},1,{"$f":"transposed!CD56","v":89},{"$f":"transposed!CF56","v":88},{"$f":"transposed!CH56","v":81},{"$f":"transposed!CJ56","v":83},{"$f":"transposed!CL56","v":88},{"$f":"transposed!CN56","v":88},{"$f":"transposed!CP56","v":95},{"$f":"transposed!CR56","v":95},{"$f":"transposed!CT56","v":95},{"$f":"transposed!CV56","v":88},89,{"$f":"transposed!CX56","v":108},{"$f":"transposed!CZ56","v":14},{"$f":"transposed!DB56","v":104},{"$f":"transposed!DD56","v":108},{"$f":"transposed!DF56","v":107},{"$f":"transposed!DH56","v":106},{"$f":"transposed!DJ56","v":105},{"$f":"transposed!DL56","v":112},{"$f":"transposed!DN56","v":107},{"$f":"transposed!DP56","v":104},97.5,{"$f":"transposed!CE56","v":83},{"$f":"transposed!CG56","v":95},{"$f":"transposed!CI56","v":88},{"$f":"transposed!CK56","v":88},{"$f":"transposed!CM56","v":91},{"$f":"transposed!CO56","v":87},{"$f":"transposed!CQ56","v":87},{"$f":"transposed!CS56","v":86},{"$f":"transposed!CU56","v":82},{"$f":"transposed!CW56","v":89},87.6,{"$f":"transposed!CY56","v":107},{"$f":"transposed!DA56","v":107},{"$f":"transposed!DC56","v":103},{"$f":"transposed!DE56","v":104},{"$f":"transposed!DG56","v":103},{"$f":"transposed!DI56","v":112},{"$f":"transposed!DK56","v":106},{"$f":"transposed!DM56","v":104},{"$f":"transposed!DO56","v":106},{"$f":"transposed!DQ56","v":106},105.8,{"$f":"transposed!DR56","v":"F"},{"$f":"transposed!DS56","v":25},{"$f":"transposed!DT56","v":"T"},"CC101"]
["DE101",{"$f":"transposed!B66","v":26.488},{"$f":"transposed!D66","v":26.82},{"$f":"transposed!F66","v":26.229},{"$f":"transposed!H66","v":27.058},{"$f":"transposed!J66","v":25.276},{"$f":"transposed!L66","v":27.266},{"$f":"transposed!N66","v":24.091},{"$f":"transposed!P66","v":24.452},{"$f":"transposed!R66","v":23.742},{"$f":"transposed!T66","v":24.345},25.5767,{"$f":"transposed!V66","v":23.19},{"$f":"transposed!X66","v":24.837},{"$f":"transposed!Z66","v":23.898},{"$f":"transposed!AB66","v":24.982},{"$f":"transposed!AD66","v":23.8},{"$f":"transposed!AF66","v":25.329},{"$f":"transposed!AH66","v":23.534},{"$f":"transposed!AJ66","v":23.014},{"$f":"transposed!AL66","v":22.836},{"$f":"transposed!AN66","v":23.444},23.886400000000002,{"$f":"transposed!C66","v":43.568},{"$f":"transposed!E66","v":35.959},{"$f":"transposed!G66","v":41.458},{"$f":"transposed!I66","v":40.256},{"$f":"transposed!K66","v":34.875},{"$f":"transposed!M66","v":38.983},{"$f":"transposed!O66","v":34.2},{"$f":"transposed!Q66","v":38.942},{"$f":"transposed!S66","v":41.354},{"$f":"transposed!U66","v":34.931},38.4526,{"$f":"transposed!W66","v":30.488},{"$f":"transposed!Y66","v":32.165},{"$f":"transposed!AA66","v":32.316},{"$f":"transposed!AC66","v":32.212},{"$f":"transposed!AE66","v":30.101},{"$f":"transposed!AG66","v":32.369},{"$f":"transposed!AI66","v":31.709},{"$f":"transposed!AK66","v":30.767},{"$f":"transposed!AM66","v":32.336},{"$f":"transposed!AO66","v":33.647},31.810999999999996,{"$f":"transposed!AP66","v":0},{"$f":"transposed!AR66","v":0},{"$f":"transposed!AT66","v":0},{"$f":"transposed!AV66","v":0},{"$f":"transposed!AX66","v":0},{"$f":"transposed!AZ66","v":0},{"$f":"transposed!BB66","v":0},{"$f":"transposed!BD66","v":0},{"$f":"transposed!BF66","v":0},{"$f":"transposed!BH66","v":0},0,{"$f":"transposed!BJ66","v":0},{"$f":"transposed!BL66","v":0},{"$f":"transposed!BN66","v":0},{"$f":"transposed!BP66","v":0},{"$f":"transposed!BR66","v":0},{"$f":"transposed!BT66","v":0},{"$f":"transposed!BV66","v":0},{"$f":"transposed!BX66","v":0},{"$f":"transposed!BZ66","v":0},{"$f":"transposed!CB66","v":0},0,{"$f":"transposed!AQ66","v":5},{"$f":"transposed!AS66","v":2.5},{"$f":"transposed!AU66","v":5},{"$f":"transposed!AW66","v":7.5},{"$f":"transposed!AY66","v":0},{"$f":"transposed!BA66","v":0},{"$f":"transposed!BC66","v":0},{"$f":"transposed!BE66","v":2.5},{"$f":"transposed!BG66","v":2.5},{"$f":"transposed!BI66","v":2.5},2.75,{"$f":"transposed!BK66","v":0},{"$f":"transposed!BM66","v":5},{"$f":"transposed!BO66","v":2.5},{"$f":"transposed!BQ66","v":0},{"$f":"transposed!BS66","v":0},{"$f":"transposed!BU66","v":5},{"$f":"transposed!BW66","v":2.5},{"$f":"transposed!BY66","v":0},{"$f":"transposed!CA66","v":0},{"$f":"transposed!CC66","v":5},2,{"$f":"transposed!CD66","v":92},{"$f":"transposed!CF66","v":108},{"$f":"transposed!CH66","v":107},{"$f":"transposed!CJ66","v":99},{"$f":"transposed!CL66","v":91},{"$f":"transposed!CN66","v":104},{"$f":"transposed!CP66","v":103},{"$f":"transposed!CR66","v":103},{"$f":"transposed!CT66","v":108},{"$f":"transposed!CV66","v":89},100.4,{"$f":"transposed!CX66","v":115},{"$f":"transposed!CZ66","v":116},{"$f":"transposed!DB66","v":114},{"$f":"transposed!DD66","v":111},{"$f":"transposed!DF66","v":109},{"$f":"transposed!DH66","v":113},{"$f":"transposed!DJ66","v":109},{"$f":"transposed!DL66","v":113},{"$f":"transposed!DN66","v":108},{"$f":"transposed!DP66","v":107},111.5,{"$f":"transposed!CE66","v":102},{"$f":"transposed!CG66","v":92},{"$f":"transposed!CI66","v":99},{"$f":"transposed!CK66","v":93},{"$f":"transposed!CM66","v":106},{"$f":"transposed!CO66","v":105},{"$f":"transposed!CQ66","v":98},{"$f":"transposed!CS66","v":99},{"$f":"transposed!CU66","v":99},{"$f":"transposed!CW66","v":95},98.8,{"$f":"transposed!CY66","v":112},{"$f":"transposed!DA66","v":110},{"$f":"transposed!DC66","v":109},{"$f":"transposed!DE66","v":116},{"$f":"transposed!DG66","v":111},{"$f":"transposed!DI66","v":107},{"$f":"transposed!DK66","v":110},{"$f":"transposed!DM66","v":109},{"$f":"transposed!DO66","v":102},{"$f":"transposed!DQ66","v":100},108.6,{"$f":"transposed!DR66","v":"F"},{"$f":"transposed!DS66","v":23},{"$f":"transposed!DT66","v":"F"},"DE101"]
["DI101",{"$f":"transposed!B36","v":23.379},{"$f":"transposed!D36","v":28.412},{"$f":"transposed!F36","v":27.433},{"$f":"transposed!H36","v":25.617},{"$f":"transposed!J36","v":25.728},{"$f":"transposed!L36","v":22.792},{"$f":"transposed!N36","v":21.976},{"$f":"transposed!P36","v":21.4},{"$f":"transposed!R36","v":23.368},{"$f":"transposed!T36","v":20.833},24.093799999999998,{"$f":"transposed!V36","v":20.009},{"$f":"transposed!X36","v":21.303},{"$f":"transposed!Z36","v":21.128},{"$f":"transposed!AB36","v":19.816},{"$f":"transposed!AD36","v":21.097},{"$f":"transposed!AF36","v":21.866},{"$f":"transposed!AH36","v":21.129},{"$f":"transposed!AJ36","v":22.002},{"$f":"transposed!AL36","v":21.137},{"$f":"transposed!AN36","v":24.872},21.435900000000004,{"$f":"transposed!C36","v":56.934},{"$f":"transposed!E36","v":30.442},{"$f":"transposed!G36","v":45.113},{"$f":"transposed!I36","v":40.84},{"$f":"transposed!K36","v":40.536},{"$f":"transposed!M36","v":37.367},{"$f":"transposed!O36","v":41.353},{"$f":"transposed!Q36","v":38.799},{"$f":"transposed!S36","v":37.416},{"$f":"transposed!U36","v":33.496},40.22959999999999,{"$f":"transposed!W36","v":36.76},{"$f":"transposed!Y36","v":33.169},{"$f":"transposed!AA36","v":36.545},{"$f":"transposed!AC36","v":36.169},{"$f":"transposed!AE36","v":41.856},{"$f":"transposed!AG36","v":36.352},{"$f":"transposed!AI36","v":38.16},{"$f":"transposed!AK36","v":32.961},{"$f":"transposed!AM36","v":38.529},{"$f":"transposed!AO36","v":36.024},36.652499999999996,{"$f":"transposed!AP36","v":0},{"$f":"transposed!AR36","v":0},{"$f":"transposed!AT36","v":0},{"$f":"transposed!AV36","v":0},{"$f":"transposed!AX36","v":0},{"$f":"transposed!AZ36","v":0},{"$f":"transposed!BB36","v":0},{"$f":"transposed!BD36","v":0},{"$f":"transposed!BF36","v":0},{"$f":"transposed!BH36","v":0},0,{"$f":"transposed!BJ36","v":0},{"$f":"transposed!BL36","v":0},{"$f":"transposed!BN36","v":0},{"$f":"transposed!BP36","v":0},{"$f":"transposed!BR36","v":0},{"$f":"transposed!BT36","v":0},{"$f":"transposed!BV36","v":0},{"$f":"transposed!BX36","v":0},{"$f":"transposed!BZ36","v":0},{"$f":"transposed!CB36","v":2.5},0.25,{"$f":"transposed!AQ36","v":17.5},{"$f":"transposed!AS36","v":2.5},{"$f":"transposed!AU36","v":0},{"$f":"transposed!AW36","v":2.5},{"$f":"transposed!AY36","v":0},{"$f":"transposed!BA36","v":0},{"$f":"transposed!BC36","v":0},{"$f":"transposed!BE36","v":2.5},{"$f":"transposed!BG36","v":2.5},{"$f":"transposed!BI36","v":0},2.75,{"$f":"transposed!BK36","v":2.5},{"$f":"transposed!BM36","v":0},{"$f":"transposed!BO36","v":0},{"$f":"transposed!BQ36","v":2.5},{"$f":"transposed!BS36","v":2.5},{"$f":"transposed!BU36","v":2.5},{"$f":"transposed!BW36","v":5},{"$f":"transposed!BY36","v":0},{"$f":"transposed!CA36","v":0},{"$f":"transposed!CC36","v":0},1.5,{"$f":"transposed!CD36","v":71},{"$f":"transposed!CF36","v":77},{"$f":"transposed!CH36","v":62},{"$f":"transposed!CJ36","v":70},{"$f":"transposed!CL36","v":71},{"$f":"transposed!CN36","v":71},{"$f":"transposed!CP36","v":71},{"$f":"transposed!CR36","v":76},{"$f":"transposed!CT36","v":79},{"$f":"transposed!CV36","v":73},72.1,{"$f":"transposed!CX36","v":101},{"$f":"transposed!CZ36","v":97},{"$f":"transposed!DB36","v":93},{"$f":"transposed!DD36","v":104},{"$f":"transposed!DF36","v":101},{"$f":"transposed!DH36","v":89},{"$f":"transposed!DJ36","v":96},{"$f":"transposed!DL36","v":94},{"$f":"transposed!DN36","v":89},{"$f":"transposed!DP36","v":93},95.7,{"$f":"transposed!CE36","v":74},{"$f":"transposed!CG36","v":82},{"$f":"transposed!CI36","v":86},{"$f":"transposed!CK36","v":76},{"$f":"transposed!CM36","v":84},{"$f":"transposed!CO36","v":66},{"$f":"transposed!CQ36","v":73},{"$f":"transposed!CS36","v":74},{"$f":"transposed!CU36","v":71},{"$f":"transposed!CW36","v":82},76.8,{"$f":"transposed!CY36","v":94},{"$f":"transposed!DA36","v":93},{"$f":"transposed!DC36","v":102},{"$f":"transposed!DE36","v":94},{"$f":"transposed!DG36","v":91},{"$f":"transposed!DI36","v":93},{"$f":"transposed!DK36","v":83},{"$f":"transposed!DM36","v":88},{"$f":"transposed!DO36","v":90},{"$f":"transposed!DQ36","v":78},90.6,{"$f":"transposed!DR36","v":"F"},{"$f":"transposed!DS36","v":23},{"$f":"transposed!DT36","v":"T"},"DI101"]
["DJ101",{"$f":"transposed!B12","v":17.544},{"$f":"transposed!D12","v":17.112},{"$f":"transposed!F12","v":16.76},{"$f":"transposed!H12","v":15.936},{"$f":"transposed!J12","v":16.159},{"$f":"transposed!L12","v":19.055},{"$f":"transposed!N12","v":19.032},{"$f":"transposed!P12","v":18.199},{"$f":"transposed!R12","v":15.879},{"$f":"transposed!T12","v":17.032},17.2708,{"$f":"transposed!V12","v":15.664},{"$f":"transposed!X12","v":18.816},{"$f":"transposed!Z12","v":17.527},{"$f":"transposed!AB12","v":16.16},{"$f":"transposed!AD12","v":16.176},{"$f":"transposed!AF12","v":19.607},{"$f":"transposed!AH12","v":16.504},{"$f":"transposed!AJ12","v":16.871},{"$f":"transposed!AL12","v":17.232},{"$f":"transposed!AN12","v":18.007},17.256400000000003,{"$f":"transposed!C12","v":39.863},{"$f":"transposed!E12","v":42.207},{"$f":"transposed!G12","v":45.406},{"$f":"transposed!I12","v":38.167},{"$f":"transposed!K12","v":44.67},{"$f":"transposed!M12","v":37.679},{"$f":"transposed!O12","v":39.591},{"$f":"transposed!Q12","v":36.903},{"$f":"transposed!S12","v":40.007},{"$f":"transposed!U12","v":37.575},40.2068,{"$f":"transposed!W12","v":39.183},{"$f":"transposed!Y12","v":36.976},{"$f":"transposed!AA12","v":38.879},{"$f":"transposed!AC12","v":43.359},{"$f":"transposed!AE12","v":39.158},{"$f":"transposed!AG12","v":36.495},{"$f":"transposed!AI12","v":39.767},{"$f":"transposed!AK12","v":38.375},{"$f":"transposed!AM12","v":4.775},{"$f":"transposed!AO12","v":43.543},36.051,{"$f":"transposed!AP12","v":0},{"$f":"transposed!AR12","v":2.5},{"$f":"transposed!AT12","v":2.5},{"$f":"transposed!AV12","v":0},{"$f":"transposed!AX12","v":0},{"$f":"transposed!AZ12","v":0},{"$f":"transposed!BB12","v":0},{"$f":"transposed!BD12","v":0},{"$f":"transposed!BF12","v":2.5},{"$f":"transposed!BH12","v":0},0.75,{"$f":"transposed!BJ12","v":0},{"$f":"transposed!BL12","v":0},{"$f":"transposed!BN12","v":0},{"$f":"transposed!BP12","v":0},{"$f":"transposed!BR12","v":0},{"$f":"transposed!BT12","v":2.5},{"$f":"transposed!BV12","v":0},{"$f":"transposed!BX12","v":0},{"$f":"transposed!BZ12","v":0},{"$f":"transposed!CB12","v":0},0.25,{"$f":"transposed!AQ12","v":7.5},{"$f":"transposed!AS12","v":5},{"$f":"transposed!AU12","v":5},{"$f":"transposed!AW12","v":0},{"$f":"transposed!AY12","v":2.5},{"$f":"transposed!BA12","v":0},{"$f":"transposed!BC12","v":0},{"$f":"transposed!BE12","v":0},{"$f":"transposed!BG12","v":2.5},{"$f":"transposed!BI12","v":0},2.25,{"$f":"transposed!BK12","v":0},{"$f":"transposed!BM12","v":0},{"$f":"transposed!BO12","v":5},{"$f":"transposed!BQ12","v":2.5},{"$f":"transposed!BS12","v":0},{"$f":"transposed!BU12","v":2.5},{"$f":"transposed!BW12","v":2.5},{"$f":"transposed!BY12","v":0},{"$f":"transposed!CA12","v":5},{"$f":"transposed!CC12","v":0},1.75,{"$f":"transposed!CD12","v":84},{"$f":"transposed!CF12","v":75},{"$f":"transposed!CH12","v":86},{"$f":"transposed!CJ12","v":81},{"$f":"transposed!CL12","v":78},{"$f":"transposed!CN12","v":74},{"$f":"transposed!CP12","v":76},{"$f":"transposed!CR12","v":74},{"$f":"transposed!CT12","v":76},{"$f":"transposed!CV12","v":74},77.8,{"$f":"transposed!CX12","v":106},{"$f":"transposed!CZ12","v":101},{"$f":"transposed!DB12","v":103},{"$f":"transposed!DD12","v":105},{"$f":"transposed!DF12","v":103},{"$f":"transposed!DH12","v":88},{"$f":"transposed!DJ12","v":105},{"$f":"transposed!DL12","v":101},{"$f":"transposed!DN12","v":98},{"$f":"transposed!DP12","v":83},99.3,{"$f":"transposed!CE12","v":87},{"$f":"transposed!CG12","v":89},{"$f":"transposed!CI12","v":90},{"$f":"transposed!CK12","v":85},{"$f":"transposed!CM12","v":83},{"$f":"transposed!CO12","v":74},{"$f":"transposed!CQ12","v":75},{"$f":"transposed!CS12","v":76},{"$f":"transposed!CU12","v":81},{"$f":"transposed!CW12","v":80},82,{"$f":"transposed!CY12","v":95},{"$f":"transposed!DA12","v":101},{"$f":"transposed!DC12","v":96},{"$f":"transposed!DE12","v":99},{"$f":"transposed!DG12","v":100},{"$f":"transposed!DI12","v":100},{"$f":"transposed!DK12","v":96},{"$f":"transposed!DM12","v":97},{"$f":"transposed!DO12","v":93},{"$f":"transposed!DQ12","v":91},96.8,{"$f":"transposed!DR12","v":"M"},{"$f":"transposed!DS12","v":25},{"$f":"transposed!DT12","v":"F"},"DJ101"]
["DP101",{"$f":"transposed!B15","v":22.815},{"$f":"transposed!D15","v":25.077},{"$f":"transposed!F15","v":23.6},{"$f":"transposed!H15","v":23.608},{"$f":"transposed!J15","v":25.049},{"$f":"transposed!L15","v":21.088},{"$f":"transposed!N15","v":24.29},{"$f":"transposed!P15","v":21.441},{"$f":"transposed!R15","v":20.608},{"$f":"transposed!T15","v":24.872},23.244799999999998,{"$f":"transposed!V15","v":21.033},{"$f":"transposed!X15","v":20.752},{"$f":"transposed!Z15","v":23.272},{"$f":"transposed!AB15","v":19.04},{"$f":"transposed!AD15","v":21.702},{"$f":"transposed!AF15","v":27.102},{"$f":"transposed!AH15","v":19.121},{"$f":"transposed!AJ15","v":20.383},{"$f":"transposed!AL15","v":22.138},{"$f":"transposed!AN15","v":18.518},21.3061,{"$f":"transposed!C15","v":41.032},{"$f":"transposed!E15","v":45.134},{"$f":"transposed!G15","v":45.632},{"$f":"transposed!I15","v":43.021},{"$f":"transposed!K15","v":39.609},{"$f":"transposed!M15","v":39.798},{"$f":"transposed!O15","v":43.686},{"$f":"transposed!Q15","v":45.6},{"$f":"transposed!S15","v":40.688},{"$f":"transposed!U15","v":54.384},43.8584,{"$f":"transposed!W15","v":44.665},{"$f":"transposed!Y15","v":48.966},{"$f":"transposed!AA15","v":46.409},{"$f":"transposed!AC15","v":45.946},{"$f":"transposed!AE15","v":41.88},{"$f":"transposed!AG15","v":41.688},{"$f":"transposed!AI15","v":42.064},{"$f":"transposed!AK15","v":44.406},{"$f":"transposed!AM15","v":43.266},{"$f":"transposed!AO15","v":44.913},44.420300000000005,{"$f":"transposed!AP15","v":0},{"$f":"transposed!AR15","v":0},{"$f":"transposed!AT15","v":0},{"$f":"transposed!AV15","v":0},{"$f":"transposed!AX15","v":2.5},{"$f":"transposed!AZ15","v":0},{"$f":"transposed!BB15","v":2.5},{"$f":"transposed!BD15","v":0},{"$f":"transposed!BF15","v":0},{"$f":"transposed!BH15","v":0},0.5,{"$f":"transposed!BJ15","v":0},{"$f":"transposed!BL15","v":0},{"$f":"transposed!BN15","v":0},{"$f":"transposed!BP15","v":0},{"$f":"transposed!BR15","v":0},{"$f":"transposed!BT15","v":7.5},{"$f":"transposed!BV15","v":0},{"$f":"transposed!BX15","v":0},{"$f":"transposed!BZ15","v":0},{"$f":"transposed!CB15","v":0},0.75,{"$f":"transposed!AQ15","v":0},{"$f":"transposed!AS15","v":0},{"$f":"transposed!AU15","v":0},{"$f":"transposed!AW15","v":0},{"$f":"transposed!AY15","v":0},{"$f":"transposed!BA15","v":0},{"$f":"transposed!BC15","v":5},{"$f":"transposed!BE15","v":0},{"$f":"transposed!BG15","v":2.5},{"$f":"transposed!BI15","v":0},0.75,{"$f":"transposed!BK15","v":0},{"$f":"transposed!BM15","v":2.5},{"$f":"transposed!BO15","v":0},{"$f":"transposed!BQ15","v":0},{"$f":"transposed!BS15","v":0},{"$f":"transposed!BU15","v":0},{"$f":"transposed!BW15","v":0},{"$f":"transposed!BY15","v":0},{"$f":"transposed!CA15","v":2.5},{"$f":"transposed!CC15","v":2.5},0.75,{"$f":"transposed!CD15","v":70},{"$f":"transposed!CF15","v":72},{"$f":"transposed!CH15","v":67},{"$f":"transposed!CJ15","v":67},{"$f":"transposed!CL15","v":65},{"$f":"transposed!CN15","v":68},{"$f":"transposed!CP15","v":64},{"$f":"transposed!CR15","v":61},{"$f":"transposed!CT15","v":72},{"$f":"transposed!CV15","v":62},66.8,{"$f":"transposed!CX15","v":78},{"$f":"transposed!CZ15","v":72},{"$f":"transposed!DB15","v":74},{"$f":"transposed!DD15","v":76},{"$f":"transposed!DF15","v":68},{"$f":"transposed!DH15","v":64},{"$f":"transposed!DJ15","v":71},{"$f":"transposed!DL15","v":74},{"$f":"transposed!DN15","v":73},{"$f":"transposed!DP15","v":71},72.1,{"$f":"transposed!CE15","v":73},{"$f":"transposed!CG15","v":67},{"$f":"transposed!CI15","v":69},{"$f":"transposed!CK15","v":67},{"$f":"transposed!CM15","v":66},{"$f":"transposed!CO15","v":62},{"$f":"transposed!CQ15","v":63},{"$f":"transposed!CS15","v":65},{"$f":"transposed!CU15","v":70},{"$f":"transposed!CW15","v":67},66.9,{"$f":"transposed!CY15","v":77},{"$f":"transposed!DA15","v":74},{"$f":"transposed!DC15","v":74},{"$f":"transposed!DE15","v":76},{"$f":"transposed!DG15","v":71},{"$f":"transposed!DI15","v":75},{"$f":"transposed!DK15","v":75},{"$f":"transposed!DM15","v":74},{"$f":"transposed!DO15","v":73},{"$f":"transposed!DQ15","v":68},73.7,{"$f":"transposed!DR15","v":"F"},{"$f":"transposed!DS15","v":28},{"$f":"transposed!DT15","v":"T"},"DP101"]
["DS101",{"$f":"transposed!B45","v":13.672},{"$f":"transposed!D45","v":13.152},{"$f":"transposed!F45","v":13.672},{"$f":"transposed!H45","v":11.512},{"$f":"transposed!J45","v":11.395},{"$f":"transposed!L45","v":11.4},{"$f":"transposed!N45","v":12.2},{"$f":"transposed!P45","v":10.944},{"$f":"transposed!R45","v":11.993},{"$f":"transposed!T45","v":10.912},12.0852,{"$f":"transposed!V45","v":12.752},{"$f":"transposed!X45","v":11.848},{"$f":"transposed!Z45","v":12.056},{"$f":"transposed!AB45","v":12.12},{"$f":"transposed!AD45","v":11.088},{"$f":"transposed!AF45","v":10.5},{"$f":"transposed!AH45","v":11.744},{"$f":"transposed!AJ45","v":10.512},{"$f":"transposed!AL45","v":10.582},{"$f":"transposed!AN45","v":10.568},11.376999999999999,{"$f":"transposed!C45","v":29.565},{"$f":"transposed!E45","v":32.092},{"$f":"transposed!G45","v":32.185},{"$f":"transposed!I45","v":31.808},{"$f":"transposed!K45","v":30.599},{"$f":"transposed!M45","v":30.977},{"$f":"transposed!O45","v":26.488},{"$f":"transposed!Q45","v":28.665},{"$f":"transposed!S45","v":29.944},{"$f":"transposed!U45","v":27.289},29.961199999999998,{"$f":"transposed!W45","v":22.808},{"$f":"transposed!Y45","v":22.416},{"$f":"transposed!AA45","v":29.146},{"$f":"transposed!AC45","v":25.384},{"$f":"transposed!AE45","v":25.048},{"$f":"transposed!AG45","v":28.385},{"$f":"transposed!AI45","v":25.584},{"$f":"transposed!AK45","v":26.552},{"$f":"transposed!AM45","v":28.249},{"$f":"transposed!AO45","v":26.544},26.011599999999998,{"$f":"transposed!AP45","v":0},{"$f":"transposed!AR45","v":0},{"$f":"transposed!AT45","v":0},{"$f":"transposed!AV45","v":0},{"$f":"transposed!AX45","v":0},{"$f":"transposed!AZ45","v":0},{"$f":"transposed!BB45","v":0},{"$f":"transposed!BD45","v":0},{"$f":"transposed!BF45","v":0},{"$f":"transposed!BH45","v":0},0,{"$f":"transposed!BJ45","v":0},{"$f":"transposed!BL45","v":0},{"$f":"transposed!BN45","v":0},{"$f":"transposed!BP45","v":0},{"$f":"transposed!BR45","v":0},{"$f":"transposed!BT45","v":0},{"$f":"transposed!BV45","v":0},{"$f":"transposed!BX45","v":0},{"$f":"transposed!BZ45","v":0},{"$f":"transposed!CB45","v":0},0,{"$f":"transposed!AQ45","v":0},{"$f":"transposed!AS45","v":0},{"$f":"transposed!AU45","v":0},{"$f":"transposed!AW45","v":0},{"$f":"transposed!AY45","v":2.5},{"$f":"transposed!BA45","v":2.5},{"$f":"transposed!BC45","v":0},{"$f":"transposed!BE45","v":0},{"$f":"transposed!BG45","v":0},{"$f":"transposed!BI45","v":2.5},0.75,{"$f":"transposed!BK45","v":0},{"$f":"transposed!BM45","v":0},{"$f":"transposed!BO45","v":5},{"$f":"transposed!BQ45","v":5},{"$f":"transposed!BS45","v":0},{"$f":"transposed!BU45","v":0},{"$f":"transposed!BW45","v":0},{"$f":"transposed!BY45","v":2.5},{"$f":"transposed!CA45","v":2.5},{"$f":"transposed!CC45","v":0},1.5,{"$f":"transposed!CD45","v":83},{"$f":"transposed!CF45","v":68},{"$f":"transposed!CH45","v":70},{"$f":"transposed!CJ45","v":63},{"$f":"transposed!CL45","v":75},{"$f":"transposed!CN45","v":65},{"$f":"transposed!CP45","v":67},{"$f":"transposed!CR45","v":82},{"$f":"transposed!CT45","v":75},{"$f":"transposed!CV45","v":75},72.3,{"$f":"transposed!CX45","v":97},{"$f":"transposed!CZ45","v":102},{"$f":"transposed!DB45","v":109},{"$f":"transposed!DD45","v":92},{"$f":"transposed!DF45","v":99},{"$f":"transposed!DH45","v":100},{"$f":"transposed!DJ45","v":87},{"$f":"transposed!DL45","v":98},{"$f":"transposed!DN45","v":97},{"$f":"transposed!DP45","v":86},96.7,{"$f":"transposed!CE45","v":76},{"$f":"transposed!CG45","v":71},{"$f":"transposed!CI45","v":66},{"$f":"transposed!CK45","v":73},{"$f":"transposed!CM45","v":70},{"$f":"transposed!CO45","v":66},{"$f":"transposed!CQ45","v":66},{"$f":"transposed!CS45","v":70},{"$f":"transposed!CU45","v":69},{"$f":"transposed!CW45","v":68},69.5,{"$f":"transposed!CY45","v":110},{"$f":"transposed!DA45","v":107},{"$f":"transposed!DC45","v":95},{"$f":"transposed!DE45","v":90},{"$f":"transposed!DG45","v":95},{"$f":"transposed!DI45","v":83},{"$f":"transposed!DK45","v":91},{"$f":"transposed!DM45","v":97},{"$f":"transposed!DO45","v":89},{"$f":"transposed!DQ45","v":104},96.1,{"$f":"transposed!DR45","v":"F"},{"$f":"transposed!DS45","v":18},{"$f":"transposed!DT45","v":"F"},"DS101"]
["DST102",{"$f":"transposed!B53","v":13.745},{"$f":"transposed!D53","v":16.416},{"$f":"transposed!F53","v":13.464},{"$f":"transposed!H53","v":14.895},{"$f":"transposed!J53","v":13.681000000000001},{"$f":"transposed!L53","v":13.856},{"$f":"transposed!N53","v":13.352},{"$f":"transposed!P53","v":14.128},{"$f":"transposed!R53","v":13.209},{"$f":"transposed!T53","v":12.775},13.952099999999998,{"$f":"transposed!V53","v":11.624},{"$f":"transposed!X53","v":12.08},{"$f":"transposed!Z53","v":12.529},{"$f":"transposed!AB53","v":11.399000000000001},{"$f":"transposed!AD53","v":11.513},{"$f":"transposed!AF53","v":12.024},{"$f":"transposed!AH53","v":11.184},{"$f":"transposed!AJ53","v":11.023},{"$f":"transposed!AL53","v":12.104},{"$f":"transposed!AN53","v":11.136},11.661599999999998,{"$f":"transposed!C53","v":27.177},{"$f":"transposed!E53","v":25.4},{"$f":"transposed!G53","v":25.185},{"$f":"transposed!I53","v":28.497},{"$f":"transposed!K53","v":26.888},{"$f":"transposed!M53","v":30.608},{"$f":"transposed!O53","v":25.56},{"$f":"transposed!Q53","v":26.537},{"$f":"transposed!S53","v":26.809},{"$f":"transposed!U53","v":26.352},26.9013,{"$f":"transposed!W53","v":23.967},{"$f":"transposed!Y53","v":24.32},{"$f":"transposed!AA53","v":26.736},{"$f":"transposed!AC53","v":26.744},{"$f":"transposed!AE53","v":24.368},{"$f":"transposed!AG53","v":24.952},{"$f":"transposed!AI53","v":23.472},{"$f":"transposed!AK53","v":24.217},{"$f":"transposed!AM53","v":23.688},{"$f":"transposed!AO53","v":24.28},24.6744,{"$f":"transposed!AP53","v":0},{"$f":"transposed!AR53","v":0},{"$f":"transposed!AT53","v":0},{"$f":"transposed!AV53","v":0},{"$f":"transposed!AX53","v":0},{"$f":"transposed!AZ53","v":0},{"$f":"transposed!BB53","v":0},{"$f":"transposed!BD53","v":0},{"$f":"transposed!BF53","v":0},{"$f":"transposed!BH53","v":0},0,{"$f":"transposed!BJ53","v":0},{"$f":"transposed!BL53","v":0},{"$f":"transposed!BN53","v":0},{"$f":"transposed!BP53","v":0},{"$f":"transposed!BR53","v":0},{"$f":"transposed!BT53","v":0},{"$f":"transposed!BV53","v":0},{"$f":"transposed!BX53","v":0},{"$f":"transposed!BZ53","v":0},{"$f":"transposed!CB53","v":0},0,{"$f":"transposed!AQ53","v":2.5},{"$f":"transposed!AS53","v":2.5},{"$f":"transposed!AU53","v":0},{"$f":"transposed!AW53","v":5},{"$f":"transposed!AY53","v":0},{"$f":"transposed!BA53","v":2.5},{"$f":"transposed!BC53","v":0},{"$f":"transposed!BE53","v":0},{"$f":"transposed!BG53","v":2.5},{"$f":"transposed!BI53","v":7.5},2.25,{"$f":"transposed!BK53","v":5},{"$f":"transposed!BM53","v":5},{"$f":"transposed!BO53","v":5},{"$f":"transposed!BQ53","v":2.5},{"$f":"transposed!BS53","v":0},{"$f":"transposed!BU53","v":2.5},{"$f":"transposed!BW53","v":0},{"$f":"transposed!BY53","v":5},{"$f":"transposed!CA53","v":0},{"$f":"transposed!CC53","v":0},2.5,{"$f":"transposed!CD53","v":102},{"$f":"transposed!CF53","v":96},{"$f":"transposed!CH53","v":98},{"$f":"transposed!CJ53","v":111},{"$f":"transposed!CL53","v":103},{"$f":"transposed!CN53","v":103},{"$f":"transposed!CP53","v":98},{"$f":"transposed!CR53","v":101},{"$f":"transposed!CT53","v":104},{"$f":"transposed!CV53","v":104},102,{"$f":"transposed!CX53","v":119},{"$f":"transposed!CZ53","v":113},{"$f":"transposed!DB53","v":114},{"$f":"transposed!DD53","v":113},{"$f":"transposed!DF53","v":112},{"$f":"transposed!DH53","v":111},{"$f":"transposed!DJ53","v":107},{"$f":"transposed!DL53","v":110},{"$f":"transposed!DN53","v":105},{"$f":"transposed!DP53","v":105},110.9,{"$f":"transposed!CE53","v":102},{"$f":"transposed!CG53","v":104},{"$f":"transposed!CI53","v":92},{"$f":"transposed!CK53","v":94},{"$f":"transposed!CM53","v":101},{"$f":"transposed!CO53","v":99},{"$f":"transposed!CQ53","v":97},{"$f":"transposed!CS53","v":102},{"$f":"transposed!CU53","v":100},{"$f":"transposed!CW53","v":106},99.7,{"$f":"transposed!CY53","v":117},{"$f":"transposed!DA53","v":110},{"$f":"transposed!DC53","v":112},{"$f":"transposed!DE53","v":104},{"$f":"transposed!DG53","v":101},{"$f":"transposed!DI53","v":112},{"$f":"transposed!DK53","v":108},{"$f":"transposed!DM53","v":113},{"$f":"transposed!DO53","v":113},{"$f":"transposed!DQ53","v":113},110.3,{"$f":"transposed!DR53","v":"M"},{"$f":"transposed!DS53","v":22},{"$f":"transposed!DT53","v":"F"},"DST102"]
["DT101",{"$f":"transposed!B46","v":23.112},{"$f":"transposed!D46","v":24.568},{"$f":"transposed!F46","v":{"v":24.864,"d":"25"}},{"$f":"transposed!H46","v":27.056},{"$f":"transposed!J46","v":17.145},{"$f":"transposed!L46","v":31.832},{"$f":"transposed!N46","v":27.441},{"$f":"transposed!P46","v":28.449},{"$f":"transposed!R46","v":31.576},{"$f":"transposed!T46","v":24.84},26.088299999999997,{"$f":"transposed!V46","v":18.896},{"$f":"transposed!X46","v":18.128},{"$f":"transposed!Z46","v":15.152},{"$f":"transposed!AB46","v":15.368},{"$f":"transposed!AD46","v":13.92},{"$f":"transposed!AF46","v":16.192},{"$f":"transposed!AH46","v":14.271},{"$f":"transposed!AJ46","v":15.233},{"$f":"transposed!AL46","v":16.456},{"$f":"transposed!AN46","v":18.217},16.183300000000003,{"$f":"transposed!C46","v":63.977},{"$f":"transposed!E46","v":84.545},{"$f":"transposed!G46","v":67.033},{"$f":"transposed!I46","v":125.57},{"$f":"transposed!K46","v":85.913},{"$f":"transposed!M46","v":120.747},{"$f":"transposed!O46","v":108.666},{"$f":"transposed!Q46","v":102.251},{"$f":"transposed!S46","v":91.466},{"$f":"transposed!U46","v":112.722},96.289,{"$f":"transposed!W46","v":77.042},{"$f":"transposed!Y46","v":58.041},{"$f":"transposed!AA46","v":63.097},{"$f":"transposed!AC46","v":58.377},{"$f":"transposed!AE46","v":70.121},{"$f":"transposed!AG46","v":78.217},{"$f":"transposed!AI46","v":62.713},{"$f":"transposed!AK46","v":68.465},{"$f":"transposed!AM46","v":80.673},{"$f":"transposed!AO46","v":82.609},69.9355,{"$f":"transposed!AP46","v":0},{"$f":"transposed!AR46","v":0},{"$f":"transposed!AT46","v":0},{"$f":"transposed!AV46","v":0},{"$f":"transposed!AX46","v":0},{"$f":"transposed!AZ46","v":0},{"$f":"transposed!BB46","v":0},{"$f":"transposed!BD46","v":0},{"$f":"transposed!BF46","v":0},{"$f":"transposed!BH46","v":0},0,{"$f":"transposed!BJ46","v":0},{"$f":"transposed!BL46","v":0},{"$f":"transposed!BN46","v":0},{"$f":"transposed!BP46","v":0},{"$f":"transposed!BR46","v":0},{"$f":"transposed!BT46","v":0},{"$f":"transposed!BV46","v":2.5},{"$f":"transposed!BX46","v":0},{"$f":"transposed!BZ46","v":0},{"$f":"transposed!CB46","v":0},0.25,{"$f":"transposed!AQ46","v":7.5},{"$f":"transposed!AS46","v":7.5},{"$f":"transposed!AU46","v":0},{"$f":"transposed!AW46","v":12.5},{"$f":"transposed!AY46","v":7.5},{"$f":"transposed!BA46","v":12.5},{"$f":"transposed!BC46","v":10},{"$f":"transposed!BE46","v":10},{"$f":"transposed!BG46","v":12.5},{"$f":"transposed!BI46","v":7.5},8.75,{"$f":"transposed!BK46","v":7.5},{"$f":"transposed!BM46","v":7.5},{"$f":"transposed!BO46","v":5},{"$f":"transposed!BQ46","v":2.5},{"$f":"transposed!BS46","v":5},{"$f":"transposed!BU46","v":5},{"$f":"transposed!BW46","v":2.5},{"$f":"transposed!BY46","v":7.5},{"$f":"transposed!CA46","v":12.5},{"$f":"transposed!CC46","v":37.5},9.25,{"$f":"transposed!CD46","v":77},{"$f":"transposed!CF46","v":76},{"$f":"transposed!CH46","v":72},{"$f":"transposed!CJ46","v":73},{"$f":"transposed!CL46","v":74},{"$f":"transposed!CN46","v":87},{"$f":"transposed!CP46","v":77},{"$f":"transposed!CR46","v":74},{"$f":"transposed!CT46","v":79},{"$f":"transposed!CV46","v":73},76.2,{"$f":"transposed!CX46","v":101},{"$f":"transposed!CZ46","v":99},{"$f":"transposed!DB46","v":98},{"$f":"transposed!DD46","v":97},{"$f":"transposed!DF46","v":99},{"$f":"transposed!DH46","v":99},{"$f":"transposed!DJ46","v":99},{"$f":"transposed!DL46","v":94},{"$f":"transposed!DN46","v":100},{"$f":"transposed!DP46","v":96},98.2,{"$f":"transposed!CE46","v":77},{"$f":"transposed!CG46","v":76},{"$f":"transposed!CI46","v":80},{"$f":"transposed!CK46","v":80},{"$f":"transposed!CM46","v":80},{"$f":"transposed!CO46","v":75},{"$f":"transposed!CQ46","v":87},{"$f":"transposed!CS46","v":74},{"$f":"transposed!CU46","v":81},{"$f":"transposed!CW46","v":81},79.1,{"$f":"transposed!CY46","v":96},{"$f":"transposed!DA46","v":97},{"$f":"transposed!DC46","v":98},{"$f":"transposed!DE46","v":96},{"$f":"transposed!DG46","v":102},{"$f":"transposed!DI46","v":92},{"$f":"transposed!DK46","v":100},{"$f":"transposed!DM46","v":96},{"$f":"transposed!DO46","v":95},{"$f":"transposed!DQ46","v":95},96.7,{"$f":"transposed!DR46","v":"M"},{"$f":"transposed!DS46","v":25},{"$f":"transposed!DT46","v":"T"},"DT101"]
["DY101",{"$f":"transposed!B30","v":22.359},{"$f":"transposed!D30","v":19.992},{"$f":"transposed!F30","v":22.281},{"$f":"transposed!H30","v":22.273},{"$f":"transposed!J30","v":22.183},{"$f":"transposed!L30","v":22.84},{"$f":"transposed!N30","v":22.321},{"$f":"transposed!P30","v":22.784},{"$f":"transposed!R30","v":21.135},{"$f":"transposed!T30","v":20.686},21.885399999999997,{"$f":"transposed!V30","v":18.575},{"$f":"transposed!X30","v":18.536},{"$f":"transposed!Z30","v":18.256},{"$f":"transposed!AB30","v":16.935},{"$f":"transposed!AD30","v":16.673},{"$f":"transposed!AF30","v":16.537},{"$f":"transposed!AH30","v":17.943},{"$f":"transposed!AJ30","v":17.103},{"$f":"transposed!AL30","v":15.28},{"$f":"transposed!AN30","v":14.711},17.0549,{"$f":"transposed!C30","v":33.112},{"$f":"transposed!E30","v":35.071},{"$f":"transposed!G30","v":31.993},{"$f":"transposed!I30","v":33.216},{"$f":"transposed!K30","v":36.096},{"$f":"transposed!M30","v":38.935},{"$f":"transposed!O30","v":34.848},{"$f":"transposed!Q30","v":31.473},{"$f":"transposed!S30","v":36.84},{"$f":"transposed!U30","v":31.926},34.351000000000006,{"$f":"transposed!W30","v":32.241},{"$f":"transposed!Y30","v":30.455},{"$f":"transposed!AA30","v":34.8},{"$f":"transposed!AC30","v":32.943},{"$f":"transposed!AE30","v":35.336},{"$f":"transposed!AG30","v":37.128},{"$f":"transposed!AI30","v":35.912},{"$f":"transposed!AK30","v":31.633},{"$f":"transposed!AM30","v":32.375},{"$f":"transposed!AO30","v":33.455},33.62779999999999,{"$f":"transposed!AP30","v":0},{"$f":"transposed!AR30","v":0},{"$f":"transposed!AT30","v":0},{"$f":"transposed!AV30","v":0},{"$f":"transposed!AX30","v":0},{"$f":"transposed!AZ30","v":0},{"$f":"transposed!BB30","v":0},{"$f":"transposed!BD30","v":0},{"$f":"transposed!BF30","v":0},{"$f":"transposed!BH30","v":0},0,{"$f":"transposed!BJ30","v":0},{"$f":"transposed!BL30","v":0},{"$f":"transposed!BN30","v":0},{"$f":"transposed!BP30","v":0},{"$f":"transposed!BR30","v":0},{"$f":"transposed!BT30","v":0},{"$f":"transposed!BV30","v":0},{"$f":"transposed!BX30","v":0},{"$f":"transposed!BZ30","v":0},{"$f":"transposed!CB30","v":0},0,{"$f":"transposed!AQ30","v":0},{"$f":"transposed!AS30","v":2.5},{"$f":"transposed!AU30","v":0},{"$f":"transposed!AW30","v":0},{"$f":"transposed!AY30","v":0},{"$f":"transposed!BA30","v":2.5},{"$f":"transposed!BC30","v":0},{"$f":"transposed!BE30","v":0},{"$f":"transposed!BG30","v":2.5},{"$f":"transposed!BI30","v":0},0.75,{"$f":"transposed!BK30","v":2.5},{"$f":"transposed!BM30","v":0},{"$f":"transposed!BO30","v":2.5},{"$f":"transposed!BQ30","v":0},{"$f":"transposed!BS30","v":5},{"$f":"transposed!BU30","v":0},{"$f":"transposed!BW30","v":0},{"$f":"transposed!BY30","v":2.5},{"$f":"transposed!CA30","v":0},{"$f":"transposed!CC30","v":0},1.25,{"$f":"transposed!CD30","v":86},{"$f":"transposed!CF30","v":96},{"$f":"transposed!CH30","v":90},{"$f":"transposed!CJ30","v":85},{"$f":"transposed!CL30","v":90},{"$f":"transposed!CN30","v":92},{"$f":"transposed!CP30","v":92},{"$f":"transposed!CR30","v":99},{"$f":"transposed!CT30","v":92},{"$f":"transposed!CV30","v":91},91.3,{"$f":"transposed!CX30","v":89},{"$f":"transposed!CZ30","v":101},{"$f":"transposed!DB30","v":99},{"$f":"transposed!DD30","v":91},{"$f":"transposed!DF30","v":100},{"$f":"transposed!DH30","v":92},{"$f":"transposed!DJ30","v":82},{"$f":"transposed!DL30","v":98},{"$f":"transposed!DN30","v":91},{"$f":"transposed!DP30","v":100},94.3,{"$f":"transposed!CE30","v":95},{"$f":"transposed!CG30","v":102},{"$f":"transposed!CI30","v":100},{"$f":"transposed!CK30","v":89},{"$f":"transposed!CM30","v":94},{"$f":"transposed!CO30","v":89},{"$f":"transposed!CQ30","v":93},{"$f":"transposed!CS30","v":91},{"$f":"transposed!CU30","v":99},{"$f":"transposed!CW30","v":97},94.9,{"$f":"transposed!CY30","v":96},{"$f":"transposed!DA30","v":98},{"$f":"transposed!DC30","v":82},{"$f":"transposed!DE30","v":99},{"$f":"transposed!DG30","v":95},{"$f":"transposed!DI30","v":84},{"$f":"transposed!DK30","v":92},{"$f":"transposed!DM30","v":91},{"$f":"transposed!DO30","v":98},{"$f":"transposed!DQ30","v":99},93.4,{"$f":"transposed!DR30","v":"F"},{"$f":"transposed!DS30","v":25.6},{"$f":"transposed!DT30","v":"F"},"DY101"]
["DZ101",{"$f":"transposed!B8","v":16.847},{"$f":"transposed!D8","v":15.672},{"$f":"transposed!F8","v":15.935},{"$f":"transposed!H8","v":13.832},{"$f":"transposed!J8","v":15.784},{"$f":"transposed!L8","v":14.24},{"$f":"transposed!N8","v":13.872},{"$f":"transposed!P8","v":13.655},{"$f":"transposed!R8","v":14.152},{"$f":"transposed!T8","v":13.288},14.727700000000002,{"$f":"transposed!V8","v":13.359},{"$f":"transposed!X8","v":12.984},{"$f":"transposed!Z8","v":13.52},{"$f":"transposed!AB8","v":16.031},{"$f":"transposed!AD8","v":18.704},{"$f":"transposed!AF8","v":19.479},{"$f":"transposed!AH8","v":18.239},{"$f":"transposed!AJ8","v":18.247},{"$f":"transposed!AL8","v":19.831},{"$f":"transposed!AN8","v":19.759},17.015299999999996,{"$f":"transposed!C8","v":25.887},{"$f":"transposed!E8","v":25.383},{"$f":"transposed!G8","v":26.687},{"$f":"transposed!I8","v":25.399},{"$f":"transposed!K8","v":25.407},{"$f":"transposed!M8","v":27.758},{"$f":"transposed!O8","v":23.103},{"$f":"transposed!Q8","v":26.904},{"$f":"transposed!S8","v":24.431},{"$f":"transposed!U8","v":25.583},25.654200000000003,{"$f":"transposed!W8","v":24.375},{"$f":"transposed!Y8","v":24.751},{"$f":"transposed!AA8","v":23.007},{"$f":"transposed!AC8","v":27.895},{"$f":"transposed!AE8","v":26.831},{"$f":"transposed!AG8","v":26.558},{"$f":"transposed!AI8","v":28.127},{"$f":"transposed!AK8","v":28.167},{"$f":"transposed!AM8","v":25.551},{"$f":"transposed!AO8","v":27.703},26.296499999999998,{"$f":"transposed!AP8","v":0},{"$f":"transposed!AR8","v":0},{"$f":"transposed!AT8","v":0},{"$f":"transposed!AV8","v":0},{"$f":"transposed!AX8","v":2.5},{"$f":"transposed!AZ8","v":0},{"$f":"transposed!BB8","v":0},{"$f":"transposed!BD8","v":0},{"$f":"transposed!BF8","v":0},{"$f":"transposed!BH8","v":0},0.25,{"$f":"transposed!BJ8","v":0},{"$f":"transposed!BL8","v":0},{"$f":"transposed!BN8","v":0},{"$f":"transposed!BP8","v":0},{"$f":"transposed!BR8","v":0},{"$f":"transposed!BT8","v":0},{"$f":"transposed!BV8","v":0},{"$f":"transposed!BX8","v":0},{"$f":"transposed!BZ8","v":0},{"$f":"transposed!CB8","v":0},0,{"$f":"transposed!AQ8","v":0},{"$f":"transposed!AS8","v":2.5},{"$f":"transposed!AU8","v":0},{"$f":"transposed!AW8","v":2.5},{"$f":"transposed!AY8","v":0},{"$f":"transposed!BA8","v":2.5},{"$f":"transposed!BC8","v":2.5},{"$f":"transposed!BE8","v":0},{"$f":"transposed!BG8","v":0},{"$f":"transposed!BI8","v":2.5},1.25,{"$f":"transposed!BK8","v":0},{"$f":"transposed!BM8","v":5},{"$f":"transposed!BO8","v":5},{"$f":"transposed!BQ8","v":0},{"$f":"transposed!BS8","v":0},{"$f":"transposed!BU8","v":0},{"$f":"transposed!BW8","v":0},{"$f":"transposed!BY8","v":0},{"$f":"transposed!CA8","v":0},{"$f":"transposed!CC8","v":2.5},1.25,{"$f":"transposed!CD8","v":73},{"$f":"transposed!CF8","v":72},{"$f":"transposed!CH8","v":85},{"$f":"transposed!CJ8","v":73},{"$f":"transposed!CL8","v":78},{"$f":"transposed!CN8","v":78},{"$f":"transposed!CP8","v":76},{"$f":"transposed!CR8","v":81},{"$f":"transposed!CT8","v":82},{"$f":"transposed!CV8","v":76},77.4,{"$f":"transposed!CX8","v":105},{"$f":"transposed!CZ8","v":107},{"$f":"transposed!DB8","v":105},{"$f":"transposed!DD8","v":106},{"$f":"transposed!DF8","v":103},{"$f":"transposed!DH8","v":104},{"$f":"transposed!DJ8","v":101},{"$f":"transposed!DL8","v":100},{"$f":"transposed!DN8","v":110},{"$f":"transposed!DP8","v":101},104.2,{"$f":"transposed!CE8","v":81},{"$f":"transposed!CG8","v":73},{"$f":"transposed!CI8","v":78},{"$f":"transposed!CK8","v":85},{"$f":"transposed!CM8","v":84},{"$f":"transposed!CO8","v":82},{"$f":"transposed!CQ8","v":76},{"$f":"transposed!CS8","v":79},{"$f":"transposed!CU8","v":70},{"$f":"transposed!CW8","v":85},79.3,{"$f":"transposed!CY8","v":106},{"$f":"transposed!DA8","v":106},{"$f":"transposed!DC8","v":104},{"$f":"transposed!DE8","v":103},{"$f":"transposed!DG8","v":105},{"$f":"transposed!DI8","v":99},{"$f":"transposed!DK8","v":101},{"$f":"transposed!DM8","v":109},{"$f":"transposed!DO8","v":105},{"$f":"transposed!DQ8","v":99},103.7,{"$f":"transposed!DR8","v":"M"},{"$f":"transposed!DS8","v":20},{"$f":"transposed!DT8","v":"F"},"DZ101"]
["EC101",{"$f":"transposed!B71","v":20},{"$f":"transposed!D71","v":68.736},{"$f":"transposed!F71","v":16.608},{"$f":"transposed!H71","v":17.664},{"$f":"transposed!J71","v":15.064},{"$f":"transposed!L71","v":16.641},{"$f":"transposed!N71","v":15.2},{"$f":"transposed!P71","v":15.528},{"$f":"transposed!R71","v":15.824},{"$f":"transposed!T71","v":14.864},{"$f":"AVERAGE(B33:K33)","v":21.6129},{"$f":"transposed!V71","v":16.528},{"$f":"transposed!X71","v":14.272},{"$f":"transposed!Z71","v":16.552},{"$f":"transposed!AB71","v":14.24},{"$f":"transposed!AD71","v":14.576},{"$f":"transposed!AF71","v":15.736},{"$f":"transposed!AH71","v":16.01},{"$f":"transposed!AJ71","v":15.384},{"$f":"transposed!AL71","v":14.944},{"$f":"transposed!AN71","v":13.635},{"$f":"AVERAGE(M33:V33)","v":15.187700000000001},{"$f":"transposed!C71","v":39.769},{"$f":"transposed!E71","v":35.393},{"$f":"transposed!G71","v":34.257},{"$f":"transposed!I71","v":33.92},{"$f":"transposed!K71","v":32.601},{"$f":"transposed!M71","v":31.586},{"$f":"transposed!O71","v":32.032},{"$f":"transposed!Q71","v":31.825},{"$f":"transposed!S71","v":29.994},{"$f":"transposed!U71","v":29.745},{"$f":"AVERAGE(X33:AG33)","v":33.112199999999994},{"$f":"transposed!W71","v":32.002},{"$f":"transposed!Y71","v":31.352},{"$f":"transposed!AA71","v":31.688},{"$f":"transposed!AC71","v":36.017},{"$f":"transposed!AE71","v":32.456},{"$f":"transposed!AG71","v":32.193},{"$f":"transposed!AI71","v":31.192},{"$f":"transposed!AK71","v":30.937},{"$f":"transposed!AM71","v":32.88},{"$f":"transposed!AO71","v":27.508},{"$f":"AVERAGE(AI33:AR33)","v":31.822499999999998},{"$f":"transposed!AP71","v":0},{"$f":"transposed!AR71","v":0},{"$f":"transposed!AT71","v":0},{"$f":"transposed!AV71","v":0},{"$f":"transposed!AX71","v":0},{"$f":"transposed!AZ71","v":0},{"$f":"transposed!BB71","v":0},{"$f":"transposed!BD71","v":0},{"$f":"transposed!BF71","v":0},{"$f":"transposed!BH71","v":0},0,{"$f":"transposed!BJ71","v":0},{"$f":"transposed!BL71","v":0},{"$f":"transposed!BN71","v":0},{"$f":"transposed!BP71","v":0},{"$f":"transposed!BR71","v":0},{"$f":"transposed!BT71","v":0},{"$f":"transposed!BV71","v":0},{"$f":"transposed!BX71","v":0},{"$f":"transposed!BZ71","v":0},{"$f":"transposed!CB71","v":0},0,{"$f":"transposed!AQ71","v":5},{"$f":"transposed!AS71","v":2.5},{"$f":"transposed!AU71","v":0},{"$f":"transposed!AW71","v":0},{"$f":"transposed!AY71","v":5},{"$f":"transposed!BA71","v":0},{"$f":"transposed!BC71","v":0},{"$f":"transposed!BE71","v":0},{"$f":"transposed!BG71","v":0},{"$f":"transposed!BI71","v":0},1.25,{"$f":"transposed!BK71","v":5},{"$f":"transposed!BM71","v":2.5},{"$f":"transposed!BO71","v":0},{"$f":"transposed!BQ71","v":0},{"$f":"transposed!BS71","v":0},{"$f":"transposed!BU71","v":0},{"$f":"transposed!BW71","v":0},{"$f":"transposed!BY71","v":2.5},{"$f":"transposed!CA71","v":0},{"$f":"transposed!CC71","v":0},1,{"$f":"transposed!CD71","v":0},{"$f":"transposed!CF71","v":0},{"$f":"transposed!CH71","v":0},{"$f":"transposed!CJ71","v":0},{"$f":"transposed!CL71","v":0},{"$f":"transposed!CN71","v":0},{"$f":"transposed!CP71","v":0},{"$f":"transposed!CR71","v":0},{"$f":"transposed!CT71","v":0},{"$f":"transposed!CV71","v":0},{"$f":"AVERAGE(CL33:CU33)","v":0},{"$f":"transposed!CX71","v":0},{"$f":"transposed!CZ71","v":0},{"$f":"transposed!DB71","v":0},{"$f":"transposed!DD71","v":0},{"$f":"transposed!DF71","v":0},{"$f":"transposed!DH71","v":0},{"$f":"transposed!DJ71","v":0},{"$f":"transposed!DL71","v":0},{"$f":"transposed!DN71","v":0},{"$f":"transposed!DP71","v":0},{"$f":"AVERAGE(CW33:DF33)","v":0},{"$f":"transposed!CE71","v":0},{"$f":"transposed!CG71","v":0},{"$f":"transposed!CI71","v":0},{"$f":"transposed!CK71","v":0},{"$f":"transposed!CM71","v":0},{"$f":"transposed!CO71","v":0},{"$f":"transposed!CQ71","v":0},{"$f":"transposed!CS71","v":0},{"$f":"transposed!CU71","v":0},{"$f":"transposed!CW71","v":0},{"$f":"AVERAGE(DH33:DQ33)","v":0},{"$f":"transposed!CY71","v":0},{"$f":"transposed!DA71","v":0},{"$f":"transposed!DC71","v":0},{"$f":"transposed!DE71","v":0},{"$f":"transposed!DG71","v":0},{"$f":"transposed!DI71","v":0},{"$f":"transposed!DK71","v":0},{"$f":"transposed!DM71","v":0},{"$f":"transposed!DO71","v":0},{"$f":"transposed!DQ71","v":0},{"$f":"AVERAGE(DS33:EB33)","v":0},{"$f":"transposed!DR71","v":"F"},{"$f":"transposed!DS71","v":21},{"$f":"transposed!DT71","v":"F"},"EC101"]
["EF101",{"$f":"transposed!B41","v":17.987},{"$f":"transposed!D41","v":20.104},{"$f":"transposed!F41","v":18.416},{"$f":"transposed!H41","v":17.944},{"$f":"transposed!J41","v":19.424},{"$f":"transposed!L41","v":17.336},{"$f":"transposed!N41","v":18.042},{"$f":"transposed!P41","v":18.2},{"$f":"transposed!R41","v":18.109},{"$f":"transposed!T41","v":18.72},18.428199999999997,{"$f":"transposed!V41","v":17.448},{"$f":"transposed!X41","v":15.839},{"$f":"transposed!Z41","v":17.058},{"$f":"transposed!AB41","v":16.527},{"$f":"transposed!AD41","v":17.505},{"$f":"transposed!AF41","v":18.346},{"$f":"transposed!AH41","v":18.163},{"$f":"transposed!AJ41","v":16.795},{"$f":"transposed!AL41","v":17.264},{"$f":"transposed!AN41","v":15.295},17.023999999999997,{"$f":"transposed!C41","v":38.706},{"$f":"transposed!E41","v":37.713},{"$f":"transposed!G41","v":35.28},{"$f":"transposed!I41","v":35.033},{"$f":"transposed!K41","v":37.841},{"$f":"transposed!M41","v":36.552},{"$f":"transposed!O41","v":38.786},{"$f":"transposed!Q41","v":38.089},{"$f":"transposed!S41","v":37.266},{"$f":"transposed!U41","v":36.009},37.12750000000001,{"$f":"transposed!W41","v":30.571},{"$f":"transposed!Y41","v":29.383},{"$f":"transposed!AA41","v":34.401},{"$f":"transposed!AC41","v":32.729},{"$f":"transposed!AE41","v":32.368},{"$f":"transposed!AG41","v":32.018},{"$f":"transposed!AI41","v":31.201},{"$f":"transposed!AK41","v":31.758},{"$f":"transposed!AM41","v":33.744},{"$f":"transposed!AO41","v":29.849},31.8022,{"$f":"transposed!AP41","v":0},{"$f":"transposed!AR41","v":0},{"$f":"transposed!AT41","v":0},{"$f":"transposed!AV41","v":0},{"$f":"transposed!AX41","v":0},{"$f":"transposed!AZ41","v":0},{"$f":"transposed!BB41","v":2.5},{"$f":"transposed!BD41","v":0},{"$f":"transposed!BF41","v":0},{"$f":"transposed!BH41","v":0},0.25,{"$f":"transposed!BJ41","v":0},{"$f":"transposed!BL41","v":0},{"$f":"transposed!BN41","v":0},{"$f":"transposed!BP41","v":0},{"$f":"transposed!BR41","v":0},{"$f":"transposed!BT41","v":0},{"$f":"transposed!BV41","v":0},{"$f":"transposed!BX41","v":0},{"$f":"transposed!BZ41","v":0},{"$f":"transposed!CB41","v":0},0,{"$f":"transposed!AQ41","v":0},{"$f":"transposed!AS41","v":2.5},{"$f":"transposed!AU41","v":0},{"$f":"transposed!AW41","v":0},{"$f":"transposed!AY41","v":2.5},{"$f":"transposed!BA41","v":0},{"$f":"transposed!BC41","v":0},{"$f":"transposed!BE41","v":0},{"$f":"transposed!BG41","v":2.5},{"$f":"transposed!BI41","v":0},0.75,{"$f":"transposed!BK41","v":2.5},{"$f":"transposed!BM41","v":0},{"$f":"transposed!BO41","v":2.5},{"$f":"transposed!BQ41","v":2.5},{"$f":"transposed!BS41","v":2.5},{"$f":"transposed!BU41","v":0},{"$f":"transposed!BW41","v":0},{"$f":"transposed!BY41","v":0},{"$f":"transposed!CA41","v":0},{"$f":"transposed!CC41","v":0},1,{"$f":"transposed!CD41","v":54},{"$f":"transposed!CF41","v":54},{"$f":"transposed!CH41","v":101},{"$f":"transposed!CJ41","v":101},{"$f":"transposed!CL41","v":106},{"$f":"transposed!CN41","v":111},{"$f":"transposed!CP41","v":106},{"$f":"transposed!CR41","v":107},{"$f":"transposed!CT41","v":111},{"$f":"transposed!CV41","v":109},96,{"$f":"transposed!CX41","v":137},{"$f":"transposed!CZ41","v":135},{"$f":"transposed!DB41","v":132},{"$f":"transposed!DD41","v":128},{"$f":"transposed!DF41","v":129},{"$f":"transposed!DH41","v":127},{"$f":"transposed!DJ41","v":126},{"$f":"transposed!DL41","v":124},{"$f":"transposed!DN41","v":120},{"$f":"transposed!DP41","v":127},128.5,{"$f":"transposed!CE41","v":54},{"$f":"transposed!CG41","v":93},{"$f":"transposed!CI41","v":100},{"$f":"transposed!CK41","v":105},{"$f":"transposed!CM41","v":97},{"$f":"transposed!CO41","v":112},{"$f":"transposed!CQ41","v":109},{"$f":"transposed!CS41","v":104},{"$f":"transposed!CU41","v":103},{"$f":"transposed!CW41","v":105},98.2,{"$f":"transposed!CY41","v":139},{"$f":"transposed!DA41","v":141},{"$f":"transposed!DC41","v":137},{"$f":"transposed!DE41","v":124},{"$f":"transposed!DG41","v":127},{"$f":"transposed!DI41","v":132},{"$f":"transposed!DK41","v":130},{"$f":"transposed!DM41","v":135},{"$f":"transposed!DO41","v":125},{"$f":"transposed!DQ41","v":135},132.5,{"$f":"transposed!DR41","v":"F"},{"$f":"transposed!DS41","v":29},{"$f":"transposed!DT41","v":"F"},"EF101"]
["EJ101",{"$f":"transposed!B11","v":18.592},{"$f":"transposed!D11","v":24.472},{"$f":"transposed!F11","v":24.352},{"$f":"transposed!H11","v":21.888},{"$f":"transposed!J11","v":19.488},{"$f":"transposed!L11","v":20.568},{"$f":"transposed!N11","v":19.423},{"$f":"transposed!P11","v":19.287},{"$f":"transposed!R11","v":19.472},{"$f":"transposed!T11","v":19.6},20.7142,{"$f":"transposed!V11","v":17.495},{"$f":"transposed!X11","v":18.352},{"$f":"transposed!Z11","v":17.016},{"$f":"transposed!AB11","v":16.56},{"$f":"transposed!AD11","v":16.76},{"$f":"transposed!AF11","v":15.791},{"$f":"transposed!AH11","v":18.223},{"$f":"transposed!AJ11","v":17.432},{"$f":"transposed!AL11","v":17.88},{"$f":"transposed!AN11","v":17.416},17.292499999999997,{"$f":"transposed!C11","v":32.584},{"$f":"transposed!E11","v":30.008},{"$f":"transposed!G11","v":30.032},{"$f":"transposed!I11","v":30.536},{"$f":"transposed!K11","v":29.703},{"$f":"transposed!M11","v":32.303},{"$f":"transposed!O11","v":30.687},{"$f":"transposed!Q11","v":31.111},{"$f":"transposed!S11","v":29.607},{"$f":"transposed!U11","v":29.216},30.578700000000005,{"$f":"transposed!W11","v":28.455},{"$f":"transposed!Y11","v":28.944},{"$f":"transposed!AA11","v":29.824},{"$f":"transposed!AC11","v":30.208},{"$f":"transposed!AE11","v":26.304},{"$f":"transposed!AG11","v":30.927},{"$f":"transposed!AI11","v":29.399},{"$f":"transposed!AK11","v":34.783},{"$f":"transposed!AM11","v":29.711},{"$f":"transposed!AO11","v":27.927},29.648200000000003,{"$f":"transposed!AP11","v":0},{"$f":"transposed!AR11","v":0},{"$f":"transposed!AT11","v":0},{"$f":"transposed!AV11","v":0},{"$f":"transposed!AX11","v":0},{"$f":"transposed!AZ11","v":0},{"$f":"transposed!BB11","v":0},{"$f":"transposed!BD11","v":0},{"$f":"transposed!BF11","v":0},{"$f":"transposed!BH11","v":0},0,{"$f":"transposed!BJ11","v":0},{"$f":"transposed!BL11","v":0},{"$f":"transposed!BN11","v":0},{"$f":"transposed!BP11","v":0},{"$f":"transposed!BR11","v":0},{"$f":"transposed!BT11","v":0},{"$f":"transposed!BV11","v":0},{"$f":"transposed!BX11","v":2.5},{"$f":"transposed!BZ11","v":0},{"$f":"transposed!CB11","v":0},0.25,{"$f":"transposed!AQ11","v":0},{"$f":"transposed!AS11","v":0},{"$f":"transposed!AU11","v":0},{"$f":"transposed!AW11","v":0},{"$f":"transposed!AY11","v":2.5},{"$f":"transposed!BA11","v":0},{"$f":"transposed!BC11","v":0},{"$f":"transposed!BE11","v":0},{"$f":"transposed!BG11","v":2.5},{"$f":"transposed!BI11","v":0},0.5,{"$f":"transposed!BK11","v":0},{"$f":"transposed!BM11","v":0},{"$f":"transposed!BO11","v":5},{"$f":"transposed!BQ11","v":2.5},{"$f":"transposed!BS11","v":0},{"$f":"transposed!BU11","v":0},{"$f":"transposed!BW11","v":0},{"$f":"transposed!BY11","v":2.5},{"$f":"transposed!CA11","v":5},{"$f":"transposed!CC11","v":0},1.5,{"$f":"transposed!CD11","v":74},{"$f":"transposed!CF11","v":74},{"$f":"transposed!CH11","v":77},{"$f":"transposed!CJ11","v":88},{"$f":"transposed!CL11","v":83},{"$f":"transposed!CN11","v":90},{"$f":"transposed!CP11","v":85},{"$f":"transposed!CR11","v":88},{"$f":"transposed!CT11","v":95},{"$f":"transposed!CV11","v":96},85,{"$f":"transposed!CX11","v":107},{"$f":"transposed!CZ11","v":109},{"$f":"transposed!DB11","v":97},{"$f":"transposed!DD11","v":95},{"$f":"transposed!DF11","v":95},{"$f":"transposed!DH11","v":100},{"$f":"transposed!DJ11","v":93},{"$f":"transposed!DL11","v":99},{"$f":"transposed!DN11","v":98},{"$f":"transposed!DP11","v":97},99,{"$f":"transposed!CE11","v":75},{"$f":"transposed!CG11","v":73},{"$f":"transposed!CI11","v":79},{"$f":"transposed!CK11","v":81},{"$f":"transposed!CM11","v":84},{"$f":"transposed!CO11","v":81},{"$f":"transposed!CQ11","v":80},{"$f":"transposed!CS11","v":80},{"$f":"transposed!CU11","v":84},{"$f":"transposed!CW11","v":89},80.6,{"$f":"transposed!CY11","v":109},{"$f":"transposed!DA11","v":103},{"$f":"transposed!DC11","v":104},{"$f":"transposed!DE11","v":103},{"$f":"transposed!DG11","v":106},{"$f":"transposed!DI11","v":103},{"$f":"transposed!DK11","v":103},{"$f":"transposed!DM11","v":96},{"$f":"transposed!DO11","v":102},{"$f":"transposed!DQ11","v":108},103.7,{"$f":"transposed!DR11","v":"F"},{"$f":"transposed!DS11","v":27},{"$f":"transposed!DT11","v":"F"},"EJ101"]
["ER101",{"$f":"transposed!B9","v":10.661},{"$f":"transposed!D9","v":12.717},{"$f":"transposed!F9","v":12.656},{"$f":"transposed!H9","v":10.991},{"$f":"transposed!J9","v":10.432},{"$f":"transposed!L9","v":9.151},{"$f":"transposed!N9","v":9.496},{"$f":"transposed!P9","v":9.535},{"$f":"transposed!R9","v":10.184},{"$f":"transposed!T9","v":9.087},10.491,{"$f":"transposed!V9","v":9.704},{"$f":"transposed!X9","v":9.991},{"$f":"transposed!Z9","v":10.656},{"$f":"transposed!AB9","v":10.431},{"$f":"transposed!AD9","v":10.455},{"$f":"transposed!AF9","v":10.136},{"$f":"transposed!AH9","v":10.64},{"$f":"transposed!AJ9","v":9.992},{"$f":"transposed!AL9","v":10.559},{"$f":"transposed!AN9","v":10.496},10.306,{"$f":"transposed!C9","v":27.502},{"$f":"transposed!E9","v":23.902},{"$f":"transposed!G9","v":22.639},{"$f":"transposed!I9","v":27.335},{"$f":"transposed!K9","v":23.056},{"$f":"transposed!M9","v":20.631},{"$f":"transposed!O9","v":21.167},{"$f":"transposed!Q9","v":20.823},{"$f":"transposed!S9","v":20.823},{"$f":"transposed!U9","v":21.151},22.902900000000002,{"$f":"transposed!W9","v":20.479},{"$f":"transposed!Y9","v":18.92},{"$f":"transposed!AA9","v":21.687},{"$f":"transposed!AC9","v":20.935},{"$f":"transposed!AE9","v":22.727},{"$f":"transposed!AG9","v":22.375},{"$f":"transposed!AI9","v":20.095},{"$f":"transposed!AK9","v":23.391},{"$f":"transposed!AM9","v":22.951},{"$f":"transposed!AO9","v":22.647},21.6207,{"$f":"transposed!AP9","v":0},{"$f":"transposed!AR9","v":0},{"$f":"transposed!AT9","v":0},{"$f":"transposed!AV9","v":0},{"$f":"transposed!AX9","v":0},{"$f":"transposed!AZ9","v":0},{"$f":"transposed!BB9","v":0},{"$f":"transposed!BD9","v":0},{"$f":"transposed!BF9","v":0},{"$f":"transposed!BH9","v":0},0,{"$f":"transposed!BJ9","v":0},{"$f":"transposed!BL9","v":0},{"$f":"transposed!BN9","v":0},{"$f":"transposed!BP9","v":0},{"$f":"transposed!BR9","v":0},{"$f":"transposed!BT9","v":0},{"$f":"transposed!BV9","v":0},{"$f":"transposed!BX9","v":0},{"$f":"transposed!BZ9","v":0},{"$f":"transposed!CB9","v":0},0,{"$f":"transposed!AQ9","v":2.5},{"$f":"transposed!AS9","v":2.5},{"$f":"transposed!AU9","v":5},{"$f":"transposed!AW9","v":0},{"$f":"transposed!AY9","v":2.5},{"$f":"transposed!BA9","v":0},{"$f":"transposed!BC9","v":0},{"$f":"transposed!BE9","v":0},{"$f":"transposed!BG9","v":0},{"$f":"transposed!BI9","v":2.5},1.5,{"$f":"transposed!BK9","v":0},{"$f":"transposed!BM9","v":0},{"$f":"transposed!BO9","v":0},{"$f":"transposed!BQ9","v":5},{"$f":"transposed!BS9","v":0},{"$f":"transposed!BU9","v":2.5},{"$f":"transposed!BW9","v":0},{"$f":"transposed!BY9","v":2.5},{"$f":"transposed!CA9","v":0},{"$f":"transposed!CC9","v":0},1,{"$f":"transposed!CD9","v":70},{"$f":"transposed!CF9","v":70},{"$f":"transposed!CH9","v":70},{"$f":"transposed!CJ9","v":74},{"$f":"transposed!CL9","v":72},{"$f":"transposed!CN9","v":69},{"$f":"transposed!CP9","v":76},{"$f":"transposed!CR9","v":77},{"$f":"transposed!CT9","v":77},{"$f":"transposed!CV9","v":65},72,{"$f":"transposed!CX9","v":64},{"$f":"transposed!CZ9","v":73},{"$f":"transposed!DB9","v":73},{"$f":"transposed!DD9","v":71},{"$f":"transposed!DF9","v":72},{"$f":"transposed!DH9","v":74},{"$f":"transposed!DJ9","v":73},{"$f":"transposed!DL9","v":73},{"$f":"transposed!DN9","v":65},{"$f":"transposed!DP9","v":68},70.6,{"$f":"transposed!CE9","v":73},{"$f":"transposed!CG9","v":70},{"$f":"transposed!CI9","v":70},{"$f":"transposed!CK9","v":75},{"$f":"transposed!CM9","v":69},{"$f":"transposed!CO9","v":74},{"$f":"transposed!CQ9","v":77},{"$f":"transposed!CS9","v":77},{"$f":"transposed!CU9","v":66},{"$f":"transposed!CW9","v":64},71.5,{"$f":"transposed!CY9","v":70},{"$f":"transposed!DA9","v":77},{"$f":"transposed!DC9","v":74},{"$f":"transposed!DE9","v":71},{"$f":"transposed!DG9","v":73},{"$f":"transposed!DI9","v":75},{"$f":"transposed!DK9","v":73},{"$f":"transposed!DM9","v":69},{"$f":"transposed!DO9","v":67},{"$f":"transposed!DQ9","v":68},71.7,{"$f":"transposed!DR9","v":"M"},{"$f":"transposed!DS9","v":23},{"$f":"transposed!DT9","v":"F"},"ER101"]
["FA101",{"$f":"transposed!B48","v":23.736},{"$f":"transposed!D48","v":24.664},{"$f":"transposed!F48","v":19.27},{"$f":"transposed!H48","v":18.151},{"$f":"transposed!J48","v":18.848},{"$f":"transposed!L48","v":19.329},{"$f":"transposed!N48","v":19.88},{"$f":"transposed!P48","v":17.352},{"$f":"transposed!R48","v":18.768},{"$f":"transposed!T48","v":17.537},19.7535,{"$f":"transposed!V48","v":18.024},{"$f":"transposed!X48","v":16.327},{"$f":"transposed!Z48","v":18},{"$f":"transposed!AB48","v":19.28},{"$f":"transposed!AD48","v":18.303},{"$f":"transposed!AF48","v":17.432},{"$f":"transposed!AH48","v":19.024},{"$f":"transposed!AJ48","v":18.953},{"$f":"transposed!AL48","v":18.728},{"$f":"transposed!AN48","v":18.096},18.2167,{"$f":"transposed!C48","v":39},{"$f":"transposed!E48","v":35.808},{"$f":"transposed!G48","v":41.985},{"$f":"transposed!I48","v":42.344},{"$f":"transposed!K48","v":40.696},{"$f":"transposed!M48","v":47.213},{"$f":"transposed!O48","v":39.592},{"$f":"transposed!Q48","v":33.272},{"$f":"transposed!S48","v":43.649},{"$f":"transposed!U48","v":51.665},41.5224,{"$f":"transposed!W48","v":34.753},{"$f":"transposed!Y48","v":33.816},{"$f":"transposed!AA48","v":37.729},{"$f":"transposed!AC48","v":38.873},{"$f":"transposed!AE48","v":41.248},{"$f":"transposed!AG48","v":43.985},{"$f":"transposed!AI48","v":45.097},{"$f":"transposed!AK48","v":40.817},{"$f":"transposed!AM48","v":39.696},{"$f":"transposed!AO48","v":37.64},39.3654,{"$f":"transposed!AP48","v":0},{"$f":"transposed!AR48","v":0},{"$f":"transposed!AT48","v":0},{"$f":"transposed!AV48","v":0},{"$f":"transposed!AX48","v":0},{"$f":"transposed!AZ48","v":0},{"$f":"transposed!BB48","v":0},{"$f":"transposed!BD48","v":0},{"$f":"transposed!BF48","v":0},{"$f":"transposed!BH48","v":0},0,{"$f":"transposed!BJ48","v":0},{"$f":"transposed!BL48","v":0},{"$f":"transposed!BN48","v":0},{"$f":"transposed!BP48","v":0},{"$f":"transposed!BR48","v":0},{"$f":"transposed!BT48","v":0},{"$f":"transposed!BV48","v":0},{"$f":"transposed!BX48","v":0},{"$f":"transposed!BZ48","v":0},{"$f":"transposed!CB48","v":0},0,{"$f":"transposed!AQ48","v":0},{"$f":"transposed!AS48","v":2.5},{"$f":"transposed!AU48","v":7.5},{"$f":"transposed!AW48","v":0},{"$f":"transposed!AY48","v":2.5},{"$f":"transposed!BA48","v":2.5},{"$f":"transposed!BC48","v":2.5},{"$f":"transposed!BE48","v":0},{"$f":"transposed!BG48","v":0},{"$f":"transposed!BI48","v":0},1.75,{"$f":"transposed!BK48","v":0},{"$f":"transposed!BM48","v":0},{"$f":"transposed!BO48","v":0},{"$f":"transposed!BQ48","v":5},{"$f":"transposed!BS48","v":5},{"$f":"transposed!BU48","v":0},{"$f":"transposed!BW48","v":5},{"$f":"transposed!BY48","v":5},{"$f":"transposed!CA48","v":5},{"$f":"transposed!CC48","v":0},2.5,{"$f":"transposed!CD48","v":95},{"$f":"transposed!CF48","v":97},{"$f":"transposed!CH48","v":99},{"$f":"transposed!CJ48","v":91},{"$f":"transposed!CL48","v":95},{"$f":"transposed!CN48","v":89},{"$f":"transposed!CP48","v":87},{"$f":"transposed!CR48","v":89},{"$f":"transposed!CT48","v":90},{"$f":"transposed!CV48","v":90},92.2,{"$f":"transposed!CX48","v":101},{"$f":"transposed!CZ48","v":101},{"$f":"transposed!DB48","v":98},{"$f":"transposed!DD48","v":108},{"$f":"transposed!DF48","v":105},{"$f":"transposed!DH48","v":96},{"$f":"transposed!DJ48","v":98},{"$f":"transposed!DL48","v":103},{"$f":"transposed!DN48","v":102},{"$f":"transposed!DP48","v":97},100.9,{"$f":"transposed!CE48","v":94},{"$f":"transposed!CG48","v":93},{"$f":"transposed!CI48","v":94},{"$f":"transposed!CK48","v":95},{"$f":"transposed!CM48","v":96},{"$f":"transposed!CO48","v":98},{"$f":"transposed!CQ48","v":77},{"$f":"transposed!CS48","v":87},{"$f":"transposed!CU48","v":95},{"$f":"transposed!CW48","v":89},91.8,{"$f":"transposed!CY48","v":96},{"$f":"transposed!DA48","v":101},{"$f":"transposed!DC48","v":107},{"$f":"transposed!DE48","v":100},{"$f":"transposed!DG48","v":99},{"$f":"transposed!DI48","v":97},{"$f":"transposed!DK48","v":100},{"$f":"transposed!DM48","v":98},{"$f":"transposed!DO48","v":102},{"$f":"transposed!DQ48","v":97},99.7,{"$f":"transposed!DR48","v":"M"},{"$f":"transposed!DS48","v":20},{"$f":"transposed!DT48","v":"F"},"FA101"]
["GH101",{"$f":"transposed!B52","v":17.672},{"$f":"transposed!D52","v":18.705},{"$f":"transposed!F52","v":16.6},{"$f":"transposed!H52","v":16.689},{"$f":"transposed!J52","v":16.544},{"$f":"transposed!L52","v":16.681},{"$f":"transposed!N52","v":15.993},{"$f":"transposed!P52","v":16.336},{"$f":"transposed!R52","v":15.153},{"$f":"transposed!T52","v":14.972},16.534499999999998,{"$f":"transposed!V52","v":15.16},{"$f":"transposed!X52","v":14.707},{"$f":"transposed!Z52","v":14.128},{"$f":"transposed!AB52","v":14.018},{"$f":"transposed!AD52","v":13.328},{"$f":"transposed!AF52","v":13.744},{"$f":"transposed!AH52","v":14.144},{"$f":"transposed!AJ52","v":12.719},{"$f":"transposed!AL52","v":13.288},{"$f":"transposed!AN52","v":13.121},13.8357,{"$f":"transposed!C52","v":42.681},{"$f":"transposed!E52","v":38.713},{"$f":"transposed!G52","v":43.832},{"$f":"transposed!I52","v":44.992},{"$f":"transposed!K52","v":39.599},{"$f":"transposed!M52","v":44.097},{"$f":"transposed!O52","v":49.953},{"$f":"transposed!Q52","v":41.712},{"$f":"transposed!S52","v":47.009},{"$f":"transposed!U52","v":48.936},44.15239999999999,{"$f":"transposed!W52","v":41.36},{"$f":"transposed!Y52","v":49.577},{"$f":"transposed!AA52","v":40.072},{"$f":"transposed!AC52","v":37.183},{"$f":"transposed!AE52","v":40.856},{"$f":"transposed!AG52","v":41.465},{"$f":"transposed!AI52","v":35.508},{"$f":"transposed!AK52","v":47.825},{"$f":"transposed!AM52","v":37.423},{"$f":"transposed!AO52","v":42.696},41.3965,{"$f":"transposed!AP52","v":0},{"$f":"transposed!AR52","v":0},{"$f":"transposed!AT52","v":0},{"$f":"transposed!AV52","v":0},{"$f":"transposed!AX52","v":0},{"$f":"transposed!AZ52","v":0},{"$f":"transposed!BB52","v":0},{"$f":"transposed!BD52","v":0},{"$f":"transposed!BF52","v":0},{"$f":"transposed!BH52","v":0},0,{"$f":"transposed!BJ52","v":0},{"$f":"transposed!BL52","v":0},{"$f":"transposed!BN52","v":0},{"$f":"transposed!BP52","v":0},{"$f":"transposed!BR52","v":0},{"$f":"transposed!BT52","v":0},{"$f":"transposed!BV52","v":0},{"$f":"transposed!BX52","v":0},{"$f":"transposed!BZ52","v":0},{"$f":"transposed!CB52","v":0},0,{"$f":"transposed!AQ52","v":0},{"$f":"transposed!AS52","v":0},{"$f":"transposed!AU52","v":0},{"$f":"transposed!AW52","v":0},{"$f":"transposed!AY52","v":0},{"$f":"transposed!BA52","v":2.5},{"$f":"transposed!BC52","v":0},{"$f":"transposed!BE52","v":0},{"$f":"transposed!BG52","v":0},{"$f":"transposed!BI52","v":0},0.25,{"$f":"transposed!BK52","v":0},{"$f":"transposed!BM52","v":0},{"$f":"transposed!BO52","v":0},{"$f":"transposed!BQ52","v":0},{"$f":"transposed!BS52","v":0},{"$f":"transposed!BU52","v":0},{"$f":"transposed!BW52","v":0},{"$f":"transposed!BY52","v":0},{"$f":"transposed!CA52","v":0},{"$f":"transposed!CC52","v":0},0,{"$f":"transposed!CD52","v":58},{"$f":"transposed!CF52","v":64},{"$f":"transposed!CH52","v":75},{"$f":"transposed!CJ52","v":77},{"$f":"transposed!CL52","v":76},{"$f":"transposed!CN52","v":78},{"$f":"transposed!CP52","v":72},{"$f":"transposed!CR52","v":74},{"$f":"transposed!CT52","v":80},{"$f":"transposed!CV52","v":82},73.6,{"$f":"transposed!CX52","v":79},{"$f":"transposed!CZ52","v":74},{"$f":"transposed!DB52","v":74},{"$f":"transposed!DD52","v":80},{"$f":"transposed!DF52","v":72},{"$f":"transposed!DH52","v":80},{"$f":"transposed!DJ52","v":77},{"$f":"transposed!DL52","v":83},{"$f":"transposed!DN52","v":85},{"$f":"transposed!DP52","v":81},78.5,{"$f":"transposed!CE52","v":58},{"$f":"transposed!CG52","v":57},{"$f":"transposed!CI52","v":76},{"$f":"transposed!CK52","v":67},{"$f":"transposed!CM52","v":71},{"$f":"transposed!CO52","v":70},{"$f":"transposed!CQ52","v":75},{"$f":"transposed!CS52","v":73},{"$f":"transposed!CU52","v":70},{"$f":"transposed!CW52","v":78},69.5,{"$f":"transposed!CY52","v":82},{"$f":"transposed!DA52","v":73},{"$f":"transposed!DC52","v":81},{"$f":"transposed!DE52","v":80},{"$f":"transposed!DG52","v":74},{"$f":"transposed!DI52","v":80},{"$f":"transposed!DK52","v":84},{"$f":"transposed!DM52","v":84},{"$f":"transposed!DO52","v":74},{"$f":"transposed!DQ52","v":87},79.9,{"$f":"transposed!DR52","v":"M"},{"$f":"transposed!DS52","v":25},{"$f":"transposed!DT52","v":"F"},"GH101"]
["GS101",{"$f":"transposed!B21","v":13.753},{"$f":"transposed!D21","v":14.744},{"$f":"transposed!F21","v":14.879},{"$f":"transposed!H21","v":13.76},{"$f":"transposed!J21","v":14.46},{"$f":"transposed!L21","v":14.512},{"$f":"transposed!N21","v":14.048},{"$f":"transposed!P21","v":13.087},{"$f":"transposed!R21","v":14.017},{"$f":"transposed!T21","v":13.663},14.0923,{"$f":"transposed!V21","v":12.92},{"$f":"transposed!X21","v":13.608},{"$f":"transposed!Z21","v":13.287},{"$f":"transposed!AB21","v":14.257},{"$f":"transposed!AD21","v":12.631},{"$f":"transposed!AF21","v":13.607},{"$f":"transposed!AH21","v":13.385},{"$f":"transposed!AJ21","v":12.799},{"$f":"transposed!AL21","v":12.864},{"$f":"transposed!AN21","v":13.568},13.292600000000002,{"$f":"transposed!C21","v":41.631},{"$f":"transposed!E21","v":44.247},{"$f":"transposed!G21","v":44.583},{"$f":"transposed!I21","v":39.079},{"$f":"transposed!K21","v":42.334},{"$f":"transposed!M21","v":46.347},{"$f":"transposed!O21","v":36.68},{"$f":"transposed!Q21","v":37.32},{"$f":"transposed!S21","v":30.944},{"$f":"transposed!U21","v":32.847},39.6012,{"$f":"transposed!W21","v":33.536},{"$f":"transposed!Y21","v":41.342},{"$f":"transposed!AA21","v":36.129},{"$f":"transposed!AC21","v":35.738},{"$f":"transposed!AE21","v":33.816},{"$f":"transposed!AG21","v":34.856},{"$f":"transposed!AI21","v":38.96},{"$f":"transposed!AK21","v":37.185},{"$f":"transposed!AM21","v":33.4},{"$f":"transposed!AO21","v":34.32},35.9282,{"$f":"transposed!AP21","v":0},{"$f":"transposed!AR21","v":0},{"$f":"transposed!AT21","v":0},{"$f":"transposed!AV21","v":0},{"$f":"transposed!AX21","v":0},{"$f":"transposed!AZ21","v":0},{"$f":"transposed!BB21","v":0},{"$f":"transposed!BD21","v":0},{"$f":"transposed!BF21","v":0},{"$f":"transposed!BH21","v":0},0,{"$f":"transposed!BJ21","v":0},{"$f":"transposed!BL21","v":0},{"$f":"transposed!BN21","v":0},{"$f":"transposed!BP21","v":0},{"$f":"transposed!BR21","v":0},{"$f":"transposed!BT21","v":0},{"$f":"transposed!BV21","v":0},{"$f":"transposed!BX21","v":0},{"$f":"transposed!BZ21","v":0},{"$f":"transposed!CB21","v":0},0,{"$f":"transposed!AQ21","v":2.5},{"$f":"transposed!AS21","v":0},{"$f":"transposed!AU21","v":2.5},{"$f":"transposed!AW21","v":0},{"$f":"transposed!AY21","v":0},{"$f":"transposed!BA21","v":5},{"$f":"transposed!BC21","v":2.5},{"$f":"transposed!BE21","v":0},{"$f":"transposed!BG21","v":0},{"$f":"transposed!BI21","v":0},1.25,{"$f":"transposed!BK21","v":2.5},{"$f":"transposed!BM21","v":0},{"$f":"transposed!BO21","v":0},{"$f":"transposed!BQ21","v":2.5},{"$f":"transposed!BS21","v":0},{"$f":"transposed!BU21","v":0},{"$f":"transposed!BW21","v":0},{"$f":"transposed!BY21","v":2.5},{"$f":"transposed!CA21","v":0},{"$f":"transposed!CC21","v":0},0.75,{"$f":"transposed!CD21","v":124},{"$f":"transposed!CF21","v":123},{"$f":"transposed!CH21","v":121},{"$f":"transposed!CJ21","v":126},{"$f":"transposed!CL21","v":117},{"$f":"transposed!CN21","v":118},{"$f":"transposed!CP21","v":122},{"$f":"transposed!CR21","v":117},{"$f":"transposed!CT21","v":121},{"$f":"transposed!CV21","v":122},121.1,{"$f":"transposed!CX21","v":125},{"$f":"transposed!CZ21","v":118},{"$f":"transposed!DB21","v":122},{"$f":"transposed!DD21","v":121},{"$f":"transposed!DF21","v":122},{"$f":"transposed!DH21","v":113},{"$f":"transposed!DJ21","v":115},{"$f":"transposed!DL21","v":119},{"$f":"transposed!DN21","v":124},{"$f":"transposed!DP21","v":110},118.9,{"$f":"transposed!CE21","v":121},{"$f":"transposed!CG21","v":121},{"$f":"transposed!CI21","v":123},{"$f":"transposed!CK21","v":119},{"$f":"transposed!CM21","v":115},{"$f":"transposed!CO21","v":113},{"$f":"transposed!CQ21","v":110},{"$f":"transposed!CS21","v":106},{"$f":"transposed!CU21","v":111},{"$f":"transposed!CW21","v":112},115.1,{"$f":"transposed!CY21","v":122},{"$f":"transposed!DA21","v":120},{"$f":"transposed!DC21","v":119},{"$f":"transposed!DE21","v":118},{"$f":"transposed!DG21","v":119},{"$f":"transposed!DI21","v":119},{"$f":"transposed!DK21","v":120},{"$f":"transposed!DM21","v":113},{"$f":"transposed!DO21","v":112},{"$f":"transposed!DQ21","v":110},117.2,{"$f":"transposed!DR21","v":"F"},{"$f":"transposed!DS21","v":25},{"$f":"transposed!DT21","v":"F"},"GS101"]
["HR101",{"$f":"transposed!B4","v":21.719},{"$f":"transposed!D4","v":16.264},{"$f":"transposed!F4","v":17.167},{"$f":"transposed!H4","v":17.84},{"$f":"transposed!J4","v":16.871},{"$f":"transposed!L4","v":17.056},{"$f":"transposed!N4","v":16.928},{"$f":"transposed!P4","v":16.335},{"$f":"transposed!R4","v":16.591},{"$f":"transposed!T4","v":16.856},17.3627,{"$f":"transposed!V4","v":19.265},{"$f":"transposed!X4","v":16.624},{"$f":"transposed!Z4","v":17.047},{"$f":"transposed!AB4","v":13.136},{"$f":"transposed!AD4","v":13.488},{"$f":"transposed!AF4","v":14.327},{"$f":"transposed!AH4","v":13.64},{"$f":"transposed!AJ4","v":14.287},{"$f":"transposed!AL4","v":14.207},{"$f":"transposed!AN4","v":19.359},15.538,{"$f":"transposed!C4","v":35.279},{"$f":"transposed!E4","v":32.191},{"$f":"transposed!G4","v":32.327},{"$f":"transposed!I4","v":31.703},{"$f":"transposed!K4","v":30.886},{"$f":"transposed!M4","v":29.43},{"$f":"transposed!O4","v":33.527},{"$f":"transposed!Q4","v":30.447},{"$f":"transposed!S4","v":31.311},{"$f":"transposed!U4","v":31.094},31.819499999999998,{"$f":"transposed!W4","v":33.575},{"$f":"transposed!Y4","v":29.415},{"$f":"transposed!AA4","v":28.279},{"$f":"transposed!AC4","v":30.327},{"$f":"transposed!AE4","v":29.135},{"$f":"transposed!AG4","v":30.207},{"$f":"transposed!AI4","v":29.088},{"$f":"transposed!AK4","v":30.679},{"$f":"transposed!AM4","v":33.248},{"$f":"transposed!AO4","v":28.679},30.263199999999994,{"$f":"transposed!AP4","v":0},{"$f":"transposed!AR4","v":0},{"$f":"transposed!AT4","v":0},{"$f":"transposed!AV4","v":0},{"$f":"transposed!AX4","v":0},{"$f":"transposed!AZ4","v":0},{"$f":"transposed!BB4","v":0},{"$f":"transposed!BD4","v":0},{"$f":"transposed!BF4","v":0},{"$f":"transposed!BH4","v":0},0,{"$f":"transposed!BJ4","v":0},{"$f":"transposed!BL4","v":0},{"$f":"transposed!BN4","v":0},{"$f":"transposed!BP4","v":0},{"$f":"transposed!BR4","v":0},{"$f":"transposed!BT4","v":0},{"$f":"transposed!BV4","v":0},{"$f":"transposed!BX4","v":0},{"$f":"transposed!BZ4","v":0},{"$f":"transposed!CB4","v":0},0,{"$f":"transposed!AQ4","v":2.5},{"$f":"transposed!AS4","v":0},{"$f":"transposed!AU4","v":2.5},{"$f":"transposed!AW4","v":0},{"$f":"transposed!AY4","v":0},{"$f":"transposed!BA4","v":0},{"$f":"transposed!BC4","v":5},{"$f":"transposed!BE4","v":0},{"$f":"transposed!BG4","v":5},{"$f":"transposed!BI4","v":0},1.5,{"$f":"transposed!BK4","v":7.5},{"$f":"transposed!BM4","v":2.5},{"$f":"transposed!BO4","v":2.5},{"$f":"transposed!BQ4","v":5},{"$f":"transposed!BS4","v":0},{"$f":"transposed!BU4","v":0},{"$f":"transposed!BW4","v":2.5},{"$f":"transposed!BY4","v":2.5},{"$f":"transposed!CA4","v":0},{"$f":"transposed!CC4","v":0},2.25,{"$f":"transposed!CD4","v":87},{"$f":"transposed!CF4","v":85},{"$f":"transposed!CH4","v":87},{"$f":"transposed!CJ4","v":85},{"$f":"transposed!CL4","v":87},{"$f":"transposed!CN4","v":89},{"$f":"transposed!CP4","v":83},{"$f":"transposed!CR4","v":84},{"$f":"transposed!CT4","v":83},{"$f":"transposed!CV4","v":91},86.1,{"$f":"transposed!CX4","v":92},{"$f":"transposed!CZ4","v":90},{"$f":"transposed!DB4","v":92},{"$f":"transposed!DD4","v":92},{"$f":"transposed!DF4","v":86},{"$f":"transposed!DH4","v":87},{"$f":"transposed!DJ4","v":86},{"$f":"transposed!DL4","v":82},{"$f":"transposed!DN4","v":85},{"$f":"transposed!DP4","v":87},87.9,{"$f":"transposed!CE4","v":88},{"$f":"transposed!CG4","v":85},{"$f":"transposed!CI4","v":81},{"$f":"transposed!CK4","v":83},{"$f":"transposed!CM4","v":84},{"$f":"transposed!CO4","v":84},{"$f":"transposed!CQ4","v":82},{"$f":"transposed!CS4","v":84},{"$f":"transposed!CU4","v":83},{"$f":"transposed!CW4","v":83},83.7,{"$f":"transposed!CY4","v":94},{"$f":"transposed!DA4","v":92},{"$f":"transposed!DC4","v":92},{"$f":"transposed!DE4","v":87},{"$f":"transposed!DG4","v":86},{"$f":"transposed!DI4","v":88},{"$f":"transposed!DK4","v":87},{"$f":"transposed!DM4","v":81},{"$f":"transposed!DO4","v":81},{"$f":"transposed!DQ4","v":84},87.2,{"$f":"transposed!DR4","v":"M"},{"$f":"transposed!DS4","v":16},{"$f":"transposed!DT4","v":"T"},"HR101"]
["IF101",{"$f":"transposed!B28","v":17.999},{"$f":"transposed!D28","v":19.822},{"$f":"transposed!F28","v":17.487},{"$f":"transposed!H28","v":17.472},{"$f":"transposed!J28","v":17.697},{"$f":"transposed!L28","v":15.336},{"$f":"transposed!N28","v":16.095},{"$f":"transposed!P28","v":16.96},{"$f":"transposed!R28","v":17.576},{"$f":"transposed!T28","v":17.776},17.422,{"$f":"transposed!V28","v":16.455},{"$f":"transposed!X28","v":15.968},{"$f":"transposed!Z28","v":16.042},{"$f":"transposed!AB28","v":15.713},{"$f":"transposed!AD28","v":14.579},{"$f":"transposed!AF28","v":15.367},{"$f":"transposed!AH28","v":16.256},{"$f":"transposed!AJ28","v":15.288},{"$f":"transposed!AL28","v":16.936},{"$f":"transposed!AN28","v":16.04},15.8644,{"$f":"transposed!C28","v":39.066},{"$f":"transposed!E28","v":38.209},{"$f":"transposed!G28","v":35.288},{"$f":"transposed!I28","v":39.864},{"$f":"transposed!K28","v":39.92},{"$f":"transposed!M28","v":30.64},{"$f":"transposed!O28","v":41.865},{"$f":"transposed!Q28","v":30.342},{"$f":"transposed!S28","v":42.255},{"$f":"transposed!U28","v":37.299},37.474799999999995,{"$f":"transposed!W28","v":29.056},{"$f":"transposed!Y28","v":28.896},{"$f":"transposed!AA28","v":31.506},{"$f":"transposed!AC28","v":28.137},{"$f":"transposed!AE28","v":28.769},{"$f":"transposed!AG28","v":30.36},{"$f":"transposed!AI28","v":28.058},{"$f":"transposed!AK28","v":26.419},{"$f":"transposed!AM28","v":33.061},{"$f":"transposed!AO28","v":32.408},29.667,{"$f":"transposed!AP28","v":0},{"$f":"transposed!AR28","v":0},{"$f":"transposed!AT28","v":0},{"$f":"transposed!AV28","v":0},{"$f":"transposed!AX28","v":0},{"$f":"transposed!AZ28","v":0},{"$f":"transposed!BB28","v":0},{"$f":"transposed!BD28","v":0},{"$f":"transposed!BF28","v":0},{"$f":"transposed!BH28","v":0},0,{"$f":"transposed!BJ28","v":0},{"$f":"transposed!BL28","v":0},{"$f":"transposed!BN28","v":0},{"$f":"transposed!BP28","v":0},{"$f":"transposed!BR28","v":0},{"$f":"transposed!BT28","v":0},{"$f":"transposed!BV28","v":0},{"$f":"transposed!BX28","v":0},{"$f":"transposed!BZ28","v":0},{"$f":"transposed!CB28","v":0},0,{"$f":"transposed!AQ28","v":2.5},{"$f":"transposed!AS28","v":0},{"$f":"transposed!AU28","v":2.5},{"$f":"transposed!AW28","v":5},{"$f":"transposed!AY28","v":0},{"$f":"transposed!BA28","v":0},{"$f":"transposed!BC28","v":2.5},{"$f":"transposed!BE28","v":0},{"$f":"transposed!BG28","v":0},{"$f":"transposed!BI28","v":5},1.75,{"$f":"transposed!BK28","v":0},{"$f":"transposed!BM28","v":0},{"$f":"transposed!BO28","v":2.5},{"$f":"transposed!BQ28","v":0},{"$f":"transposed!BS28","v":2.5},{"$f":"transposed!BU28","v":0},{"$f":"transposed!BW28","v":0},{"$f":"transposed!BY28","v":0},{"$f":"transposed!CA28","v":0},{"$f":"transposed!CC28","v":0},0.5,{"$f":"transposed!CD28","v":86},{"$f":"transposed!CF28","v":89},{"$f":"transposed!CH28","v":81},{"$f":"transposed!CJ28","v":90},{"$f":"transposed!CL28","v":90},{"$f":"transposed!CN28","v":92},{"$f":"transposed!CP28","v":90},{"$f":"transposed!CR28","v":88},{"$f":"transposed!CT28","v":88},{"$f":"transposed!CV28","v":96},89,{"$f":"transposed!CX28","v":100},{"$f":"transposed!CZ28","v":108},{"$f":"transposed!DB28","v":103},{"$f":"transposed!DD28","v":101},{"$f":"transposed!DF28","v":99},{"$f":"transposed!DH28","v":99},{"$f":"transposed!DJ28","v":94},{"$f":"transposed!DL28","v":100},{"$f":"transposed!DN28","v":97},{"$f":"transposed!DP28","v":97},99.8,{"$f":"transposed!CE28","v":93},{"$f":"transposed!CG28","v":94},{"$f":"transposed!CI28","v":88},{"$f":"transposed!CK28","v":88},{"$f":"transposed!CM28","v":94},{"$f":"transposed!CO28","v":86},{"$f":"transposed!CQ28","v":88},{"$f":"transposed!CS28","v":87},{"$f":"transposed!CU28","v":90},{"$f":"transposed!CW28","v":85},89.3,{"$f":"transposed!CY28","v":107},{"$f":"transposed!DA28","v":103},{"$f":"transposed!DC28","v":104},{"$f":"transposed!DE28","v":98},{"$f":"transposed!DG28","v":99},{"$f":"transposed!DI28","v":100},{"$f":"transposed!DK28","v":100},{"$f":"transposed!DM28","v":101},{"$f":"transposed!DO28","v":88},{"$f":"transposed!DQ28","v":94},99.4,{"$f":"transposed!DR28","v":"F"},{"$f":"transposed!DS28","v":19.53},{"$f":"transposed!DT28","v":"F"},"IF101"]
["IG101",{"$f":"transposed!B51","v":18.232},{"$f":"transposed!D51","v":20.305},{"$f":"transposed!F51","v":16.88},{"$f":"transposed!H51","v":17.544},{"$f":"transposed!J51","v":17.649},{"$f":"transposed!L51","v":16.776},{"$f":"transposed!N51","v":17.304},{"$f":"transposed!P51","v":17.325},{"$f":"transposed!R51","v":17.256},{"$f":"transposed!T51","v":17.136},17.6407,{"$f":"transposed!V51","v":14.285},{"$f":"transposed!X51","v":15.304},{"$f":"transposed!Z51","v":15.784},{"$f":"transposed!AB51","v":15.816},{"$f":"transposed!AD51","v":15.28},{"$f":"transposed!AF51","v":15.15},{"$f":"transposed!AH51","v":15.56},{"$f":"transposed!AJ51","v":14.19},{"$f":"transposed!AL51","v":15.032},{"$f":"transposed!AN51","v":16.424},15.282500000000002,{"$f":"transposed!C51","v":36.295},{"$f":"transposed!E51","v":34.656},{"$f":"transposed!G51","v":31.448},{"$f":"transposed!I51","v":45.045},{"$f":"transposed!K51","v":31.904},{"$f":"transposed!M51","v":31.305},{"$f":"transposed!O51","v":32.851},{"$f":"transposed!Q51","v":36.056},{"$f":"transposed!S51","v":29.881},{"$f":"transposed!U51","v":31.96},34.140100000000004,{"$f":"transposed!W51","v":32.512},{"$f":"transposed!Y51","v":25.857},{"$f":"transposed!AA51","v":35.76},{"$f":"transposed!AC51","v":30.689},{"$f":"transposed!AE51","v":28.592},{"$f":"transposed!AG51","v":27.979},{"$f":"transposed!AI51","v":33.616},{"$f":"transposed!AK51","v":27.272},{"$f":"transposed!AM51","v":30.784},{"$f":"transposed!AO51","v":32.529},30.55899999999999,{"$f":"transposed!AP51","v":0},{"$f":"transposed!AR51","v":0},{"$f":"transposed!AT51","v":0},{"$f":"transposed!AV51","v":0},{"$f":"transposed!AX51","v":0},{"$f":"transposed!AZ51","v":0},{"$f":"transposed!BB51","v":0},{"$f":"transposed!BD51","v":0},{"$f":"transposed!BF51","v":0},{"$f":"transposed!BH51","v":0},0,{"$f":"transposed!BJ51","v":0},{"$f":"transposed!BL51","v":0},{"$f":"transposed!BN51","v":0},{"$f":"transposed!BP51","v":0},{"$f":"transposed!BR51","v":0},{"$f":"transposed!BT51","v":0},{"$f":"transposed!BV51","v":0},{"$f":"transposed!BX51","v":0},{"$f":"transposed!BZ51","v":0},{"$f":"transposed!CB51","v":0},0,{"$f":"transposed!AQ51","v":10},{"$f":"transposed!AS51","v":5},{"$f":"transposed!AU51","v":2.5},{"$f":"transposed!AW51","v":7.5},{"$f":"transposed!AY51","v":0},{"$f":"transposed!BA51","v":2.5},{"$f":"transposed!BC51","v":5},{"$f":"transposed!BE51","v":2.5},{"$f":"transposed!BG51","v":0},{"$f":"transposed!BI51","v":0},3.5,{"$f":"transposed!BK51","v":7.5},{"$f":"transposed!BM51","v":2.5},{"$f":"transposed!BO51","v":7.5},{"$f":"transposed!BQ51","v":0},{"$f":"transposed!BS51","v":2.5},{"$f":"transposed!BU51","v":0},{"$f":"transposed!BW51","v":2.5},{"$f":"transposed!BY51","v":0},{"$f":"transposed!CA51","v":0},{"$f":"transposed!CC51","v":2.5},2.5,{"$f":"transposed!CD51","v":115},{"$f":"transposed!CF51","v":112},{"$f":"transposed!CH51","v":101},{"$f":"transposed!CJ51","v":116},{"$f":"transposed!CL51","v":104},{"$f":"transposed!CN51","v":103},{"$f":"transposed!CP51","v":107},{"$f":"transposed!CR51","v":107},{"$f":"transposed!CT51","v":98},{"$f":"transposed!CV51","v":111},107.4,{"$f":"transposed!CX51","v":124},{"$f":"transposed!CZ51","v":116},{"$f":"transposed!DB51","v":123},{"$f":"transposed!DD51","v":122},{"$f":"transposed!DF51","v":119},{"$f":"transposed!DH51","v":122},{"$f":"transposed!DJ51","v":127},{"$f":"transposed!DL51","v":117},{"$f":"transposed!DN51","v":124},{"$f":"transposed!DP51","v":127},122.1,{"$f":"transposed!CE51","v":104},{"$f":"transposed!CG51","v":104},{"$f":"transposed!CI51","v":102},{"$f":"transposed!CK51","v":102},{"$f":"transposed!CM51","v":104},{"$f":"transposed!CO51","v":107},{"$f":"transposed!CQ51","v":110},{"$f":"transposed!CS51","v":103},{"$f":"transposed!CU51","v":112},{"$f":"transposed!CW51","v":103},105.1,{"$f":"transposed!CY51","v":125},{"$f":"transposed!DA51","v":128},{"$f":"transposed!DC51","v":116},{"$f":"transposed!DE51","v":127},{"$f":"transposed!DG51","v":123},{"$f":"transposed!DI51","v":121},{"$f":"transposed!DK51","v":123},{"$f":"transposed!DM51","v":120},{"$f":"transposed!DO51","v":121},{"$f":"transposed!DQ51","v":124},122.8,{"$f":"transposed!DR51","v":"F"},{"$f":"transposed!DS51","v":33},{"$f":"transposed!DT51","v":"T"},"IG101"]
["IH101",{"$f":"transposed!B31","v":16.382},{"$f":"transposed!D31","v":18.852},{"$f":"transposed!F31","v":16.848},{"$f":"transposed!H31","v":16.057},{"$f":"transposed!J31","v":15.546},{"$f":"transposed!L31","v":15.863},{"$f":"transposed!N31","v":17.443},{"$f":"transposed!P31","v":16.536},{"$f":"transposed!R31","v":15.528},{"$f":"transposed!T31","v":15.24},16.429499999999997,{"$f":"transposed!V31","v":15.183},{"$f":"transposed!X31","v":15.335},{"$f":"transposed!Z31","v":15.736},{"$f":"transposed!AB31","v":14.728},{"$f":"transposed!AD31","v":13.84},{"$f":"transposed!AF31","v":17.056},{"$f":"transposed!AH31","v":13.84},{"$f":"transposed!AJ31","v":14.112},{"$f":"transposed!AL31","v":14.032},{"$f":"transposed!AN31","v":14.84},14.8702,{"$f":"transposed!C31","v":38.904},{"$f":"transposed!E31","v":31.672},{"$f":"transposed!G31","v":33.056},{"$f":"transposed!I31","v":30.024},{"$f":"transposed!K31","v":30.48},{"$f":"transposed!M31","v":30.176},{"$f":"transposed!O31","v":32.944},{"$f":"transposed!Q31","v":30.784},{"$f":"transposed!S31","v":35.016},{"$f":"transposed!U31","v":29.656},32.2712,{"$f":"transposed!W31","v":26.864},{"$f":"transposed!Y31","v":26.247},{"$f":"transposed!AA31","v":27.512},{"$f":"transposed!AC31","v":28.056},{"$f":"transposed!AE31","v":29.48},{"$f":"transposed!AG31","v":25.032},{"$f":"transposed!AI31","v":26.616},{"$f":"transposed!AK31","v":33.024},{"$f":"transposed!AM31","v":34.184},{"$f":"transposed!AO31","v":31.872},28.8887,{"$f":"transposed!AP31","v":0},{"$f":"transposed!AR31","v":0},{"$f":"transposed!AT31","v":0},{"$f":"transposed!AV31","v":0},{"$f":"transposed!AX31","v":0},{"$f":"transposed!AZ31","v":0},{"$f":"transposed!BB31","v":0},{"$f":"transposed!BD31","v":0},{"$f":"transposed!BF31","v":0},{"$f":"transposed!BH31","v":0},0,{"$f":"transposed!BJ31","v":0},{"$f":"transposed!BL31","v":0},{"$f":"transposed!BN31","v":0},{"$f":"transposed!BP31","v":0},{"$f":"transposed!BR31","v":0},{"$f":"transposed!BT31","v":0},{"$f":"transposed!BV31","v":0},{"$f":"transposed!BX31","v":0},{"$f":"transposed!BZ31","v":0},{"$f":"transposed!CB31","v":0},0,{"$f":"transposed!AQ31","v":7.5},{"$f":"transposed!AS31","v":2.5},{"$f":"transposed!AU31","v":2.5},{"$f":"transposed!AW31","v":5},{"$f":"transposed!AY31","v":0},{"$f":"transposed!BA31","v":2.5},{"$f":"transposed!BC31","v":0},{"$f":"transposed!BE31","v":5},{"$f":"transposed!BG31","v":2.5},{"$f":"transposed!BI31","v":5},3.25,{"$f":"transposed!BK31","v":0},{"$f":"transposed!BM31","v":0},{"$f":"transposed!BO31","v":0},{"$f":"transposed!BQ31","v":2.5},{"$f":"transposed!BS31","v":5},{"$f":"transposed!BU31","v":0},{"$f":"transposed!BW31","v":2.5},{"$f":"transposed!BY31","v":7.5},{"$f":"transposed!CA31","v":7.5},{"$f":"transposed!CC31","v":5},3,{"$f":"transposed!CD31","v":88},{"$f":"transposed!CF31","v":88},{"$f":"transposed!CH31","v":95},{"$f":"transposed!CJ31","v":87},{"$f":"transposed!CL31","v":88},{"$f":"transposed!CN31","v":82},{"$f":"transposed!CP31","v":77},{"$f":"transposed!CR31","v":91},{"$f":"transposed!CT31","v":80},{"$f":"transposed!CV31","v":88},86.4,{"$f":"transposed!CX31","v":120},{"$f":"transposed!CZ31","v":120},{"$f":"transposed!DB31","v":123},{"$f":"transposed!DD31","v":119},{"$f":"transposed!DF31","v":110},{"$f":"transposed!DH31","v":102},{"$f":"transposed!DJ31","v":108},{"$f":"transposed!DL31","v":109},{"$f":"transposed!DN31","v":106},{"$f":"transposed!DP31","v":113},113,{"$f":"transposed!CE31","v":89},{"$f":"transposed!CG31","v":98},{"$f":"transposed!CI31","v":87},{"$f":"transposed!CK31","v":86},{"$f":"transposed!CM31","v":90},{"$f":"transposed!CO31","v":86},{"$f":"transposed!CQ31","v":77},{"$f":"transposed!CS31","v":78},{"$f":"transposed!CU31","v":87},{"$f":"transposed!CW31","v":79},85.7,{"$f":"transposed!CY31","v":119},{"$f":"transposed!DA31","v":120},{"$f":"transposed!DC31","v":111},{"$f":"transposed!DE31","v":118},{"$f":"transposed!DG31","v":111},{"$f":"transposed!DI31","v":115},{"$f":"transposed!DK31","v":111},{"$f":"transposed!DM31","v":109},{"$f":"transposed!DO31","v":105},{"$f":"transposed!DQ31","v":106},112.5,{"$f":"transposed!DR31","v":"F"},{"$f":"transposed!DS31","v":21},{"$f":"transposed!DT31","v":"F"},"IH101"]
["IOD101",{"$f":"transposed!B27","v":21.904},{"$f":"transposed!D27","v":23.88},{"$f":"transposed!F27","v":22.904},{"$f":"transposed!H27","v":20.088},{"$f":"transposed!J27","v":21.584},{"$f":"transposed!L27","v":21.192},{"$f":"transposed!N27","v":20.152},{"$f":"transposed!P27","v":20.48},{"$f":"transposed!R27","v":21.432},{"$f":"transposed!T27","v":19.048},21.266399999999997,{"$f":"transposed!V27","v":21.066},{"$f":"transposed!X27","v":19.233},{"$f":"transposed!Z27","v":20.624},{"$f":"transposed!AB27","v":19.2},{"$f":"transposed!AD27","v":19.76},{"$f":"transposed!AF27","v":17.272},{"$f":"transposed!AH27","v":20.214},{"$f":"transposed!AJ27","v":18.519},{"$f":"transposed!AL27","v":18.424},{"$f":"transposed!AN27","v":17.84},19.215200000000003,{"$f":"transposed!C27","v":35.248},{"$f":"transposed!E27","v":33.858},{"$f":"transposed!G27","v":34.728},{"$f":"transposed!I27","v":31.905},{"$f":"transposed!K27","v":34.777},{"$f":"transposed!M27","v":34.504},{"$f":"transposed!O27","v":35.224},{"$f":"transposed!Q27","v":35.704},{"$f":"transposed!S27","v":34},{"$f":"transposed!U27","v":34.336},34.428399999999996,{"$f":"transposed!W27","v":31.33},{"$f":"transposed!Y27","v":32.728},{"$f":"transposed!AA27","v":35.72},{"$f":"transposed!AC27","v":36.296},{"$f":"transposed!AE27","v":32.448},{"$f":"transposed!AG27","v":33.2},{"$f":"transposed!AI27","v":35.456},{"$f":"transposed!AK27","v":34.624},{"$f":"transposed!AM27","v":38.881},{"$f":"transposed!AO27","v":39.105},34.9788,{"$f":"transposed!AP27","v":0},{"$f":"transposed!AR27","v":0},{"$f":"transposed!AT27","v":0},{"$f":"transposed!AV27","v":0},{"$f":"transposed!AX27","v":0},{"$f":"transposed!AZ27","v":0},{"$f":"transposed!BB27","v":0},{"$f":"transposed!BD27","v":0},{"$f":"transposed!BF27","v":0},{"$f":"transposed!BH27","v":0},0,{"$f":"transposed!BJ27","v":0},{"$f":"transposed!BL27","v":0},{"$f":"transposed!BN27","v":0},{"$f":"transposed!BP27","v":0},{"$f":"transposed!BR27","v":0},{"$f":"transposed!BT27","v":0},{"$f":"transposed!BV27","v":0},{"$f":"transposed!BX27","v":0},{"$f":"transposed!BZ27","v":0},{"$f":"transposed!CB27","v":0},0,{"$f":"transposed!AQ27","v":0},{"$f":"transposed!AS27","v":0},{"$f":"transposed!AU27","v":0},{"$f":"transposed!AW27","v":0},{"$f":"transposed!AY27","v":5},{"$f":"transposed!BA27","v":5},{"$f":"transposed!BC27","v":5},{"$f":"transposed!BE27","v":5},{"$f":"transposed!BG27","v":0},{"$f":"transposed!BI27","v":0},2,{"$f":"transposed!BK27","v":0},{"$f":"transposed!BM27","v":0},{"$f":"transposed!BO27","v":0},{"$f":"transposed!BQ27","v":5},{"$f":"transposed!BS27","v":0},{"$f":"transposed!BU27","v":7.5},{"$f":"transposed!BW27","v":5},{"$f":"transposed!BY27","v":2.5},{"$f":"transposed!CA27","v":2.5},{"$f":"transposed!CC27","v":5},2.75,{"$f":"transposed!CD27","v":94},{"$f":"transposed!CF27","v":86},{"$f":"transposed!CH27","v":89},{"$f":"transposed!CJ27","v":97},{"$f":"transposed!CL27","v":89},{"$f":"transposed!CN27","v":97},{"$f":"transposed!CP27","v":89},{"$f":"transposed!CR27","v":92},{"$f":"transposed!CT27","v":87},{"$f":"transposed!CV27","v":94},91.4,{"$f":"transposed!CX27","v":106},{"$f":"transposed!CZ27","v":105},{"$f":"transposed!DB27","v":102},{"$f":"transposed!DD27","v":97},{"$f":"transposed!DF27","v":104},{"$f":"transposed!DH27","v":98},{"$f":"transposed!DJ27","v":104},{"$f":"transposed!DL27","v":100},{"$f":"transposed!DN27","v":97},{"$f":"transposed!DP27","v":97},101,{"$f":"transposed!CE27","v":87},{"$f":"transposed!CG27","v":98},{"$f":"transposed!CI27","v":91},{"$f":"transposed!CK27","v":95},{"$f":"transposed!CM27","v":95},{"$f":"transposed!CO27","v":94},{"$f":"transposed!CQ27","v":100},{"$f":"transposed!CS27","v":88},{"$f":"transposed!CU27","v":90},{"$f":"transposed!CW27","v":90},92.8,{"$f":"transposed!CY27","v":107},{"$f":"transposed!DA27","v":96},{"$f":"transposed!DC27","v":105},{"$f":"transposed!DE27","v":100},{"$f":"transposed!DG27","v":100},{"$f":"transposed!DI27","v":97},{"$f":"transposed!DK27","v":102},{"$f":"transposed!DM27","v":100},{"$f":"transposed!DO27","v":96},{"$f":"transposed!DQ27","v":93},99.6,{"$f":"transposed!DR27","v":"F"},{"$f":"transposed!DS27","v":19},{"$f":"transposed!DT27","v":"F"},"IOD101"]
["JB101",{"$f":"transposed!B24","v":18.175},{"$f":"transposed!D24","v":18.615},{"$f":"transposed!F24","v":19.775},{"$f":"transposed!H24","v":17.504},{"$f":"transposed!J24","v":18.12},{"$f":"transposed!L24","v":17.344},{"$f":"transposed!N24","v":16.392},{"$f":"transposed!P24","v":16.44},{"$f":"transposed!R24","v":17.255},{"$f":"transposed!T24","v":16.831},17.6451,{"$f":"transposed!V24","v":15.896},{"$f":"transposed!X24","v":16.28},{"$f":"transposed!Z24","v":18.663},{"$f":"transposed!AB24","v":16.287},{"$f":"transposed!AD24","v":15.599},{"$f":"transposed!AF24","v":17.16},{"$f":"transposed!AH24","v":17.72},{"$f":"transposed!AJ24","v":15.671},{"$f":"transposed!AL24","v":15.696},{"$f":"transposed!AN24","v":15.568},16.454,{"$f":"transposed!C24","v":36.687},{"$f":"transposed!E24","v":35.63},{"$f":"transposed!G24","v":32.495},{"$f":"transposed!I24","v":31.878},{"$f":"transposed!K24","v":33.599},{"$f":"transposed!M24","v":31.342},{"$f":"transposed!O24","v":31.694},{"$f":"transposed!Q24","v":32.102},{"$f":"transposed!S24","v":29.703},{"$f":"transposed!U24","v":30.703},32.583299999999994,{"$f":"transposed!W24","v":29.151},{"$f":"transposed!Y24","v":30.83},{"$f":"transposed!AA24","v":29.303},{"$f":"transposed!AC24","v":29.223},{"$f":"transposed!AE24","v":30.567},{"$f":"transposed!AG24","v":28.622},{"$f":"transposed!AI24","v":27.423},{"$f":"transposed!AK24","v":26.695},{"$f":"transposed!AM24","v":27.463},{"$f":"transposed!AO24","v":32.295},29.1572,{"$f":"transposed!AP24","v":0},{"$f":"transposed!AR24","v":5},{"$f":"transposed!AT24","v":0},{"$f":"transposed!AV24","v":0},{"$f":"transposed!AX24","v":2.5},{"$f":"transposed!AZ24","v":0},{"$f":"transposed!BB24","v":0},{"$f":"transposed!BD24","v":0},{"$f":"transposed!BF24","v":2.5},{"$f":"transposed!BH24","v":0},1,{"$f":"transposed!BJ24","v":0},{"$f":"transposed!BL24","v":0},{"$f":"transposed!BN24","v":0},{"$f":"transposed!BP24","v":0},{"$f":"transposed!BR24","v":0},{"$f":"transposed!BT24","v":0},{"$f":"transposed!BV24","v":0},{"$f":"transposed!BX24","v":0},{"$f":"transposed!BZ24","v":0},{"$f":"transposed!CB24","v":0},0,{"$f":"transposed!AQ24","v":5},{"$f":"transposed!AS24","v":5},{"$f":"transposed!AU24","v":0},{"$f":"transposed!AW24","v":0},{"$f":"transposed!AY24","v":0},{"$f":"transposed!BA24","v":2.5},{"$f":"transposed!BC24","v":2.5},{"$f":"transposed!BE24","v":0},{"$f":"transposed!BG24","v":0},{"$f":"transposed!BI24","v":0},1.5,{"$f":"transposed!BK24","v":2.5},{"$f":"transposed!BM24","v":5},{"$f":"transposed!BO24","v":0},{"$f":"transposed!BQ24","v":0},{"$f":"transposed!BS24","v":2.5},{"$f":"transposed!BU24","v":0},{"$f":"transposed!BW24","v":0},{"$f":"transposed!BY24","v":0},{"$f":"transposed!CA24","v":0},{"$f":"transposed!CC24","v":5},1.5,{"$f":"transposed!CD24","v":118},{"$f":"transposed!CF24","v":105},{"$f":"transposed!CH24","v":96},{"$f":"transposed!CJ24","v":110},{"$f":"transposed!CL24","v":109},{"$f":"transposed!CN24","v":90},{"$f":"transposed!CP24","v":99},{"$f":"transposed!CR24","v":99},{"$f":"transposed!CT24","v":100},{"$f":"transposed!CV24","v":104},103,{"$f":"transposed!CX24","v":123},{"$f":"transposed!CZ24","v":113},{"$f":"transposed!DB24","v":109},{"$f":"transposed!DD24","v":118},{"$f":"transposed!DF24","v":108},{"$f":"transposed!DH24","v":106},{"$f":"transposed!DJ24","v":107},{"$f":"transposed!DL24","v":111},{"$f":"transposed!DN24","v":107},{"$f":"transposed!DP24","v":110},111.2,{"$f":"transposed!CE24","v":106},{"$f":"transposed!CG24","v":100},{"$f":"transposed!CI24","v":85},{"$f":"transposed!CK24","v":106},{"$f":"transposed!CM24","v":90},{"$f":"transposed!CO24","v":100},{"$f":"transposed!CQ24","v":97},{"$f":"transposed!CS24","v":92},{"$f":"transposed!CU24","v":97},{"$f":"transposed!CW24","v":102},97.5,{"$f":"transposed!CY24","v":111},{"$f":"transposed!DA24","v":108},{"$f":"transposed!DC24","v":113},{"$f":"transposed!DE24","v":109},{"$f":"transposed!DG24","v":107},{"$f":"transposed!DI24","v":114},{"$f":"transposed!DK24","v":113},{"$f":"transposed!DM24","v":109},{"$f":"transposed!DO24","v":106},{"$f":"transposed!DQ24","v":98},108.8,{"$f":"transposed!DR24","v":"F"},{"$f":"transposed!DS24","v":24},{"$f":"transposed!DT24","v":"F"},"JB101"]
["JC102",{"$f":"transposed!B14","v":14.544},{"$f":"transposed!D14","v":15.678},{"$f":"transposed!F14","v":15.608},{"$f":"transposed!H14","v":15.378},{"$f":"transposed!J14","v":15.143},{"$f":"transposed!L14","v":15.032},{"$f":"transposed!N14","v":14.615},{"$f":"transposed!P14","v":14.623},{"$f":"transposed!R14","v":16.623},{"$f":"transposed!T14","v":15.495},15.273900000000001,{"$f":"transposed!V14","v":15.768},{"$f":"transposed!X14","v":14.4},{"$f":"transposed!Z14","v":13.16},{"$f":"transposed!AB14","v":13.977},{"$f":"transposed!AD14","v":14.031},{"$f":"transposed!AF14","v":14.063},{"$f":"transposed!AH14","v":13.027},{"$f":"transposed!AJ14","v":15.568},{"$f":"transposed!AL14","v":13.728},{"$f":"transposed!AN14","v":14.927},14.2649,{"$f":"transposed!C14","v":26.616},{"$f":"transposed!E14","v":29.255},{"$f":"transposed!G14","v":27.599},{"$f":"transposed!I14","v":29.4},{"$f":"transposed!K14","v":26.999},{"$f":"transposed!M14","v":26.567},{"$f":"transposed!O14","v":25.855},{"$f":"transposed!Q14","v":26.895},{"$f":"transposed!S14","v":26.192},{"$f":"transposed!U14","v":29.335},27.471300000000003,{"$f":"transposed!W14","v":24.327},{"$f":"transposed!Y14","v":25.855},{"$f":"transposed!AA14","v":26.663},{"$f":"transposed!AC14","v":25.184},{"$f":"transposed!AE14","v":26.183},{"$f":"transposed!AG14","v":25.088},{"$f":"transposed!AI14","v":24.127},{"$f":"transposed!AK14","v":24.551},{"$f":"transposed!AM14","v":23.735},{"$f":"transposed!AO14","v":28.608},25.4321,{"$f":"transposed!AP14","v":0},{"$f":"transposed!AR14","v":0},{"$f":"transposed!AT14","v":0},{"$f":"transposed!AV14","v":0},{"$f":"transposed!AX14","v":0},{"$f":"transposed!AZ14","v":0},{"$f":"transposed!BB14","v":0},{"$f":"transposed!BD14","v":0},{"$f":"transposed!BF14","v":0},{"$f":"transposed!BH14","v":0},0,{"$f":"transposed!BJ14","v":0},{"$f":"transposed!BL14","v":0},{"$f":"transposed!BN14","v":0},{"$f":"transposed!BP14","v":0},{"$f":"transposed!BR14","v":0},{"$f":"transposed!BT14","v":0},{"$f":"transposed!BV14","v":2.5},{"$f":"transposed!BX14","v":0},{"$f":"transposed!BZ14","v":0},{"$f":"transposed!CB14","v":0},0.25,{"$f":"transposed!AQ14","v":0},{"$f":"transposed!AS14","v":2.5},{"$f":"transposed!AU14","v":2.5},{"$f":"transposed!AW14","v":0},{"$f":"transposed!AY14","v":0},{"$f":"transposed!BA14","v":0},{"$f":"transposed!BC14","v":0},{"$f":"transposed!BE14","v":0},{"$f":"transposed!BG14","v":0},{"$f":"transposed!BI14","v":0},0.5,{"$f":"transposed!BK14","v":0},{"$f":"transposed!BM14","v":0},{"$f":"transposed!BO14","v":0},{"$f":"transposed!BQ14","v":0},{"$f":"transposed!BS14","v":0},{"$f":"transposed!BU14","v":0},{"$f":"transposed!BW14","v":0},{"$f":"transposed!BY14","v":0},{"$f":"transposed!CA14","v":0},{"$f":"transposed!CC14","v":2.5},0.25,{"$f":"transposed!CD14","v":86},{"$f":"transposed!CF14","v":84},{"$f":"transposed!CH14","v":74},{"$f":"transposed!CJ14","v":82},{"$f":"transposed!CL14","v":86},{"$f":"transposed!CN14","v":86},{"$f":"transposed!CP14","v":80},{"$f":"transposed!CR14","v":77},{"$f":"transposed!CT14","v":76},{"$f":"transposed!CV14","v":81},81.2,{"$f":"transposed!CX14","v":86},{"$f":"transposed!CZ14","v":81},{"$f":"transposed!DB14","v":84},{"$f":"transposed!DD14","v":81},{"$f":"transposed!DF14","v":79},{"$f":"transposed!DH14","v":82},{"$f":"transposed!DJ14","v":81},{"$f":"transposed!DL14","v":80},{"$f":"transposed!DN14","v":78},{"$f":"transposed!DP14","v":85},81.7,{"$f":"transposed!CE14","v":15},{"$f":"transposed!CG14","v":84},{"$f":"transposed!CI14","v":78},{"$f":"transposed!CK14","v":83},{"$f":"transposed!CM14","v":82},{"$f":"transposed!CO14","v":83},{"$f":"transposed!CQ14","v":79},{"$f":"transposed!CS14","v":82},{"$f":"transposed!CU14","v":79},{"$f":"transposed!CW14","v":74},73.9,{"$f":"transposed!CY14","v":81},{"$f":"transposed!DA14","v":85},{"$f":"transposed!DC14","v":82},{"$f":"transposed!DE14","v":85},{"$f":"transposed!DG14","v":87},{"$f":"transposed!DI14","v":85},{"$f":"transposed!DK14","v":80},{"$f":"transposed!DM14","v":78},{"$f":"transposed!DO14","v":79},{"$f":"transposed!DQ14","v":75},81.7,{"$f":"transposed!DR14","v":"M"},{"$f":"transposed!DS14","v":29},{"$f":"transposed!DT14","v":"F"},"JC102"]
["JD101",{"$f":"transposed!B42","v":26.719},{"$f":"transposed!D42","v":28.344},{"$f":"transposed!F42","v":28.214},{"$f":"transposed!H42","v":27.526},{"$f":"transposed!J42","v":26.546},{"$f":"transposed!L42","v":28.801},{"$f":"transposed!N42","v":28.535},{"$f":"transposed!P42","v":27.469},{"$f":"transposed!R42","v":27.304},{"$f":"transposed!T42","v":25.864},27.532199999999996,{"$f":"transposed!V42","v":24.263},{"$f":"transposed!X42","v":23.416},{"$f":"transposed!Z42","v":24.44},{"$f":"transposed!AB42","v":23.336},{"$f":"transposed!AD42","v":25.762},{"$f":"transposed!AF42","v":23.96},{"$f":"transposed!AH42","v":23.624},{"$f":"transposed!AJ42","v":23.625},{"$f":"transposed!AL42","v":21.881},{"$f":"transposed!AN42","v":22.713},23.701999999999998,{"$f":"transposed!C42","v":37.146},{"$f":"transposed!E42","v":35.68},{"$f":"transposed!G42","v":38.631},{"$f":"transposed!I42","v":37.68},{"$f":"transposed!K42","v":35.56},{"$f":"transposed!M42","v":36.617},{"$f":"transposed!O42","v":34.546},{"$f":"transposed!Q42","v":37.216},{"$f":"transposed!S42","v":35.329},{"$f":"transposed!U42","v":34.185},36.259,{"$f":"transposed!W42","v":32.633},{"$f":"transposed!Y42","v":31.576},{"$f":"transposed!AA42","v":34.073},{"$f":"transposed!AC42","v":34.046},{"$f":"transposed!AE42","v":32.224},{"$f":"transposed!AG42","v":32.248},{"$f":"transposed!AI42","v":33.641},{"$f":"transposed!AK42","v":32.217},{"$f":"transposed!AM42","v":31.385},{"$f":"transposed!AO42","v":33.976},32.801899999999996,{"$f":"transposed!AP42","v":0},{"$f":"transposed!AR42","v":0},{"$f":"transposed!AT42","v":0},{"$f":"transposed!AV42","v":0},{"$f":"transposed!AX42","v":0},{"$f":"transposed!AZ42","v":0},{"$f":"transposed!BB42","v":0},{"$f":"transposed!BD42","v":0},{"$f":"transposed!BF42","v":0},{"$f":"transposed!BH42","v":0},0,{"$f":"transposed!BJ42","v":0},{"$f":"transposed!BL42","v":0},{"$f":"transposed!BN42","v":0},{"$f":"transposed!BP42","v":0},{"$f":"transposed!BR42","v":0},{"$f":"transposed!BT42","v":0},{"$f":"transposed!BV42","v":0},{"$f":"transposed!BX42","v":0},{"$f":"transposed!BZ42","v":0},{"$f":"transposed!CB42","v":0},0,{"$f":"transposed!AQ42","v":0},{"$f":"transposed!AS42","v":2.5},{"$f":"transposed!AU42","v":2.5},{"$f":"transposed!AW42","v":5},{"$f":"transposed!AY42","v":2.5},{"$f":"transposed!BA42","v":2.5},{"$f":"transposed!BC42","v":5},{"$f":"transposed!BE42","v":5},{"$f":"transposed!BG42","v":5},{"$f":"transposed!BI42","v":7.5},3.75,{"$f":"transposed!BK42","v":2.5},{"$f":"transposed!BM42","v":2.5},{"$f":"transposed!BO42","v":2.5},{"$f":"transposed!BQ42","v":7.5},{"$f":"transposed!BS42","v":5},{"$f":"transposed!BU42","v":7.5},{"$f":"transposed!BW42","v":5},{"$f":"transposed!BY42","v":2.5},{"$f":"transposed!CA42","v":0},{"$f":"transposed!CC42","v":5},4,{"$f":"transposed!CD42","v":90},{"$f":"transposed!CF42","v":79},{"$f":"transposed!CH42","v":79},{"$f":"transposed!CJ42","v":69},{"$f":"transposed!CL42","v":67},{"$f":"transposed!CN42","v":82},{"$f":"transposed!CP42","v":77},{"$f":"transposed!CR42","v":71},{"$f":"transposed!CT42","v":78},{"$f":"transposed!CV42","v":69},76.1,{"$f":"transposed!CX42","v":75},{"$f":"transposed!CZ42","v":83},{"$f":"transposed!DB42","v":71},{"$f":"transposed!DD42","v":76},{"$f":"transposed!DF42","v":64},{"$f":"transposed!DH42","v":70},{"$f":"transposed!DJ42","v":70},{"$f":"transposed!DL42","v":76},{"$f":"transposed!DN42","v":71},{"$f":"transposed!DP42","v":67},72.3,{"$f":"transposed!CE42","v":88},{"$f":"transposed!CG42","v":74},{"$f":"transposed!CI42","v":91},{"$f":"transposed!CK42","v":76},{"$f":"transposed!CM42","v":76},{"$f":"transposed!CO42","v":76},{"$f":"transposed!CQ42","v":75},{"$f":"transposed!CS42","v":84},{"$f":"transposed!CU42","v":73},{"$f":"transposed!CW42","v":76},78.9,{"$f":"transposed!CY42","v":77},{"$f":"transposed!DA42","v":76},{"$f":"transposed!DC42","v":77},{"$f":"transposed!DE42","v":72},{"$f":"transposed!DG42","v":72},{"$f":"transposed!DI42","v":72},{"$f":"transposed!DK42","v":72},{"$f":"transposed!DM42","v":81},{"$f":"transposed!DO42","v":82},{"$f":"transposed!DQ42","v":77},75.8,{"$f":"transposed!DR42","v":"M"},{"$f":"transposed!DS42","v":28},{"$f":"transposed!DT42","v":"T"},"JD101"]
["JG101",{"$f":"transposed!B55","v":21.608},{"$f":"transposed!D55","v":22.171},{"$f":"transposed!F55","v":21.455},{"$f":"transposed!H55","v":21.304},{"$f":"transposed!J55","v":20.576},{"$f":"transposed!L55","v":19.96},{"$f":"transposed!N55","v":19.704},{"$f":"transposed!P55","v":18.616},{"$f":"transposed!R55","v":18.704},{"$f":"transposed!T55","v":19.616},20.3714,{"$f":"transposed!V55","v":17.329},{"$f":"transposed!X55","v":17.712},{"$f":"transposed!Z55","v":17.465},{"$f":"transposed!AB55","v":17.456},{"$f":"transposed!AD55","v":17.56},{"$f":"transposed!AF55","v":16.6},{"$f":"transposed!AH55","v":16.2},{"$f":"transposed!AJ55","v":16.304},{"$f":"transposed!AL55","v":16.552},{"$f":"transposed!AN55","v":16.464},16.964199999999998,{"$f":"transposed!C55","v":32.377},{"$f":"transposed!E55","v":31.633},{"$f":"transposed!G55","v":33.16},{"$f":"transposed!I55","v":31.08},{"$f":"transposed!K55","v":33.44},{"$f":"transposed!M55","v":33.465},{"$f":"transposed!O55","v":33.344},{"$f":"transposed!Q55","v":38.137},{"$f":"transposed!S55","v":32.752},{"$f":"transposed!U55","v":31.177},33.0565,{"$f":"transposed!W55","v":26.369},{"$f":"transposed!Y55","v":26.304},{"$f":"transposed!AA55","v":25.72},{"$f":"transposed!AC55","v":27.552},{"$f":"transposed!AE55","v":25.856},{"$f":"transposed!AG55","v":27.169},{"$f":"transposed!AI55","v":27.761},{"$f":"transposed!AK55","v":24.752},{"$f":"transposed!AM55","v":25.488},{"$f":"transposed!AO55","v":27.74},26.4711,{"$f":"transposed!AP55","v":0},{"$f":"transposed!AR55","v":0},{"$f":"transposed!AT55","v":5},{"$f":"transposed!AV55","v":0},{"$f":"transposed!AX55","v":0},{"$f":"transposed!AZ55","v":0},{"$f":"transposed!BB55","v":0},{"$f":"transposed!BD55","v":0},{"$f":"transposed!BF55","v":0},{"$f":"transposed!BH55","v":0},0.5,{"$f":"transposed!BJ55","v":0},{"$f":"transposed!BL55","v":0},{"$f":"transposed!BN55","v":0},{"$f":"transposed!BP55","v":0},{"$f":"transposed!BR55","v":0},{"$f":"transposed!BT55","v":0},{"$f":"transposed!BV55","v":0},{"$f":"transposed!BX55","v":0},{"$f":"transposed!BZ55","v":0},{"$f":"transposed!CB55","v":0},0,{"$f":"transposed!AQ55","v":0},{"$f":"transposed!AS55","v":2.5},{"$f":"transposed!AU55","v":5},{"$f":"transposed!AW55","v":0},{"$f":"transposed!AY55","v":5},{"$f":"transposed!BA55","v":5},{"$f":"transposed!BC55","v":0},{"$f":"transposed!BE55","v":0},{"$f":"transposed!BG55","v":0},{"$f":"transposed!BI55","v":0},1.75,{"$f":"transposed!BK55","v":0},{"$f":"transposed!BM55","v":0},{"$f":"transposed!BO55","v":0},{"$f":"transposed!BQ55","v":0},{"$f":"transposed!BS55","v":0},{"$f":"transposed!BU55","v":0},{"$f":"transposed!BW55","v":2.5},{"$f":"transposed!BY55","v":0},{"$f":"transposed!CA55","v":0},{"$f":"transposed!CC55","v":2.5},0.5,{"$f":"transposed!CD55","v":79},{"$f":"transposed!CF55","v":73},{"$f":"transposed!CH55","v":80},{"$f":"transposed!CJ55","v":73},{"$f":"transposed!CL55","v":86},{"$f":"transposed!CN55","v":75},{"$f":"transposed!CP55","v":78},{"$f":"transposed!CR55","v":79},{"$f":"transposed!CT55","v":77},{"$f":"transposed!CV55","v":72},77.2,{"$f":"transposed!CX55","v":114},{"$f":"transposed!CZ55","v":110},{"$f":"transposed!DB55","v":109},{"$f":"transposed!DD55","v":107},{"$f":"transposed!DF55","v":106},{"$f":"transposed!DH55","v":102},{"$f":"transposed!DJ55","v":99},{"$f":"transposed!DL55","v":103},{"$f":"transposed!DN55","v":96},{"$f":"transposed!DP55","v":93},103.9,{"$f":"transposed!CE55","v":78},{"$f":"transposed!CG55","v":72},{"$f":"transposed!CI55","v":80},{"$f":"transposed!CK55","v":77},{"$f":"transposed!CM55","v":75},{"$f":"transposed!CO55","v":81},{"$f":"transposed!CQ55","v":72},{"$f":"transposed!CS55","v":80},{"$f":"transposed!CU55","v":70},{"$f":"transposed!CW55","v":84},76.9,{"$f":"transposed!CY55","v":111},{"$f":"transposed!DA55","v":114},{"$f":"transposed!DC55","v":109},{"$f":"transposed!DE55","v":102},{"$f":"transposed!DG55","v":106},{"$f":"transposed!DI55","v":100},{"$f":"transposed!DK55","v":106},{"$f":"transposed!DM55","v":101},{"$f":"transposed!DO55","v":94},{"$f":"transposed!DQ55","v":92},103.5,{"$f":"transposed!DR55","v":"F"},{"$f":"transposed!DS55","v":19},{"$f":"transposed!DT55","v":"F"},"JG101"]
["JM101",{"$f":"transposed!B70","v":23.537},{"$f":"transposed!D70","v":23.726},{"$f":"transposed!F70","v":20.76},{"$f":"transposed!H70","v":17.656},{"$f":"transposed!J70","v":18.283},{"$f":"transposed!L70","v":20.665},{"$f":"transposed!N70","v":20.848},{"$f":"transposed!P70","v":18.536},{"$f":"transposed!R70","v":18.272},{"$f":"transposed!T70","v":18.299},20.058200000000003,{"$f":"transposed!V70","v":17.777},{"$f":"transposed!X70","v":17.504},{"$f":"transposed!Z70","v":17.247},{"$f":"transposed!AB70","v":18.207},{"$f":"transposed!AD70","v":18.571},{"$f":"transposed!AF70","v":16.896},{"$f":"transposed!AH70","v":19.376},{"$f":"transposed!AJ70","v":17.992},{"$f":"transposed!AL70","v":17.992},{"$f":"transposed!AN70","v":17.584},17.9146,{"$f":"transposed!C70","v":55.994},{"$f":"transposed!E70","v":66.885},{"$f":"transposed!G70","v":53.371},{"$f":"transposed!I70","v":50.275},{"$f":"transposed!K70","v":52.68},{"$f":"transposed!M70","v":52.091},{"$f":"transposed!O70","v":50.304},{"$f":"transposed!Q70","v":55.614},{"$f":"transposed!S70","v":49.905},{"$f":"transposed!U70","v":47.606},53.472500000000004,{"$f":"transposed!W70","v":46.392},{"$f":"transposed!Y70","v":43.028},{"$f":"transposed!AA70","v":45.912},{"$f":"transposed!AC70","v":52.065},{"$f":"transposed!AE70","v":48.385},{"$f":"transposed!AG70","v":56.081},{"$f":"transposed!AI70","v":43.856},{"$f":"transposed!AK70","v":51.76},{"$f":"transposed!AM70","v":53.025},{"$f":"transposed!AO70","v":41.129},48.1633,{"$f":"transposed!AP70","v":0},{"$f":"transposed!AR70","v":0},{"$f":"transposed!AT70","v":0},{"$f":"transposed!AV70","v":0},{"$f":"transposed!AX70","v":0},{"$f":"transposed!AZ70","v":0},{"$f":"transposed!BB70","v":0},{"$f":"transposed!BD70","v":0},{"$f":"transposed!BF70","v":0},{"$f":"transposed!BH70","v":0},0,{"$f":"transposed!BJ70","v":0},{"$f":"transposed!BL70","v":0},{"$f":"transposed!BN70","v":0},{"$f":"transposed!BP70","v":0},{"$f":"transposed!BR70","v":0},{"$f":"transposed!BT70","v":0},{"$f":"transposed!BV70","v":0},{"$f":"transposed!BX70","v":0},{"$f":"transposed!BZ70","v":0},{"$f":"transposed!CB70","v":0},0,{"$f":"transposed!AQ70","v":0},{"$f":"transposed!AS70","v":2.5},{"$f":"transposed!AU70","v":2.5},{"$f":"transposed!AW70","v":0},{"$f":"transposed!AY70","v":0},{"$f":"transposed!BA70","v":0},{"$f":"transposed!BC70","v":0},{"$f":"transposed!BE70","v":2.5},{"$f":"transposed!BG70","v":0},{"$f":"transposed!BI70","v":0},0.75,{"$f":"transposed!BK70","v":0},{"$f":"transposed!BM70","v":0},{"$f":"transposed!BO70","v":0},{"$f":"transposed!BQ70","v":0},{"$f":"transposed!BS70","v":0},{"$f":"transposed!BU70","v":0},{"$f":"transposed!BW70","v":0},{"$f":"transposed!BY70","v":2.5},{"$f":"transposed!CA70","v":0},{"$f":"transposed!CC70","v":0},0.25,{"$f":"transposed!CD70","v":91},{"$f":"transposed!CF70","v":86},{"$f":"transposed!CH70","v":89},{"$f":"transposed!CJ70","v":81},{"$f":"transposed!CL70","v":82},{"$f":"transposed!CN70","v":82},{"$f":"transposed!CP70","v":85},{"$f":"transposed!CR70","v":79},{"$f":"transposed!CT70","v":75},{"$f":"transposed!CV70","v":83},83.3,{"$f":"transposed!CX70","v":87},{"$f":"transposed!CZ70","v":89},{"$f":"transposed!DB70","v":92},{"$f":"transposed!DD70","v":92},{"$f":"transposed!DF70","v":83},{"$f":"transposed!DH70","v":82},{"$f":"transposed!DJ70","v":87},{"$f":"transposed!DL70","v":89},{"$f":"transposed!DN70","v":97},{"$f":"transposed!DP70","v":86},88.4,{"$f":"transposed!CE70","v":85},{"$f":"transposed!CG70","v":88},{"$f":"transposed!CI70","v":75},{"$f":"transposed!CK70","v":92},{"$f":"transposed!CM70","v":89},{"$f":"transposed!CO70","v":84},{"$f":"transposed!CQ70","v":89},{"$f":"transposed!CS70","v":88},{"$f":"transposed!CU70","v":82},{"$f":"transposed!CW70","v":87},85.9,{"$f":"transposed!CY70","v":87},{"$f":"transposed!DA70","v":96},{"$f":"transposed!DC70","v":92},{"$f":"transposed!DE70","v":85},{"$f":"transposed!DG70","v":93},{"$f":"transposed!DI70","v":93},{"$f":"transposed!DK70","v":83},{"$f":"transposed!DM70","v":86},{"$f":"transposed!DO70","v":85},{"$f":"transposed!DQ70","v":94},89.4,{"$f":"transposed!DR70","v":"F"},{"$f":"transposed!DS70","v":25},{"$f":"transposed!DT70","v":"F"},"JM101"]
["JP101",{"$f":"transposed!B40","v":15.264},{"$f":"transposed!D40","v":15.848},{"$f":"transposed!F40","v":15.203},{"$f":"transposed!H40","v":14.871},{"$f":"transposed!J40","v":14.424},{"$f":"transposed!L40","v":14.209},{"$f":"transposed!N40","v":13.064},{"$f":"transposed!P40","v":13.417},{"$f":"transposed!R40","v":14.033},{"$f":"transposed!T40","v":12.767},14.309999999999999,{"$f":"transposed!V40","v":13.28},{"$f":"transposed!X40","v":13.007},{"$f":"transposed!Z40","v":12.175},{"$f":"transposed!AB40","v":13.048},{"$f":"transposed!AD40","v":11.632},{"$f":"transposed!AF40","v":11.878},{"$f":"transposed!AH40","v":12.16},{"$f":"transposed!AJ40","v":11.505},{"$f":"transposed!AL40","v":11.508},{"$f":"transposed!AN40","v":11.269},12.1462,{"$f":"transposed!C40","v":31.762},{"$f":"transposed!E40","v":28.569},{"$f":"transposed!G40","v":29.204},{"$f":"transposed!I40","v":27.593},{"$f":"transposed!K40","v":26.425},{"$f":"transposed!M40","v":29.615},{"$f":"transposed!O40","v":29},{"$f":"transposed!Q40","v":27.464},{"$f":"transposed!S40","v":29.376},{"$f":"transposed!U40","v":29.552},28.856,{"$f":"transposed!W40","v":24.896},{"$f":"transposed!Y40","v":23.297},{"$f":"transposed!AA40","v":25.216},{"$f":"transposed!AC40","v":24.838},{"$f":"transposed!AE40","v":22.529},{"$f":"transposed!AG40","v":24.488},{"$f":"transposed!AI40","v":23.32},{"$f":"transposed!AK40","v":23.468},{"$f":"transposed!AM40","v":24.601},{"$f":"transposed!AO40","v":29.849},24.650199999999995,{"$f":"transposed!AP40","v":0},{"$f":"transposed!AR40","v":0},{"$f":"transposed!AT40","v":0},{"$f":"transposed!AV40","v":0},{"$f":"transposed!AX40","v":0},{"$f":"transposed!AZ40","v":0},{"$f":"transposed!BB40","v":0},{"$f":"transposed!BD40","v":0},{"$f":"transposed!BF40","v":0},{"$f":"transposed!BH40","v":0},0,{"$f":"transposed!BJ40","v":0},{"$f":"transposed!BL40","v":0},{"$f":"transposed!BN40","v":0},{"$f":"transposed!BP40","v":0},{"$f":"transposed!BR40","v":0},{"$f":"transposed!BT40","v":0},{"$f":"transposed!BV40","v":0},{"$f":"transposed!BX40","v":0},{"$f":"transposed!BZ40","v":0},{"$f":"transposed!CB40","v":0},0,{"$f":"transposed!AQ40","v":0},{"$f":"transposed!AS40","v":0},{"$f":"transposed!AU40","v":2.5},{"$f":"transposed!AW40","v":0},{"$f":"transposed!AY40","v":0},{"$f":"transposed!BA40","v":2.5},{"$f":"transposed!BC40","v":2.5},{"$f":"transposed!BE40","v":2.5},{"$f":"transposed!BG40","v":0},{"$f":"transposed!BI40","v":2.5},1.25,{"$f":"transposed!BK40","v":0},{"$f":"transposed!BM40","v":0},{"$f":"transposed!BO40","v":0},{"$f":"transposed!BQ40","v":0},{"$f":"transposed!BS40","v":0},{"$f":"transposed!BU40","v":0},{"$f":"transposed!BW40","v":0},{"$f":"transposed!BY40","v":0},{"$f":"transposed!CA40","v":0},{"$f":"transposed!CC40","v":2.5},0.25,{"$f":"transposed!CD40","v":99},{"$f":"transposed!CF40","v":98},{"$f":"transposed!CH40","v":99},{"$f":"transposed!CJ40","v":98},{"$f":"transposed!CL40","v":98},{"$f":"transposed!CN40","v":98},{"$f":"transposed!CP40","v":97},{"$f":"transposed!CR40","v":97},{"$f":"transposed!CT40","v":96},{"$f":"transposed!CV40","v":98},97.8,{"$f":"transposed!CX40","v":98},{"$f":"transposed!CZ40","v":99},{"$f":"transposed!DB40","v":98},{"$f":"transposed!DD40","v":99},{"$f":"transposed!DF40","v":98},{"$f":"transposed!DH40","v":98},{"$f":"transposed!DJ40","v":98},{"$f":"transposed!DL40","v":97},{"$f":"transposed!DN40","v":98},{"$f":"transposed!DP40","v":97},98,{"$f":"transposed!CE40","v":99},{"$f":"transposed!CG40","v":99},{"$f":"transposed!CI40","v":99},{"$f":"transposed!CK40","v":96},{"$f":"transposed!CM40","v":99},{"$f":"transposed!CO40","v":98},{"$f":"transposed!CQ40","v":96},{"$f":"transposed!CS40","v":97},{"$f":"transposed!CU40","v":98},{"$f":"transposed!CW40","v":97},97.8,{"$f":"transposed!CY40","v":99},{"$f":"transposed!DA40","v":99},{"$f":"transposed!DC40","v":98},{"$f":"transposed!DE40","v":98},{"$f":"transposed!DG40","v":98},{"$f":"transposed!DI40","v":98},{"$f":"transposed!DK40","v":98},{"$f":"transposed!DM40","v":98},{"$f":"transposed!DO40","v":98},{"$f":"transposed!DQ40","v":98},98.2,{"$f":"transposed!DR40","v":"F"},{"$f":"transposed!DS40","v":37},{"$f":"transposed!DT40","v":"F"},"JP101"]
["JS102",{"$f":"transposed!B38","v":20.687},{"$f":"transposed!D38","v":15.409},{"$f":"transposed!F38","v":19.113},{"$f":"transposed!H38","v":16.544},{"$f":"transposed!J38","v":15.48},{"$f":"transposed!L38","v":15.936},{"$f":"transposed!N38","v":17.216},{"$f":"transposed!P38","v":15.408},{"$f":"transposed!R38","v":17.504},{"$f":"transposed!T38","v":18.656},17.1953,{"$f":"transposed!V38","v":15.444},{"$f":"transposed!X38","v":18.788},{"$f":"transposed!Z38","v":17.015},{"$f":"transposed!AB38","v":17.12},{"$f":"transposed!AD38","v":16.409},{"$f":"transposed!AF38","v":15.145},{"$f":"transposed!AH38","v":17.793},{"$f":"transposed!AJ38","v":17.881},{"$f":"transposed!AL38","v":12.968},{"$f":"transposed!AN38","v":13.144},16.1707,{"$f":"transposed!C38","v":28.336},{"$f":"transposed!E38","v":30.072},{"$f":"transposed!G38","v":27.208},{"$f":"transposed!I38","v":31.16},{"$f":"transposed!K38","v":27.196},{"$f":"transposed!M38","v":26.168},{"$f":"transposed!O38","v":28.024},{"$f":"transposed!Q38","v":32.232},{"$f":"transposed!S38","v":27.528},{"$f":"transposed!U38","v":28.216},28.614000000000004,{"$f":"transposed!W38","v":34.096},{"$f":"transposed!Y38","v":28.576},{"$f":"transposed!AA38","v":31.361},{"$f":"transposed!AC38","v":29.025},{"$f":"transposed!AE38","v":25.65},{"$f":"transposed!AG38","v":25.769},{"$f":"transposed!AI38","v":29.217},{"$f":"transposed!AK38","v":25.088},{"$f":"transposed!AM38","v":27.024},{"$f":"transposed!AO38","v":29.727},28.5533,{"$f":"transposed!AP38","v":0},{"$f":"transposed!AR38","v":0},{"$f":"transposed!AT38","v":0},{"$f":"transposed!AV38","v":0},{"$f":"transposed!AX38","v":0},{"$f":"transposed!AZ38","v":0},{"$f":"transposed!BB38","v":0},{"$f":"transposed!BD38","v":0},{"$f":"transposed!BF38","v":0},{"$f":"transposed!BH38","v":0},0,{"$f":"transposed!BJ38","v":0},{"$f":"transposed!BL38","v":0},{"$f":"transposed!BN38","v":0},{"$f":"transposed!BP38","v":0},{"$f":"transposed!BR38","v":0},{"$f":"transposed!BT38","v":0},{"$f":"transposed!BV38","v":0},{"$f":"transposed!BX38","v":0},{"$f":"transposed!BZ38","v":0},{"$f":"transposed!CB38","v":0},0,{"$f":"transposed!AQ38","v":0},{"$f":"transposed!AS38","v":0},{"$f":"transposed!AU38","v":0},{"$f":"transposed!AW38","v":2.5},{"$f":"transposed!AY38","v":0},{"$f":"transposed!BA38","v":0},{"$f":"transposed!BC38","v":0},{"$f":"transposed!BE38","v":0},{"$f":"transposed!BG38","v":2.5},{"$f":"transposed!BI38","v":2.5},0.75,{"$f":"transposed!BK38","v":5},{"$f":"transposed!BM38","v":0},{"$f":"transposed!BO38","v":0},{"$f":"transposed!BQ38","v":0},{"$f":"transposed!BS38","v":0},{"$f":"transposed!BU38","v":2.5},{"$f":"transposed!BW38","v":2.5},{"$f":"transposed!BY38","v":0},{"$f":"transposed!CA38","v":2.5},{"$f":"transposed!CC38","v":5},1.75,{"$f":"transposed!CD38","v":71},{"$f":"transposed!CF38","v":59},{"$f":"transposed!CH38","v":82},{"$f":"transposed!CJ38","v":67},{"$f":"transposed!CL38","v":78},{"$f":"transposed!CN38","v":84},{"$f":"transposed!CP38","v":63},{"$f":"transposed!CR38","v":60},{"$f":"transposed!CT38","v":60},{"$f":"transposed!CV38","v":61},68.5,{"$f":"transposed!CX38","v":74},{"$f":"transposed!CZ38","v":74},{"$f":"transposed!DB38","v":73},{"$f":"transposed!DD38","v":73},{"$f":"transposed!DF38","v":73},{"$f":"transposed!DH38","v":77},{"$f":"transposed!DJ38","v":73},{"$f":"transposed!DL38","v":75},{"$f":"transposed!DN38","v":81},{"$f":"transposed!DP38","v":80},75.3,{"$f":"transposed!CE38","v":85},{"$f":"transposed!CG38","v":68},{"$f":"transposed!CI38","v":70},{"$f":"transposed!CK38","v":73},{"$f":"transposed!CM38","v":72},{"$f":"transposed!CO38","v":75},{"$f":"transposed!CQ38","v":71},{"$f":"transposed!CS38","v":65},{"$f":"transposed!CU38","v":68},{"$f":"transposed!CW38","v":70},71.7,{"$f":"transposed!CY38","v":73},{"$f":"transposed!DA38","v":70},{"$f":"transposed!DC38","v":75},{"$f":"transposed!DE38","v":77},{"$f":"transposed!DG38","v":74},{"$f":"transposed!DI38","v":66},{"$f":"transposed!DK38","v":64},{"$f":"transposed!DM38","v":79},{"$f":"transposed!DO38","v":82},{"$f":"transposed!DQ38","v":74},73.4,{"$f":"transposed!DR38","v":"M"},{"$f":"transposed!DS38","v":20},{"$f":"transposed!DT38","v":"F"},"JS102"]
["KM101",{"$f":"transposed!B13","v":17.8},{"$f":"transposed!D13","v":18.831},{"$f":"transposed!F13","v":17.496},{"$f":"transposed!H13","v":18.112},{"$f":"transposed!J13","v":16.351},{"$f":"transposed!L13","v":17.655},{"$f":"transposed!N13","v":15.824},{"$f":"transposed!P13","v":18.519},{"$f":"transposed!R13","v":17.44},{"$f":"transposed!T13","v":17.383},17.5411,{"$f":"transposed!V13","v":15.84},{"$f":"transposed!X13","v":16.608},{"$f":"transposed!Z13","v":17.528},{"$f":"transposed!AB13","v":19.512},{"$f":"transposed!AD13","v":14.568},{"$f":"transposed!AF13","v":16.711},{"$f":"transposed!AH13","v":18.479},{"$f":"transposed!AJ13","v":18.272},{"$f":"transposed!AL13","v":17.079},{"$f":"transposed!AN13","v":15.664},17.0261,{"$f":"transposed!C13","v":37.071},{"$f":"transposed!E13","v":42.031},{"$f":"transposed!G13","v":46.398},{"$f":"transposed!I13","v":41.198},{"$f":"transposed!K13","v":48.487},{"$f":"transposed!M13","v":40.911},{"$f":"transposed!O13","v":38.991},{"$f":"transposed!Q13","v":41.543},{"$f":"transposed!S13","v":43.351},{"$f":"transposed!U13","v":40.375},42.0356,{"$f":"transposed!W13","v":39.254},{"$f":"transposed!Y13","v":38.71},{"$f":"transposed!AA13","v":40.031},{"$f":"transposed!AC13","v":46.967},{"$f":"transposed!AE13","v":41.094},{"$f":"transposed!AG13","v":50.719},{"$f":"transposed!AI13","v":41.879},{"$f":"transposed!AK13","v":45.238},{"$f":"transposed!AM13","v":43.111},{"$f":"transposed!AO13","v":37.103},42.4106,{"$f":"transposed!AP13","v":0},{"$f":"transposed!AR13","v":0},{"$f":"transposed!AT13","v":0},{"$f":"transposed!AV13","v":2.5},{"$f":"transposed!AX13","v":0},{"$f":"transposed!AZ13","v":0},{"$f":"transposed!BB13","v":0},{"$f":"transposed!BD13","v":0},{"$f":"transposed!BF13","v":0},{"$f":"transposed!BH13","v":2.5},0.5,{"$f":"transposed!BJ13","v":0},{"$f":"transposed!BL13","v":0},{"$f":"transposed!BN13","v":0},{"$f":"transposed!BP13","v":0},{"$f":"transposed!BR13","v":0},{"$f":"transposed!BT13","v":0},{"$f":"transposed!BV13","v":0},{"$f":"transposed!BX13","v":2.5},{"$f":"transposed!BZ13","v":0},{"$f":"transposed!CB13","v":0},0.25,{"$f":"transposed!AQ13","v":0},{"$f":"transposed!AS13","v":2.5},{"$f":"transposed!AU13","v":0},{"$f":"transposed!AW13","v":0},{"$f":"transposed!AY13","v":7.5},{"$f":"transposed!BA13","v":0},{"$f":"transposed!BC13","v":0},{"$f":"transposed!BE13","v":0},{"$f":"transposed!BG13","v":0},{"$f":"transposed!BI13","v":0},1,{"$f":"transposed!BK13","v":2.5},{"$f":"transposed!BM13","v":2.5},{"$f":"transposed!BO13","v":0},{"$f":"transposed!BQ13","v":5},{"$f":"transposed!BS13","v":0},{"$f":"transposed!BU13","v":0},{"$f":"transposed!BW13","v":0},{"$f":"transposed!BY13","v":0},{"$f":"transposed!CA13","v":2.5},{"$f":"transposed!CC13","v":0},1.25,{"$f":"transposed!CD13","v":103},{"$f":"transposed!CF13","v":111},{"$f":"transposed!CH13","v":113},{"$f":"transposed!CJ13","v":111},{"$f":"transposed!CL13","v":112},{"$f":"transposed!CN13","v":118},{"$f":"transposed!CP13","v":111},{"$f":"transposed!CR13","v":113},{"$f":"transposed!CT13","v":100},{"$f":"transposed!CV13","v":107},109.9,{"$f":"transposed!CX13","v":114},{"$f":"transposed!CZ13","v":120},{"$f":"transposed!DB13","v":114},{"$f":"transposed!DD13","v":115},{"$f":"transposed!DF13","v":122},{"$f":"transposed!DH13","v":117},{"$f":"transposed!DJ13","v":118},{"$f":"transposed!DL13","v":109},{"$f":"transposed!DN13","v":111},{"$f":"transposed!DP13","v":111},115.1,{"$f":"transposed!CE13","v":103},{"$f":"transposed!CG13","v":112},{"$f":"transposed!CI13","v":117},{"$f":"transposed!CK13","v":110},{"$f":"transposed!CM13","v":130},{"$f":"transposed!CO13","v":112},{"$f":"transposed!CQ13","v":111},{"$f":"transposed!CS13","v":99},{"$f":"transposed!CU13","v":111},{"$f":"transposed!CW13","v":109},111.4,{"$f":"transposed!CY13","v":113},{"$f":"transposed!DA13","v":120},{"$f":"transposed!DC13","v":120},{"$f":"transposed!DE13","v":111},{"$f":"transposed!DG13","v":108},{"$f":"transposed!DI13","v":110},{"$f":"transposed!DK13","v":114},{"$f":"transposed!DM13","v":110},{"$f":"transposed!DO13","v":112},{"$f":"transposed!DQ13","v":109},112.7,{"$f":"transposed!DR13","v":"F"},{"$f":"transposed!DS13","v":17},{"$f":"transposed!DT13","v":"T"},"KM101"]
["KP101",{"$f":"transposed!B49","v":21.76},{"$f":"transposed!D49","v":23.223},{"$f":"transposed!F49","v":22.4},{"$f":"transposed!H49","v":20.336},{"$f":"transposed!J49","v":20.248},{"$f":"transposed!L49","v":19.801},{"$f":"transposed!N49","v":19.072},{"$f":"transposed!P49","v":18.392},{"$f":"transposed!R49","v":20.568},{"$f":"transposed!T49","v":17.653},20.3453,{"$f":"transposed!V49","v":17.456},{"$f":"transposed!X49","v":16.508},{"$f":"transposed!Z49","v":17.104},{"$f":"transposed!AB49","v":17.312},{"$f":"transposed!AD49","v":17.128},{"$f":"transposed!AF49","v":16.361},{"$f":"transposed!AH49","v":16.728},{"$f":"transposed!AJ49","v":15.953},{"$f":"transposed!AL49","v":17.984},{"$f":"transposed!AN49","v":17.705},17.023900000000005,{"$f":"transposed!C49","v":33.368},{"$f":"transposed!E49","v":31.624},{"$f":"transposed!G49","v":32.089},{"$f":"transposed!I49","v":33.736},{"$f":"transposed!K49","v":28.617},{"$f":"transposed!M49","v":28.68},{"$f":"transposed!O49","v":29.416},{"$f":"transposed!Q49","v":28.161},{"$f":"transposed!S49","v":32.176},{"$f":"transposed!U49","v":30.345},30.821199999999997,{"$f":"transposed!W49","v":23.841},{"$f":"transposed!Y49","v":24.712},{"$f":"transposed!AA49","v":36.649},{"$f":"transposed!AC49","v":25.705},{"$f":"transposed!AE49","v":24.856},{"$f":"transposed!AG49","v":28.977},{"$f":"transposed!AI49","v":26.139},{"$f":"transposed!AK49","v":27.097},{"$f":"transposed!AM49","v":29.64},{"$f":"transposed!AO49","v":27.817},27.543300000000006,{"$f":"transposed!AP49","v":0},{"$f":"transposed!AR49","v":0},{"$f":"transposed!AT49","v":0},{"$f":"transposed!AV49","v":0},{"$f":"transposed!AX49","v":0},{"$f":"transposed!AZ49","v":0},{"$f":"transposed!BB49","v":0},{"$f":"transposed!BD49","v":0},{"$f":"transposed!BF49","v":0},{"$f":"transposed!BH49","v":0},0,{"$f":"transposed!BJ49","v":0},{"$f":"transposed!BL49","v":0},{"$f":"transposed!BN49","v":0},{"$f":"transposed!BP49","v":0},{"$f":"transposed!BR49","v":0},{"$f":"transposed!BT49","v":0},{"$f":"transposed!BV49","v":0},{"$f":"transposed!BX49","v":0},{"$f":"transposed!BZ49","v":0},{"$f":"transposed!CB49","v":0},0,{"$f":"transposed!AQ49","v":5},{"$f":"transposed!AS49","v":2.5},{"$f":"transposed!AU49","v":0},{"$f":"transposed!AW49","v":7.5},{"$f":"transposed!AY49","v":0},{"$f":"transposed!BA49","v":0},{"$f":"transposed!BC49","v":0},{"$f":"transposed!BE49","v":0},{"$f":"transposed!BG49","v":0},{"$f":"transposed!BI49","v":0},1.5,{"$f":"transposed!BK49","v":0},{"$f":"transposed!BM49","v":5},{"$f":"transposed!BO49","v":10},{"$f":"transposed!BQ49","v":0},{"$f":"transposed!BS49","v":0},{"$f":"transposed!BU49","v":2.5},{"$f":"transposed!BW49","v":0},{"$f":"transposed!BY49","v":2.5},{"$f":"transposed!CA49","v":0},{"$f":"transposed!CC49","v":0},2,{"$f":"transposed!CD49","v":82},{"$f":"transposed!CF49","v":77},{"$f":"transposed!CH49","v":80},{"$f":"transposed!CJ49","v":80},{"$f":"transposed!CL49","v":74},{"$f":"transposed!CN49","v":80},{"$f":"transposed!CP49","v":79},{"$f":"transposed!CR49","v":79},{"$f":"transposed!CT49","v":83},{"$f":"transposed!CV49","v":81},79.5,{"$f":"transposed!CX49","v":118},{"$f":"transposed!CZ49","v":111},{"$f":"transposed!DB49","v":109},{"$f":"transposed!DD49","v":111},{"$f":"transposed!DF49","v":113},{"$f":"transposed!DH49","v":115},{"$f":"transposed!DJ49","v":102},{"$f":"transposed!DL49","v":111},{"$f":"transposed!DN49","v":107},{"$f":"transposed!DP49","v":111},110.8,{"$f":"transposed!CE49","v":102},{"$f":"transposed!CG49","v":81},{"$f":"transposed!CI49","v":93},{"$f":"transposed!CK49","v":96},{"$f":"transposed!CM49","v":100},{"$f":"transposed!CO49","v":88},{"$f":"transposed!CQ49","v":89},{"$f":"transposed!CS49","v":79},{"$f":"transposed!CU49","v":78},{"$f":"transposed!CW49","v":93},89.9,{"$f":"transposed!CY49","v":110},{"$f":"transposed!DA49","v":112},{"$f":"transposed!DC49","v":109},{"$f":"transposed!DE49","v":114},{"$f":"transposed!DG49","v":112},{"$f":"transposed!DI49","v":113},{"$f":"transposed!DK49","v":110},{"$f":"transposed!DM49","v":112},{"$f":"transposed!DO49","v":116},{"$f":"transposed!DQ49","v":113},112.1,{"$f":"transposed!DR49","v":"M"},{"$f":"transposed!DS49","v":24},{"$f":"transposed!DT49","v":"F"},"KP101"]
["LB101",{"$f":"transposed!B47","v":19.312},{"$f":"transposed!D47","v":24.025},{"$f":"transposed!F47","v":17.936},{"$f":"transposed!H47","v":19.649},{"$f":"transposed!J47","v":19.8},{"$f":"transposed!L47","v":20.785},{"$f":"transposed!N47","v":17.273},{"$f":"transposed!P47","v":17.08},{"$f":"transposed!R47","v":16.352},{"$f":"transposed!T47","v":18.336},19.0548,{"$f":"transposed!V47","v":18.106},{"$f":"transposed!X47","v":16.332},{"$f":"transposed!Z47","v":19.273},{"$f":"transposed!AB47","v":18.008},{"$f":"transposed!AD47","v":17.072},{"$f":"transposed!AF47","v":17.383},{"$f":"transposed!AH47","v":16.544},{"$f":"transposed!AJ47","v":15.497},{"$f":"transposed!AL47","v":17.48},{"$f":"transposed!AN47","v":16.183},17.187799999999996,{"$f":"transposed!C47","v":33.077},{"$f":"transposed!E47","v":35.257},{"$f":"transposed!G47","v":32.089},{"$f":"transposed!I47","v":33.505},{"$f":"transposed!K47","v":35.897},{"$f":"transposed!M47","v":36.433},{"$f":"transposed!O47","v":31.753},{"$f":"transposed!Q47","v":33.969},{"$f":"transposed!S47","v":30.52},{"$f":"transposed!U47","v":29.624},33.212399999999995,{"$f":"transposed!W47","v":33.521},{"$f":"transposed!Y47","v":30.952},{"$f":"transposed!AA47","v":36.168},{"$f":"transposed!AC47","v":27.672},{"$f":"transposed!AE47","v":32.592},{"$f":"transposed!AG47","v":36.299},{"$f":"transposed!AI47","v":37.049},{"$f":"transposed!AK47","v":33.705},{"$f":"transposed!AM47","v":34.145},{"$f":"transposed!AO47","v":38.481},34.05839999999999,{"$f":"transposed!AP47","v":0},{"$f":"transposed!AR47","v":0},{"$f":"transposed!AT47","v":0},{"$f":"transposed!AV47","v":0},{"$f":"transposed!AX47","v":0},{"$f":"transposed!AZ47","v":0},{"$f":"transposed!BB47","v":0},{"$f":"transposed!BD47","v":0},{"$f":"transposed!BF47","v":0},{"$f":"transposed!BH47","v":0},0,{"$f":"transposed!BJ47","v":0},{"$f":"transposed!BL47","v":0},{"$f":"transposed!BN47","v":0},{"$f":"transposed!BP47","v":0},{"$f":"transposed!BR47","v":0},{"$f":"transposed!BT47","v":0},{"$f":"transposed!BV47","v":0},{"$f":"transposed!BX47","v":0},{"$f":"transposed!BZ47","v":0},{"$f":"transposed!CB47","v":0},0,{"$f":"transposed!AQ47","v":2.5},{"$f":"transposed!AS47","v":5},{"$f":"transposed!AU47","v":5},{"$f":"transposed!AW47","v":5},{"$f":"transposed!AY47","v":2.5},{"$f":"transposed!BA47","v":2.5},{"$f":"transposed!BC47","v":0},{"$f":"transposed!BE47","v":0},{"$f":"transposed!BG47","v":0},{"$f":"transposed!BI47","v":0},2.25,{"$f":"transposed!BK47","v":5},{"$f":"transposed!BM47","v":0},{"$f":"transposed!BO47","v":0},{"$f":"transposed!BQ47","v":0},{"$f":"transposed!BS47","v":0},{"$f":"transposed!BU47","v":0},{"$f":"transposed!BW47","v":0},{"$f":"transposed!BY47","v":5},{"$f":"transposed!CA47","v":0},{"$f":"transposed!CC47","v":0},1,{"$f":"transposed!CD47","v":76},{"$f":"transposed!CF47","v":77},{"$f":"transposed!CH47","v":82},{"$f":"transposed!CJ47","v":73},{"$f":"transposed!CL47","v":76},{"$f":"transposed!CN47","v":82},{"$f":"transposed!CP47","v":77},{"$f":"transposed!CR47","v":78},{"$f":"transposed!CT47","v":75},{"$f":"transposed!CV47","v":73},76.9,{"$f":"transposed!CX47","v":96},{"$f":"transposed!CZ47","v":92},{"$f":"transposed!DB47","v":89},{"$f":"transposed!DD47","v":86},{"$f":"transposed!DF47","v":88},{"$f":"transposed!DH47","v":84},{"$f":"transposed!DJ47","v":77},{"$f":"transposed!DL47","v":86},{"$f":"transposed!DN47","v":85},{"$f":"transposed!DP47","v":86},86.9,{"$f":"transposed!CE47","v":81},{"$f":"transposed!CG47","v":78},{"$f":"transposed!CI47","v":80},{"$f":"transposed!CK47","v":71},{"$f":"transposed!CM47","v":78},{"$f":"transposed!CO47","v":75},{"$f":"transposed!CQ47","v":79},{"$f":"transposed!CS47","v":87},{"$f":"transposed!CU47","v":81},{"$f":"transposed!CW47","v":75},78.5,{"$f":"transposed!CY47","v":90},{"$f":"transposed!DA47","v":85},{"$f":"transposed!DC47","v":88},{"$f":"transposed!DE47","v":83},{"$f":"transposed!DG47","v":89},{"$f":"transposed!DI47","v":84},{"$f":"transposed!DK47","v":89},{"$f":"transposed!DM47","v":83},{"$f":"transposed!DO47","v":85},{"$f":"transposed!DQ47","v":75},85.1,{"$f":"transposed!DR47","v":"M"},{"$f":"transposed!DS47","v":24},{"$f":"transposed!DT47","v":"F"},"LB101"]
["LT101",{"$f":"transposed!B26","v":36.336},{"$f":"transposed!D26","v":31.529},{"$f":"transposed!F26","v":27.776},{"$f":"transposed!H26","v":22.208},{"$f":"transposed!J26","v":20.584},{"$f":"transposed!L26","v":19.127},{"$f":"transposed!N26","v":19.08},{"$f":"transposed!P26","v":17.632},{"$f":"transposed!R26","v":17.449},{"$f":"transposed!T26","v":16.048},22.7769,{"$f":"transposed!V26","v":14.262},{"$f":"transposed!X26","v":15.344},{"$f":"transposed!Z26","v":14.945},{"$f":"transposed!AB26","v":13.799},{"$f":"transposed!AD26","v":12.918},{"$f":"transposed!AF26","v":14.511},{"$f":"transposed!AH26","v":13.712},{"$f":"transposed!AJ26","v":14.751},{"$f":"transposed!AL26","v":13.458},{"$f":"transposed!AN26","v":13.128},14.0828,{"$f":"transposed!C26","v":35.177},{"$f":"transposed!E26","v":33.888},{"$f":"transposed!G26","v":31.296},{"$f":"transposed!I26","v":27.72},{"$f":"transposed!K26","v":25.465},{"$f":"transposed!M26","v":26.544},{"$f":"transposed!O26","v":25.336},{"$f":"transposed!Q26","v":25.872},{"$f":"transposed!S26","v":25.136},{"$f":"transposed!U26","v":22.792},27.9226,{"$f":"transposed!W26","v":23.568},{"$f":"transposed!Y26","v":22.142},{"$f":"transposed!AA26","v":22.554},{"$f":"transposed!AC26","v":21.304},{"$f":"transposed!AE26","v":23.167},{"$f":"transposed!AG26","v":23.025},{"$f":"transposed!AI26","v":25.447},{"$f":"transposed!AK26","v":24.27},{"$f":"transposed!AM26","v":24.616},{"$f":"transposed!AO26","v":22.952},23.3045,{"$f":"transposed!AP26","v":0},{"$f":"transposed!AR26","v":0},{"$f":"transposed!AT26","v":0},{"$f":"transposed!AV26","v":0},{"$f":"transposed!AX26","v":0},{"$f":"transposed!AZ26","v":0},{"$f":"transposed!BB26","v":0},{"$f":"transposed!BD26","v":0},{"$f":"transposed!BF26","v":0},{"$f":"transposed!BH26","v":0},0,{"$f":"transposed!BJ26","v":0},{"$f":"transposed!BL26","v":0},{"$f":"transposed!BN26","v":0},{"$f":"transposed!BP26","v":0},{"$f":"transposed!BR26","v":0},{"$f":"transposed!BT26","v":0},{"$f":"transposed!BV26","v":0},{"$f":"transposed!BX26","v":0},{"$f":"transposed!BZ26","v":0},{"$f":"transposed!CB26","v":0},0,{"$f":"transposed!AQ26","v":0},{"$f":"transposed!AS26","v":5},{"$f":"transposed!AU26","v":7.5},{"$f":"transposed!AW26","v":0},{"$f":"transposed!AY26","v":0},{"$f":"transposed!BA26","v":0},{"$f":"transposed!BC26","v":0},{"$f":"transposed!BE26","v":2.5},{"$f":"transposed!BG26","v":0},{"$f":"transposed!BI26","v":0},1.5,{"$f":"transposed!BK26","v":7.5},{"$f":"transposed!BM26","v":2.5},{"$f":"transposed!BO26","v":2.5},{"$f":"transposed!BQ26","v":0},{"$f":"transposed!BS26","v":0},{"$f":"transposed!BU26","v":5},{"$f":"transposed!BW26","v":5},{"$f":"transposed!BY26","v":7.5},{"$f":"transposed!CA26","v":2.5},{"$f":"transposed!CC26","v":2.5},3.5,{"$f":"transposed!CD26","v":89},{"$f":"transposed!CF26","v":82},{"$f":"transposed!CH26","v":89},{"$f":"transposed!CJ26","v":79},{"$f":"transposed!CL26","v":89},{"$f":"transposed!CN26","v":101},{"$f":"transposed!CP26","v":86},{"$f":"transposed!CR26","v":87},{"$f":"transposed!CT26","v":83},{"$f":"transposed!CV26","v":88},87.3,{"$f":"transposed!CX26","v":115},{"$f":"transposed!CZ26","v":107},{"$f":"transposed!DB26","v":113},{"$f":"transposed!DD26","v":103},{"$f":"transposed!DF26","v":106},{"$f":"transposed!DH26","v":96},{"$f":"transposed!DJ26","v":98},{"$f":"transposed!DL26","v":92},{"$f":"transposed!DN26","v":102},{"$f":"transposed!DP26","v":92},102.4,{"$f":"transposed!CE26","v":90},{"$f":"transposed!CG26","v":88},{"$f":"transposed!CI26","v":93},{"$f":"transposed!CK26","v":97},{"$f":"transposed!CM26","v":101},{"$f":"transposed!CO26","v":101},{"$f":"transposed!CQ26","v":94},{"$f":"transposed!CS26","v":97},{"$f":"transposed!CU26","v":90},{"$f":"transposed!CW26","v":96},94.7,{"$f":"transposed!CY26","v":103},{"$f":"transposed!DA26","v":104},{"$f":"transposed!DC26","v":111},{"$f":"transposed!DE26","v":112},{"$f":"transposed!DG26","v":101},{"$f":"transposed!DI26","v":103},{"$f":"transposed!DK26","v":100},{"$f":"transposed!DM26","v":99},{"$f":"transposed!DO26","v":95},{"$f":"transposed!DQ26","v":104},103.2,{"$f":"transposed!DR26","v":"F"},{"$f":"transposed!DS26","v":22},{"$f":"transposed!DT26","v":"F"},"LT101"]
["MD101",{"$f":"transposed!B50","v":56.805},{"$f":"transposed!D50","v":29.784},{"$f":"transposed!F50","v":28.377},{"$f":"transposed!H50","v":22.609},{"$f":"transposed!J50","v":28.368},{"$f":"transposed!L50","v":27.496},{"$f":"transposed!N50","v":31.328},{"$f":"transposed!P50","v":26.409},{"$f":"transposed!R50","v":25.504},{"$f":"transposed!T50","v":25.784},30.2464,{"$f":"transposed!V50","v":25.08},{"$f":"transposed!X50","v":25.057},{"$f":"transposed!Z50","v":23.65},{"$f":"transposed!AB50","v":24.52},{"$f":"transposed!AD50","v":23.745},{"$f":"transposed!AF50","v":27.977},{"$f":"transposed!AH50","v":25.896},{"$f":"transposed!AJ50","v":24.456},{"$f":"transposed!AL50","v":22.544},{"$f":"transposed!AN50","v":22.88},24.5805,{"$f":"transposed!C50","v":48.841},{"$f":"transposed!E50","v":45.201},{"$f":"transposed!G50","v":41.287},{"$f":"transposed!I50","v":44.704},{"$f":"transposed!K50","v":43.392},{"$f":"transposed!M50","v":51.865},{"$f":"transposed!O50","v":44.897},{"$f":"transposed!Q50","v":36.241},{"$f":"transposed!S50","v":36.984},{"$f":"transposed!U50","v":33.954},42.736599999999996,{"$f":"transposed!W50","v":38.352},{"$f":"transposed!Y50","v":34.616},{"$f":"transposed!AA50","v":33.92},{"$f":"transposed!AC50","v":36.305},{"$f":"transposed!AE50","v":39.457},{"$f":"transposed!AG50","v":35.504},{"$f":"transposed!AI50","v":34.377},{"$f":"transposed!AK50","v":35.113},{"$f":"transposed!AM50","v":33.456},{"$f":"transposed!AO50","v":33.356},35.4456,{"$f":"transposed!AP50","v":0},{"$f":"transposed!AR50","v":0},{"$f":"transposed!AT50","v":0},{"$f":"transposed!AV50","v":0},{"$f":"transposed!AX50","v":2.5},{"$f":"transposed!AZ50","v":2.5},{"$f":"transposed!BB50","v":5},{"$f":"transposed!BD50","v":0},{"$f":"transposed!BF50","v":0},{"$f":"transposed!BH50","v":0},1,{"$f":"transposed!BJ50","v":0},{"$f":"transposed!BL50","v":0},{"$f":"transposed!BN50","v":0},{"$f":"transposed!BP50","v":0},{"$f":"transposed!BR50","v":0},{"$f":"transposed!BT50","v":0},{"$f":"transposed!BV50","v":0},{"$f":"transposed!BX50","v":0},{"$f":"transposed!BZ50","v":0},{"$f":"transposed!CB50","v":0},0,{"$f":"transposed!AQ50","v":0},{"$f":"transposed!AS50","v":5},{"$f":"transposed!AU50","v":0},{"$f":"transposed!AW50","v":0},{"$f":"transposed!AY50","v":0},{"$f":"transposed!BA50","v":0},{"$f":"transposed!BC50","v":0},{"$f":"transposed!BE50","v":0},{"$f":"transposed!BG50","v":0},{"$f":"transposed!BI50","v":0},0.5,{"$f":"transposed!BK50","v":0},{"$f":"transposed!BM50","v":0},{"$f":"transposed!BO50","v":0},{"$f":"transposed!BQ50","v":0},{"$f":"transposed!BS50","v":2.5},{"$f":"transposed!BU50","v":0},{"$f":"transposed!BW50","v":0},{"$f":"transposed!BY50","v":0},{"$f":"transposed!CA50","v":0},{"$f":"transposed!CC50","v":2.5},0.5,{"$f":"transposed!CD50","v":90},{"$f":"transposed!CF50","v":71},{"$f":"transposed!CH50","v":68},{"$f":"transposed!CJ50","v":76},{"$f":"transposed!CL50","v":76},{"$f":"transposed!CN50","v":79},{"$f":"transposed!CP50","v":82},{"$f":"transposed!CR50","v":80},{"$f":"transposed!CT50","v":77},{"$f":"transposed!CV50","v":81},78,{"$f":"transposed!CX50","v":82},{"$f":"transposed!CZ50","v":73},{"$f":"transposed!DB50","v":75},{"$f":"transposed!DD50","v":68},{"$f":"transposed!DF50","v":72},{"$f":"transposed!DH50","v":62},{"$f":"transposed!DJ50","v":67},{"$f":"transposed!DL50","v":75},{"$f":"transposed!DN50","v":74},{"$f":"transposed!DP50","v":71},71.9,{"$f":"transposed!CE50","v":72},{"$f":"transposed!CG50","v":71},{"$f":"transposed!CI50","v":72},{"$f":"transposed!CK50","v":69},{"$f":"transposed!CM50","v":71},{"$f":"transposed!CO50","v":84},{"$f":"transposed!CQ50","v":80},{"$f":"transposed!CS50","v":69},{"$f":"transposed!CU50","v":76},{"$f":"transposed!CW50","v":80},74.4,{"$f":"transposed!CY50","v":74},{"$f":"transposed!DA50","v":75},{"$f":"transposed!DC50","v":69},{"$f":"transposed!DE50","v":75},{"$f":"transposed!DG50","v":71},{"$f":"transposed!DI50","v":67},{"$f":"transposed!DK50","v":64},{"$f":"transposed!DM50","v":71},{"$f":"transposed!DO50","v":58},{"$f":"transposed!DQ50","v":66},69,{"$f":"transposed!DR50","v":"M "},{"$f":"transposed!DS50","v":29},{"$f":"transposed!DT50","v":"F"},"MD101"]
["MK101",{"$f":"transposed!B73","v":19.848},{"$f":"transposed!D73","v":19.656},{"$f":"transposed!F73","v":20.969},{"$f":"transposed!H73","v":17.52},{"$f":"transposed!J73","v":18.51},{"$f":"transposed!L73","v":17.905},{"$f":"transposed!N73","v":17.672},{"$f":"transposed!P73","v":16.084},{"$f":"transposed!R73","v":18.016},{"$f":"transposed!T73","v":17.91},18.409,{"$f":"transposed!V73","v":17.954},{"$f":"transposed!X73","v":17.104},{"$f":"transposed!Z73","v":17.878},{"$f":"transposed!AB73","v":15.92},{"$f":"transposed!AD73","v":17.28},{"$f":"transposed!AF73","v":16.145},{"$f":"transposed!AH73","v":17.088},{"$f":"transposed!AJ73","v":15.681},{"$f":"transposed!AL73","v":17.409},{"$f":"transposed!AN73","v":17.409},16.9868,{"$f":"transposed!C73","v":36.609},{"$f":"transposed!E73","v":35.865},{"$f":"transposed!G73","v":33.699},{"$f":"transposed!I73","v":29.882},{"$f":"transposed!K73","v":29.432},{"$f":"transposed!M73","v":30.011},{"$f":"transposed!O73","v":30.12},{"$f":"transposed!Q73","v":31.201},{"$f":"transposed!S73","v":30.21},{"$f":"transposed!U73","v":31.872},31.8901,{"$f":"transposed!W73","v":30.512},{"$f":"transposed!Y73","v":34.072},{"$f":"transposed!AA73","v":31.047},{"$f":"transposed!AC73","v":32.546},{"$f":"transposed!AE73","v":28.833},{"$f":"transposed!AG73","v":30.951},{"$f":"transposed!AI73","v":30.056},{"$f":"transposed!AK73","v":27.12},{"$f":"transposed!AM73","v":28.688},{"$f":"transposed!AO73","v":28.688},30.251299999999997,{"$f":"transposed!AP73","v":0},{"$f":"transposed!AR73","v":0},{"$f":"transposed!AT73","v":0},{"$f":"transposed!AV73","v":0},{"$f":"transposed!AX73","v":0},{"$f":"transposed!AZ73","v":0},{"$f":"transposed!BB73","v":0},{"$f":"transposed!BD73","v":0},{"$f":"transposed!BF73","v":0},{"$f":"transposed!BH73","v":0},0,{"$f":"transposed!BJ73","v":0},{"$f":"transposed!BL73","v":0},{"$f":"transposed!BN73","v":0},{"$f":"transposed!BP73","v":0},{"$f":"transposed!BR73","v":0},{"$f":"transposed!BT73","v":0},{"$f":"transposed!BV73","v":0},{"$f":"transposed!BX73","v":0},{"$f":"transposed!BZ73","v":0},{"$f":"transposed!CB73","v":0},0,{"$f":"transposed!AQ73","v":5},{"$f":"transposed!AS73","v":5},{"$f":"transposed!AU73","v":0},{"$f":"transposed!AW73","v":5},{"$f":"transposed!AY73","v":2.5},{"$f":"transposed!BA73","v":0},{"$f":"transposed!BC73","v":0},{"$f":"transposed!BE73","v":2.5},{"$f":"transposed!BG73","v":2.5},{"$f":"transposed!BI73","v":2.5},2.5,{"$f":"transposed!BK73","v":0},{"$f":"transposed!BM73","v":0},{"$f":"transposed!BO73","v":0},{"$f":"transposed!BQ73","v":0},{"$f":"transposed!BS73","v":2.5},{"$f":"transposed!BU73","v":0},{"$f":"transposed!BW73","v":0},{"$f":"transposed!BY73","v":2.5},{"$f":"transposed!CA73","v":2.5},{"$f":"transposed!CC73","v":0},0.75,{"$f":"transposed!CD73","v":0},{"$f":"transposed!CF73","v":96},{"$f":"transposed!CH73","v":100},{"$f":"transposed!CJ73","v":97},{"$f":"transposed!CL73","v":98},{"$f":"transposed!CN73","v":98},{"$f":"transposed!CP73","v":97},{"$f":"transposed!CR73","v":104},{"$f":"transposed!CT73","v":98},{"$f":"transposed!CV73","v":107},89.5,{"$f":"transposed!CX73","v":103},{"$f":"transposed!CZ73","v":102},{"$f":"transposed!DB73","v":100},{"$f":"transposed!DD73","v":101},{"$f":"transposed!DF73","v":104},{"$f":"transposed!DH73","v":109},{"$f":"transposed!DJ73","v":106},{"$f":"transposed!DL73","v":102},{"$f":"transposed!DN73","v":106},{"$f":"transposed!DP73","v":95},102.8,{"$f":"transposed!CE73","v":96},{"$f":"transposed!CG73","v":92},{"$f":"transposed!CI73","v":95},{"$f":"transposed!CK73","v":103},{"$f":"transposed!CM73","v":93},{"$f":"transposed!CO73","v":94},{"$f":"transposed!CQ73","v":98},{"$f":"transposed!CS73","v":98},{"$f":"transposed!CU73","v":99},{"$f":"transposed!CW73","v":103},97.1,{"$f":"transposed!CY73","v":113},{"$f":"transposed!DA73","v":104},{"$f":"transposed!DC73","v":104},{"$f":"transposed!DE73","v":103},{"$f":"transposed!DG73","v":102},{"$f":"transposed!DI73","v":99},{"$f":"transposed!DK73","v":103},{"$f":"transposed!DM73","v":104},{"$f":"transposed!DO73","v":95},{"$f":"transposed!DQ73","v":95},102.2,{"$f":"transposed!DR73","v":"F"},{"$f":"transposed!DS73","v":31},{"$f":"transposed!DT73","v":"F"},"MK101"]
["MT101",{"$f":"transposed!B23","v":42.32},{"$f":"transposed!D23","v":36.319},{"$f":"transposed!F23","v":37.936},{"$f":"transposed!H23","v":35.464},{"$f":"transposed!J23","v":35.04},{"$f":"transposed!L23","v":25.137},{"$f":"transposed!N23","v":30.184},{"$f":"transposed!P23","v":25.223},{"$f":"transposed!R23","v":25.081},{"$f":"transposed!T23","v":23.68},{"$f":"AVERAGE(B58:K58)","v":31.6384},{"$f":"transposed!V23","v":27.149},{"$f":"transposed!X23","v":24.221},{"$f":"transposed!Z23","v":23},{"$f":"transposed!AB23","v":20.928},{"$f":"transposed!AD23","v":21.839},{"$f":"transposed!AF23","v":22.608},{"$f":"transposed!AH23","v":21.72},{"$f":"transposed!AJ23","v":20.967},{"$f":"transposed!AL23","v":21.087},{"$f":"transposed!AN23","v":21.528},{"$f":"AVERAGE(M58:V58)","v":22.5047},{"$f":"transposed!C23","v":50.699},{"$f":"transposed!E23","v":40.304},{"$f":"transposed!G23","v":39.737},{"$f":"transposed!I23","v":36.823},{"$f":"transposed!K23","v":31.512},{"$f":"transposed!M23","v":31.224},{"$f":"transposed!O23","v":29.839},{"$f":"transposed!Q23","v":26.848},{"$f":"transposed!S23","v":27.209},{"$f":"transposed!U23","v":30.696},{"$f":"AVERAGE(X58:AG58)","v":34.48910000000001},{"$f":"transposed!W23","v":30.576},{"$f":"transposed!Y23","v":26.8},{"$f":"transposed!AA23","v":33.16},{"$f":"transposed!AC23","v":25.448},{"$f":"transposed!AE23","v":26.64},{"$f":"transposed!AG23","v":24.048},{"$f":"transposed!AI23","v":26.489},{"$f":"transposed!AK23","v":26.402},{"$f":"transposed!AM23","v":27.302},{"$f":"transposed!AO23","v":25.88},{"$f":"AVERAGE(AI58:AR58)","v":27.274500000000007},{"$f":"transposed!AP23","v":0},{"$f":"transposed!AR23","v":0},{"$f":"transposed!AT23","v":0},{"$f":"transposed!AV23","v":0},{"$f":"transposed!AX23","v":0},{"$f":"transposed!AZ23","v":0},{"$f":"transposed!BB23","v":0},{"$f":"transposed!BD23","v":0},{"$f":"transposed!BF23","v":0},{"$f":"transposed!BH23","v":0},0,{"$f":"transposed!BJ23","v":0},{"$f":"transposed!BL23","v":0},{"$f":"transposed!BN23","v":0},{"$f":"transposed!BP23","v":0},{"$f":"transposed!BR23","v":0},{"$f":"transposed!BT23","v":0},{"$f":"transposed!BV23","v":0},{"$f":"transposed!BX23","v":0},{"$f":"transposed!BZ23","v":0},{"$f":"transposed!CB23","v":0},0,{"$f":"transposed!AQ23","v":2.5},{"$f":"transposed!AS23","v":2.5},{"$f":"transposed!AU23","v":0},{"$f":"transposed!AW23","v":2.5},{"$f":"transposed!AY23","v":0},{"$f":"transposed!BA23","v":0},{"$f":"transposed!BC23","v":0},{"$f":"transposed!BE23","v":2.5},{"$f":"transposed!BG23","v":0},{"$f":"transposed!BI23","v":0},1,{"$f":"transposed!BK23","v":0},{"$f":"transposed!BM23","v":2.5},{"$f":"transposed!BO23","v":0},{"$f":"transposed!BQ23","v":0},{"$f":"transposed!BS23","v":0},{"$f":"transposed!BU23","v":0},{"$f":"transposed!BW23","v":2.5},{"$f":"transposed!BY23","v":0},{"$f":"transposed!CA23","v":0},{"$f":"transposed!CC23","v":2.5},0.75,{"$f":"transposed!CD23","v":88},{"$f":"transposed!CF23","v":85},{"$f":"transposed!CH23","v":87},{"$f":"transposed!CJ23","v":86},{"$f":"transposed!CL23","v":81},{"$f":"transposed!CN23","v":85},{"$f":"transposed!CP23","v":94},{"$f":"transposed!CR23","v":83},{"$f":"transposed!CT23","v":89},{"$f":"transposed!CV23","v":88},{"$f":"AVERAGE(CL58:CU58)","v":86.6},{"$f":"transposed!CX23","v":109},{"$f":"transposed!CZ23","v":109},{"$f":"transposed!DB23","v":105},{"$f":"transposed!DD23","v":106},{"$f":"transposed!DF23","v":107},{"$f":"transposed!DH23","v":105},{"$f":"transposed!DJ23","v":108},{"$f":"transposed!DL23","v":105},{"$f":"transposed!DN23","v":99},{"$f":"transposed!DP23","v":106},{"$f":"AVERAGE(CW58:DF58)","v":105.9},{"$f":"transposed!CE23","v":83},{"$f":"transposed!CG23","v":86},{"$f":"transposed!CI23","v":84},{"$f":"transposed!CK23","v":85},{"$f":"transposed!CM23","v":89},{"$f":"transposed!CO23","v":87},{"$f":"transposed!CQ23","v":78},{"$f":"transposed!CS23","v":91},{"$f":"transposed!CU23","v":92},{"$f":"transposed!CW23","v":82},{"$f":"AVERAGE(DH58:DQ58)","v":85.7},{"$f":"transposed!CY23","v":107},{"$f":"transposed!DA23","v":106},{"$f":"transposed!DC23","v":104},{"$f":"transposed!DE23","v":107},{"$f":"transposed!DG23","v":100},{"$f":"transposed!DI23","v":103},{"$f":"transposed!DK23","v":100},{"$f":"transposed!DM23","v":102},{"$f":"transposed!DO23","v":94},{"$f":"transposed!DQ23","v":103},{"$f":"AVERAGE(DS58:EB58)","v":102.6},{"$f":"transposed!DR23","v":"F"},{"$f":"transposed!DS23","v":22},{"$f":"transposed!DT23","v":"F"},"MT101"]
["NV101",{"$f":"transposed!B44","v":19.416},{"$f":"transposed!D44","v":18.318},{"$f":"transposed!F44","v":17.863},{"$f":"transposed!H44","v":16.832},{"$f":"transposed!J44","v":18.001},{"$f":"transposed!L44","v":16.772},{"$f":"transposed!N44","v":18.249},{"$f":"transposed!P44","v":17.504},{"$f":"transposed!R44","v":16.206},{"$f":"transposed!T44","v":16.201},17.536199999999997,{"$f":"transposed!V44","v":16.896},{"$f":"transposed!X44","v":16.481},{"$f":"transposed!Z44","v":16.152},{"$f":"transposed!AB44","v":16.376},{"$f":"transposed!AD44","v":15.765},{"$f":"transposed!AF44","v":15.504},{"$f":"transposed!AH44","v":16.405},{"$f":"transposed!AJ44","v":15.993},{"$f":"transposed!AL44","v":15.361},{"$f":"transposed!AN44","v":15.215},16.0148,{"$f":"transposed!C44","v":23.72},{"$f":"transposed!E44","v":27.657},{"$f":"transposed!G44","v":23.782},{"$f":"transposed!I44","v":24.248},{"$f":"transposed!K44","v":23.495},{"$f":"transposed!M44","v":23.552},{"$f":"transposed!O44","v":23.328},{"$f":"transposed!Q44","v":23.144},{"$f":"transposed!S44","v":22.426},{"$f":"transposed!U44","v":26.529},24.1881,{"$f":"transposed!W44","v":22.41},{"$f":"transposed!Y44","v":23.297},{"$f":"transposed!AA44","v":21.832},{"$f":"transposed!AC44","v":20.383},{"$f":"transposed!AE44","v":22.508},{"$f":"transposed!AG44","v":28},{"$f":"transposed!AI44","v":23.145},{"$f":"transposed!AK44","v":20.288},{"$f":"transposed!AM44","v":21.239},{"$f":"transposed!AO44","v":19.952},22.305400000000002,{"$f":"transposed!AP44","v":0},{"$f":"transposed!AR44","v":0},{"$f":"transposed!AT44","v":0},{"$f":"transposed!AV44","v":0},{"$f":"transposed!AX44","v":0},{"$f":"transposed!AZ44","v":0},{"$f":"transposed!BB44","v":0},{"$f":"transposed!BD44","v":0},{"$f":"transposed!BF44","v":0},{"$f":"transposed!BH44","v":0},0,{"$f":"transposed!BJ44","v":0},{"$f":"transposed!BL44","v":0},{"$f":"transposed!BN44","v":0},{"$f":"transposed!BP44","v":0},{"$f":"transposed!BR44","v":0},{"$f":"transposed!BT44","v":0},{"$f":"transposed!BV44","v":0},{"$f":"transposed!BX44","v":0},{"$f":"transposed!BZ44","v":0},{"$f":"transposed!CB44","v":0},0,{"$f":"transposed!AQ44","v":0},{"$f":"transposed!AS44","v":0},{"$f":"transposed!AU44","v":0},{"$f":"transposed!AW44","v":0},{"$f":"transposed!AY44","v":0},{"$f":"transposed!BA44","v":0},{"$f":"transposed!BC44","v":0},{"$f":"transposed!BE44","v":0},{"$f":"transposed!BG44","v":0},{"$f":"transposed!BI44","v":5},0.5,{"$f":"transposed!BK44","v":0},{"$f":"transposed!BM44","v":0},{"$f":"transposed!BO44","v":0},{"$f":"transposed!BQ44","v":0},{"$f":"transposed!BS44","v":2.5},{"$f":"transposed!BU44","v":2.5},{"$f":"transposed!BW44","v":0},{"$f":"transposed!BY44","v":0},{"$f":"transposed!CA44","v":0},{"$f":"transposed!CC44","v":0},0.5,{"$f":"transposed!CD44","v":0},{"$f":"transposed!CF44","v":0},{"$f":"transposed!CH44","v":0},{"$f":"transposed!CJ44","v":0},{"$f":"transposed!CL44","v":0},{"$f":"transposed!CN44","v":0},{"$f":"transposed!CP44","v":0},{"$f":"transposed!CR44","v":0},{"$f":"transposed!CT44","v":0},{"$f":"transposed!CV44","v":0},0,{"$f":"transposed!CX44","v":0},{"$f":"transposed!CZ44","v":0},{"$f":"transposed!DB44","v":0},{"$f":"transposed!DD44","v":0},{"$f":"transposed!DF44","v":0},{"$f":"transposed!DH44","v":0},{"$f":"transposed!DJ44","v":0},{"$f":"transposed!DL44","v":0},{"$f":"transposed!DN44","v":0},{"$f":"transposed!DP44","v":0},0,{"$f":"transposed!CE44","v":0},{"$f":"transposed!CG44","v":0},{"$f":"transposed!CI44","v":0},{"$f":"transposed!CK44","v":0},{"$f":"transposed!CM44","v":0},{"$f":"transposed!CO44","v":0},{"$f":"transposed!CQ44","v":0},{"$f":"transposed!CS44","v":0},{"$f":"transposed!CU44","v":0},{"$f":"transposed!CW44","v":0},0,{"$f":"transposed!CY44","v":0},{"$f":"transposed!DA44","v":0},{"$f":"transposed!DC44","v":0},{"$f":"transposed!DE44","v":0},{"$f":"transposed!DG44","v":0},{"$f":"transposed!DI44","v":0},{"$f":"transposed!DK44","v":0},{"$f":"transposed!DM44","v":0},{"$f":"transposed!DO44","v":0},{"$f":"transposed!DQ44","v":0},0,{"$f":"transposed!DR44","v":"F"},{"$f":"transposed!DS44","v":24},{"$f":"transposed!DT44","v":"F"},"NV101"]
["OA101",{"$f":"transposed!B22","v":19.088},{"$f":"transposed!D22","v":19.696},{"$f":"transposed!F22","v":20.527},{"$f":"transposed!H22","v":18.591},{"$f":"transposed!J22","v":19.784},{"$f":"transposed!L22","v":18.711},{"$f":"transposed!N22","v":18.04},{"$f":"transposed!P22","v":18.367},{"$f":"transposed!R22","v":20.512},{"$f":"transposed!T22","v":17.68},19.099600000000002,{"$f":"transposed!V22","v":18.944},{"$f":"transposed!X22","v":17.904},{"$f":"transposed!Z22","v":17.8},{"$f":"transposed!AB22","v":18.615},{"$f":"transposed!AD22","v":18.934},{"$f":"transposed!AF22","v":17.185},{"$f":"transposed!AH22","v":18.552},{"$f":"transposed!AJ22","v":17.896},{"$f":"transposed!AL22","v":18.2},{"$f":"transposed!AN22","v":16.607},18.063699999999997,{"$f":"transposed!C22","v":59.49},{"$f":"transposed!E22","v":60.527},{"$f":"transposed!G22","v":50.617},{"$f":"transposed!I22","v":63.519},{"$f":"transposed!K22","v":53.52},{"$f":"transposed!M22","v":59.808},{"$f":"transposed!O22","v":52.759},{"$f":"transposed!Q22","v":44.225},{"$f":"transposed!S22","v":46.143},{"$f":"transposed!U22","v":51.188},54.17960000000001,{"$f":"transposed!W22","v":52.577},{"$f":"transposed!Y22","v":44.002},{"$f":"transposed!AA22","v":39.841},{"$f":"transposed!AC22","v":42.92},{"$f":"transposed!AE22","v":42.528},{"$f":"transposed!AG22","v":40.392},{"$f":"transposed!AI22","v":45.8},{"$f":"transposed!AK22","v":39.745},{"$f":"transposed!AM22","v":43.553},{"$f":"transposed!AO22","v":34.07},42.54280000000001,{"$f":"transposed!AP22","v":0},{"$f":"transposed!AR22","v":0},{"$f":"transposed!AT22","v":0},{"$f":"transposed!AV22","v":0},{"$f":"transposed!AX22","v":0},{"$f":"transposed!AZ22","v":0},{"$f":"transposed!BB22","v":0},{"$f":"transposed!BD22","v":0},{"$f":"transposed!BF22","v":0},{"$f":"transposed!BH22","v":0},0,{"$f":"transposed!BJ22","v":0},{"$f":"transposed!BL22","v":0},{"$f":"transposed!BN22","v":0},{"$f":"transposed!BP22","v":0},{"$f":"transposed!BR22","v":0},{"$f":"transposed!BT22","v":0},{"$f":"transposed!BV22","v":0},{"$f":"transposed!BX22","v":0},{"$f":"transposed!BZ22","v":0},{"$f":"transposed!CB22","v":0},0,{"$f":"transposed!AQ22","v":2.5},{"$f":"transposed!AS22","v":0},{"$f":"transposed!AU22","v":0},{"$f":"transposed!AW22","v":0},{"$f":"transposed!AY22","v":0},{"$f":"transposed!BA22","v":2.5},{"$f":"transposed!BC22","v":2.5},{"$f":"transposed!BE22","v":0},{"$f":"transposed!BG22","v":5},{"$f":"transposed!BI22","v":2.5},1.5,{"$f":"transposed!BK22","v":0},{"$f":"transposed!BM22","v":0},{"$f":"transposed!BO22","v":0},{"$f":"transposed!BQ22","v":0},{"$f":"transposed!BS22","v":0},{"$f":"transposed!BU22","v":0},{"$f":"transposed!BW22","v":0},{"$f":"transposed!BY22","v":2.5},{"$f":"transposed!CA22","v":0},{"$f":"transposed!CC22","v":0},0.25,{"$f":"transposed!CD22","v":69},{"$f":"transposed!CF22","v":66},{"$f":"transposed!CH22","v":70},{"$f":"transposed!CJ22","v":67},{"$f":"transposed!CL22","v":63},{"$f":"transposed!CN22","v":63},{"$f":"transposed!CP22","v":64},{"$f":"transposed!CR22","v":70},{"$f":"transposed!CT22","v":65},{"$f":"transposed!CV22","v":70},66.7,{"$f":"transposed!CX22","v":102},{"$f":"transposed!CZ22","v":97},{"$f":"transposed!DB22","v":90},{"$f":"transposed!DD22","v":95},{"$f":"transposed!DF22","v":94},{"$f":"transposed!DH22","v":95},{"$f":"transposed!DJ22","v":98},{"$f":"transposed!DL22","v":92},{"$f":"transposed!DN22","v":83},{"$f":"transposed!DP22","v":96},94.2,{"$f":"transposed!CE22","v":70},{"$f":"transposed!CG22","v":74},{"$f":"transposed!CI22","v":69},{"$f":"transposed!CK22","v":77},{"$f":"transposed!CM22","v":71},{"$f":"transposed!CO22","v":74},{"$f":"transposed!CQ22","v":66},{"$f":"transposed!CS22","v":72},{"$f":"transposed!CU22","v":67},{"$f":"transposed!CW22","v":71},71.1,{"$f":"transposed!CY22","v":96},{"$f":"transposed!DA22","v":97},{"$f":"transposed!DC22","v":100},{"$f":"transposed!DE22","v":96},{"$f":"transposed!DG22","v":96},{"$f":"transposed!DI22","v":92},{"$f":"transposed!DK22","v":87},{"$f":"transposed!DM22","v":92},{"$f":"transposed!DO22","v":96},{"$f":"transposed!DQ22","v":91},94.3,{"$f":"transposed!DR22","v":"M"},{"$f":"transposed!DS22","v":25},{"$f":"transposed!DT22","v":"F"},"OA101"]
["OB101",{"$f":"transposed!B29","v":30.568},{"$f":"transposed!D29","v":25.288},{"$f":"transposed!F29","v":24.064},{"$f":"transposed!H29","v":25.873},{"$f":"transposed!J29","v":25.217},{"$f":"transposed!L29","v":26.648},{"$f":"transposed!N29","v":24.504},{"$f":"transposed!P29","v":24.687},{"$f":"transposed!R29","v":23.968},{"$f":"transposed!T29","v":24.992},25.580899999999996,{"$f":"transposed!V29","v":27.624},{"$f":"transposed!X29","v":24.896},{"$f":"transposed!Z29","v":22.312},{"$f":"transposed!AB29","v":19.383},{"$f":"transposed!AD29","v":20.832},{"$f":"transposed!AF29","v":20.232},{"$f":"transposed!AH29","v":24.337},{"$f":"transposed!AJ29","v":19.895},{"$f":"transposed!AL29","v":20.696},{"$f":"transposed!AN29","v":19.535},21.9742,{"$f":"transposed!C29","v":34.105},{"$f":"transposed!E29","v":33.247},{"$f":"transposed!G29","v":36.544},{"$f":"transposed!I29","v":34.456},{"$f":"transposed!K29","v":32.928},{"$f":"transposed!M29","v":35.831},{"$f":"transposed!O29","v":32.167},{"$f":"transposed!Q29","v":32.816},{"$f":"transposed!S29","v":33.793},{"$f":"transposed!U29","v":29.208},33.5095,{"$f":"transposed!W29","v":31.28},{"$f":"transposed!Y29","v":34.4},{"$f":"transposed!AA29","v":39.527},{"$f":"transposed!AC29","v":30.369},{"$f":"transposed!AE29","v":33.159},{"$f":"transposed!AG29","v":31.984},{"$f":"transposed!AI29","v":40.248},{"$f":"transposed!AK29","v":42.424},{"$f":"transposed!AM29","v":36.48},{"$f":"transposed!AO29","v":31.304},35.1175,{"$f":"transposed!AP29","v":0},{"$f":"transposed!AR29","v":0},{"$f":"transposed!AT29","v":0},{"$f":"transposed!AV29","v":0},{"$f":"transposed!AX29","v":0},{"$f":"transposed!AZ29","v":0},{"$f":"transposed!BB29","v":0},{"$f":"transposed!BD29","v":0},{"$f":"transposed!BF29","v":0},{"$f":"transposed!BH29","v":0},0,{"$f":"transposed!BJ29","v":0},{"$f":"transposed!BL29","v":0},{"$f":"transposed!BN29","v":0},{"$f":"transposed!BP29","v":0},{"$f":"transposed!BR29","v":0},{"$f":"transposed!BT29","v":0},{"$f":"transposed!BV29","v":0},{"$f":"transposed!BX29","v":0},{"$f":"transposed!BZ29","v":0},{"$f":"transposed!CB29","v":0},0,{"$f":"transposed!AQ29","v":0},{"$f":"transposed!AS29","v":0},{"$f":"transposed!AU29","v":0},{"$f":"transposed!AW29","v":0},{"$f":"transposed!AY29","v":0},{"$f":"transposed!BA29","v":0},{"$f":"transposed!BC29","v":0},{"$f":"transposed!BE29","v":0},{"$f":"transposed!BG29","v":0},{"$f":"transposed!BI29","v":0},0,{"$f":"transposed!BK29","v":0},{"$f":"transposed!BM29","v":0},{"$f":"transposed!BO29","v":0},{"$f":"transposed!BQ29","v":0},{"$f":"transposed!BS29","v":0},{"$f":"transposed!BU29","v":0},{"$f":"transposed!BW29","v":5},{"$f":"transposed!BY29","v":0},{"$f":"transposed!CA29","v":0},{"$f":"transposed!CC29","v":0},0.5,{"$f":"transposed!CD29","v":100},{"$f":"transposed!CF29","v":95},{"$f":"transposed!CH29","v":99},{"$f":"transposed!CJ29","v":99},{"$f":"transposed!CL29","v":101},{"$f":"transposed!CN29","v":101},{"$f":"transposed!CP29","v":98},{"$f":"transposed!CR29","v":106},{"$f":"transposed!CT29","v":103},{"$f":"transposed!CV29","v":103},100.5,{"$f":"transposed!CX29","v":109},{"$f":"transposed!CZ29","v":104},{"$f":"transposed!DB29","v":104},{"$f":"transposed!DD29","v":107},{"$f":"transposed!DF29","v":105},{"$f":"transposed!DH29","v":106},{"$f":"transposed!DJ29","v":103},{"$f":"transposed!DL29","v":106},{"$f":"transposed!DN29","v":105},{"$f":"transposed!DP29","v":102},105.1,{"$f":"transposed!CE29","v":92},{"$f":"transposed!CG29","v":97},{"$f":"transposed!CI29","v":96},{"$f":"transposed!CK29","v":92},{"$f":"transposed!CM29","v":102},{"$f":"transposed!CO29","v":96},{"$f":"transposed!CQ29","v":103},{"$f":"transposed!CS29","v":99},{"$f":"transposed!CU29","v":100},{"$f":"transposed!CW29","v":99},97.6,{"$f":"transposed!CY29","v":106},{"$f":"transposed!DA29","v":103},{"$f":"transposed!DC29","v":106},{"$f":"transposed!DE29","v":102},{"$f":"transposed!DG29","v":98},{"$f":"transposed!DI29","v":97},{"$f":"transposed!DK29","v":102},{"$f":"transposed!DM29","v":104},{"$f":"transposed!DO29","v":101},{"$f":"transposed!DQ29","v":99},101.8,{"$f":"transposed!DR29","v":"F"},{"$f":"transposed!DS29","v":30.26},{"$f":"transposed!DT29","v":"F"},"OB101"]
["PM101",{"$f":"transposed!B2","v":14.51},{"$f":"transposed!D2","v":15.662},{"$f":"transposed!F2","v":15.256},{"$f":"transposed!H2","v":15.307},{"$f":"transposed!J2","v":15.17},{"$f":"transposed!L2","v":14.823},{"$f":"transposed!N2","v":15.664},{"$f":"transposed!P2","v":15.13},{"$f":"transposed!R2","v":15.606},{"$f":"transposed!T2","v":14.84},15.196800000000001,{"$f":"transposed!V2","v":14.044},{"$f":"transposed!X2","v":15.154},{"$f":"transposed!Z2","v":14.079},{"$f":"transposed!AB2","v":14.05},{"$f":"transposed!AD2","v":13.378},{"$f":"transposed!AF2","v":13.55},{"$f":"transposed!AH2","v":14.843},{"$f":"transposed!AJ2","v":13.66},{"$f":"transposed!AL2","v":13.02},{"$f":"transposed!AN2","v":13.114},13.889199999999999,{"$f":"transposed!C2","v":29.233},{"$f":"transposed!E2","v":27.567},{"$f":"transposed!G2","v":27.322},{"$f":"transposed!I2","v":25.858},{"$f":"transposed!K2","v":26.776},{"$f":"transposed!M2","v":26.766},{"$f":"transposed!O2","v":25.766},{"$f":"transposed!Q2","v":27.065},{"$f":"transposed!S2","v":27.327},{"$f":"transposed!U2","v":27.26},27.094,{"$f":"transposed!W2","v":23.583},{"$f":"transposed!Y2","v":24.112},{"$f":"transposed!AA2","v":25.808},{"$f":"transposed!AC2","v":25.75},{"$f":"transposed!AE2","v":26.73},{"$f":"transposed!AG2","v":27.998},{"$f":"transposed!AI2","v":25.335},{"$f":"transposed!AK2","v":23.879},{"$f":"transposed!AM2","v":23.778},{"$f":"transposed!AO2","v":23.291},25.0264,{"$f":"transposed!AP2","v":0},{"$f":"transposed!AR2","v":0},{"$f":"transposed!AT2","v":0},{"$f":"transposed!AV2","v":0},{"$f":"transposed!AX2","v":2.5},{"$f":"transposed!AZ2","v":0},{"$f":"transposed!BB2","v":0},{"$f":"transposed!BD2","v":0},{"$f":"transposed!BF2","v":0},{"$f":"transposed!BH2","v":0},0.25,{"$f":"transposed!BJ2","v":0},{"$f":"transposed!BL2","v":0},{"$f":"transposed!BN2","v":0},{"$f":"transposed!BP2","v":0},{"$f":"transposed!BR2","v":0},{"$f":"transposed!BT2","v":0},{"$f":"transposed!BV2","v":0},{"$f":"transposed!BX2","v":0},{"$f":"transposed!BZ2","v":0},{"$f":"transposed!CB2","v":0},0,{"$f":"transposed!AQ2","v":5},{"$f":"transposed!AS2","v":2.5},{"$f":"transposed!AU2","v":2.5},{"$f":"transposed!AW2","v":0},{"$f":"transposed!AY2","v":2.5},{"$f":"transposed!BA2","v":2.5},{"$f":"transposed!BC2","v":2.5},{"$f":"transposed!BE2","v":2.5},{"$f":"transposed!BG2","v":5},{"$f":"transposed!BI2","v":5},3,{"$f":"transposed!BK2","v":2.5},{"$f":"transposed!BM2","v":0},{"$f":"transposed!BO2","v":2.5},{"$f":"transposed!BQ2","v":2.5},{"$f":"transposed!BS2","v":2.5},{"$f":"transposed!BU2","v":2.5},{"$f":"transposed!BW2","v":0},{"$f":"transposed!BY2","v":0},{"$f":"transposed!CA2","v":0},{"$f":"transposed!CC2","v":0},1.25,{"$f":"transposed!CD2","v":76},{"$f":"transposed!CF2","v":85},{"$f":"transposed!CH2","v":92},{"$f":"transposed!CJ2","v":101},{"$f":"transposed!CL2","v":90},{"$f":"transposed!CN2","v":101},{"$f":"transposed!CP2","v":91},{"$f":"transposed!CR2","v":80},{"$f":"transposed!CT2","v":97},{"$f":"transposed!CV2","v":94},90.7,{"$f":"transposed!CX2","v":108},{"$f":"transposed!CZ2","v":114},{"$f":"transposed!DB2","v":108},{"$f":"transposed!DD2","v":109},{"$f":"transposed!DF2","v":112},{"$f":"transposed!DH2","v":112},{"$f":"transposed!DJ2","v":107},{"$f":"transposed!DL2","v":115},{"$f":"transposed!DN2","v":108},{"$f":"transposed!DP2","v":106},109.9,{"$f":"transposed!CE2","v":97},{"$f":"transposed!CG2","v":89},{"$f":"transposed!CI2","v":94},{"$f":"transposed!CK2","v":90},{"$f":"transposed!CM2","v":91},{"$f":"transposed!CO2","v":96},{"$f":"transposed!CQ2","v":80},{"$f":"transposed!CS2","v":89},{"$f":"transposed!CU2","v":93},{"$f":"transposed!CW2","v":90},90.9,{"$f":"transposed!CY2","v":110},{"$f":"transposed!DA2","v":108},{"$f":"transposed!DC2","v":110},{"$f":"transposed!DE2","v":111},{"$f":"transposed!DG2","v":107},{"$f":"transposed!DI2","v":102},{"$f":"transposed!DK2","v":103},{"$f":"transposed!DM2","v":110},{"$f":"transposed!DO2","v":103},{"$f":"transposed!DQ2","v":100},106.4,{"$f":"transposed!DR2","v":"M"},{"$f":"transposed!DS2","v":23},{"$f":"transposed!DT2","v":"T"},"PM101"]
["RB101",{"$f":"transposed!B72","v":20.904},{"$f":"transposed!D72","v":20.63},{"$f":"transposed!F72","v":18.576},{"$f":"transposed!H72","v":20.983},{"$f":"transposed!J72","v":19.655},{"$f":"transposed!L72","v":20.511},{"$f":"transposed!N72","v":19.567},{"$f":"transposed!P72","v":19.655},{"$f":"transposed!R72","v":19.448},{"$f":"transposed!T72","v":19.007},19.8936,{"$f":"transposed!V72","v":16.967},{"$f":"transposed!X72","v":18.263},{"$f":"transposed!Z72","v":18.087},{"$f":"transposed!AB72","v":16.935},{"$f":"transposed!AD72","v":18.256},{"$f":"transposed!AF72","v":16.535},{"$f":"transposed!AH72","v":17.607},{"$f":"transposed!AJ72","v":17.615},{"$f":"transposed!AL72","v":17.631},{"$f":"transposed!AN72","v":21.471},17.936700000000002,{"$f":"transposed!C72","v":48.966},{"$f":"transposed!E72","v":51.11},{"$f":"transposed!G72","v":51.894},{"$f":"transposed!I72","v":56.958},{"$f":"transposed!K72","v":44.702},{"$f":"transposed!M72","v":57.342},{"$f":"transposed!O72","v":48.03},{"$f":"transposed!Q72","v":42.799},{"$f":"transposed!S72","v":48.254},{"$f":"transposed!U72","v":50.07},50.012499999999996,{"$f":"transposed!W72","v":44.022},{"$f":"transposed!Y72","v":48.198},{"$f":"transposed!AA72","v":41.247},{"$f":"transposed!AC72","v":40.39},{"$f":"transposed!AE72","v":43.766},{"$f":"transposed!AG72","v":44.063},{"$f":"transposed!AI72","v":41.935},{"$f":"transposed!AK72","v":41.991},{"$f":"transposed!AM72","v":47.438},{"$f":"transposed!AO72","v":47.302},44.035199999999996,{"$f":"transposed!AP72","v":0},{"$f":"transposed!AR72","v":0},{"$f":"transposed!AT72","v":0},{"$f":"transposed!AV72","v":0},{"$f":"transposed!AX72","v":0},{"$f":"transposed!AZ72","v":0},{"$f":"transposed!BB72","v":0},{"$f":"transposed!BD72","v":0},{"$f":"transposed!BF72","v":0},{"$f":"transposed!BH72","v":0},0,{"$f":"transposed!BJ72","v":0},{"$f":"transposed!BL72","v":0},{"$f":"transposed!BN72","v":0},{"$f":"transposed!BP72","v":0},{"$f":"transposed!BR72","v":0},{"$f":"transposed!BT72","v":0},{"$f":"transposed!BV72","v":0},{"$f":"transposed!BX72","v":0},{"$f":"transposed!BZ72","v":0},{"$f":"transposed!CB72","v":0},0,{"$f":"transposed!AQ72","v":10},{"$f":"transposed!AS72","v":0},{"$f":"transposed!AU72","v":2.5},{"$f":"transposed!AW72","v":0},{"$f":"transposed!AY72","v":0},{"$f":"transposed!BA72","v":5},{"$f":"transposed!BC72","v":5},{"$f":"transposed!BE72","v":2.5},{"$f":"transposed!BG72","v":5},{"$f":"transposed!BI72","v":0},3,{"$f":"transposed!BK72","v":0},{"$f":"transposed!BM72","v":2.5},{"$f":"transposed!BO72","v":2.5},{"$f":"transposed!BQ72","v":0},{"$f":"transposed!BS72","v":0},{"$f":"transposed!BU72","v":0},{"$f":"transposed!BW72","v":2.5},{"$f":"transposed!BY72","v":2.5},{"$f":"transposed!CA72","v":0},{"$f":"transposed!CC72","v":0},1,{"$f":"transposed!CD72","v":80},{"$f":"transposed!CF72","v":84},{"$f":"transposed!CH72","v":84},{"$f":"transposed!CJ72","v":87},{"$f":"transposed!CL72","v":86},{"$f":"transposed!CN72","v":93},{"$f":"transposed!CP72","v":81},{"$f":"transposed!CR72","v":95},{"$f":"transposed!CT72","v":94},{"$f":"transposed!CV72","v":91},87.5,{"$f":"transposed!CX72","v":93},{"$f":"transposed!CZ72","v":92},{"$f":"transposed!DB72","v":94},{"$f":"transposed!DD72","v":97},{"$f":"transposed!DF72","v":89},{"$f":"transposed!DH72","v":93},{"$f":"transposed!DJ72","v":90},{"$f":"transposed!DL72","v":95},{"$f":"transposed!DN72","v":90},{"$f":"transposed!DP72","v":94},92.7,{"$f":"transposed!CE72","v":87},{"$f":"transposed!CG72","v":84},{"$f":"transposed!CI72","v":91},{"$f":"transposed!CK72","v":83},{"$f":"transposed!CM72","v":89},{"$f":"transposed!CO72","v":87},{"$f":"transposed!CQ72","v":91},{"$f":"transposed!CS72","v":89},{"$f":"transposed!CU72","v":86},{"$f":"transposed!CW72","v":84},87.1,{"$f":"transposed!CY72","v":95},{"$f":"transposed!DA72","v":96},{"$f":"transposed!DC72","v":88},{"$f":"transposed!DE72","v":98},{"$f":"transposed!DG72","v":94},{"$f":"transposed!DI72","v":97},{"$f":"transposed!DK72","v":92},{"$f":"transposed!DM72","v":94},{"$f":"transposed!DO72","v":88},{"$f":"transposed!DQ72","v":90},93.2,{"$f":"transposed!DR72","v":"F"},{"$f":"transposed!DS72","v":28.3},{"$f":"transposed!DT72","v":"T"},"RB101"]
["RK101",{"$f":"transposed!B3","v":21.009},{"$f":"transposed!D3","v":21.592},{"$f":"transposed!F3","v":19.152},{"$f":"transposed!H3","v":22.073},{"$f":"transposed!J3","v":21.752},{"$f":"transposed!L3","v":21.673},{"$f":"transposed!N3","v":21.552},{"$f":"transposed!P3","v":22.616},{"$f":"transposed!R3","v":22.152},{"$f":"transposed!T3","v":23.913},21.748399999999997,{"$f":"transposed!V3","v":20.552},{"$f":"transposed!X3","v":20.712},{"$f":"transposed!Z3","v":19.744},{"$f":"transposed!AB3","v":19.207},{"$f":"transposed!AD3","v":19.943},{"$f":"transposed!AF3","v":20.048},{"$f":"transposed!AH3","v":20.536},{"$f":"transposed!AJ3","v":19.511},{"$f":"transposed!AL3","v":21.688},{"$f":"transposed!AN3","v":19.08},20.1021,{"$f":"transposed!C3","v":40.992},{"$f":"transposed!E3","v":45.17},{"$f":"transposed!G3","v":38.191},{"$f":"transposed!I3","v":42.329},{"$f":"transposed!K3","v":40.007},{"$f":"transposed!M3","v":43.065},{"$f":"transposed!O3","v":38.495},{"$f":"transposed!Q3","v":42.705},{"$f":"transposed!S3","v":42.512},{"$f":"transposed!U3","v":43.273},41.6739,{"$f":"transposed!W3","v":31.116},{"$f":"transposed!Y3","v":34.789},{"$f":"transposed!AA3","v":37.831},{"$f":"transposed!AC3","v":39.68},{"$f":"transposed!AE3","v":39.664},{"$f":"transposed!AG3","v":37.166},{"$f":"transposed!AI3","v":43.169},{"$f":"transposed!AK3","v":36.615},{"$f":"transposed!AM3","v":37.423},{"$f":"transposed!AO3","v":43.241},38.069399999999995,{"$f":"transposed!AP3","v":0},{"$f":"transposed!AR3","v":0},{"$f":"transposed!AT3","v":0},{"$f":"transposed!AV3","v":0},{"$f":"transposed!AX3","v":0},{"$f":"transposed!AZ3","v":0},{"$f":"transposed!BB3","v":0},{"$f":"transposed!BD3","v":0},{"$f":"transposed!BF3","v":0},{"$f":"transposed!BH3","v":0},0,{"$f":"transposed!BJ3","v":0},{"$f":"transposed!BL3","v":0},{"$f":"transposed!BN3","v":0},{"$f":"transposed!BP3","v":0},{"$f":"transposed!BR3","v":0},{"$f":"transposed!BT3","v":0},{"$f":"transposed!BV3","v":0},{"$f":"transposed!BX3","v":0},{"$f":"transposed!BZ3","v":0},{"$f":"transposed!CB3","v":0},0,{"$f":"transposed!AQ3","v":5},{"$f":"transposed!AS3","v":7.5},{"$f":"transposed!AU3","v":0},{"$f":"transposed!AW3","v":10},{"$f":"transposed!AY3","v":2.5},{"$f":"transposed!BA3","v":2.5},{"$f":"transposed!BC3","v":0},{"$f":"transposed!BE3","v":2.5},{"$f":"transposed!BG3","v":5},{"$f":"transposed!BI3","v":2.5},3.75,{"$f":"transposed!BK3","v":0},{"$f":"transposed!BM3","v":2.5},{"$f":"transposed!BO3","v":0},{"$f":"transposed!BQ3","v":5},{"$f":"transposed!BS3","v":0},{"$f":"transposed!BU3","v":5},{"$f":"transposed!BW3","v":5},{"$f":"transposed!BY3","v":0},{"$f":"transposed!CA3","v":0},{"$f":"transposed!CC3","v":5},2.25,{"$f":"transposed!CD3","v":98},{"$f":"transposed!CF3","v":108},{"$f":"transposed!CH3","v":107},{"$f":"transposed!CJ3","v":102},{"$f":"transposed!CL3","v":102},{"$f":"transposed!CN3","v":110},{"$f":"transposed!CP3","v":109},{"$f":"transposed!CR3","v":99},{"$f":"transposed!CT3","v":109},{"$f":"transposed!CV3","v":107},105.1,{"$f":"transposed!CX3","v":112},{"$f":"transposed!CZ3","v":118},{"$f":"transposed!DB3","v":112},{"$f":"transposed!DD3","v":111},{"$f":"transposed!DF3","v":113},{"$f":"transposed!DH3","v":104},{"$f":"transposed!DJ3","v":115},{"$f":"transposed!DL3","v":103},{"$f":"transposed!DN3","v":108},{"$f":"transposed!DP3","v":109},110.5,{"$f":"transposed!CE3","v":104},{"$f":"transposed!CG3","v":104},{"$f":"transposed!CI3","v":103},{"$f":"transposed!CK3","v":109},{"$f":"transposed!CM3","v":104},{"$f":"transposed!CO3","v":115},{"$f":"transposed!CQ3","v":97},{"$f":"transposed!CS3","v":106},{"$f":"transposed!CU3","v":106},{"$f":"transposed!CW3","v":103},105.1,{"$f":"transposed!CY3","v":122},{"$f":"transposed!DA3","v":106},{"$f":"transposed!DC3","v":113},{"$f":"transposed!DE3","v":115},{"$f":"transposed!DG3","v":117},{"$f":"transposed!DI3","v":114},{"$f":"transposed!DK3","v":104},{"$f":"transposed!DM3","v":114},{"$f":"transposed!DO3","v":111},{"$f":"transposed!DQ3","v":111},112.7,{"$f":"transposed!DR3","v":"F"},{"$f":"transposed!DS3","v":21},{"$f":"transposed!DT3","v":"T"},"RK101"]
["RT101",{"$f":"transposed!B54","v":37.385},{"$f":"transposed!D54","v":32.816},{"$f":"transposed!F54","v":26.56},{"$f":"transposed!H54","v":24.913},{"$f":"transposed!J54","v":22.423},{"$f":"transposed!L54","v":19.608},{"$f":"transposed!N54","v":18.457},{"$f":"transposed!P54","v":18.368},{"$f":"transposed!R54","v":16.681},{"$f":"transposed!T54","v":16.92},23.413099999999996,{"$f":"transposed!V54","v":19.504},{"$f":"transposed!X54","v":18.264},{"$f":"transposed!Z54","v":17.288},{"$f":"transposed!AB54","v":17.137},{"$f":"transposed!AD54","v":16.944},{"$f":"transposed!AF54","v":17.025},{"$f":"transposed!AH54","v":18.098},{"$f":"transposed!AJ54","v":18.291},{"$f":"transposed!AL54","v":18.424},{"$f":"transposed!AN54","v":16.284},17.725900000000003,{"$f":"transposed!C54","v":42.921},{"$f":"transposed!E54","v":38.298},{"$f":"transposed!G54","v":33.657},{"$f":"transposed!I54","v":33.633},{"$f":"transposed!K54","v":32.168},{"$f":"transposed!M54","v":33.145},{"$f":"transposed!O54","v":30.736},{"$f":"transposed!Q54","v":35.577},{"$f":"transposed!S54","v":31.896},{"$f":"transposed!U54","v":29.608},34.1639,{"$f":"transposed!W54","v":28.64},{"$f":"transposed!Y54","v":32.985},{"$f":"transposed!AA54","v":30.292},{"$f":"transposed!AC54","v":28.249},{"$f":"transposed!AE54","v":29.656},{"$f":"transposed!AG54","v":30.888},{"$f":"transposed!AI54","v":35.168},{"$f":"transposed!AK54","v":31.648},{"$f":"transposed!AM54","v":30.609},{"$f":"transposed!AO54","v":30.696},30.883100000000002,{"$f":"transposed!AP54","v":0},{"$f":"transposed!AR54","v":0},{"$f":"transposed!AT54","v":0},{"$f":"transposed!AV54","v":0},{"$f":"transposed!AX54","v":0},{"$f":"transposed!AZ54","v":0},{"$f":"transposed!BB54","v":0},{"$f":"transposed!BD54","v":0},{"$f":"transposed!BF54","v":0},{"$f":"transposed!BH54","v":0},0,{"$f":"transposed!BJ54","v":0},{"$f":"transposed!BL54","v":0},{"$f":"transposed!BN54","v":0},{"$f":"transposed!BP54","v":0},{"$f":"transposed!BR54","v":0},{"$f":"transposed!BT54","v":0},{"$f":"transposed!BV54","v":0},{"$f":"transposed!BX54","v":0},{"$f":"transposed!BZ54","v":0},{"$f":"transposed!CB54","v":0},0,{"$f":"transposed!AQ54","v":0},{"$f":"transposed!AS54","v":0},{"$f":"transposed!AU54","v":0},{"$f":"transposed!AW54","v":0},{"$f":"transposed!AY54","v":0},{"$f":"transposed!BA54","v":0},{"$f":"transposed!BC54","v":0},{"$f":"transposed!BE54","v":0},{"$f":"transposed!BG54","v":0},{"$f":"transposed!BI54","v":0},0,{"$f":"transposed!BK54","v":0},{"$f":"transposed!BM54","v":0},{"$f":"transposed!BO54","v":0},{"$f":"transposed!BQ54","v":0},{"$f":"transposed!BS54","v":0},{"$f":"transposed!BU54","v":0},{"$f":"transposed!BW54","v":2.5},{"$f":"transposed!BY54","v":0},{"$f":"transposed!CA54","v":0},{"$f":"transposed!CC54","v":0},0.25,{"$f":"transposed!CD54","v":83},{"$f":"transposed!CF54","v":83},{"$f":"transposed!CH54","v":85},{"$f":"transposed!CJ54","v":84},{"$f":"transposed!CL54","v":80},{"$f":"transposed!CN54","v":86},{"$f":"transposed!CP54","v":79},{"$f":"transposed!CR54","v":90},{"$f":"transposed!CT54","v":88},{"$f":"transposed!CV54","v":77},83.5,{"$f":"transposed!CX54","v":75},{"$f":"transposed!CZ54","v":91},{"$f":"transposed!DB54","v":88},{"$f":"transposed!DD54","v":96},{"$f":"transposed!DF54","v":92},{"$f":"transposed!DH54","v":93},{"$f":"transposed!DJ54","v":88},{"$f":"transposed!DL54","v":89},{"$f":"transposed!DN54","v":89},{"$f":"transposed!DP54","v":89},89,{"$f":"transposed!CE54","v":84},{"$f":"transposed!CG54","v":81},{"$f":"transposed!CI54","v":87},{"$f":"transposed!CK54","v":88},{"$f":"transposed!CM54","v":95},{"$f":"transposed!CO54","v":87},{"$f":"transposed!CQ54","v":86},{"$f":"transposed!CS54","v":87},{"$f":"transposed!CU54","v":82},{"$f":"transposed!CW54","v":82},85.9,{"$f":"transposed!CY54","v":98},{"$f":"transposed!DA54","v":89},{"$f":"transposed!DC54","v":95},{"$f":"transposed!DE54","v":97},{"$f":"transposed!DG54","v":99},{"$f":"transposed!DI54","v":93},{"$f":"transposed!DK54","v":85},{"$f":"transposed!DM54","v":97},{"$f":"transposed!DO54","v":93},{"$f":"transposed!DQ54","v":87},93.3,{"$f":"transposed!DR54","v":"F"},{"$f":"transposed!DS54","v":23},{"$f":"transposed!DT54","v":"F"},"RT101"]
["SAV101",{"$f":"transposed!B64","v":13.922},{"$f":"transposed!D64","v":15.757},{"$f":"transposed!F64","v":15.898},{"$f":"transposed!H64","v":15.357},{"$f":"transposed!J64","v":14.052},{"$f":"transposed!L64","v":13.827},{"$f":"transposed!N64","v":15.305},{"$f":"transposed!P64","v":14.961},{"$f":"transposed!R64","v":15.814},{"$f":"transposed!T64","v":15.147},{"$f":"AVERAGE(B66:K66)","v":15.004},{"$f":"transposed!V64","v":13.321},{"$f":"transposed!X64","v":12.732},{"$f":"transposed!Z64","v":14.94},{"$f":"transposed!AB64","v":12.498},{"$f":"transposed!AD64","v":12.103},{"$f":"transposed!AF64","v":11.768},{"$f":"transposed!AH64","v":12.119},{"$f":"transposed!AJ64","v":12.069},{"$f":"transposed!AL64","v":12.852},{"$f":"transposed!AN64","v":12.083},{"$f":"AVERAGE(M66:V66)","v":12.6485},{"$f":"transposed!C64","v":28.39},{"$f":"transposed!E64","v":28.992},{"$f":"transposed!G64","v":30.211},{"$f":"transposed!I64","v":27.625},{"$f":"transposed!K64","v":26.654},{"$f":"transposed!M64","v":33.254},{"$f":"transposed!O64","v":30.574},{"$f":"transposed!Q64","v":29.948},{"$f":"transposed!S64","v":31.166},{"$f":"transposed!U64","v":30.393},{"$f":"AVERAGE(X66:AG66)","v":29.7207},{"$f":"transposed!W64","v":24.669},{"$f":"transposed!Y64","v":29.53},{"$f":"transposed!AA64","v":24.447},{"$f":"transposed!AC64","v":27.706},{"$f":"transposed!AE64","v":28.427},{"$f":"transposed!AG64","v":27.859},{"$f":"transposed!AI64","v":30.016},{"$f":"transposed!AK64","v":34.955},{"$f":"transposed!AM64","v":25.566},{"$f":"transposed!AO64","v":33.483},{"$f":"AVERAGE(AI66:AR66)","v":28.665799999999997},{"$f":"transposed!AP64","v":0},{"$f":"transposed!AR64","v":0},{"$f":"transposed!AT64","v":5},{"$f":"transposed!AV64","v":0},{"$f":"transposed!AX64","v":0},{"$f":"transposed!AZ64","v":0},{"$f":"transposed!BB64","v":2.5},{"$f":"transposed!BD64","v":0},{"$f":"transposed!BF64","v":0},{"$f":"transposed!BH64","v":0},0.75,{"$f":"transposed!BJ64","v":0},{"$f":"transposed!BL64","v":0},{"$f":"transposed!BN64","v":2.5},{"$f":"transposed!BP64","v":0},{"$f":"transposed!BR64","v":0},{"$f":"transposed!BT64","v":0},{"$f":"transposed!BV64","v":0},{"$f":"transposed!BX64","v":0},{"$f":"transposed!BZ64","v":0},{"$f":"transposed!CB64","v":0},0.25,{"$f":"transposed!AQ64","v":2.5},{"$f":"transposed!AS64","v":0},{"$f":"transposed!AU64","v":5},{"$f":"transposed!AW64","v":0},{"$f":"transposed!AY64","v":0},{"$f":"transposed!BA64","v":5},{"$f":"transposed!BC64","v":0},{"$f":"transposed!BE64","v":2.5},{"$f":"transposed!BG64","v":7.5},{"$f":"transposed!BI64","v":2.5},2.5,{"$f":"transposed!BK64","v":0},{"$f":"transposed!BM64","v":5},{"$f":"transposed!BO64","v":0},{"$f":"transposed!BQ64","v":0},{"$f":"transposed!BS64","v":0},{"$f":"transposed!BU64","v":0},{"$f":"transposed!BW64","v":0},{"$f":"transposed!BY64","v":2.5},{"$f":"transposed!CA64","v":0},{"$f":"transposed!CC64","v":2.5},1,{"$f":"transposed!CD64","v":69},{"$f":"transposed!CF64","v":56},{"$f":"transposed!CH64","v":65},{"$f":"transposed!CJ64","v":78},{"$f":"transposed!CL64","v":83},{"$f":"transposed!CN64","v":67},{"$f":"transposed!CP64","v":85},{"$f":"transposed!CR64","v":79},{"$f":"transposed!CT64","v":71},{"$f":"transposed!CV64","v":77},{"$f":"AVERAGE(CL66:CU66)","v":73},{"$f":"transposed!CX64","v":91},{"$f":"transposed!CZ64","v":91},{"$f":"transposed!DB64","v":91},{"$f":"transposed!DD64","v":88},{"$f":"transposed!DF64","v":98},{"$f":"transposed!DH64","v":89},{"$f":"transposed!DJ64","v":96},{"$f":"transposed!DL64","v":92},{"$f":"transposed!DN64","v":91},{"$f":"transposed!DP64","v":88},{"$f":"AVERAGE(CW66:DF66)","v":91.5},{"$f":"transposed!CE64","v":76},{"$f":"transposed!CG64","v":78},{"$f":"transposed!CI64","v":82},{"$f":"transposed!CK64","v":76},{"$f":"transposed!CM64","v":71},{"$f":"transposed!CO64","v":67},{"$f":"transposed!CQ64","v":80},{"$f":"transposed!CS64","v":74},{"$f":"transposed!CU64","v":73},{"$f":"transposed!CW64","v":78},{"$f":"AVERAGE(DH66:DQ66)","v":75.5},{"$f":"transposed!CY64","v":95},{"$f":"transposed!DA64","v":88},{"$f":"transposed!DC64","v":93},{"$f":"transposed!DE64","v":91},{"$f":"transposed!DG64","v":91},{"$f":"transposed!DI64","v":93},{"$f":"transposed!DK64","v":94},{"$f":"transposed!DM64","v":92},{"$f":"transposed!DO64","v":87},{"$f":"transposed!DQ64","v":86},{"$f":"AVERAGE(DS66:EB66)","v":91},{"$f":"transposed!DR64","v":"M"},{"$f":"transposed!DS64","v":20},{"$f":"transposed!DT64","v":"F"},"SAV101"]
["SGJ101",{"$f":"transposed!B74","v":13.592},{"$f":"transposed!D74","v":13.634},{"$f":"transposed!F74","v":13.392},{"$f":"transposed!H74","v":12.583},{"$f":"transposed!J74","v":11.99},{"$f":"transposed!L74","v":14.216},{"$f":"transposed!N74","v":11.728},{"$f":"transposed!P74","v":12.68},{"$f":"transposed!R74","v":13.248},{"$f":"transposed!T74","v":12.288},12.935099999999997,{"$f":"transposed!V74","v":11.193},{"$f":"transposed!X74","v":11.704},{"$f":"transposed!Z74","v":12.072},{"$f":"transposed!AB74","v":12.057},{"$f":"transposed!AD74","v":11.282},{"$f":"transposed!AF74","v":11.616},{"$f":"transposed!AH74","v":11.015},{"$f":"transposed!AJ74","v":12.256},{"$f":"transposed!AL74","v":10.762},{"$f":"transposed!AN74","v":11.096},11.5053,{"$f":"transposed!C74","v":24.571},{"$f":"transposed!E74","v":25.264},{"$f":"transposed!G74","v":25.079},{"$f":"transposed!I74","v":26.792},{"$f":"transposed!K74","v":24.98},{"$f":"transposed!M74","v":26.487},{"$f":"transposed!O74","v":24.632},{"$f":"transposed!Q74","v":27.463},{"$f":"transposed!S74","v":28.465},{"$f":"transposed!U74","v":26.715},26.0448,{"$f":"transposed!W74","v":23.199},{"$f":"transposed!Y74","v":24.642},{"$f":"transposed!AA74","v":28.921},{"$f":"transposed!AC74","v":25.007},{"$f":"transposed!AE74","v":24.537},{"$f":"transposed!AG74","v":27.704},{"$f":"transposed!AI74","v":25.848},{"$f":"transposed!AK74","v":23.27},{"$f":"transposed!AM74","v":24.782},{"$f":"transposed!AO74","v":23.009},25.091900000000003,{"$f":"transposed!AP74","v":0},{"$f":"transposed!AR74","v":0},{"$f":"transposed!AT74","v":0},{"$f":"transposed!AV74","v":0},{"$f":"transposed!AX74","v":0},{"$f":"transposed!AZ74","v":5},{"$f":"transposed!BB74","v":0},{"$f":"transposed!BD74","v":0},{"$f":"transposed!BF74","v":2.5},{"$f":"transposed!BH74","v":0},{"$f":"AVERAGE(AT67:BC67)","v":0.75},{"$f":"transposed!BJ74","v":0},{"$f":"transposed!BL74","v":0},{"$f":"transposed!BN74","v":0},{"$f":"transposed!BP74","v":0},{"$f":"transposed!BR74","v":0},{"$f":"transposed!BT74","v":0},{"$f":"transposed!BV74","v":0},{"$f":"transposed!BX74","v":0},{"$f":"transposed!BZ74","v":0},{"$f":"transposed!CB74","v":0},{"$f":"AVERAGE(BE67:BN67)","v":0},{"$f":"transposed!AQ74","v":2.5},{"$f":"transposed!AS74","v":2.5},{"$f":"transposed!AU74","v":2.5},{"$f":"transposed!AW74","v":2.5},{"$f":"transposed!AY74","v":0},{"$f":"transposed!BA74","v":5},{"$f":"transposed!BC74","v":0},{"$f":"transposed!BE74","v":0},{"$f":"transposed!BG74","v":2.5},{"$f":"transposed!BI74","v":0},{"$f":"AVERAGE(BP67:BY67)","v":1.75},{"$f":"transposed!BK74","v":0},{"$f":"transposed!BM74","v":2.5},{"$f":"transposed!BO74","v":2.5},{"$f":"transposed!BQ74","v":0},{"$f":"transposed!BS74","v":0},{"$f":"transposed!BU74","v":2.5},{"$f":"transposed!BW74","v":5},{"$f":"transposed!BY74","v":0},{"$f":"transposed!CA74","v":0},{"$f":"transposed!CC74","v":0},{"$f":"AVERAGE(CA67:CJ67)","v":1.25},{"$f":"transposed!CD74","v":85},{"$f":"transposed!CF74","v":100},{"$f":"transposed!CH74","v":90},{"$f":"transposed!CJ74","v":100},{"$f":"transposed!CL74","v":100},{"$f":"transposed!CN74","v":92},{"$f":"transposed!CP74","v":95},{"$f":"transposed!CR74","v":94},{"$f":"transposed!CT74","v":94},{"$f":"transposed!CV74","v":96},94.6,{"$f":"transposed!CX74","v":93},{"$f":"transposed!CZ74","v":100},{"$f":"transposed!DB74","v":105},{"$f":"transposed!DD74","v":93},{"$f":"transposed!DF74","v":96},{"$f":"transposed!DH74","v":94},{"$f":"transposed!DJ74","v":88},{"$f":"transposed!DL74","v":92},{"$f":"transposed!DN74","v":86},{"$f":"transposed!DP74","v":91},93.8,{"$f":"transposed!CE74","v":105},{"$f":"transposed!CG74","v":97},{"$f":"transposed!CI74","v":103},{"$f":"transposed!CK74","v":96},{"$f":"transposed!CM74","v":91},{"$f":"transposed!CO74","v":90},{"$f":"transposed!CQ74","v":94},{"$f":"transposed!CS74","v":86},{"$f":"transposed!CU74","v":88},{"$f":"transposed!CW74","v":80},93,{"$f":"transposed!CY74","v":101},{"$f":"transposed!DA74","v":96},{"$f":"transposed!DC74","v":94},{"$f":"transposed!DE74","v":95},{"$f":"transposed!DG74","v":96},{"$f":"transposed!DI74","v":96},{"$f":"transposed!DK74","v":94},{"$f":"transposed!DM74","v":93},{"$f":"transposed!DO74","v":94},{"$f":"transposed!DQ74","v":97},95.6,{"$f":"transposed!DR74","v":"F"},{"$f":"transposed!DS74","v":26},{"$f":"transposed!DT74","v":"F"},"SGJ101"]
["SK101",{"$f":"transposed!B63","v":21.709},{"$f":"transposed!D63","v":22.672},{"$f":"transposed!F63","v":21.572},{"$f":"transposed!H63","v":20.864},{"$f":"transposed!J63","v":18.347},{"$f":"transposed!L63","v":17.071},{"$f":"transposed!N63","v":19.066},{"$f":"transposed!P63","v":17.312},{"$f":"transposed!R63","v":24.487},{"$f":"transposed!T63","v":15.415},19.8515,{"$f":"transposed!V63","v":17.998},{"$f":"transposed!X63","v":19.832},{"$f":"transposed!Z63","v":15.779},{"$f":"transposed!AB63","v":13.665},{"$f":"transposed!AD63","v":15.158},{"$f":"transposed!AF63","v":14.323},{"$f":"transposed!AH63","v":15.09},{"$f":"transposed!AJ63","v":15.76},{"$f":"transposed!AL63","v":14.072},{"$f":"transposed!AN63","v":13.35},15.502699999999999,{"$f":"transposed!C63","v":44.157},{"$f":"transposed!E63","v":42.575},{"$f":"transposed!G63","v":41.171},{"$f":"transposed!I63","v":49.861},{"$f":"transposed!K63","v":41.941},{"$f":"transposed!M63","v":43.63},{"$f":"transposed!O63","v":44.996},{"$f":"transposed!Q63","v":74.558},{"$f":"transposed!S63","v":45.873},{"$f":"transposed!U63","v":44.016},47.2778,{"$f":"transposed!W63","v":45.467},{"$f":"transposed!Y63","v":40.256},{"$f":"transposed!AA63","v":35.059},{"$f":"transposed!AC63","v":38.485},{"$f":"transposed!AE63","v":37.731},{"$f":"transposed!AG63","v":47.889},{"$f":"transposed!AI63","v":35.639},{"$f":"transposed!AK63","v":38.875},{"$f":"transposed!AM63","v":38.381},{"$f":"transposed!AO63","v":35.879},39.3661,{"$f":"transposed!AP63","v":0},{"$f":"transposed!AR63","v":0},{"$f":"transposed!AT63","v":0},{"$f":"transposed!AV63","v":0},{"$f":"transposed!AX63","v":0},{"$f":"transposed!AZ63","v":0},{"$f":"transposed!BB63","v":5},{"$f":"transposed!BD63","v":0},{"$f":"transposed!BF63","v":10},{"$f":"transposed!BH63","v":0},1.5,{"$f":"transposed!BJ63","v":5},{"$f":"transposed!BL63","v":5},{"$f":"transposed!BN63","v":0},{"$f":"transposed!BP63","v":0},{"$f":"transposed!BR63","v":0},{"$f":"transposed!BT63","v":2.5},{"$f":"transposed!BV63","v":0},{"$f":"transposed!BX63","v":5},{"$f":"transposed!BZ63","v":2.5},{"$f":"transposed!CB63","v":2.5},2.25,{"$f":"transposed!AQ63","v":5},{"$f":"transposed!AS63","v":0},{"$f":"transposed!AU63","v":2.5},{"$f":"transposed!AW63","v":7.5},{"$f":"transposed!AY63","v":0},{"$f":"transposed!BA63","v":7.5},{"$f":"transposed!BC63","v":0},{"$f":"transposed!BE63","v":10},{"$f":"transposed!BG63","v":10},{"$f":"transposed!BI63","v":0},4.25,{"$f":"transposed!BK63","v":7.5},{"$f":"transposed!BM63","v":5},{"$f":"transposed!BO63","v":0},{"$f":"transposed!BQ63","v":5},{"$f":"transposed!BS63","v":10},{"$f":"transposed!BU63","v":17.5},{"$f":"transposed!BW63","v":5},{"$f":"transposed!BY63","v":5},{"$f":"transposed!CA63","v":10},{"$f":"transposed!CC63","v":5},7,{"$f":"transposed!CD63","v":82},{"$f":"transposed!CF63","v":76},{"$f":"transposed!CH63","v":79},{"$f":"transposed!CJ63","v":92},{"$f":"transposed!CL63","v":92},{"$f":"transposed!CN63","v":77},{"$f":"transposed!CP63","v":94},{"$f":"transposed!CR63","v":88},{"$f":"transposed!CT63","v":90},{"$f":"transposed!CV63","v":81},85.1,{"$f":"transposed!CX63","v":113},{"$f":"transposed!CZ63","v":116},{"$f":"transposed!DB63","v":109},{"$f":"transposed!DD63","v":116},{"$f":"transposed!DF63","v":109},{"$f":"transposed!DH63","v":115},{"$f":"transposed!DJ63","v":112},{"$f":"transposed!DL63","v":117},{"$f":"transposed!DN63","v":112},{"$f":"transposed!DP63","v":105},112.4,{"$f":"transposed!CE63","v":79},{"$f":"transposed!CG63","v":81},{"$f":"transposed!CI63","v":77},{"$f":"transposed!CK63","v":82},{"$f":"transposed!CM63","v":78},{"$f":"transposed!CO63","v":80},{"$f":"transposed!CQ63","v":98},{"$f":"transposed!CS63","v":83},{"$f":"transposed!CU63","v":85},{"$f":"transposed!CW63","v":84},82.7,{"$f":"transposed!CY63","v":111},{"$f":"transposed!DA63","v":106},{"$f":"transposed!DC63","v":111},{"$f":"transposed!DE63","v":106},{"$f":"transposed!DG63","v":111},{"$f":"transposed!DI63","v":111},{"$f":"transposed!DK63","v":114},{"$f":"transposed!DM63","v":102},{"$f":"transposed!DO63","v":104},{"$f":"transposed!DQ63","v":103},107.9,{"$f":"transposed!DR63","v":"M"},{"$f":"transposed!DS63","v":23},{"$f":"transposed!DT63","v":"F"},"SK101"]
["SN101",{"$f":"transposed!B7","v":20.239},{"$f":"transposed!D7","v":16.248},{"$f":"transposed!F7","v":19.088},{"$f":"transposed!H7","v":18.76},{"$f":"transposed!J7","v":21.183},{"$f":"transposed!L7","v":17.984},{"$f":"transposed!N7","v":18.656},{"$f":"transposed!P7","v":17.424},{"$f":"transposed!R7","v":19.552},{"$f":"transposed!T7","v":20.744},18.9878,{"$f":"transposed!V7","v":17.095},{"$f":"transposed!X7","v":18.248},{"$f":"transposed!Z7","v":19.383},{"$f":"transposed!AB7","v":18.903},{"$f":"transposed!AD7","v":19.04},{"$f":"transposed!AF7","v":18.823},{"$f":"transposed!AH7","v":22.263},{"$f":"transposed!AJ7","v":21.983},{"$f":"transposed!AL7","v":19.303},{"$f":"transposed!AN7","v":22.863},19.790399999999998,{"$f":"transposed!C7","v":39.871},{"$f":"transposed!E7","v":36.631},{"$f":"transposed!G7","v":33.247},{"$f":"transposed!I7","v":36.647},{"$f":"transposed!K7","v":37.959},{"$f":"transposed!M7","v":43.015},{"$f":"transposed!O7","v":38.079},{"$f":"transposed!Q7","v":38.711},{"$f":"transposed!S7","v":43.407},{"$f":"transposed!U7","v":41.295},38.8862,{"$f":"transposed!W7","v":34.535},{"$f":"transposed!Y7","v":32.607},{"$f":"transposed!AA7","v":37.023},{"$f":"transposed!AC7","v":39.67},{"$f":"transposed!AE7","v":36.607},{"$f":"transposed!AG7","v":45.447},{"$f":"transposed!AI7","v":47.551},{"$f":"transposed!AK7","v":43.662},{"$f":"transposed!AM7","v":46.271},{"$f":"transposed!AO7","v":48.247},41.162,{"$f":"transposed!AP7","v":0},{"$f":"transposed!AR7","v":0},{"$f":"transposed!AT7","v":0},{"$f":"transposed!AV7","v":0},{"$f":"transposed!AX7","v":2.5},{"$f":"transposed!AZ7","v":0},{"$f":"transposed!BB7","v":0},{"$f":"transposed!BD7","v":0},{"$f":"transposed!BF7","v":0},{"$f":"transposed!BH7","v":0},0.25,{"$f":"transposed!BJ7","v":0},{"$f":"transposed!BL7","v":0},{"$f":"transposed!BN7","v":0},{"$f":"transposed!BP7","v":0},{"$f":"transposed!BR7","v":0},{"$f":"transposed!BT7","v":0},{"$f":"transposed!BV7","v":0},{"$f":"transposed!BX7","v":0},{"$f":"transposed!BZ7","v":0},{"$f":"transposed!CB7","v":0},0,{"$f":"transposed!AQ7","v":2.5},{"$f":"transposed!AS7","v":0},{"$f":"transposed!AU7","v":0},{"$f":"transposed!AW7","v":2.5},{"$f":"transposed!AY7","v":0},{"$f":"transposed!BA7","v":5},{"$f":"transposed!BC7","v":0},{"$f":"transposed!BE7","v":0},{"$f":"transposed!BG7","v":0},{"$f":"transposed!BI7","v":0},1,{"$f":"transposed!BK7","v":5},{"$f":"transposed!BM7","v":2.5},{"$f":"transposed!BO7","v":0},{"$f":"transposed!BQ7","v":0},{"$f":"transposed!BS7","v":0},{"$f":"transposed!BU7","v":2.5},{"$f":"transposed!BW7","v":2.5},{"$f":"transposed!BY7","v":2.5},{"$f":"transposed!CA7","v":0},{"$f":"transposed!CC7","v":0},1.5,{"$f":"transposed!CD7","v":128},{"$f":"transposed!CF7","v":104},{"$f":"transposed!CH7","v":108},{"$f":"transposed!CJ7","v":118},{"$f":"transposed!CL7","v":108},{"$f":"transposed!CN7","v":107},{"$f":"transposed!CP7","v":111},{"$f":"transposed!CR7","v":123},{"$f":"transposed!CT7","v":114},{"$f":"transposed!CV7","v":112},113.3,{"$f":"transposed!CX7","v":132},{"$f":"transposed!CZ7","v":128},{"$f":"transposed!DB7","v":128},{"$f":"transposed!DD7","v":124},{"$f":"transposed!DF7","v":119},{"$f":"transposed!DH7","v":114},{"$f":"transposed!DJ7","v":104},{"$f":"transposed!DL7","v":102},{"$f":"transposed!DN7","v":108},{"$f":"transposed!DP7","v":94},115.3,{"$f":"transposed!CE7","v":113},{"$f":"transposed!CG7","v":115},{"$f":"transposed!CI7","v":115},{"$f":"transposed!CK7","v":123},{"$f":"transposed!CM7","v":104},{"$f":"transposed!CO7","v":110},{"$f":"transposed!CQ7","v":110},{"$f":"transposed!CS7","v":112},{"$f":"transposed!CU7","v":106},{"$f":"transposed!CW7","v":110},111.8,{"$f":"transposed!CY7","v":132},{"$f":"transposed!DA7","v":127},{"$f":"transposed!DC7","v":125},{"$f":"transposed!DE7","v":118},{"$f":"transposed!DG7","v":109},{"$f":"transposed!DI7","v":106},{"$f":"transposed!DK7","v":106},{"$f":"transposed!DM7","v":109},{"$f":"transposed!DO7","v":102},{"$f":"transposed!DQ7","v":104},113.8,{"$f":"transposed!DR7","v":"F"},{"$f":"transposed!DS7","v":20},{"$f":"transposed!DT7","v":"T"},"SN101"]
["SR101",{"$f":"transposed!B43","v":15.832},{"$f":"transposed!D43","v":17.296},{"$f":"transposed!F43","v":14.736},{"$f":"transposed!H43","v":14.736},{"$f":"transposed!J43","v":13.72},{"$f":"transposed!L43","v":13.72},{"$f":"transposed!N43","v":14.646},{"$f":"transposed!P43","v":13.648},{"$f":"transposed!R43","v":13.267},{"$f":"transposed!T43","v":14.273},14.587399999999999,{"$f":"transposed!V43","v":14.713},{"$f":"transposed!X43","v":14.52},{"$f":"transposed!Z43","v":13.528},{"$f":"transposed!AB43","v":12.864},{"$f":"transposed!AD43","v":13.266},{"$f":"transposed!AF43","v":12.912},{"$f":"transposed!AH43","v":12.472},{"$f":"transposed!AJ43","v":11.889},{"$f":"transposed!AL43","v":13.104},{"$f":"transposed!AN43","v":12.032},13.13,{"$f":"transposed!C43","v":30.488},{"$f":"transposed!E43","v":26.513},{"$f":"transposed!G43","v":28.017},{"$f":"transposed!I43","v":28.688},{"$f":"transposed!K43","v":29.44},{"$f":"transposed!M43","v":26.669},{"$f":"transposed!O43","v":24.605},{"$f":"transposed!Q43","v":23.928},{"$f":"transposed!S43","v":26.001},{"$f":"transposed!U43","v":22.688},26.703700000000005,{"$f":"transposed!W43","v":22.68},{"$f":"transposed!Y43","v":24.006},{"$f":"transposed!AA43","v":24.064},{"$f":"transposed!AC43","v":22.593},{"$f":"transposed!AE43","v":23.704},{"$f":"transposed!AG43","v":21.2},{"$f":"transposed!AI43","v":25.305},{"$f":"transposed!AK43","v":22.688},{"$f":"transposed!AM43","v":23.505},{"$f":"transposed!AO43","v":22.912},23.2657,{"$f":"transposed!AP43","v":0},{"$f":"transposed!AR43","v":0},{"$f":"transposed!AT43","v":0},{"$f":"transposed!AV43","v":0},{"$f":"transposed!AX43","v":0},{"$f":"transposed!AZ43","v":0},{"$f":"transposed!BB43","v":0},{"$f":"transposed!BD43","v":0},{"$f":"transposed!BF43","v":0},{"$f":"transposed!BH43","v":0},0,{"$f":"transposed!BJ43","v":0},{"$f":"transposed!BL43","v":0},{"$f":"transposed!BN43","v":0},{"$f":"transposed!BP43","v":0},{"$f":"transposed!BR43","v":0},{"$f":"transposed!BT43","v":0},{"$f":"transposed!BV43","v":0},{"$f":"transposed!BX43","v":0},{"$f":"transposed!BZ43","v":0},{"$f":"transposed!CB43","v":0},0,{"$f":"transposed!AQ43","v":5},{"$f":"transposed!AS43","v":0},{"$f":"transposed!AU43","v":0},{"$f":"transposed!AW43","v":5},{"$f":"transposed!AY43","v":2.5},{"$f":"transposed!BA43","v":0},{"$f":"transposed!BC43","v":0},{"$f":"transposed!BE43","v":0},{"$f":"transposed!BG43","v":2.5},{"$f":"transposed!BI43","v":0},1.5,{"$f":"transposed!BK43","v":2.5},{"$f":"transposed!BM43","v":0},{"$f":"transposed!BO43","v":2.5},{"$f":"transposed!BQ43","v":0},{"$f":"transposed!BS43","v":0},{"$f":"transposed!BU43","v":0},{"$f":"transposed!BW43","v":2.5},{"$f":"transposed!BY43","v":2.5},{"$f":"transposed!CA43","v":2.5},{"$f":"transposed!CC43","v":0},1.25,{"$f":"transposed!CD43","v":0},{"$f":"transposed!CF43","v":0},{"$f":"transposed!CH43","v":0},{"$f":"transposed!CJ43","v":0},{"$f":"transposed!CL43","v":0},{"$f":"transposed!CN43","v":0},{"$f":"transposed!CP43","v":0},{"$f":"transposed!CR43","v":0},{"$f":"transposed!CT43","v":0},{"$f":"transposed!CV43","v":0},0,{"$f":"transposed!CX43","v":0},{"$f":"transposed!CZ43","v":0},{"$f":"transposed!DB43","v":0},{"$f":"transposed!DD43","v":0},{"$f":"transposed!DF43","v":0},{"$f":"transposed!DH43","v":0},{"$f":"transposed!DJ43","v":0},{"$f":"transposed!DL43","v":0},{"$f":"transposed!DN43","v":0},{"$f":"transposed!DP43","v":0},0,{"$f":"transposed!CE43","v":0},{"$f":"transposed!CG43","v":0},{"$f":"transposed!CI43","v":0},{"$f":"transposed!CK43","v":0},{"$f":"transposed!CM43","v":0},{"$f":"transposed!CO43","v":0},{"$f":"transposed!CQ43","v":0},{"$f":"transposed!CS43","v":0},{"$f":"transposed!CU43","v":0},{"$f":"transposed!CW43","v":0},0,{"$f":"transposed!CY43","v":0},{"$f":"transposed!DA43","v":0},{"$f":"transposed!DC43","v":0},{"$f":"transposed!DE43","v":0},{"$f":"transposed!DG43","v":0},{"$f":"transposed!DI43","v":0},{"$f":"transposed!DK43","v":0},{"$f":"transposed!DM43","v":0},{"$f":"transposed!DO43","v":0},{"$f":"transposed!DQ43","v":0},0,{"$f":"transposed!DR43","v":"F"},{"$f":"transposed!DS43","v":23},{"$f":"transposed!DT43","v":"F"},"SR101"]
["TN101",{"$f":"transposed!B10","v":17.016},{"$f":"transposed!D10","v":19.607},{"$f":"transposed!F10","v":19.759},{"$f":"transposed!H10","v":18.023},{"$f":"transposed!J10","v":17.663},{"$f":"transposed!L10","v":17.703},{"$f":"transposed!N10","v":17.519},{"$f":"transposed!P10","v":18.223},{"$f":"transposed!R10","v":17.952},{"$f":"transposed!T10","v":17.784},18.124899999999997,{"$f":"transposed!V10","v":17.583},{"$f":"transposed!X10","v":18.055},{"$f":"transposed!Z10","v":17.288},{"$f":"transposed!AB10","v":18.335},{"$f":"transposed!AD10","v":17.447},{"$f":"transposed!AF10","v":17.142},{"$f":"transposed!AH10","v":16.824},{"$f":"transposed!AJ10","v":16.408},{"$f":"transposed!AL10","v":18.376},{"$f":"transposed!AN10","v":16.791},17.4249,{"$f":"transposed!C10","v":34.471},{"$f":"transposed!E10","v":38.003},{"$f":"transposed!G10","v":36.143},{"$f":"transposed!I10","v":31.703},{"$f":"transposed!K10","v":35.615},{"$f":"transposed!M10","v":33.831},{"$f":"transposed!O10","v":34.663},{"$f":"transposed!Q10","v":30.215},{"$f":"transposed!S10","v":33.159},{"$f":"transposed!U10","v":30.447},33.825,{"$f":"transposed!W10","v":30.791},{"$f":"transposed!Y10","v":35.86},{"$f":"transposed!AA10","v":32.255},{"$f":"transposed!AC10","v":30.407},{"$f":"transposed!AE10","v":29.279},{"$f":"transposed!AG10","v":28.415},{"$f":"transposed!AI10","v":31.896},{"$f":"transposed!AK10","v":27.512},{"$f":"transposed!AM10","v":29.679},{"$f":"transposed!AO10","v":32.311},30.8405,{"$f":"transposed!AP10","v":0},{"$f":"transposed!AR10","v":0},{"$f":"transposed!AT10","v":0},{"$f":"transposed!AV10","v":0},{"$f":"transposed!AX10","v":0},{"$f":"transposed!AZ10","v":0},{"$f":"transposed!BB10","v":0},{"$f":"transposed!BD10","v":0},{"$f":"transposed!BF10","v":0},{"$f":"transposed!BH10","v":0},0,{"$f":"transposed!BJ10","v":0},{"$f":"transposed!BL10","v":0},{"$f":"transposed!BN10","v":0},{"$f":"transposed!BP10","v":0},{"$f":"transposed!BR10","v":0},{"$f":"transposed!BT10","v":0},{"$f":"transposed!BV10","v":0},{"$f":"transposed!BX10","v":0},{"$f":"transposed!BZ10","v":0},{"$f":"transposed!CB10","v":0},0,{"$f":"transposed!AQ10","v":5},{"$f":"transposed!AS10","v":5},{"$f":"transposed!AU10","v":5},{"$f":"transposed!AW10","v":2.5},{"$f":"transposed!AY10","v":5},{"$f":"transposed!BA10","v":5},{"$f":"transposed!BC10","v":2.5},{"$f":"transposed!BE10","v":0},{"$f":"transposed!BG10","v":0},{"$f":"transposed!BI10","v":0},3,{"$f":"transposed!BK10","v":0},{"$f":"transposed!BM10","v":10},{"$f":"transposed!BO10","v":2.5},{"$f":"transposed!BQ10","v":0},{"$f":"transposed!BS10","v":0},{"$f":"transposed!BU10","v":0},{"$f":"transposed!BW10","v":0},{"$f":"transposed!BY10","v":0},{"$f":"transposed!CA10","v":0},{"$f":"transposed!CC10","v":5},1.75,{"$f":"transposed!CD10","v":77},{"$f":"transposed!CF10","v":67},{"$f":"transposed!CH10","v":79},{"$f":"transposed!CJ10","v":75},{"$f":"transposed!CL10","v":64},{"$f":"transposed!CN10","v":71},{"$f":"transposed!CP10","v":68},{"$f":"transposed!CR10","v":77},{"$f":"transposed!CT10","v":73},{"$f":"transposed!CV10","v":71},72.2,{"$f":"transposed!CX10","v":99},{"$f":"transposed!CZ10","v":95},{"$f":"transposed!DB10","v":87},{"$f":"transposed!DD10","v":89},{"$f":"transposed!DF10","v":90},{"$f":"transposed!DH10","v":86},{"$f":"transposed!DJ10","v":87},{"$f":"transposed!DL10","v":91},{"$f":"transposed!DN10","v":87},{"$f":"transposed!DP10","v":84},89.5,{"$f":"transposed!CE10","v":76},{"$f":"transposed!CG10","v":72},{"$f":"transposed!CI10","v":80},{"$f":"transposed!CK10","v":76},{"$f":"transposed!CM10","v":78},{"$f":"transposed!CO10","v":73},{"$f":"transposed!CQ10","v":78},{"$f":"transposed!CS10","v":81},{"$f":"transposed!CU10","v":68},{"$f":"transposed!CW10","v":71},75.3,{"$f":"transposed!CY10","v":102},{"$f":"transposed!DA10","v":91},{"$f":"transposed!DC10","v":94},{"$f":"transposed!DE10","v":90},{"$f":"transposed!DG10","v":88},{"$f":"transposed!DI10","v":87},{"$f":"transposed!DK10","v":84},{"$f":"transposed!DM10","v":85},{"$f":"transposed!DO10","v":85},{"$f":"transposed!DQ10","v":82},88.8,{"$f":"transposed!DR10","v":"F"},{"$f":"transposed!DS10","v":21},{"$f":"transposed!DT10","v":"F"},"TN101"]
["TN102",{"$f":"transposed!B62","v":18.532},{"$f":"transposed!D62","v":17.427},{"$f":"transposed!F62","v":18.045},{"$f":"transposed!H62","v":16.242},{"$f":"transposed!J62","v":16.087},{"$f":"transposed!L62","v":16.668},{"$f":"transposed!N62","v":16.568},{"$f":"transposed!P62","v":16.465},{"$f":"transposed!R62","v":16.868},{"$f":"transposed!T62","v":16.563},16.946499999999997,{"$f":"transposed!V62","v":15.598},{"$f":"transposed!X62","v":16.317},{"$f":"transposed!Z62","v":15.638},{"$f":"transposed!AB62","v":17.534},{"$f":"transposed!AD62","v":16.718},{"$f":"transposed!AF62","v":16.128},{"$f":"transposed!AH62","v":17.318},{"$f":"transposed!AJ62","v":17.282},{"$f":"transposed!AL62","v":17.428},{"$f":"transposed!AN62","v":17.152},16.7113,{"$f":"transposed!C62","v":28.803},{"$f":"transposed!E62","v":25.634},{"$f":"transposed!G62","v":29.381},{"$f":"transposed!I62","v":27.549},{"$f":"transposed!K62","v":25.884},{"$f":"transposed!M62","v":25.261},{"$f":"transposed!O62","v":25.056},{"$f":"transposed!Q62","v":24.711},{"$f":"transposed!S62","v":24.945},{"$f":"transposed!U62","v":24.216},26.144,{"$f":"transposed!W62","v":24.783},{"$f":"transposed!Y62","v":24.885},{"$f":"transposed!AA62","v":28.224},{"$f":"transposed!AC62","v":23.998},{"$f":"transposed!AE62","v":26.348},{"$f":"transposed!AG62","v":23.147},{"$f":"transposed!AI62","v":23.043},{"$f":"transposed!AK62","v":24.148},{"$f":"transposed!AM62","v":22.597},{"$f":"transposed!AO62","v":27.236},24.840899999999998,{"$f":"transposed!AP62","v":0},{"$f":"transposed!AR62","v":0},{"$f":"transposed!AT62","v":0},{"$f":"transposed!AV62","v":0},{"$f":"transposed!AX62","v":0},{"$f":"transposed!AZ62","v":0},{"$f":"transposed!BB62","v":0},{"$f":"transposed!BD62","v":0},{"$f":"transposed!BF62","v":0},{"$f":"transposed!BH62","v":0},0,{"$f":"transposed!BJ62","v":0},{"$f":"transposed!BL62","v":0},{"$f":"transposed!BN62","v":0},{"$f":"transposed!BP62","v":0},{"$f":"transposed!BR62","v":0},{"$f":"transposed!BT62","v":0},{"$f":"transposed!BV62","v":0},{"$f":"transposed!BX62","v":0},{"$f":"transposed!BZ62","v":0},{"$f":"transposed!CB62","v":0},0,{"$f":"transposed!AQ62","v":2.5},{"$f":"transposed!AS62","v":0},{"$f":"transposed!AU62","v":2.5},{"$f":"transposed!AW62","v":2.5},{"$f":"transposed!AY62","v":2.5},{"$f":"transposed!BA62","v":2.5},{"$f":"transposed!BC62","v":2.5},{"$f":"transposed!BE62","v":2.5},{"$f":"transposed!BG62","v":2.5},{"$f":"transposed!BI62","v":2.5},2.25,{"$f":"transposed!BK62","v":7.5},{"$f":"transposed!BM62","v":5},{"$f":"transposed!BO62","v":5},{"$f":"transposed!BQ62","v":2.5},{"$f":"transposed!BS62","v":5},{"$f":"transposed!BU62","v":5},{"$f":"transposed!BW62","v":2.5},{"$f":"transposed!BY62","v":2.5},{"$f":"transposed!CA62","v":0},{"$f":"transposed!CC62","v":5},4,{"$f":"transposed!CD62","v":75},{"$f":"transposed!CF62","v":83},{"$f":"transposed!CH62","v":75},{"$f":"transposed!CJ62","v":85},{"$f":"transposed!CL62","v":81},{"$f":"transposed!CN62","v":88},{"$f":"transposed!CP62","v":90},{"$f":"transposed!CR62","v":89},{"$f":"transposed!CT62","v":87},{"$f":"transposed!CV62","v":75},82.8,{"$f":"transposed!CX62","v":113},{"$f":"transposed!CZ62","v":113},{"$f":"transposed!DB62","v":106},{"$f":"transposed!DD62","v":102},{"$f":"transposed!DF62","v":100},{"$f":"transposed!DH62","v":102},{"$f":"transposed!DJ62","v":97},{"$f":"transposed!DL62","v":95},{"$f":"transposed!DN62","v":104},{"$f":"transposed!DP62","v":97},102.9,{"$f":"transposed!CE62","v":83},{"$f":"transposed!CG62","v":73},{"$f":"transposed!CI62","v":82},{"$f":"transposed!CK62","v":76},{"$f":"transposed!CM62","v":83},{"$f":"transposed!CO62","v":83},{"$f":"transposed!CQ62","v":92},{"$f":"transposed!CS62","v":82},{"$f":"transposed!CU62","v":80},{"$f":"transposed!CW62","v":80},81.4,{"$f":"transposed!CY62","v":109},{"$f":"transposed!DA62","v":104},{"$f":"transposed!DC62","v":105},{"$f":"transposed!DE62","v":104},{"$f":"transposed!DG62","v":101},{"$f":"transposed!DI62","v":100},{"$f":"transposed!DK62","v":98},{"$f":"transposed!DM62","v":100},{"$f":"transposed!DO62","v":96},{"$f":"transposed!DQ62","v":97},101.4,{"$f":"transposed!DR62","v":"F"},{"$f":"transposed!DS62","v":22},{"$f":"transposed!DT62","v":"F"},"TN102"]
["YS101",{"$f":"transposed!B68","v":15.511},{"$f":"transposed!D68","v":15.75},{"$f":"transposed!F68","v":13.623},{"$f":"transposed!H68","v":13.896},{"$f":"transposed!J68","v":13.759},{"$f":"transposed!L68","v":12.928},{"$f":"transposed!N68","v":13.423},{"$f":"transposed!P68","v":16.855},{"$f":"transposed!R68","v":13.767},{"$f":"transposed!T68","v":15.216},14.472800000000001,{"$f":"transposed!V68","v":15.791},{"$f":"transposed!X68","v":15.327},{"$f":"transposed!Z68","v":14.656},{"$f":"transposed!AB68","v":13.327},{"$f":"transposed!AD68","v":13.48},{"$f":"transposed!AF68","v":13.823},{"$f":"transposed!AH68","v":13.896},{"$f":"transposed!AJ68","v":15.335},{"$f":"transposed!AL68","v":13.4},{"$f":"transposed!AN68","v":13.415},14.245,{"$f":"transposed!C68","v":40.918},{"$f":"transposed!E68","v":38.175},{"$f":"transposed!G68","v":34.327},{"$f":"transposed!I68","v":32.9},{"$f":"transposed!K68","v":35.095},{"$f":"transposed!M68","v":36.694},{"$f":"transposed!O68","v":37.687},{"$f":"transposed!Q68","v":33.302},{"$f":"transposed!S68","v":34.83},{"$f":"transposed!U68","v":35.462},35.939,{"$f":"transposed!W68","v":28.967},{"$f":"transposed!Y68","v":31.935},{"$f":"transposed!AA68","v":30.814},{"$f":"transposed!AC68","v":28.351},{"$f":"transposed!AE68","v":29.662},{"$f":"transposed!AG68","v":28.463},{"$f":"transposed!AI68","v":32.063},{"$f":"transposed!AK68","v":27.039},{"$f":"transposed!AM68","v":31.335},{"$f":"transposed!AO68","v":28.967},29.759599999999995,{"$f":"transposed!AP68","v":0},{"$f":"transposed!AR68","v":0},{"$f":"transposed!AT68","v":0},{"$f":"transposed!AV68","v":0},{"$f":"transposed!AX68","v":0},{"$f":"transposed!AZ68","v":0},{"$f":"transposed!BB68","v":0},{"$f":"transposed!BD68","v":0},{"$f":"transposed!BF68","v":0},{"$f":"transposed!BH68","v":0},0,{"$f":"transposed!BJ68","v":0},{"$f":"transposed!BL68","v":0},{"$f":"transposed!BN68","v":0},{"$f":"transposed!BP68","v":0},{"$f":"transposed!BR68","v":0},{"$f":"transposed!BT68","v":0},{"$f":"transposed!BV68","v":0},{"$f":"transposed!BX68","v":0},{"$f":"transposed!BZ68","v":0},{"$f":"transposed!CB68","v":0},0,{"$f":"transposed!AQ68","v":0},{"$f":"transposed!AS68","v":0},{"$f":"transposed!AU68","v":0},{"$f":"transposed!AW68","v":0},{"$f":"transposed!AY68","v":0},{"$f":"transposed!BA68","v":5},{"$f":"transposed!BC68","v":0},{"$f":"transposed!BE68","v":0},{"$f":"transposed!BG68","v":0},{"$f":"transposed!BI68","v":2.5},0.75,{"$f":"transposed!BK68","v":0},{"$f":"transposed!BM68","v":0},{"$f":"transposed!BO68","v":2.5},{"$f":"transposed!BQ68","v":0},{"$f":"transposed!BS68","v":2.5},{"$f":"transposed!BU68","v":2.5},{"$f":"transposed!BW68","v":2.5},{"$f":"transposed!BY68","v":0},{"$f":"transposed!CA68","v":0},{"$f":"transposed!CC68","v":0},1,{"$f":"transposed!CD68","v":0},{"$f":"transposed!CF68","v":0},{"$f":"transposed!CH68","v":0},{"$f":"transposed!CJ68","v":0},{"$f":"transposed!CL68","v":0},{"$f":"transposed!CN68","v":0},{"$f":"transposed!CP68","v":0},{"$f":"transposed!CR68","v":0},{"$f":"transposed!CT68","v":0},{"$f":"transposed!CV68","v":0},0,{"$f":"transposed!CX68","v":0},{"$f":"transposed!CZ68","v":0},{"$f":"transposed!DB68","v":0},{"$f":"transposed!DD68","v":0},{"$f":"transposed!DF68","v":0},{"$f":"transposed!DH68","v":0},{"$f":"transposed!DJ68","v":0},{"$f":"transposed!DL68","v":0},{"$f":"transposed!DN68","v":0},{"$f":"transposed!DP68","v":0},0,{"$f":"transposed!CE68","v":0},{"$f":"transposed!CG68","v":0},{"$f":"transposed!CI68","v":0},{"$f":"transposed!CK68","v":0},{"$f":"transposed!CM68","v":0},{"$f":"transposed!CO68","v":0},{"$f":"transposed!CQ68","v":0},{"$f":"transposed!CS68","v":0},{"$f":"transposed!CU68","v":0},{"$f":"transposed!CW68","v":0},0,{"$f":"transposed!CY68","v":0},{"$f":"transposed!DA68","v":0},{"$f":"transposed!DC68","v":0},{"$f":"transposed!DE68","v":0},{"$f":"transposed!DG68","v":0},{"$f":"transposed!DI68","v":0},{"$f":"transposed!DK68","v":0},{"$f":"transposed!DM68","v":0},{"$f":"transposed!DO68","v":0},{"$f":"transposed!DQ68","v":0},0,{"$f":"transposed!DR68","v":"F"},{"$f":"transposed!DS68","v":22},{"$f":"transposed!DT68","v":"F"},"YS101"]
["ZP101",{"$f":"transposed!B25","v":27.447},{"$f":"transposed!D25","v":27.663},{"$f":"transposed!F25","v":27.831},{"$f":"transposed!H25","v":25.934},{"$f":"transposed!J25","v":25.536},{"$f":"transposed!L25","v":26.087},{"$f":"transposed!N25","v":27.135},{"$f":"transposed!P25","v":28.487},{"$f":"transposed!R25","v":26.687},{"$f":"transposed!T25","v":26.183},26.899,{"$f":"transposed!V25","v":24.247},{"$f":"transposed!X25","v":22.767},{"$f":"transposed!Z25","v":24.695},{"$f":"transposed!AB25","v":24.367},{"$f":"transposed!AD25","v":23.887},{"$f":"transposed!AF25","v":24.415},{"$f":"transposed!AH25","v":23.015},{"$f":"transposed!AJ25","v":25.383},{"$f":"transposed!AL25","v":20.815},{"$f":"transposed!AN25","v":19.335},23.292600000000004,{"$f":"transposed!C25","v":29.974},{"$f":"transposed!E25","v":30.631},{"$f":"transposed!G25","v":30.847},{"$f":"transposed!I25","v":31.166},{"$f":"transposed!K25","v":28.799},{"$f":"transposed!M25","v":33.495},{"$f":"transposed!O25","v":28.879},{"$f":"transposed!Q25","v":27.791},{"$f":"transposed!S25","v":29.783},{"$f":"transposed!U25","v":28.312},29.9677,{"$f":"transposed!W25","v":24.431},{"$f":"transposed!Y25","v":26.039},{"$f":"transposed!AA25","v":25.005},{"$f":"transposed!AC25","v":27.303},{"$f":"transposed!AE25","v":26.375},{"$f":"transposed!AG25","v":25.527},{"$f":"transposed!AI25","v":28.975},{"$f":"transposed!AK25","v":25.447},{"$f":"transposed!AM25","v":23.959},{"$f":"transposed!AO25","v":27.047},26.0108,{"$f":"transposed!AP25","v":0},{"$f":"transposed!AR25","v":2.5},{"$f":"transposed!AT25","v":0},{"$f":"transposed!AV25","v":0},{"$f":"transposed!AX25","v":0},{"$f":"transposed!AZ25","v":0},{"$f":"transposed!BB25","v":0},{"$f":"transposed!BD25","v":0},{"$f":"transposed!BF25","v":0},{"$f":"transposed!BH25","v":0},0.25,{"$f":"transposed!BJ25","v":0},{"$f":"transposed!BL25","v":0},{"$f":"transposed!BN25","v":0},{"$f":"transposed!BP25","v":0},{"$f":"transposed!BR25","v":0},{"$f":"transposed!BT25","v":0},{"$f":"transposed!BV25","v":0},{"$f":"transposed!BX25","v":0},{"$f":"transposed!BZ25","v":0},{"$f":"transposed!CB25","v":0},0,{"$f":"transposed!AQ25","v":0},{"$f":"transposed!AS25","v":2.5},{"$f":"transposed!AU25","v":0},{"$f":"transposed!AW25","v":2.5},{"$f":"transposed!AY25","v":0},{"$f":"transposed!BA25","v":0},{"$f":"transposed!BC25","v":0},{"$f":"transposed!BE25","v":0},{"$f":"transposed!BG25","v":5},{"$f":"transposed!BI25","v":0},1,{"$f":"transposed!BK25","v":0},{"$f":"transposed!BM25","v":0},{"$f":"transposed!BO25","v":2.5},{"$f":"transposed!BQ25","v":0},{"$f":"transposed!BS25","v":0},{"$f":"transposed!BU25","v":0},{"$f":"transposed!BW25","v":2.5},{"$f":"transposed!BY25","v":0},{"$f":"transposed!CA25","v":0},{"$f":"transposed!CC25","v":2.5},0.75,{"$f":"transposed!CD25","v":107},{"$f":"transposed!CF25","v":103},{"$f":"transposed!CH25","v":98},{"$f":"transposed!CJ25","v":94},{"$f":"transposed!CL25","v":95},{"$f":"transposed!CN25","v":115},{"$f":"transposed!CP25","v":105},{"$f":"transposed!CR25","v":102},{"$f":"transposed!CT25","v":95},{"$f":"transposed!CV25","v":113},102.7,{"$f":"transposed!CX25","v":130},{"$f":"transposed!CZ25","v":129},{"$f":"transposed!DB25","v":128},{"$f":"transposed!DD25","v":128},{"$f":"transposed!DF25","v":121},{"$f":"transposed!DH25","v":118},{"$f":"transposed!DJ25","v":128},{"$f":"transposed!DL25","v":125},{"$f":"transposed!DN25","v":121},{"$f":"transposed!DP25","v":121},124.9,{"$f":"transposed!CE25","v":111},{"$f":"transposed!CG25","v":121},{"$f":"transposed!CI25","v":95},{"$f":"transposed!CK25","v":111},{"$f":"transposed!CM25","v":93},{"$f":"transposed!CO25","v":109},{"$f":"transposed!CQ25","v":99},{"$f":"transposed!CS25","v":92},{"$f":"transposed!CU25","v":106},{"$f":"transposed!CW25","v":115},105.2,{"$f":"transposed!CY25","v":131},{"$f":"transposed!DA25","v":130},{"$f":"transposed!DC25","v":115},{"$f":"transposed!DE25","v":123},{"$f":"transposed!DG25","v":111},{"$f":"transposed!DI25","v":124},{"$f":"transposed!DK25","v":124},{"$f":"transposed!DM25","v":124},{"$f":"transposed!DO25","v":111},{"$f":"transposed!DQ25","v":122},121.5,{"$f":"transposed!DR25","v":"F"},{"$f":"transposed!DS25","v":19},{"$f":"transposed!DT25","v":"F"},"ZP101"]

{"sheet":"gender","index":6,"n_rows":52,"n_cols":49,"rows_kept":52}
["ID (reds lack HR data)","avg-pre-cong","avg-post-cong","avg-pre-i","avg-post-incong","avg-pre-err-c","avg-post-c","avg-pre-err-i","avg-post-err-i","avg-preHR-c","avg-postHR-c","avg-pre-HR-i","avg-postHR-i","Gender","BMI","ADD","ID (reds lack HR data)","avg-pre-cong","avg-post-cong","avg-pre-i","avg-post-incong","avg-pre-err-c","avg-post-c","avg-pre-err-i","avg-post-err-i","avg-preHR-c","avg-postHR-c","avg-pre-HR-i","avg-postHR-i","Gender","BMI","ADD","ID","avg-pre-cong","avg-post-cong","avg-pre-i","avg-post-incong","ID","avg-pre-cong","avg-post-cong","avg-pre-i","avg-post-incong"]
["AA102",20.987900000000003,18.4185,32.63440000000001,29.5251,0.1,0.7,3.1,2.5,80.1,98,84.1,97.8,"F",21,"F","CJ101",17.3067,14.923300000000001,31.377,30.038600000000002,0,0.1,0.5,0.8,104.8,117.6,102.2,116.2,"M",26.78,"F","AA102-nonexercise",22.276699999999998,23.3091,35.605900000000005,34.326299999999996,"CJ101-nonexercise",19.6495,16.164299999999997,34.026300000000006,31.043]
["CN101",15.721300000000003,13.4421,36.446999999999996,29.938200000000002,0,0,1.6,0.9,92,114.2,88.3,113.4,"F",32,"T","DD101",14.385,13.3243,43.462300000000006,35.291500000000006,0,0,1.1,0.6,75.4,89.2,74.6,84.8,"M",23,"T","CN101-nonexercise",15.792300000000001,14.1113,35.572799999999994,33.1789,"DD101-nonexercise",14.9518,14.0701,42.4379,38.77210000000001,{"$nulls":3},"Mean","Std. Error","95% Confidence Interval"]
["FA102",13.908199999999999,14.479400000000002,30.3097,30.953799999999994,0.1,0.5,1,2.6,85.8,84.3,85.1,85.9,"F",21,"F","JF101",14.202599999999999,13.252200000000002,31.594299999999997,27.655399999999997,0,0.1,0.4,0.6,71.2,84,69.2,84.4,"M",30,"T","FA102-nonexercise",17.317500000000003,16.4213,36.427,33.621300000000005,"JF101-nonexercise",14.019899999999998,13.809999999999999,28.493900000000004,26.6887,{"$nulls":5},"Lower Bound","Upper Bound"]
["JH102",16.2625,14.352500000000001,28.9125,26.484999999999996,0.1,0,0.4,0.2,80.7,98.8,87.3,89.5,"F",19,"F","SW101",9.427299999999999,9.9914,28.4558,27.811,0.2,0.5,0.8,1.1,91.2,105.6,87.7,103.9,"M",26,"F","JH102-nonexercise",13.49,12.829700000000003,24.621899999999997,25.2368,"SW101-nonexercise",12.4022,11.719299999999999,34.6781,31.580900000000003,"Incongruent","Female","Exercise",-9.203,0.9,-10.99,-7.417]
["JR101",24.2344,22.5562,36.4273,33.709700000000005,0.1,0.3,0.5,0.6,85.2,97.1,84.5,97.8,"F",27,"F","DJ101",17.2708,17.256400000000003,40.2068,36.051,0.3,0.1,0.9,0.7,77.8,99.3,82,96.8,"M",25,"F","JR101-nonexercise",21.0424,20.1264,33.88250000000001,32.23729999999999,"BR102-nonexercise",13.137699999999999,13.285999999999998,30.7705,31.6663,null,null,"Rest",-6.178,1.475,-9.105,-3.251]
["MR101",18.4691,16.404100000000003,33.0033,28.306100000000004,0,0,0.3,1.2,81.4,89.7,86,91.8,"F",22,"F","DST102",13.952099999999998,11.661599999999998,26.9013,24.6744,0,0,0.9,1,102,110.9,99.7,110.3,"M",22,"F","MR101-nonexercise",16.9224,16.612599999999997,29.648200000000003,28.069200000000002,"DJ102-nonexercise",19.010200000000005,16.8904,30.491000000000003,30.119600000000002,null,"Male","Exercise",-10.099,1.371,-12.82,-7.379]
["RS101",30.655999999999995,20.568199999999997,37.1734,30.916199999999996,0,0,0.6,1,87.3,97.8,90.3,96.7,"F",25,"F","DT101",26.088299999999997,16.183300000000003,96.289,69.9355,0,0.1,3.5,3.7,76.2,98.2,79.1,96.7,"M",25,"T","RS101-nonexercise",16.4743,15.623800000000003,26.904200000000003,26.288400000000003,"KLA101-nonexercise",15.653200000000002,13.6863,36.4281,31.869099999999996,null,null,"Rest",-8.568,1.939,-12.415,-4.721]
["SN102",20.0594,18.7797,43.399100000000004,36.775400000000005,0,0,1.1,0.5,78.4,90.5,77.5,90.6,"F",28,"F","DZ101",14.727700000000002,17.015299999999996,25.654200000000003,26.296499999999998,0.1,0,0.5,0.5,77.4,104.2,79.3,103.7,"M",20,"F","SN102-nonexercise",19.142900000000004,16.274,34.6102,35.033699999999996,"MA101-nonexercise",18.267899999999997,16.9958,47.182,42.0249,"Congruent","Female","Exercise",-10.161,1.171]
["TB101",16.7138,15.1767,27.5474,23.893000000000004,0,0,0.7,0.6,90.6,91.4,87.5,92,"F",31,"F","ER101",10.491,10.306,22.902900000000002,21.6207,0,0,0.6,0.4,72,70.6,71.5,71.7,"M",23,"F","TB101-nonexercise",16.036,15.9054,24.3585,23.947899999999997,"TM101-nonexercise",16.1548,13.562300000000002,35.288599999999995,30.01000000000001,null,null,"Rest",-8.017,1.918,-11.822,-4.211]
["AA101",15.4715,12.892399999999999,23.0114,20.9844,0,0,0.3,0.7,105,112.5,104.3,107.7,"F",20,"T","FA101",19.7535,18.2167,41.5224,39.3654,0,0,0.7,1,92.2,100.9,91.8,99.7,"M",20,"F","FH101-nonexercise",15.012099999999998,13.400599999999997,31.6972,28.961900000000004,"TR101-nonexercise",21.382299999999997,20.576299999999996,33.0926,31.8651,null,"Male","Exercise",-14.292,1.782,-17.829,-10.755]
["AI101",20.9822,16.3284,35.2911,31.419999999999998,0,0,0.2,0,95.3,94.4,96.4,95.3,"F",19,"F","GH101",16.534499999999998,13.8357,44.15239999999999,41.3965,0,0,0.1,0,73.6,78.5,69.5,79.9,"M",25,"F","JF102-nonexercise",16.969099999999997,14.8389,38.1077,35.894000000000005,"YS102-nonexercise",15.965399999999999,13.429300000000001,40.8898,32.240899999999996,null,null,"Rest",-8.717,2.521,-13.719,-3.716]
["AK101",17.8659,14.079699999999999,24.6325,21.7322,0,0,0,0.2,87.7,90.2,88.5,87.6,"F",21.97,"F","HR101",17.3627,15.538,31.819499999999998,30.263199999999994,0,0,0.6,0.9,86.1,87.9,83.7,87.2,"M",16,"T","JL101-nonexercise",15.379000000000001,14.1237,37.881099999999996,33.86149999999999]
["AMP101",21.0574,17.8474,42.6763,38.142199999999995,0,0,0.3,0.9,91.7,96.6,88.4,98.7,"F",22,"F","JC102",15.273900000000001,14.2649,27.471300000000003,25.4321,0,0.1,0.2,0.1,81.2,81.7,73.9,81.7,"M",29,"F","KK101-nonexercise",21.722399999999997,18.530900000000003,29.5171,25.9495]
["AP101",18.5306,18.207800000000002,29.557200000000005,28.288100000000004,0.2,0,0.1,0,87.4,88.9,87.9,89.4,"F",26,"F","JD101",27.532199999999996,23.701999999999998,36.259,32.801899999999996,0,0,1.5,1.6,76.1,72.3,78.9,75.8,"M",28,"T","KV101-nonexercise",18.135799999999996,17.6523,27.7524,25.7055]
["AP102",18.439,17.270599999999995,35.5715,31.682499999999997,0.1,0.2,0.5,0.5,86.3,98.2,86.4,95.7,"F",22,"F","JS102",17.1953,16.1707,28.614000000000004,28.5533,0,0,0.3,0.7,68.5,75.3,71.7,73.4,"M",20,"F","MT102-nonexercise",16.8103,14.336099999999998,24.3432,22.156200000000002]
["AS102",17.969500000000004,15.7728,26.5177,22.605199999999996,0,0.1,0.6,1,74.6,89.7,76.3,91.3,"F",19,"F","KP101",20.3453,17.023900000000005,30.821199999999997,27.543300000000006,0,0,0.6,0.8,79.5,110.8,89.9,112.1,"M",24,"F","RA101-nonexercise",16.212799999999998,14.0328,32.9362,29.5422]
["BH101",14.389600000000002,11.5977,42.8138,34.4264,0,0,2,0.8,0,0,0,0,"F",21,"T","LB101",19.0548,17.187799999999996,33.212399999999995,34.05839999999999,0,0,0.9,0.4,76.9,86.9,78.5,85.1,"M",24,"F","RO101-nonexercise",18.6171,17.860699999999998,41.886399999999995,39.684200000000004]
["CC101",17.3517,15.068800000000001,38.107099999999996,34.8555,0,0,0.4,0.4,89,97.5,87.6,105.8,"F",25,"T","MD101",30.2464,24.5805,42.736599999999996,35.4456,0.4,0,0.2,0.2,78,71.9,74.4,69,"M ",29,"F","SA102-nonexercise",16.896499999999996,15.819500000000001,38.9822,34.1113]
["DE101",25.5767,23.886400000000002,38.4526,31.810999999999996,0,0,1.1,0.8,100.4,111.5,98.8,108.6,"F",23,"F","OA101",19.099600000000002,18.063699999999997,54.17960000000001,42.54280000000001,0,0,0.6,0.1,66.7,94.2,71.1,94.3,"M",25,"F","TP101-nonexercise",26.3037,20.6017,36.4016,33.7205]
["DI101",24.093799999999998,21.435900000000004,40.22959999999999,36.652499999999996,0,0.1,1.1,0.6,72.1,95.7,76.8,90.6,"F",23,"T","PM101",15.196800000000001,13.889199999999999,27.094,25.0264,0.1,0,1.2,0.5,90.7,109.9,90.9,106.4,"M",23,"T"]
["DP101",23.244799999999998,21.3061,43.8584,44.420300000000005,0.2,0.3,0.3,0.3,66.8,72.1,66.9,73.7,"F",28,"T","SAV101",15.004,12.6485,29.7207,28.665799999999997,0.3,0.1,1,0.4,73,91.5,75.5,91,"M",20,"F"]
["DS101",12.0852,11.376999999999999,29.961199999999998,26.011599999999998,0,0,0.3,0.6,72.3,96.7,69.5,96.1,"F",18,"F","SK101",19.8515,15.502699999999999,47.2778,39.3661,0.6,0.9,1.7,2.8,85.1,112.4,82.7,107.9,"M",23,"F"]
["DY101",21.885399999999997,17.0549,34.351000000000006,33.62779999999999,0,0,0.3,0.5,91.3,94.3,94.9,93.4,"F",25.6,"F"]
["EC101",21.6129,15.187700000000001,33.112199999999994,31.822499999999998,0,0,0.5,0.4,0,0,0,0,"F",21,"F"]
["EF101",18.428199999999997,17.023999999999997,37.12750000000001,31.8022,0.1,0,0.3,0.4,96,128.5,98.2,132.5,"F",29,"F"]
["EJ101",20.7142,17.292499999999997,30.578700000000005,29.648200000000003,0,0.1,0.2,0.6,85,99,80.6,103.7,"F",27,"F"]
["GS101",14.0923,13.292600000000002,39.6012,35.9282,0,0,0.5,0.3,121.1,118.9,115.1,117.2,"F",25,"F"]
["IF101",17.422,15.8644,37.474799999999995,29.667,0,0,0.7,0.2,89,99.8,89.3,99.4,"F",19.53,"F"]
["IG101",17.6407,15.282500000000002,34.140100000000004,30.55899999999999,0,0,1.4,1,107.4,122.1,105.1,122.8,"F",33,"T"]
["IH101",16.429499999999997,14.8702,32.2712,28.8887,0,0,1.3,1.2,86.4,113,85.7,112.5,"F",21,"F"]
["IOD101",21.266399999999997,19.215200000000003,34.428399999999996,34.9788,0,0,0.8,1.1,91.4,101,92.8,99.6,"F",19,"F"]
["JB101",17.6451,16.454,32.583299999999994,29.1572,0.4,0,0.6,0.6,103,111.2,97.5,108.8,"F",24,"F"]
["JG101",20.3714,16.964199999999998,33.0565,26.4711,0.2,0,0.7,0.2,77.2,103.9,76.9,103.5,"F",19,"F"]
["JM101",20.058200000000003,17.9146,53.472500000000004,48.1633,0,0,0.3,0.1,83.3,88.4,85.9,89.4,"F",25,"F"]
["JP101",14.309999999999999,12.1462,28.856,24.650199999999995,0,0,0.5,0.1,97.8,98,97.8,98.2,"F",37,"F"]
["KM101",17.5411,17.0261,42.0356,42.4106,0.2,0.1,0.4,0.5,109.9,115.1,111.4,112.7,"F",17,"T"]
["LT101",22.7769,14.0828,27.9226,23.3045,0,0,0.6,1.4,87.3,102.4,94.7,103.2,"F",22,"F"]
["MK101",18.409,16.9868,31.8901,30.251299999999997,0,0,1,0.3,89.5,102.8,97.1,102.2,"F",31,"F"]
["MT101",31.6384,22.5047,34.48910000000001,27.274500000000007,0,0,0.4,0.3,86.6,105.9,85.7,102.6,"F",22,"F"]
["NV101",17.536199999999997,16.0148,24.1881,22.305400000000002,0,0,0.2,0.2,0,0,0,0,"F",24,"F"]
["OB101",25.580899999999996,21.9742,33.5095,35.1175,0,0,0,0.2,100.5,105.1,97.6,101.8,"F",30.26,"F"]
["RB101",19.8936,17.936700000000002,50.012499999999996,44.035199999999996,0,0,1.2,0.4,87.5,92.7,87.1,93.2,"F",28.3,"T"]
["RK101",21.748399999999997,20.1021,41.6739,38.069399999999995,0,0,1.5,0.9,105.1,110.5,105.1,112.7,"F",21,"T"]
["RT101",23.413099999999996,17.725900000000003,34.1639,30.883100000000002,0,0,0,0.1,83.5,89,85.9,93.3,"F",23,"F"]
["SGJ101",12.935099999999997,11.5053,26.0448,25.091900000000003,0.3,0,0.7,0.5,94.6,93.8,93,95.6,"F",26,"F"]
["SN101",18.9878,19.790399999999998,38.8862,41.162,0.1,0,0.4,0.6,113.3,115.3,111.8,113.8,"F",20,"T"]
["SR101",14.587399999999999,13.13,26.703700000000005,23.2657,0,0,0.6,0.5,0,0,0,0,"F",23,"F"]
["TN101",18.124899999999997,17.4249,33.825,30.8405,0,0,1.2,0.7,72.2,89.5,75.3,88.8,"F",21,"F"]
["TN102",16.946499999999997,16.7113,26.144,24.840899999999998,0,0,0.9,1.6,82.8,102.9,81.4,101.4,"F",22,"F"]
["YS101",14.472800000000001,14.245,35.939,29.759599999999995,0,0,0.3,0.4,0,0,0,0,"F",22,"F"]
["ZP101",26.899,23.292600000000004,29.9677,26.0108,0.1,0,0.4,0.3,102.7,124.9,105.2,121.5,"F",19,"F"]

{"sheet":"bmi","index":7,"n_rows":80,"n_cols":56,"rows_kept":80}
["ID (reds lack HR data)","avg-pre-cong","avg-post-cong","avg-pre-i","avg-post-incong","avg-pre-err-c","avg-post-c","avg-pre-err-i","avg-post-err-i","avg-preHR-c","avg-postHR-c","avg-pre-HR-i","avg-postHR-i","Gender","BMI","ADD","ID (reds lack HR data)","avg-pre-cong","avg-post-cong","avg-pre-i","avg-post-incong","avg-pre-err-c","avg-post-c","avg-pre-err-i","avg-post-err-i","avg-preHR-c","avg-postHR-c","avg-pre-HR-i","avg-postHR-i","Gender","BMI","ADD","ID","avg-pre-cong","avg-post-cong","avg-pre-i","avg-post-incong","ID","avg-pre-cong","avg-post-cong","avg-pre-i","avg-post-incong","Descriptive Statistics",{"$nulls":6},"Descriptive Statistics"]
["AA102",20.987900000000003,18.4185,32.63440000000001,29.5251,0.1,0.7,3.1,2.5,80.1,98,84.1,97.8,"F",21,"F","CJ101",17.3067,14.923300000000001,31.377,30.038600000000002,0,0.1,0.5,0.8,104.8,117.6,102.2,116.2,"M",26.78,"F","AA102-nonexercise",22.276699999999998,23.3091,35.605900000000005,34.326299999999996,"CN101-nonexercise",15.792300000000001,14.1113,35.572799999999994,33.1789,null,"ParadigmsEXNonEx","BMI","Mean","Std. Deviation","N","SE",null,"ParadigmsEXNonEx","highLowBMI","Mean","Std. Deviation","N","SE"]
["DD101",14.385,13.3243,43.462300000000006,35.291500000000006,0,0,1.1,0.6,75.4,89.2,74.6,84.8,"M",23,"T","CN101",15.721300000000003,13.4421,36.446999999999996,29.938200000000002,0,0,1.6,0.9,92,114.2,88.3,113.4,"F",32,"T","CJ101-nonexercise",19.6495,16.164299999999997,34.026300000000006,31.043,"JF101-nonexercise",14.019899999999998,13.809999999999999,28.493900000000004,26.6887,"incongRT","EX",16,-20.83,".",1,{"$f":"AU3/SQRT(AV3)","v":{"$error":"#VALUE!"}},"Incongruent","Normal BMI","Exercise",-9.76,7.017,52,{"$f":"BB3/SQRT(BC3)","v":0.9730828192281082}]
["FA102",13.908199999999999,14.479400000000002,30.3097,30.953799999999994,0.1,0.5,1,2.6,85.8,84.3,85.1,85.9,"F",21,"F","JF101",14.202599999999999,13.252200000000002,31.594299999999997,27.655399999999997,0,0.1,0.4,0.6,71.2,84,69.2,84.4,"M",30,"T","DD101-nonexercise",14.9518,14.0701,42.4379,38.77210000000001,"JR101-nonexercise",21.0424,20.1264,33.88250000000001,32.23729999999999,null,null,17,0.89,".",1,{"$error":"#VALUE!"},null,null,"NonExercise",-7.98,5.053,17,{"$f":"BB4/SQRT(BC4)","v":1.2255325133085906}]
["JH102",16.2625,14.352500000000001,28.9125,26.484999999999996,0.1,0,0.4,0.2,80.7,98.8,87.3,89.5,"F",19,"F","JR101",24.2344,22.5562,36.4273,33.709700000000005,0.1,0.3,0.5,0.6,85.2,97.1,84.5,97.8,"F",27,"F","FA102-nonexercise",17.317500000000003,16.4213,36.427,33.621300000000005,"SN102-nonexercise",19.142900000000004,16.274,34.6102,35.033699999999996,null,null,18,-8.28,".",1,{"$error":"#VALUE!"}]
["MR101",18.4691,16.404100000000003,33.0033,28.306100000000004,0,0,0.3,1.2,81.4,89.7,86,91.8,"F",22,"F","SN102",20.0594,18.7797,43.399100000000004,36.775400000000005,0,0,1.1,0.5,78.4,90.5,77.5,90.6,"F",28,"F","JH102-nonexercise",13.49,12.829700000000003,24.621899999999997,25.2368,"TB101-nonexercise",16.036,15.9054,24.3585,23.947899999999997,null,null,19,-12.7,4.239,5,1.8957384313243215]
["RS101",30.655999999999995,20.568199999999997,37.1734,30.916199999999996,0,0,0.6,1,87.3,97.8,90.3,96.7,"F",25,"F","TB101",16.7138,15.1767,27.5474,23.893000000000004,0,0,0.7,0.6,90.6,91.4,87.5,92,"F",31,"F","MR101-nonexercise",16.9224,16.612599999999997,29.648200000000003,28.069200000000002,"SW101-nonexercise",12.4022,11.719299999999999,34.6781,31.580900000000003,null,null,20,-10.49,".",1,{"$error":"#VALUE!"},null,"High BMI","Exercise",-8.77,6.476,21,{"$f":"BB7/SQRT(BC7)","v":1.4131790571682867}]
["AA101",15.4715,12.892399999999999,23.0114,20.9844,0,0,0.3,0.7,105,112.5,104.3,107.7,"F",20,"T","SW101",9.427299999999999,9.9914,28.4558,27.811,0.2,0.5,0.8,1.1,91.2,105.6,87.7,103.9,"M",26,"F","RS101-nonexercise",16.4743,15.623800000000003,26.904200000000003,26.288400000000003,"BR102-nonexercise",13.137699999999999,13.285999999999998,30.7705,31.6663,null,null,20,-3.17,5.676,6,2.3172172966728866,null,null,"NonExercise",-5.85,5.316,13,{"$f":"BB8/SQRT(BC8)","v":1.474393121566659}]
["AI101",20.9822,16.3284,35.2911,31.419999999999998,0,0,0.2,0,95.3,94.4,96.4,95.3,"F",19,"F","AP101",18.5306,18.207800000000002,29.557200000000005,28.288100000000004,0.2,0,0.1,0,87.4,88.9,87.9,89.4,"F",26,"F","JF102-nonexercise",16.969099999999997,14.8389,38.1077,35.894000000000005,"DJ102-nonexercise",19.010200000000005,16.8904,30.491000000000003,30.119600000000002,null,null,21,-6.59,6.12,7,2.3131425748164705]
["AK101",17.8659,14.079699999999999,24.6325,21.7322,0,0,0,0.2,87.7,90.2,88.5,87.6,"F",21.97,"F","DP101",23.244799999999998,21.3061,43.8584,44.420300000000005,0.2,0.3,0.3,0.3,66.8,72.1,66.9,73.7,"F",28,"T","KK101-nonexercise",21.722399999999997,18.530900000000003,29.5171,25.9495,"FH101-nonexercise",15.012099999999998,13.400599999999997,31.6972,28.961900000000004,null,null,22,-10.62,".",1,{"$error":"#VALUE!"}]
["AMP101",21.0574,17.8474,42.6763,38.142199999999995,0,0,0.3,0.9,91.7,96.6,88.4,98.7,"F",22,"F","DY101",21.885399999999997,17.0549,34.351000000000006,33.62779999999999,0,0,0.3,0.5,91.3,94.3,94.9,93.4,"F",25.6,"F","KLA101-nonexercise",15.653200000000002,13.6863,36.4281,31.869099999999996,"JL101-nonexercise",15.379000000000001,14.1237,37.881099999999996,33.86149999999999,null,null,22,-15.04,7.661,8,2.70857252533507,"congruent","Normal BMI","Exercise",-12.29,9.488,52,{"$f":"BB11/SQRT(BC11)","v":1.3157488654462435}]
["AP102",18.439,17.270599999999995,35.5715,31.682499999999997,0.1,0.2,0.5,0.5,86.3,98.2,86.4,95.7,"F",22,"F","EF101",18.428199999999997,17.023999999999997,37.12750000000001,31.8022,0.1,0,0.3,0.4,96,128.5,98.2,132.5,"F",29,"F","KV101-nonexercise",18.135799999999996,17.6523,27.7524,25.7055,"SA102-nonexercise",16.896499999999996,15.819500000000001,38.9822,34.1113,null,null,23,-11.26,4.607,8,1.628820470463212,null,null,"NonExercise",-9.13,6.874,17,{"$f":"BB12/SQRT(BC12)","v":1.6671898864997527}]
["AS102",17.969500000000004,15.7728,26.5177,22.605199999999996,0,0.1,0.6,1,74.6,89.7,76.3,91.3,"F",19,"F","EJ101",20.7142,17.292499999999997,30.578700000000005,29.648200000000003,0,0.1,0.2,0.6,85,99,80.6,103.7,"F",27,"F","MA101-nonexercise",18.267899999999997,16.9958,47.182,42.0249,"TM101-nonexercise",16.1548,13.562300000000002,35.288599999999995,30.01000000000001,null,null,24,-5.82,5.763,4,2.8815]
["BH101",14.389600000000002,11.5977,42.8138,34.4264,0,0,2,0.8,0,0,0,0,"F",21,"T","IG101",17.6407,15.282500000000002,34.140100000000004,30.55899999999999,0,0,1.4,1,107.4,122.1,105.1,122.8,"F",33,"T","MT102-nonexercise",16.8103,14.336099999999998,24.3432,22.156200000000002,"TR101-nonexercise",21.382299999999997,20.576299999999996,33.0926,31.8651,null,null,25,-10.64,7.677,9,2.5589999999999997]
["CC101",17.3517,15.068800000000001,38.107099999999996,34.8555,0,0,0.4,0.4,89,97.5,87.6,105.8,"F",25,"T","JC102",15.273900000000001,14.2649,27.471300000000003,25.4321,0,0.1,0.2,0.1,81.2,81.7,73.9,81.7,"M",29,"F","RA101-nonexercise",16.212799999999998,14.0328,32.9362,29.5422,{"$nulls":7},26,2.5,".",1,{"$error":"#VALUE!"},null,"High BMI","Exercise",-9.21,8.129,21,{"$f":"BB15/SQRT(BC15)","v":1.773893229728382}]
["DE101",25.5767,23.886400000000002,38.4526,31.810999999999996,0,0,1.1,0.8,100.4,111.5,98.8,108.6,"F",23,"F","JD101",27.532199999999996,23.701999999999998,36.259,32.801899999999996,0,0,1.5,1.6,76.1,72.3,78.9,75.8,"M",28,"T","RO101-nonexercise",18.6171,17.860699999999998,41.886399999999995,39.684200000000004,{"$nulls":7},26,-7.8,3.741,3,2.15986735703839,null,null,"NonExercise",-7.15,5.369,13,{"$f":"BB16/SQRT(BC16)","v":1.4890926767666275}]
["DI101",24.093799999999998,21.435900000000004,40.22959999999999,36.652499999999996,0,0.1,1.1,0.6,72.1,95.7,76.8,90.6,"F",23,"T","JP101",14.309999999999999,12.1462,28.856,24.650199999999995,0,0,0.5,0.1,97.8,98,97.8,98.2,"F",37,"F","TP101-nonexercise",26.3037,20.6017,36.4016,33.7205,{"$nulls":7},27,-4.27,".",1,{"$error":"#VALUE!"}]
["DJ101",17.2708,17.256400000000003,40.2068,36.051,0.3,0.1,0.9,0.7,77.8,99.3,82,96.8,"M",25,"F","MD101",30.2464,24.5805,42.736599999999996,35.4456,0.4,0,0.2,0.2,78,71.9,74.4,69,"M ",29,"F","YS102-nonexercise",15.965399999999999,13.429300000000001,40.8898,32.240899999999996,{"$nulls":7},27,-6.53,1.317,2,0.931259630822683]
["DS101",12.0852,11.376999999999999,29.961199999999998,26.011599999999998,0,0,0.3,0.6,72.3,96.7,69.5,96.1,"F",18,"F","MK101",18.409,16.9868,31.8901,30.251299999999997,0,0,1,0.3,89.5,102.8,97.1,102.2,"F",31,"F",{"$nulls":12},28,-11.79,8.91,3,5.144190898479566]
["DST102",13.952099999999998,11.661599999999998,26.9013,24.6744,0,0,0.9,1,102,110.9,99.7,110.3,"M",22,"F","OB101",25.580899999999996,21.9742,33.5095,35.1175,0,0,0,0.2,100.5,105.1,97.6,101.8,"F",30.26,"F",{"$nulls":12},28,-11.95,".",1,{"$error":"#VALUE!"}]
["DT101",26.088299999999997,16.183300000000003,96.289,69.9355,0,0.1,3.5,3.7,76.2,98.2,79.1,96.7,"M",25,"T","RB101",19.8936,17.936700000000002,50.012499999999996,44.035199999999996,0,0,1.2,0.4,87.5,92.7,87.1,93.2,"F",28.3,"T",{"$nulls":12},29,-9.88,7.015,3,4.0501121383652245]
["DZ101",14.727700000000002,17.015299999999996,25.654200000000003,26.296499999999998,0.1,0,0.5,0.5,77.4,104.2,79.3,103.7,"M",20,"F","SGJ101",12.935099999999997,11.5053,26.0448,25.091900000000003,0.3,0,0.7,0.5,94.6,93.8,93,95.6,"F",26,"F",{"$nulls":12},30,-12.47,".",1,{"$error":"#VALUE!"}]
["EC101",21.6129,15.187700000000001,33.112199999999994,31.822499999999998,0,0,0.5,0.4,0,0,0,0,"F",21,"F",{"$nulls":28},30,4.8,".",1,{"$error":"#VALUE!"}]
["ER101",10.491,10.306,22.902900000000002,21.6207,0,0,0.6,0.4,72,70.6,71.5,71.7,"M",23,"F",{"$nulls":28},31,-9.2,5.747,2,4.063742671479088]
["FA101",19.7535,18.2167,41.5224,39.3654,0,0,0.7,1,92.2,100.9,91.8,99.7,"M",20,"F",{"$nulls":28},32,-17.86,".",1,{"$error":"#VALUE!"}]
["GH101",16.534499999999998,13.8357,44.15239999999999,41.3965,0,0,0.1,0,73.6,78.5,69.5,79.9,"M",25,"F",{"$nulls":28},33,-10.48,".",1,{"$error":"#VALUE!"}]
["GS101",14.0923,13.292600000000002,39.6012,35.9282,0,0,0.5,0.3,121.1,118.9,115.1,117.2,"F",25,"F",{"$nulls":28},37,-14.58,".",1,{"$error":"#VALUE!"}]
["HR101",17.3627,15.538,31.819499999999998,30.263199999999994,0,0,0.6,0.9,86.1,87.9,83.7,87.2,"M",16,"T",{"$nulls":27},"NonEX",19,2.5,".",1,{"$error":"#VALUE!"}]
["IF101",17.422,15.8644,37.474799999999995,29.667,0,0,0.7,0.2,89,99.8,89.3,99.4,"F",19.53,"F",{"$nulls":28},20,-8.94,2.723,3,1.572124783003351]
["IH101",16.429499999999997,14.8702,32.2712,28.8887,0,0,1.3,1.2,86.4,113,85.7,112.5,"F",21,"F",{"$nulls":28},21,-5.65,2.905,2,2.0541451993469204]
["IOD101",21.266399999999997,19.215200000000003,34.428399999999996,34.9788,0,0,0.8,1.1,91.4,101,92.8,99.6,"F",19,"F",{"$nulls":28},22,-6.98,2.342,2,1.6560440815388942]
["JB101",17.6451,16.454,32.583299999999994,29.1572,0.4,0,0.6,0.6,103,111.2,97.5,108.8,"F",24,"F",{"$nulls":28},23,-11.56,6.665,4,3.3325]
["JG101",20.3714,16.964199999999998,33.0565,26.4711,0.2,0,0.7,0.2,77.2,103.9,76.9,103.5,"F",19,"F",{"$nulls":28},24,-8.89,5.132,2,3.6288720010493614]
["JM101",20.058200000000003,17.9146,53.472500000000004,48.1633,0,0,0.3,0.1,83.3,88.4,85.9,89.4,"F",25,"F",{"$nulls":28},25,-7.33,4.497,3,2.596344160545747]
["JS102",17.1953,16.1707,28.614000000000004,28.5533,0,0,0.3,0.7,68.5,75.3,71.7,73.4,"M",20,"F",{"$nulls":28},26,-8.37,7.916,4,{"$f":"AU35/SQRT(AV35)","v":3.958}]
["KM101",17.5411,17.0261,42.0356,42.4106,0.2,0.1,0.4,0.5,109.9,115.1,111.4,112.7,"F",17,"T",{"$nulls":28},27,-6.95,3.22,4,1.61]
["KP101",20.3453,17.023900000000005,30.821199999999997,27.543300000000006,0,0,0.6,0.8,79.5,110.8,89.9,112.1,"M",24,"F",{"$nulls":28},28,1.22,".",1,{"$error":"#VALUE!"}]
["LB101",19.0548,17.187799999999996,33.212399999999995,34.05839999999999,0,0,0.9,0.4,76.9,86.9,78.5,85.1,"M",24,"F",{"$nulls":28},29,-1.22,".",1,{"$error":"#VALUE!"}]
["LT101",22.7769,14.0828,27.9226,23.3045,0,0,0.6,1.4,87.3,102.4,94.7,103.2,"F",22,"F",{"$nulls":28},30,-6.34,".",1,{"$error":"#VALUE!"}]
["MT101",31.6384,22.5047,34.48910000000001,27.274500000000007,0,0,0.4,0.3,86.6,105.9,85.7,102.6,"F",22,"F",{"$nulls":28},31,-1.69,".",1,{"$error":"#VALUE!"}]
["NV101",17.536199999999997,16.0148,24.1881,22.305400000000002,0,0,0.2,0.2,0,0,0,0,"F",24,"F",{"$nulls":28},32,-6.73,".",1,{"$error":"#VALUE!"}]
["OA101",19.099600000000002,18.063699999999997,54.17960000000001,42.54280000000001,0,0,0.6,0.1,66.7,94.2,71.1,94.3,"M",25,"F",{"$nulls":26},"congRT","EX",16,-8.94,".",1,{"$error":"#VALUE!"}]
["PM101",15.196800000000001,13.889199999999999,27.094,25.0264,0.1,0,1.2,0.5,90.7,109.9,90.9,106.4,"M",23,"T",{"$nulls":28},17,-2.94,".",1,{"$error":"#VALUE!"}]
["RK101",21.748399999999997,20.1021,41.6739,38.069399999999995,0,0,1.5,0.9,105.1,110.5,105.1,112.7,"F",21,"T",{"$nulls":28},18,-16.42,".",1,{"$error":"#VALUE!"}]
["RT101",23.413099999999996,17.725900000000003,34.1639,30.883100000000002,0,0,0,0.1,83.5,89,85.9,93.3,"F",23,"F",{"$nulls":28},19,-14.5,5.866,5,2.623354951202753]
["SAV101",15.004,12.6485,29.7207,28.665799999999997,0.3,0.1,1,0.4,73,91.5,75.5,91,"M",20,"F",{"$nulls":28},20,-13.37,".",1,{"$error":"#VALUE!"}]
["SK101",19.8515,15.502699999999999,47.2778,39.3661,0.6,0.9,1.7,2.8,85.1,112.4,82.7,107.9,"M",23,"F",{"$nulls":28},20,-14.28,11.992,6,4.895713499242646]
["SN101",18.9878,19.790399999999998,38.8862,41.162,0.1,0,0.4,0.6,113.3,115.3,111.8,113.8,"F",20,"T",{"$nulls":28},21,-7.14,5.862,7,2.2156277407800897]
["SR101",14.587399999999999,13.13,26.703700000000005,23.2657,0,0,0.6,0.5,0,0,0,0,"F",23,"F",{"$nulls":28},22,-15.24,".",1,{"$error":"#VALUE!"}]
["TN101",18.124899999999997,17.4249,33.825,30.8405,0,0,1.2,0.7,72.2,89.5,75.3,88.8,"F",21,"F",{"$nulls":28},22,-16.64,16.03,8,5.667460851210178]
["TN102",16.946499999999997,16.7113,26.144,24.840899999999998,0,0,0.9,1.6,82.8,102.9,81.4,101.4,"F",22,"F",{"$nulls":28},23,-11.38,7.963,8,2.8153456492942386]
["YS101",14.472800000000001,14.245,35.939,29.759599999999995,0,0,0.3,0.4,0,0,0,0,"F",22,"F",{"$nulls":28},24,-10.35,4.196,4,2.098]
["ZP101",26.899,23.292600000000004,29.9677,26.0108,0.1,0,0.4,0.3,102.7,124.9,105.2,121.5,"F",19,"F",{"$nulls":28},25,-12.07,9.352,9,3.1173333333333333]
[{"$nulls":44},26,15.53,".",1,{"$error":"#VALUE!"}]
[{"$nulls":44},26,-11.35,5.173,3,2.986632942517934]
[{"$nulls":44},27,-13.77,".",1,{"$error":"#VALUE!"}]
[{"$nulls":44},27,-4.34,3.65,2,2.5809397513308983]
[{"$nulls":44},28,-5.53,11.358,3,6.55754435745577]
[{"$nulls":44},28,-9.84,".",1,{"$error":"#VALUE!"}]
[{"$nulls":44},29,-16.39,2.413,3,1.3931461995545669]
[{"$nulls":44},30,-6.69,".",1,{"$error":"#VALUE!"}]
[{"$nulls":44},30,-14.1,".",1,{"$error":"#VALUE!"}]
[{"$nulls":44},31,-8.46,1.04,2,0.7353910524340094]
[{"$nulls":44},32,-14.5,".",1,{"$error":"#VALUE!"}]
[{"$nulls":44},33,-9.49,".",1,{"$error":"#VALUE!"}]
[{"$nulls":44},37,-15.12,".",1,{"$error":"#VALUE!"}]
[{"$nulls":43},"NonEX",19,-4.89,".",1,{"$f":"AU67/SQRT(AV67)","v":{"$error":"#VALUE!"}}]
[{"$nulls":44},20,-13.01,9.617,3,5.552377538796632]
[{"$nulls":44},21,-0.27,6.936,2,4.904492634309893]
[{"$nulls":44},22,-3.86,2.875,2,2.032931995911324]
[{"$nulls":44},23,-14.15,1.458,4,0.729]
[{"$nulls":44},24,-8.31,6.012,2,4.251125968493523]
[{"$nulls":44},25,-9.95,6.8,3,3.925981830489455]
[{"$nulls":44},26,-6.7,7.076,4,3.538]
[{"$nulls":44},27,-6.75,3.291,4,1.6455]
[{"$nulls":44},28,-14.99,".",1,{"$error":"#VALUE!"}]
[{"$nulls":44},29,-11.15,".",1,{"$error":"#VALUE!"}]
[{"$nulls":44},30,-1.5,".",1,{"$error":"#VALUE!"}]
[{"$nulls":44},31,-0.81,".",1,{"$error":"#VALUE!"}]
[{"$nulls":44},32,-10.64,".",1,{"$error":"#VALUE!"}]

{"sheet":"adhd","index":8,"n_rows":57,"n_cols":49,"rows_kept":57}
["ID (reds lack HR data)","avg-pre-cong","avg-post-cong","avg-pre-i","avg-post-incong","avg-pre-err-c","avg-post-c","avg-pre-err-i","avg-post-err-i","avg-preHR-c","avg-postHR-c","avg-pre-HR-i","avg-postHR-i","Gender","BMI","ADD","ID (reds lack HR data)","avg-pre-cong","avg-post-cong","avg-pre-i","avg-post-incong","avg-pre-err-c","avg-post-c","avg-pre-err-i","avg-post-err-i","avg-preHR-c","avg-postHR-c","avg-pre-HR-i","avg-postHR-i","Gender","BMI","ADD","ID","avg-pre-cong","avg-post-cong","avg-pre-i","avg-post-incong","ID","avg-pre-cong","avg-post-cong","avg-pre-i","avg-post-incong","Descriptive Statistics"]
["CN101",15.721300000000003,13.4421,36.446999999999996,29.938200000000002,0,0,1.6,0.9,92,114.2,88.3,113.4,"F",32,"T","AA102",20.987900000000003,18.4185,32.63440000000001,29.5251,0.1,0.7,3.1,2.5,80.1,98,84.1,97.8,"F",21,"F","CN101-nonexercise",15.792300000000001,14.1113,35.572799999999994,33.1789,"AA102-nonexercise",22.276699999999998,23.3091,35.605900000000005,34.326299999999996,null,"ADHD","ParadigmsEXNonEx","Mean","Std. Deviation","N","SE"]
["DD101",14.385,13.3243,43.462300000000006,35.291500000000006,0,0,1.1,0.6,75.4,89.2,74.6,84.8,"M",23,"T","CJ101",17.3067,14.923300000000001,31.377,30.038600000000002,0,0.1,0.5,0.8,104.8,117.6,102.2,116.2,"M",26.78,"F","DD101-nonexercise",14.9518,14.0701,42.4379,38.77210000000001,"CJ101-nonexercise",19.6495,16.164299999999997,34.026300000000006,31.043,"incongruentRT","non-ADHD","Exercise",-9.36,6.443,56,{"$f":"AU3/SQRT(AV3)","v":0.8609820908208751}]
["JF101",14.202599999999999,13.252200000000002,31.594299999999997,27.655399999999997,0,0.1,0.4,0.6,71.2,84,69.2,84.4,"M",30,"T","FA102",13.908199999999999,14.479400000000002,30.3097,30.953799999999994,0.1,0.5,1,2.6,85.8,84.3,85.1,85.9,"F",21,"F","JF101-nonexercise",14.019899999999998,13.809999999999999,28.493900000000004,26.6887,"FA102-nonexercise",17.317500000000003,16.4213,36.427,33.621300000000005,null,null,"NonExercise",-6.52,5.596,24,{"$f":"AU4/SQRT(AV4)","v":1.142278716717889}]
["AA101",15.4715,12.892399999999999,23.0114,20.9844,0,0,0.3,0.7,105,112.5,104.3,107.7,"F",20,"T","JH102",16.2625,14.352500000000001,28.9125,26.484999999999996,0.1,0,0.4,0.2,80.7,98.8,87.3,89.5,"F",19,"F","KK101-nonexercise",21.722399999999997,18.530900000000003,29.5171,25.9495,"JH102-nonexercise",13.49,12.829700000000003,24.621899999999997,25.2368]
["BH101",14.389600000000002,11.5977,42.8138,34.4264,0,0,2,0.8,0,0,0,0,"F",21,"T","JR101",24.2344,22.5562,36.4273,33.709700000000005,0.1,0.3,0.5,0.6,85.2,97.1,84.5,97.8,"F",27,"F","MA101-nonexercise",18.267899999999997,16.9958,47.182,42.0249,"JR101-nonexercise",21.0424,20.1264,33.88250000000001,32.23729999999999]
["CC101",17.3517,15.068800000000001,38.107099999999996,34.8555,0,0,0.4,0.4,89,97.5,87.6,105.8,"F",25,"T","MR101",18.4691,16.404100000000003,33.0033,28.306100000000004,0,0,0.3,1.2,81.4,89.7,86,91.8,"F",22,"F","RA101-nonexercise",16.212799999999998,14.0328,32.9362,29.5422,"MR101-nonexercise",16.9224,16.612599999999997,29.648200000000003,28.069200000000002,null,"ADHD","Exercise",-9.85,8.21,17,1.991217481548294]
["DI101",24.093799999999998,21.435900000000004,40.22959999999999,36.652499999999996,0,0.1,1.1,0.6,72.1,95.7,76.8,90.6,"F",23,"T","RS101",30.655999999999995,20.568199999999997,37.1734,30.916199999999996,0,0,0.6,1,87.3,97.8,90.3,96.7,"F",25,"F",{"$nulls":5},"RS101-nonexercise",16.4743,15.623800000000003,26.904200000000003,26.288400000000003,null,null,"NonExercise",-9.17,2.331,6,0.9516267650712648]
["DP101",23.244799999999998,21.3061,43.8584,44.420300000000005,0.2,0.3,0.3,0.3,66.8,72.1,66.9,73.7,"F",28,"T","SN102",20.0594,18.7797,43.399100000000004,36.775400000000005,0,0,1.1,0.5,78.4,90.5,77.5,90.6,"F",28,"F",{"$nulls":5},"SN102-nonexercise",19.142900000000004,16.274,34.6102,35.033699999999996,{"$nulls":4},9.385,56,1.2541233776740515]
["DT101",26.088299999999997,16.183300000000003,96.289,69.9355,0,0.1,3.5,3.7,76.2,98.2,79.1,96.7,"M",25,"T","TB101",16.7138,15.1767,27.5474,23.893000000000004,0,0,0.7,0.6,90.6,91.4,87.5,92,"F",31,"F",{"$nulls":5},"TB101-nonexercise",16.036,15.9054,24.3585,23.947899999999997,{"$nulls":4},6.606,24,1.3484441034021397]
["HR101",17.3627,15.538,31.819499999999998,30.263199999999994,0,0,0.6,0.9,86.1,87.9,83.7,87.2,"M",16,"T","SW101",9.427299999999999,9.9914,28.4558,27.811,0.2,0.5,0.8,1.1,91.2,105.6,87.7,103.9,"M",26,"F",{"$nulls":5},"SW101-nonexercise",12.4022,11.719299999999999,34.6781,31.580900000000003,"congruentRT","non-ADHD","Exercise",-11.34,9.385,56,1.2541233776740515]
["IG101",17.6407,15.282500000000002,34.140100000000004,30.55899999999999,0,0,1.4,1,107.4,122.1,105.1,122.8,"F",33,"T","AI101",20.9822,16.3284,35.2911,31.419999999999998,0,0,0.2,0,95.3,94.4,96.4,95.3,"F",19,"F",{"$nulls":5},"BR102-nonexercise",13.137699999999999,13.285999999999998,30.7705,31.6663,null,null,"NonExercise",-8.13,6.606,24,1.3484441034021397]
["JD101",27.532199999999996,23.701999999999998,36.259,32.801899999999996,0,0,1.5,1.6,76.1,72.3,78.9,75.8,"M",28,"T","AK101",17.8659,14.079699999999999,24.6325,21.7322,0,0,0,0.2,87.7,90.2,88.5,87.6,"F",21.97,"F",{"$nulls":5},"DJ102-nonexercise",19.010200000000005,16.8904,30.491000000000003,30.119600000000002]
["KM101",17.5411,17.0261,42.0356,42.4106,0.2,0.1,0.4,0.5,109.9,115.1,111.4,112.7,"F",17,"T","AMP101",21.0574,17.8474,42.6763,38.142199999999995,0,0,0.3,0.9,91.7,96.6,88.4,98.7,"F",22,"F",{"$nulls":5},"FH101-nonexercise",15.012099999999998,13.400599999999997,31.6972,28.961900000000004]
["PM101",15.196800000000001,13.889199999999999,27.094,25.0264,0.1,0,1.2,0.5,90.7,109.9,90.9,106.4,"M",23,"T","AP101",18.5306,18.207800000000002,29.557200000000005,28.288100000000004,0.2,0,0.1,0,87.4,88.9,87.9,89.4,"F",26,"F",{"$nulls":5},"JF102-nonexercise",16.969099999999997,14.8389,38.1077,35.894000000000005,null,"ADHD","Exercise",-11.63,8.693,17,{"$f":"AU15/SQRT(AV15)","v":2.1083621884408426}]
["RB101",19.8936,17.936700000000002,50.012499999999996,44.035199999999996,0,0,1.2,0.4,87.5,92.7,87.1,93.2,"F",28.3,"T","AP102",18.439,17.270599999999995,35.5715,31.682499999999997,0.1,0.2,0.5,0.5,86.3,98.2,86.4,95.7,"F",22,"F",{"$nulls":5},"JL101-nonexercise",15.379000000000001,14.1237,37.881099999999996,33.86149999999999,null,null,"NonExercise",-8.86,4.996,6,{"$f":"AU16/SQRT(AV16)","v":2.03960845915746}]
["RK101",21.748399999999997,20.1021,41.6739,38.069399999999995,0,0,1.5,0.9,105.1,110.5,105.1,112.7,"F",21,"T","AS102",17.969500000000004,15.7728,26.5177,22.605199999999996,0,0.1,0.6,1,74.6,89.7,76.3,91.3,"F",19,"F",{"$nulls":5},"KLA101-nonexercise",15.653200000000002,13.6863,36.4281,31.869099999999996]
["SN101",18.9878,19.790399999999998,38.8862,41.162,0.1,0,0.4,0.6,113.3,115.3,111.8,113.8,"F",20,"T","DE101",25.5767,23.886400000000002,38.4526,31.810999999999996,0,0,1.1,0.8,100.4,111.5,98.8,108.6,"F",23,"F",{"$nulls":5},"KV101-nonexercise",18.135799999999996,17.6523,27.7524,25.7055]
[{"$nulls":16},"DJ101",17.2708,17.256400000000003,40.2068,36.051,0.3,0.1,0.9,0.7,77.8,99.3,82,96.8,"M",25,"F",{"$nulls":5},"MT102-nonexercise",16.8103,14.336099999999998,24.3432,22.156200000000002]
[{"$nulls":16},"DS101",12.0852,11.376999999999999,29.961199999999998,26.011599999999998,0,0,0.3,0.6,72.3,96.7,69.5,96.1,"F",18,"F",{"$nulls":5},"RO101-nonexercise",18.6171,17.860699999999998,41.886399999999995,39.684200000000004]
[{"$nulls":16},"DST102",13.952099999999998,11.661599999999998,26.9013,24.6744,0,0,0.9,1,102,110.9,99.7,110.3,"M",22,"F",{"$nulls":5},"SA102-nonexercise",16.896499999999996,15.819500000000001,38.9822,34.1113]
[{"$nulls":16},"DY101",21.885399999999997,17.0549,34.351000000000006,33.62779999999999,0,0,0.3,0.5,91.3,94.3,94.9,93.4,"F",25.6,"F",{"$nulls":5},"TM101-nonexercise",16.1548,13.562300000000002,35.288599999999995,30.01000000000001]
[{"$nulls":16},"DZ101",14.727700000000002,17.015299999999996,25.654200000000003,26.296499999999998,0.1,0,0.5,0.5,77.4,104.2,79.3,103.7,"M",20,"F",{"$nulls":5},"TP101-nonexercise",26.3037,20.6017,36.4016,33.7205]
[{"$nulls":16},"EC101",21.6129,15.187700000000001,33.112199999999994,31.822499999999998,0,0,0.5,0.4,0,0,0,0,"F",21,"F",{"$nulls":5},"TR101-nonexercise",21.382299999999997,20.576299999999996,33.0926,31.8651]
[{"$nulls":16},"EF101",18.428199999999997,17.023999999999997,37.12750000000001,31.8022,0.1,0,0.3,0.4,96,128.5,98.2,132.5,"F",29,"F",{"$nulls":5},"YS102-nonexercise",15.965399999999999,13.429300000000001,40.8898,32.240899999999996]
[{"$nulls":16},"EJ101",20.7142,17.292499999999997,30.578700000000005,29.648200000000003,0,0.1,0.2,0.6,85,99,80.6,103.7,"F",27,"F"]
[{"$nulls":16},"ER101",10.491,10.306,22.902900000000002,21.6207,0,0,0.6,0.4,72,70.6,71.5,71.7,"M",23,"F"]
[{"$nulls":16},"FA101",19.7535,18.2167,41.5224,39.3654,0,0,0.7,1,92.2,100.9,91.8,99.7,"M",20,"F"]
[{"$nulls":16},"GH101",16.534499999999998,13.8357,44.15239999999999,41.3965,0,0,0.1,0,73.6,78.5,69.5,79.9,"M",25,"F"]
[{"$nulls":16},"GS101",14.0923,13.292600000000002,39.6012,35.9282,0,0,0.5,0.3,121.1,118.9,115.1,117.2,"F",25,"F"]
[{"$nulls":16},"IF101",17.422,15.8644,37.474799999999995,29.667,0,0,0.7,0.2,89,99.8,89.3,99.4,"F",19.53,"F"]
[{"$nulls":16},"IH101",16.429499999999997,14.8702,32.2712,28.8887,0,0,1.3,1.2,86.4,113,85.7,112.5,"F",21,"F"]
[{"$nulls":16},"IOD101",21.266399999999997,19.215200000000003,34.428399999999996,34.9788,0,0,0.8,1.1,91.4,101,92.8,99.6,"F",19,"F"]
[{"$nulls":16},"JB101",17.6451,16.454,32.583299999999994,29.1572,0.4,0,0.6,0.6,103,111.2,97.5,108.8,"F",24,"F"]
[{"$nulls":16},"JC102",15.273900000000001,14.2649,27.471300000000003,25.4321,0,0.1,0.2,0.1,81.2,81.7,73.9,81.7,"M",29,"F"]
[{"$nulls":16},"JG101",20.3714,16.964199999999998,33.0565,26.4711,0.2,0,0.7,0.2,77.2,103.9,76.9,103.5,"F",19,"F"]
[{"$nulls":16},"JM101",20.058200000000003,17.9146,53.472500000000004,48.1633,0,0,0.3,0.1,83.3,88.4,85.9,89.4,"F",25,"F"]
[{"$nulls":16},"JP101",14.309999999999999,12.1462,28.856,24.650199999999995,0,0,0.5,0.1,97.8,98,97.8,98.2,"F",37,"F"]
[{"$nulls":16},"JS102",17.1953,16.1707,28.614000000000004,28.5533,0,0,0.3,0.7,68.5,75.3,71.7,73.4,"M",20,"F"]
[{"$nulls":16},"KP101",20.3453,17.023900000000005,30.821199999999997,27.543300000000006,0,0,0.6,0.8,79.5,110.8,89.9,112.1,"M",24,"F"]
[{"$nulls":16},"LB101",19.0548,17.187799999999996,33.212399999999995,34.05839999999999,0,0,0.9,0.4,76.9,86.9,78.5,85.1,"M",24,"F"]
[{"$nulls":16},"LT101",22.7769,14.0828,27.9226,23.3045,0,0,0.6,1.4,87.3,102.4,94.7,103.2,"F",22,"F"]
[{"$nulls":16},"MD101",30.2464,24.5805,42.736599999999996,35.4456,0.4,0,0.2,0.2,78,71.9,74.4,69,"M ",29,"F"]
[{"$nulls":16},"MK101",18.409,16.9868,31.8901,30.251299999999997,0,0,1,0.3,89.5,102.8,97.1,102.2,"F",31,"F"]
[{"$nulls":16},"MT101",31.6384,22.5047,34.48910000000001,27.274500000000007,0,0,0.4,0.3,86.6,105.9,85.7,102.6,"F",22,"F"]
[{"$nulls":16},"NV101",17.536199999999997,16.0148,24.1881,22.305400000000002,0,0,0.2,0.2,0,0,0,0,"F",24,"F"]
[{"$nulls":16},"OA101",19.099600000000002,18.063699999999997,54.17960000000001,42.54280000000001,0,0,0.6,0.1,66.7,94.2,71.1,94.3,"M",25,"F"]
[{"$nulls":16},"OB101",25.580899999999996,21.9742,33.5095,35.1175,0,0,0,0.2,100.5,105.1,97.6,101.8,"F",30.26,"F"]
[{"$nulls":16},"RT101",23.413099999999996,17.725900000000003,34.1639,30.883100000000002,0,0,0,0.1,83.5,89,85.9,93.3,"F",23,"F"]
[{"$nulls":16},"SAV101",15.004,12.6485,29.7207,28.665799999999997,0.3,0.1,1,0.4,73,91.5,75.5,91,"M",20,"F"]
[{"$nulls":16},"SGJ101",12.935099999999997,11.5053,26.0448,25.091900000000003,0.3,0,0.7,0.5,94.6,93.8,93,95.6,"F",26,"F"]
[{"$nulls":16},"SK101",19.8515,15.502699999999999,47.2778,39.3661,0.6,0.9,1.7,2.8,85.1,112.4,82.7,107.9,"M",23,"F"]
[{"$nulls":16},"SR101",14.587399999999999,13.13,26.703700000000005,23.2657,0,0,0.6,0.5,0,0,0,0,"F",23,"F"]
[{"$nulls":16},"TN101",18.124899999999997,17.4249,33.825,30.8405,0,0,1.2,0.7,72.2,89.5,75.3,88.8,"F",21,"F"]
[{"$nulls":16},"TN102",16.946499999999997,16.7113,26.144,24.840899999999998,0,0,0.9,1.6,82.8,102.9,81.4,101.4,"F",22,"F"]
[{"$nulls":16},"YS101",14.472800000000001,14.245,35.939,29.759599999999995,0,0,0.3,0.4,0,0,0,0,"F",22,"F"]
[{"$nulls":16},"ZP101",26.899,23.292600000000004,29.9677,26.0108,0.1,0,0.4,0.3,102.7,124.9,105.2,121.5,"F",19,"F"]

{"sheet":"analysisnonex","index":9,"n_rows":31,"n_cols":136,"rows_kept":31}
[{"$f":"transposednonex!A1","v":"ID"},{"$f":"transposednonex!B1","v":"PreCongr1 Set1"},{"$f":"transposednonex!D1","v":"PreCongr1 Set2"},{"$f":"transposednonex!F1","v":"PreCongr2 Set1"},{"$f":"transposednonex!H1","v":"PreCongr2 Set2"},{"$f":"transposednonex!J1","v":"PreCongr3 Set1"},{"$f":"transposednonex!L1","v":"PreCongr3 Set2"},{"$f":"transposednonex!N1","v":"PreCongr4 Set1"},{"$f":"transposednonex!P1","v":"PreCongr4 Set2"},{"$f":"transposednonex!R1","v":"PreCongr5 Set1"},{"$f":"transposednonex!T1","v":"PreCongr5 Set2"},"avg-pre-cong",{"$f":"transposednonex!V1","v":"PostCongr1 Set1"},{"$f":"transposednonex!X1","v":"PostCongr1 Set2"},{"$f":"transposednonex!Z1","v":"PostCongr2 Set1"},{"$f":"transposednonex!AB1","v":"PostCongr2 Set2"},{"$f":"transposednonex!AD1","v":"PostCongr3 Set1"},{"$f":"transposednonex!AF1","v":"PostCongr3 Set2"},{"$f":"transposednonex!AH1","v":"PostCongr4 Set1"},{"$f":"transposednonex!AJ1","v":"PostCongr4 Set2"},{"$f":"transposednonex!AL1","v":"PostCongr5 Set1"},{"$f":"transposednonex!AN1","v":"PostCongr5 Set2"},"avg-post-cong",{"$f":"transposednonex!C1","v":"PreIncongr1 Set1"},{"$f":"transposednonex!E1","v":"PreIncongr1 Set2"},{"$f":"transposednonex!G1","v":"PreIncongr2 Set1"},{"$f":"transposednonex!I1","v":"PreIncongr2 Set2"},{"$f":"transposednonex!K1","v":"PreIncongr3 Set1"},{"$f":"transposednonex!M1","v":"PreIncongr3 Set2"},{"$f":"transposednonex!O1","v":"PreIncongr4 Set1"},{"$f":"transposednonex!Q1","v":"PreIncongr4 Set2"},{"$f":"transposednonex!S1","v":"PreIncongr5 Set1"},{"$f":"transposednonex!U1","v":"PreIncongr5 Set2"},"avg-pre-i",{"$f":"transposednonex!W1","v":"PostIncongr1 Set1"},{"$f":"transposednonex!Y1","v":"PostIncongr1 Set2"},{"$f":"transposednonex!AA1","v":"PostIncongr2 Set1"},{"$f":"transposednonex!AC1","v":"PostIncongr2 Set2"},{"$f":"transposednonex!AE1","v":"PostIncongr3 Set1"},{"$f":"transposednonex!AG1","v":"PostIncongr3 Set2"},{"$f":"transposednonex!AI1","v":"PostIncongr4 Set1"},{"$f":"transposednonex!AK1","v":"PostIncongr4 Set2"},{"$f":"transposednonex!AM1","v":"PostIncongr5 Set1"},{"$f":"transposednonex!AO1","v":"PostIncongr5 Set2"},"avg-post-incong",{"$f":"transposednonex!AP1","v":"PreErrorC1 set 1"},{"$f":"transposednonex!AR1","v":"PreErrorC1 set 2"},{"$f":"transposednonex!AT1","v":"PreErrorC2 set 1"},{"$f":"transposednonex!AV1","v":"PreErrorC2 set 2"},{"$f":"transposednonex!AX1","v":"PreErrorC3 set 1 "},{"$f":"transposednonex!AZ1","v":"PreErrorC3 set 2"},{"$f":"transposednonex!BB1","v":"PreErrorC4 set 1"},{"$f":"transposednonex!BD1","v":"PreErrorC4 set 2"},{"$f":"transposednonex!BF1","v":"PreErrorC5 set 1"},{"$f":"transposednonex!BH1","v":"PreErrorC5 set 2"},"avg-pre-err-c",{"$f":"transposednonex!BJ1","v":"PostErrorC1 set 1"},{"$f":"transposednonex!BL1","v":"PostErrorC1 set 2 "},{"$f":"transposednonex!BN1","v":"PostErrorC2 set 1"},{"$f":"transposednonex!BP1","v":"PostErrorC2 set 2 "},{"$f":"transposednonex!BR1","v":"PostErrorC3 set 1"},{"$f":"transposednonex!BT1","v":"PostErrorC3 set 2 "},{"$f":"transposednonex!BV1","v":"PostErrorC4 set 1 "},{"$f":"transposednonex!BX1","v":"PostErrorC4 set 2 "},{"$f":"transposednonex!BZ1","v":"PostErrorC5 set 1"},{"$f":"transposednonex!CB1","v":"PostErrorC5 set 2 "},"avg-post-c",{"$f":"transposednonex!AQ1","v":"PreErrorI1 set 1"},{"$f":"transposednonex!AS1","v":"PreErrorI1 set 2"},{"$f":"transposednonex!AU1","v":"PreErrorI2 set 1"},{"$f":"transposednonex!AW1","v":"PreErrorI2 set 2"},{"$f":"transposednonex!AY1","v":"PreErrorI3 set 1 "},{"$f":"transposednonex!BA1","v":"PreErrorI3 set 2"},{"$f":"transposednonex!BC1","v":"PreErrorI4 set 1"},{"$f":"transposednonex!BE1","v":"PreErrorI4 set 2"},{"$f":"transposednonex!BG1","v":"PreErrorI5 set 1"},{"$f":"transposednonex!BI1","v":"PreErrorI5 set 2"},"avg-pre-err-i",{"$f":"transposednonex!BK1","v":"PostErrorII1 set 1"},{"$f":"transposednonex!BM1","v":"PostErrorII1 set 2 "},{"$f":"transposednonex!BO1","v":"PostErrorI2 set 1"},{"$f":"transposednonex!BQ1","v":"PostErrorI2 set 2 "},{"$f":"transposednonex!BS1","v":"PostErrorI3 set 1"},{"$f":"transposednonex!BU1","v":"PostErrorI3 set 2 "},{"$f":"transposednonex!BW1","v":"PostErrorI4 set 1 "},{"$f":"transposednonex!BY1","v":"PostErrorI4 set 2 "},{"$f":"transposednonex!CA1","v":"PostErrorI5 set 1"},{"$f":"transposednonex!CC1","v":"PostErrorI5 set 2 "},"avg-post-err-i",{"$f":"transposednonex!CD1","v":"PreHRC1 set 1"},{"$f":"transposednonex!CF1","v":"PreHRC1 set2"},{"$f":"transposednonex!CH1","v":"PreHR C2 set1"},{"$f":"transposednonex!CJ1","v":"PreHR C2 set2"},{"$f":"transposednonex!CL1","v":"PreHR C3 set1"},{"$f":"transposednonex!CN1","v":"PreHR C3 set2"},{"$f":"transposednonex!CP1","v":"PreHR C4 set1"},{"$f":"transposednonex!CR1","v":"PreHR C4 set2"},{"$f":"transposednonex!CT1","v":"PreHR C5 set1"},{"$f":"transposednonex!CV1","v":"PreHR C5 set2"},"avg-preHR-c",{"$f":"transposednonex!CX1","v":"PostHR C1 set1"},{"$f":"transposednonex!CZ1","v":"PostHR C1 set2"},{"$f":"transposednonex!DB1","v":"PostHR C2 set1"},{"$f":"transposednonex!DD1","v":"PostHR C2 set2"},{"$f":"transposednonex!DF1","v":"PostHR C3 set1"},{"$f":"transposednonex!DH1","v":"PostHR C3 set2"},{"$f":"transposednonex!DJ1","v":"PostHR C4 set1"},{"$f":"transposednonex!DL1","v":"PostHR C4 set2"},{"$f":"transposednonex!DN1","v":"PostHR C5 set1"},{"$f":"transposednonex!DP1","v":"PostHR C5 set2"},"avg-postHR-c",{"$f":"transposednonex!CE1","v":"PreHR I1 set 1"},{"$f":"transposednonex!CG1","v":"PreHR I1 set2"},{"$f":"transposednonex!CI1","v":"PreHR I2 set1"},{"$f":"transposednonex!CK1","v":"PreHR I2 set2"},{"$f":"transposednonex!CM1","v":"PreHR I3 set1"},{"$f":"transposednonex!CO1","v":"PreHR I3 set2"},{"$f":"transposednonex!CQ1","v":"PreHR I4 set1"},{"$f":"transposednonex!CS1","v":"PreHR I4 set2"},{"$f":"transposednonex!CU1","v":"PreHR I5 set1"},{"$f":"transposednonex!CW1","v":"PreHR I5 set2"},"avg-pre-HR-i",{"$f":"transposednonex!CY1","v":"PostHR I1 set1"},{"$f":"transposednonex!DA1","v":"PostHR I1 set2"},{"$f":"transposednonex!DC1","v":"PostHR I2 set1"},{"$f":"transposednonex!DE1","v":"PostHR I2 set2"},{"$f":"transposednonex!DG1","v":"PostHR I3 set1"},{"$f":"transposednonex!DI1","v":"PostHR I3 set2"},{"$f":"transposednonex!DK1","v":"PostHR I4 set1"},{"$f":"transposednonex!DM1","v":"PostHR I4 set2"},{"$f":"transposednonex!DO1","v":"PostHR I5 set1"},{"$f":"transposednonex!DQ1","v":"PostHR I5 set2"},"avg-postHR-i",{"$f":"transposednonex!DR1","v":"Gender"},{"$f":"transposednonex!DS1","v":"BMI (Body Mass Index)"},{"$f":"transposednonex!DT1","v":"ADHD"}]
[{"$f":"transposednonex!A30","v":"AA102-nonexercise"},{"$f":"transposednonex!B30","v":21.956},{"$f":"transposednonex!D30","v":22.225},{"$f":"transposednonex!F30","v":19.924},{"$f":"transposednonex!H30","v":20.085},{"$f":"transposednonex!J30","v":19.456},{"$f":"transposednonex!L30","v":21.02},{"$f":"transposednonex!N30","v":21.773},{"$f":"transposednonex!P30","v":22},{"$f":"transposednonex!R30","v":29.328},{"$f":"transposednonex!T30","v":25},{"$f":"AVERAGE(B2:K2)","v":22.276699999999998},{"$f":"transposednonex!V30","v":22.322},{"$f":"transposednonex!X30","v":21.278},{"$f":"transposednonex!Z30","v":21},{"$f":"transposednonex!AB30","v":23.711},{"$f":"transposednonex!AD30","v":25.806},{"$f":"transposednonex!AF30","v":26.05},{"$f":"transposednonex!AH30","v":24.766},{"$f":"transposednonex!AJ30","v":21.437},{"$f":"transposednonex!AL30","v":23.611},{"$f":"transposednonex!AN30","v":23.11},{"$f":"AVERAGE(M2:V2)","v":23.3091},{"$f":"transposednonex!C30","v":40.888},{"$f":"transposednonex!E30","v":36.947},{"$f":"transposednonex!G30","v":36.926},{"$f":"transposednonex!I30","v":33.554},{"$f":"transposednonex!K30","v":34.547},{"$f":"transposednonex!M30","v":32.332},{"$f":"transposednonex!O30","v":36.191},{"$f":"transposednonex!Q30","v":33.858},{"$f":"transposednonex!S30","v":37.264},{"$f":"transposednonex!U30","v":33.552},{"$f":"AVERAGE(X2:AG2)","v":35.605900000000005},{"$f":"transposednonex!W30","v":29.792},{"$f":"transposednonex!Y30","v":35.658},{"$f":"transposednonex!AA30","v":35.843},{"$f":"transposednonex!AC30","v":33.504},{"$f":"transposednonex!AE30","v":31.94},{"$f":"transposednonex!AG30","v":33.736},{"$f":"transposednonex!AI30","v":35.475},{"$f":"transposednonex!AK30","v":33.638},{"$f":"transposednonex!AM30","v":36.293},{"$f":"transposednonex!AO30","v":37.384},{"$f":"AVERAGE(AI2:AR2)","v":34.326299999999996},{"$f":"2.5*transposednonex!AP30","v":12.5},{"$f":"transposednonex!AR30","v":0},{"$f":"transposednonex!AT30","v":0},{"$f":"transposednonex!AV30","v":0},{"$f":"transposednonex!AX30","v":0},{"$f":"transposednonex!AZ30","v":2.5},{"$f":"transposednonex!BB30","v":2.5},{"$f":"transposednonex!BD30","v":2.5},{"$f":"transposednonex!BF30","v":0},{"$f":"transposednonex!BH30","v":5},{"$f":"AVERAGE(AT2:BC2)","v":2.5},{"$f":"transposednonex!BJ30","v":0},{"$f":"transposednonex!BL30","v":2.5},{"$f":"transposednonex!BN30","v":0},{"$f":"transposednonex!BP30","v":0},{"$f":"transposednonex!BR30","v":2.5},{"$f":"transposednonex!BT30","v":2.5},{"$f":"transposednonex!BV30","v":0},{"$f":"transposednonex!BX30","v":0},{"$f":"transposednonex!BZ30","v":2.5},{"$f":"transposednonex!CB30","v":2.5},{"$f":"AVERAGE(BE2:BN2)*2.5","v":3.125},{"$f":"transposednonex!AQ30","v":12.5},{"$f":"transposednonex!AS30","v":12.5},{"$f":"transposednonex!AU30","v":12.5},{"$f":"transposednonex!AW30","v":7.5},{"$f":"transposednonex!AY30","v":5},{"$f":"transposednonex!BA30","v":5},{"$f":"transposednonex!BC30","v":12.5},{"$f":"transposednonex!BE30","v":12.5},{"$f":"transposednonex!BG30","v":10},{"$f":"transposednonex!BI30","v":5},{"$f":"AVERAGE(BP2:BY2)*2.5","v":23.75},{"$f":"transposednonex!BK30","v":12.5},{"$f":"transposednonex!BM30","v":15},{"$f":"transposednonex!BO30","v":10},{"$f":"transposednonex!BQ30","v":5},{"$f":"transposednonex!BS30","v":5},{"$f":"transposednonex!BU30","v":10},{"$f":"transposednonex!BW30","v":12.5},{"$f":"transposednonex!BY30","v":5},{"$f":"transposednonex!CA30","v":10},{"$f":"transposednonex!CC30","v":20},{"$f":"AVERAGE(CA2:CJ2)*2.5","v":26.25},{"$f":"transposednonex!CD30","v":78},{"$f":"transposednonex!CF30","v":77},{"$f":"transposednonex!CH30","v":85},{"$f":"transposednonex!CJ30","v":76},{"$f":"transposednonex!CL30","v":73},{"$f":"transposednonex!CN30","v":81},{"$f":"transposednonex!CP30","v":69},{"$f":"transposednonex!CR30","v":64},{"$f":"transposednonex!CT30","v":79},{"$f":"transposednonex!CV30","v":72},{"$f":"AVERAGE(CL2:CU2)","v":75.4},{"$f":"transposednonex!CX30","v":73},{"$f":"transposednonex!CZ30","v":60},{"$f":"transposednonex!DB30","v":73},{"$f":"transposednonex!DD30","v":65},{"$f":"transposednonex!DF30","v":77},{"$f":"transposednonex!DH30","v":80},{"$f":"transposednonex!DJ30","v":74},{"$f":"transposednonex!DL30","v":75},{"$f":"transposednonex!DN30","v":62},{"$f":"transposednonex!DP30","v":66},{"$f":"AVERAGE(CW2:DF2)","v":70.5},{"$f":"transposednonex!CE30","v":79},{"$f":"transposednonex!CG30","v":85},{"$f":"transposednonex!CI30","v":87},{"$f":"transposednonex!CK30","v":75},{"$f":"transposednonex!CM30","v":81},{"$f":"transposednonex!CO30","v":77},{"$f":"transposednonex!CQ30","v":75},{"$f":"transposednonex!CS30","v":66},{"$f":"transposednonex!CU30","v":78},{"$f":"transposednonex!CW30","v":76},{"$f":"AVERAGE(DH2:DQ2)","v":77.9},{"$f":"transposednonex!CY30","v":62},{"$f":"transposednonex!DA30","v":68},{"$f":"transposednonex!DC30","v":73},{"$f":"transposednonex!DE30","v":67},{"$f":"transposednonex!DG30","v":71},{"$f":"transposednonex!DI30","v":74},{"$f":"transposednonex!DK30","v":77},{"$f":"transposednonex!DM30","v":75},{"$f":"transposednonex!DO30","v":71},{"$f":"transposednonex!DQ30","v":69},{"$f":"AVERAGE(DS2:EB2)","v":70.7},{"$f":"transposednonex!DR30","v":"F"},{"$f":"transposednonex!DS30","v":21},{"$f":"transposednonex!DT30","v":"F"}]
[{"$f":"transposednonex!A5","v":"CJ101-nonexercise"},{"$f":"transposednonex!B5","v":18.395},{"$f":"transposednonex!D5","v":19.572},{"$f":"transposednonex!F5","v":18.353},{"$f":"transposednonex!H5","v":23.003},{"$f":"transposednonex!J5","v":20.031},{"$f":"transposednonex!L5","v":18.84},{"$f":"transposednonex!N5","v":21.706},{"$f":"transposednonex!P5","v":20.754},{"$f":"transposednonex!R5","v":17.689},{"$f":"transposednonex!T5","v":18.152},{"$f":"AVERAGE(B3:K3)","v":19.6495},{"$f":"transposednonex!V5","v":18.464},{"$f":"transposednonex!X5","v":17.602},{"$f":"transposednonex!Z5","v":16.594},{"$f":"transposednonex!AB5","v":15.792},{"$f":"transposednonex!AD5","v":15.241},{"$f":"transposednonex!AF5","v":16.184},{"$f":"transposednonex!AH5","v":15.504},{"$f":"transposednonex!AJ5","v":14.992},{"$f":"transposednonex!AL5","v":16.118},{"$f":"transposednonex!AN5","v":15.152},{"$f":"AVERAGE(M3:V3)","v":16.164299999999997},{"$f":"transposednonex!C5","v":31.298},{"$f":"transposednonex!E5","v":35.97},{"$f":"transposednonex!G5","v":36.65},{"$f":"transposednonex!I5","v":34.969},{"$f":"transposednonex!K5","v":36.343},{"$f":"transposednonex!M5","v":36.008},{"$f":"transposednonex!O5","v":31.208},{"$f":"transposednonex!Q5","v":32.08},{"$f":"transposednonex!S5","v":32.552},{"$f":"transposednonex!U5","v":33.185},{"$f":"AVERAGE(X3:AG3)","v":34.026300000000006},{"$f":"transposednonex!W5","v":33.839},{"$f":"transposednonex!Y5","v":32.065},{"$f":"transposednonex!AA5","v":31.376},{"$f":"transposednonex!AC5","v":30.114},{"$f":"transposednonex!AE5","v":31.824},{"$f":"transposednonex!AG5","v":31.641},{"$f":"transposednonex!AI5","v":30.352},{"$f":"transposednonex!AK5","v":30.266},{"$f":"transposednonex!AM5","v":28.984},{"$f":"transposednonex!AO5","v":29.969},{"$f":"AVERAGE(AI3:AR3)","v":31.043},{"$f":"transposednonex!AP5","v":0},{"$f":"transposednonex!AR5","v":0},{"$f":"transposednonex!AT5","v":0},{"$f":"transposednonex!AV5","v":0},{"$f":"transposednonex!AX5","v":2.5},{"$f":"transposednonex!AZ5","v":0},{"$f":"transposednonex!BB5","v":0},{"$f":"transposednonex!BD5","v":0},{"$f":"transposednonex!BF5","v":0},{"$f":"transposednonex!BH5","v":0},{"$f":"AVERAGE(AT3:BC3)","v":0.25},{"$f":"transposednonex!BJ5","v":0},{"$f":"transposednonex!BL5","v":0},{"$f":"transposednonex!BN5","v":0},{"$f":"transposednonex!BP5","v":0},{"$f":"transposednonex!BR5","v":0},{"$f":"transposednonex!BT5","v":0},{"$f":"transposednonex!BV5","v":0},{"$f":"transposednonex!BX5","v":0},{"$f":"transposednonex!BZ5","v":0},{"$f":"transposednonex!CB5","v":0},{"$f":"AVERAGE(BE3:BN3)*2.5","v":0},{"$f":"transposednonex!AQ5","v":2.5},{"$f":"transposednonex!AS5","v":7.5},{"$f":"transposednonex!AU5","v":2.5},{"$f":"transposednonex!AW5","v":0},{"$f":"transposednonex!AY5","v":0},{"$f":"transposednonex!BA5","v":5},{"$f":"transposednonex!BC5","v":0},{"$f":"transposednonex!BE5","v":2.5},{"$f":"transposednonex!BG5","v":2.5},{"$f":"transposednonex!BI5","v":2.5},{"$f":"AVERAGE(BP3:BY3)*2.5","v":6.25},{"$f":"transposednonex!BK5","v":0},{"$f":"transposednonex!BM5","v":0},{"$f":"transposednonex!BO5","v":2.5},{"$f":"transposednonex!BQ5","v":2.5},{"$f":"transposednonex!BS5","v":2.5},{"$f":"transposednonex!BU5","v":0},{"$f":"transposednonex!BW5","v":2.5},{"$f":"transposednonex!BY5","v":2.5},{"$f":"transposednonex!CA5","v":5},{"$f":"transposednonex!CC5","v":10},{"$f":"AVERAGE(CA3:CJ3)*2.5","v":6.875},{"$f":"transposednonex!CD5","v":81},{"$f":"transposednonex!CF5","v":70},{"$f":"transposednonex!CH5","v":89},{"$f":"transposednonex!CJ5","v":86},{"$f":"transposednonex!CL5","v":80},{"$f":"transposednonex!CN5","v":73},{"$f":"transposednonex!CP5","v":95},{"$f":"transposednonex!CR5","v":100},{"$f":"transposednonex!CT5","v":86},{"$f":"transposednonex!CV5","v":80},{"$f":"AVERAGE(CL3:CU3)","v":84},{"$f":"transposednonex!CX5","v":82},{"$f":"transposednonex!CZ5","v":100},{"$f":"transposednonex!DB5","v":102},{"$f":"transposednonex!DD5","v":96},{"$f":"transposednonex!DF5","v":96},{"$f":"transposednonex!DH5","v":88},{"$f":"transposednonex!DJ5","v":64},{"$f":"transposednonex!DL5","v":83},{"$f":"transposednonex!DN5","v":92},{"$f":"transposednonex!DP5","v":93},{"$f":"AVERAGE(CW3:DF3)","v":89.6},{"$f":"transposednonex!CE5","v":71},{"$f":"transposednonex!CG5","v":72},{"$f":"transposednonex!CI5","v":86},{"$f":"transposednonex!CK5","v":86},{"$f":"transposednonex!CM5","v":73},{"$f":"transposednonex!CO5","v":84},{"$f":"transposednonex!CQ5","v":101},{"$f":"transposednonex!CS5","v":87},{"$f":"transposednonex!CU5","v":80},{"$f":"transposednonex!CW5","v":91},{"$f":"AVERAGE(DH3:DQ3)","v":83.1},{"$f":"transposednonex!CY5","v":73},{"$f":"transposednonex!DA5","v":92},{"$f":"transposednonex!DC5","v":88},{"$f":"transposednonex!DE5","v":94},{"$f":"transposednonex!DG5","v":95},{"$f":"transposednonex!DI5","v":89},{"$f":"transposednonex!DK5","v":66},{"$f":"transposednonex!DM5","v":82},{"$f":"transposednonex!DO5","v":82},{"$f":"transposednonex!DQ5","v":98},{"$f":"AVERAGE(DS3:EB3)","v":85.9},{"$f":"transposednonex!DR5","v":"M"},{"$f":"transposednonex!DS5","v":25},{"$f":"transposednonex!DT5","v":"F"}]
[{"$f":"transposednonex!A2","v":"CN101-nonexercise"},{"$f":"transposednonex!B2","v":18.616},{"$f":"transposednonex!D2","v":16.375},{"$f":"transposednonex!F2","v":15.872},{"$f":"transposednonex!H2","v":15.417},{"$f":"transposednonex!J2","v":15.874},{"$f":"transposednonex!L2","v":15.368},{"$f":"transposednonex!N2","v":14.672},{"$f":"transposednonex!P2","v":15.032},{"$f":"transposednonex!R2","v":14.873},{"$f":"transposednonex!T2","v":15.824},15.792300000000001,{"$f":"transposednonex!V2","v":14.696},{"$f":"transposednonex!X2","v":16.176},{"$f":"transposednonex!Z2","v":14.498},{"$f":"transposednonex!AB2","v":13.457},{"$f":"transposednonex!AD2","v":14.785},{"$f":"transposednonex!AF2","v":13.625},{"$f":"transposednonex!AH2","v":14.625},{"$f":"transposednonex!AJ2","v":12.889},{"$f":"transposednonex!AL2","v":13.082},{"$f":"transposednonex!AN2","v":13.28},14.1113,{"$f":"transposednonex!C2","v":34.944},{"$f":"transposednonex!E2","v":36.352},{"$f":"transposednonex!G2","v":38.536},{"$f":"transposednonex!I2","v":39.535},{"$f":"transposednonex!K2","v":32.873},{"$f":"transposednonex!M2","v":32.151},{"$f":"transposednonex!O2","v":36.745},{"$f":"transposednonex!Q2","v":32.473},{"$f":"transposednonex!S2","v":33.15},{"$f":"transposednonex!U2","v":38.969},35.572799999999994,{"$f":"transposednonex!W2","v":31.688},{"$f":"transposednonex!Y2","v":31.785},{"$f":"transposednonex!AA2","v":38.602},{"$f":"transposednonex!AC2","v":29.576},{"$f":"transposednonex!AE2","v":34.937},{"$f":"transposednonex!AG2","v":30.521},{"$f":"transposednonex!AI2","v":31.385},{"$f":"transposednonex!AK2","v":33.168},{"$f":"transposednonex!AM2","v":36.159},{"$f":"transposednonex!AO2","v":33.968},33.1789,{"$f":"transposednonex!AP2","v":0},{"$f":"transposednonex!AR2","v":0},{"$f":"transposednonex!AT2","v":0},{"$f":"transposednonex!AV2","v":0},{"$f":"transposednonex!AX2","v":7.5},{"$f":"transposednonex!AZ2","v":0},{"$f":"transposednonex!BB2","v":0},{"$f":"transposednonex!BD2","v":0},{"$f":"transposednonex!BF2","v":0},{"$f":"transposednonex!BH2","v":2.5},1,{"$f":"transposednonex!BJ2","v":0},{"$f":"transposednonex!BL2","v":2.5},{"$f":"transposednonex!BN2","v":0},{"$f":"transposednonex!BP2","v":0},{"$f":"transposednonex!BR2","v":0},{"$f":"transposednonex!BT2","v":0},{"$f":"transposednonex!BV2","v":0},{"$f":"transposednonex!BX2","v":0},{"$f":"transposednonex!BZ2","v":0},{"$f":"transposednonex!CB2","v":0},0.625,{"$f":"transposednonex!AQ2","v":2.5},{"$f":"transposednonex!AS2","v":7.5},{"$f":"transposednonex!AU2","v":2.5},{"$f":"transposednonex!AW2","v":12.5},{"$f":"transposednonex!AY2","v":7.5},{"$f":"transposednonex!BA2","v":0},{"$f":"transposednonex!BC2","v":5},{"$f":"transposednonex!BE2","v":7.5},{"$f":"transposednonex!BG2","v":2.5},{"$f":"transposednonex!BI2","v":12.5},15,{"$f":"transposednonex!BK2","v":5},{"$f":"transposednonex!BM2","v":12.5},{"$f":"transposednonex!BO2","v":10},{"$f":"transposednonex!BQ2","v":0},{"$f":"transposednonex!BS2","v":7.5},{"$f":"transposednonex!BU2","v":5},{"$f":"transposednonex!BW2","v":5},{"$f":"transposednonex!BY2","v":10},{"$f":"transposednonex!CA2","v":15},{"$f":"transposednonex!CC2","v":5},18.75,{"$f":"transposednonex!CD2","v":73},{"$f":"transposednonex!CF2","v":64},{"$f":"transposednonex!CH2","v":73},{"$f":"transposednonex!CJ2","v":72},{"$f":"transposednonex!CL2","v":74},{"$f":"transposednonex!CN2","v":77},{"$f":"transposednonex!CP2","v":67},{"$f":"transposednonex!CR2","v":68},{"$f":"transposednonex!CT2","v":73},{"$f":"transposednonex!CV2","v":74},71.5,{"$f":"transposednonex!CX2","v":84},{"$f":"transposednonex!CZ2","v":77},{"$f":"transposednonex!DB2","v":72},{"$f":"transposednonex!DD2","v":71},{"$f":"transposednonex!DF2","v":82},{"$f":"transposednonex!DH2","v":75},{"$f":"transposednonex!DJ2","v":77},{"$f":"transposednonex!DL2","v":74},{"$f":"transposednonex!DN2","v":72},{"$f":"transposednonex!DP2","v":79},76.3,{"$f":"transposednonex!CE2","v":77},{"$f":"transposednonex!CG2","v":79},{"$f":"transposednonex!CI2","v":76},{"$f":"transposednonex!CK2","v":74},{"$f":"transposednonex!CM2","v":77},{"$f":"transposednonex!CO2","v":73},{"$f":"transposednonex!CQ2","v":73},{"$f":"transposednonex!CS2","v":76},{"$f":"transposednonex!CU2","v":77},{"$f":"transposednonex!CW2","v":74},75.6,{"$f":"transposednonex!CY2","v":76},{"$f":"transposednonex!DA2","v":78},{"$f":"transposednonex!DC2","v":79},{"$f":"transposednonex!DE2","v":76},{"$f":"transposednonex!DG2","v":77},{"$f":"transposednonex!DI2","v":81},{"$f":"transposednonex!DK2","v":81},{"$f":"transposednonex!DM2","v":77},{"$f":"transposednonex!DO2","v":76},{"$f":"transposednonex!DQ2","v":86},78.7,{"$f":"transposednonex!DR2","v":"F"},{"$f":"transposednonex!DS2","v":32},{"$f":"transposednonex!DT2","v":"T"}]
[{"$f":"transposednonex!A17","v":"DD101-nonexercise"},{"$f":"transposednonex!B17","v":15.584},{"$f":"transposednonex!D17","v":16.277},{"$f":"transposednonex!F17","v":15.088},{"$f":"transposednonex!H17","v":15.128},{"$f":"transposednonex!J17","v":14.409},{"$f":"transposednonex!L17","v":14.704},{"$f":"transposednonex!N17","v":14.96},{"$f":"transposednonex!P17","v":15.009},{"$f":"transposednonex!R17","v":14.591},{"$f":"transposednonex!T17","v":13.768},14.9518,{"$f":"transposednonex!V17","v":14},{"$f":"transposednonex!X17","v":14.025},{"$f":"transposednonex!Z17","v":13.696},{"$f":"transposednonex!AB17","v":14.197},{"$f":"transposednonex!AD17","v":13.84},{"$f":"transposednonex!AF17","v":15.223},{"$f":"transposednonex!AH17","v":13.384},{"$f":"transposednonex!AJ17","v":15.496},{"$f":"transposednonex!AL17","v":13.336},{"$f":"transposednonex!AN17","v":13.504},14.0701,{"$f":"transposednonex!C17","v":50.689},{"$f":"transposednonex!E17","v":48.74},{"$f":"transposednonex!G17","v":48.24},{"$f":"transposednonex!I17","v":38.833},{"$f":"transposednonex!K17","v":41.68},{"$f":"transposednonex!M17","v":36.983},{"$f":"transposednonex!O17","v":40.248},{"$f":"transposednonex!Q17","v":39.52},{"$f":"transposednonex!S17","v":40.631},{"$f":"transposednonex!U17","v":38.815},42.4379,{"$f":"transposednonex!W17","v":34.288},{"$f":"transposednonex!Y17","v":41.952},{"$f":"transposednonex!AA17","v":43.567},{"$f":"transposednonex!AC17","v":41.429},{"$f":"transposednonex!AE17","v":39.328},{"$f":"transposednonex!AG17","v":32.759},{"$f":"transposednonex!AI17","v":40.384},{"$f":"transposednonex!AK17","v":39.136},{"$f":"transposednonex!AM17","v":35.703},{"$f":"transposednonex!AO17","v":39.175},38.77210000000001,{"$f":"transposednonex!AP17","v":0},{"$f":"transposednonex!AR17","v":0},{"$f":"transposednonex!AT17","v":0},{"$f":"transposednonex!AV17","v":0},{"$f":"transposednonex!AX17","v":0},{"$f":"transposednonex!AZ17","v":0},{"$f":"transposednonex!BB17","v":0},{"$f":"transposednonex!BD17","v":0},{"$f":"transposednonex!BF17","v":0},{"$f":"transposednonex!BH17","v":0},0,{"$f":"transposednonex!BJ17","v":0},{"$f":"transposednonex!BL17","v":0},{"$f":"transposednonex!BN17","v":0},{"$f":"transposednonex!BP17","v":0},{"$f":"transposednonex!BR17","v":0},{"$f":"transposednonex!BT17","v":0},{"$f":"transposednonex!BV17","v":0},{"$f":"transposednonex!BX17","v":0},{"$f":"transposednonex!BZ17","v":0},{"$f":"transposednonex!CB17","v":0},0,{"$f":"transposednonex!AQ17","v":2.5},{"$f":"transposednonex!AS17","v":0},{"$f":"transposednonex!AU17","v":22.5},{"$f":"transposednonex!AW17","v":0},{"$f":"transposednonex!AY17","v":0},{"$f":"transposednonex!BA17","v":0},{"$f":"transposednonex!BC17","v":2.5},{"$f":"transposednonex!BE17","v":0},{"$f":"transposednonex!BG17","v":2.5},{"$f":"transposednonex!BI17","v":2.5},8.125,{"$f":"transposednonex!BK17","v":0},{"$f":"transposednonex!BM17","v":5},{"$f":"transposednonex!BO17","v":0},{"$f":"transposednonex!BQ17","v":0},{"$f":"transposednonex!BS17","v":5},{"$f":"transposednonex!BU17","v":0},{"$f":"transposednonex!BW17","v":0},{"$f":"transposednonex!BY17","v":5},{"$f":"transposednonex!CA17","v":5},{"$f":"transposednonex!CC17","v":0},5,{"$f":"transposednonex!CD17","v":75},{"$f":"transposednonex!CF17","v":74},{"$f":"transposednonex!CH17","v":76},{"$f":"transposednonex!CJ17","v":79},{"$f":"transposednonex!CL17","v":84},{"$f":"transposednonex!CN17","v":81},{"$f":"transposednonex!CP17","v":84},{"$f":"transposednonex!CR17","v":79},{"$f":"transposednonex!CT17","v":79},{"$f":"transposednonex!CV17","v":78},78.9,{"$f":"transposednonex!CX17","v":77},{"$f":"transposednonex!CZ17","v":80},{"$f":"transposednonex!DB17","v":77},{"$f":"transposednonex!DD17","v":74},{"$f":"transposednonex!DF17","v":77},{"$f":"transposednonex!DH17","v":77},{"$f":"transposednonex!DJ17","v":85},{"$f":"transposednonex!DL17","v":74},{"$f":"transposednonex!DN17","v":77},{"$f":"transposednonex!DP17","v":75},77.3,{"$f":"transposednonex!CE17","v":73},{"$f":"transposednonex!CG17","v":75},{"$f":"transposednonex!CI17","v":76},{"$f":"transposednonex!CK17","v":81},{"$f":"transposednonex!CM17","v":79},{"$f":"transposednonex!CO17","v":76},{"$f":"transposednonex!CQ17","v":78},{"$f":"transposednonex!CS17","v":78},{"$f":"transposednonex!CU17","v":77},{"$f":"transposednonex!CW17","v":76},76.9,{"$f":"transposednonex!CY17","v":78},{"$f":"transposednonex!DA17","v":74},{"$f":"transposednonex!DC17","v":75},{"$f":"transposednonex!DE17","v":78},{"$f":"transposednonex!DG17","v":77},{"$f":"transposednonex!DI17","v":74},{"$f":"transposednonex!DK17","v":77},{"$f":"transposednonex!DM17","v":77},{"$f":"transposednonex!DO17","v":71},{"$f":"transposednonex!DQ17","v":77},75.8,{"$f":"transposednonex!DR17","v":"M"},{"$f":"transposednonex!DS17","v":22},{"$f":"transposednonex!DT17","v":"T"}]
[{"$f":"transposednonex!A9","v":"FA102-nonexercise"},{"$f":"transposednonex!B9","v":19.08},{"$f":"transposednonex!D9","v":22.952},{"$f":"transposednonex!F9","v":16.952},{"$f":"transposednonex!H9","v":16.352},{"$f":"transposednonex!J9","v":16.864},{"$f":"transposednonex!L9","v":16.864},{"$f":"transposednonex!N9","v":16.881},{"$f":"transposednonex!P9","v":15.12},{"$f":"transposednonex!R9","v":15.887},{"$f":"transposednonex!T9","v":16.223},17.317500000000003,{"$f":"transposednonex!V9","v":17.719},{"$f":"transposednonex!X9","v":17.424},{"$f":"transposednonex!Z9","v":17.216},{"$f":"transposednonex!AB9","v":14.896},{"$f":"transposednonex!AD9","v":15.216},{"$f":"transposednonex!AF9","v":16.6},{"$f":"transposednonex!AH9","v":15.783},{"$f":"transposednonex!AJ9","v":17.288},{"$f":"transposednonex!AL9","v":15.847},{"$f":"transposednonex!AN9","v":16.224},16.4213,{"$f":"transposednonex!C9","v":44.175},{"$f":"transposednonex!E9","v":38.967},{"$f":"transposednonex!G9","v":37.497},{"$f":"transposednonex!I9","v":35.64},{"$f":"transposednonex!K9","v":35.2},{"$f":"transposednonex!M9","v":31.015},{"$f":"transposednonex!O9","v":33.376},{"$f":"transposednonex!Q9","v":31.552},{"$f":"transposednonex!S9","v":43.752},{"$f":"transposednonex!U9","v":33.096},36.427,{"$f":"transposednonex!W9","v":33.184},{"$f":"transposednonex!Y9","v":34.606},{"$f":"transposednonex!AA9","v":32.216},{"$f":"transposednonex!AC9","v":36.512},{"$f":"transposednonex!AE9","v":29.864},{"$f":"transposednonex!AG9","v":33.616},{"$f":"transposednonex!AI9","v":36.968},{"$f":"transposednonex!AK9","v":32.24},{"$f":"transposednonex!AM9","v":29.016},{"$f":"transposednonex!AO9","v":37.991},33.621300000000005,{"$f":"transposednonex!AP9","v":0},{"$f":"transposednonex!AR9","v":0},{"$f":"transposednonex!AT9","v":0},{"$f":"transposednonex!AV9","v":0},{"$f":"transposednonex!AX9","v":0},{"$f":"transposednonex!AZ9","v":0},{"$f":"transposednonex!BB9","v":0},{"$f":"transposednonex!BD9","v":0},{"$f":"transposednonex!BF9","v":0},{"$f":"transposednonex!BH9","v":2.5},0.25,{"$f":"transposednonex!BJ9","v":2.5},{"$f":"transposednonex!BL9","v":0},{"$f":"transposednonex!BN9","v":0},{"$f":"transposednonex!BP9","v":0},{"$f":"transposednonex!BR9","v":0},{"$f":"transposednonex!BT9","v":0},{"$f":"transposednonex!BV9","v":0},{"$f":"transposednonex!BX9","v":2.5},{"$f":"transposednonex!BZ9","v":0},{"$f":"transposednonex!CB9","v":0},1.25,{"$f":"transposednonex!AQ9","v":5},{"$f":"transposednonex!AS9","v":5},{"$f":"transposednonex!AU9","v":5},{"$f":"transposednonex!AW9","v":5},{"$f":"transposednonex!AY9","v":2.5},{"$f":"transposednonex!BA9","v":0},{"$f":"transposednonex!BC9","v":0},{"$f":"transposednonex!BE9","v":2.5},{"$f":"transposednonex!BG9","v":7.5},{"$f":"transposednonex!BI9","v":5},9.375,{"$f":"transposednonex!BK9","v":7.5},{"$f":"transposednonex!BM9","v":5},{"$f":"transposednonex!BO9","v":0},{"$f":"transposednonex!BQ9","v":5},{"$f":"transposednonex!BS9","v":0},{"$f":"transposednonex!BU9","v":2.5},{"$f":"transposednonex!BW9","v":5},{"$f":"transposednonex!BY9","v":0},{"$f":"transposednonex!CA9","v":0},{"$f":"transposednonex!CC9","v":10},8.75,{"$f":"transposednonex!CD9","v":83},{"$f":"transposednonex!CF9","v":90},{"$f":"transposednonex!CH9","v":96},{"$f":"transposednonex!CJ9","v":78},{"$f":"transposednonex!CL9","v":93},{"$f":"transposednonex!CN9","v":79},{"$f":"transposednonex!CP9","v":82},{"$f":"transposednonex!CR9","v":86},{"$f":"transposednonex!CT9","v":82},{"$f":"transposednonex!CV9","v":77},84.6,{"$f":"transposednonex!CX9","v":76},{"$f":"transposednonex!CZ9","v":85},{"$f":"transposednonex!DB9","v":85},{"$f":"transposednonex!DD9","v":73},{"$f":"transposednonex!DF9","v":81},{"$f":"transposednonex!DH9","v":77},{"$f":"transposednonex!DJ9","v":84},{"$f":"transposednonex!DL9","v":74},{"$f":"transposednonex!DN9","v":78},{"$f":"transposednonex!DP9","v":8},72.1,{"$f":"transposednonex!CE9","v":98},{"$f":"transposednonex!CG9","v":95},{"$f":"transposednonex!CI9","v":91},{"$f":"transposednonex!CK9","v":88},{"$f":"transposednonex!CM9","v":88},{"$f":"transposednonex!CO9","v":87},{"$f":"transposednonex!CQ9","v":86},{"$f":"transposednonex!CS9","v":87},{"$f":"transposednonex!CU9","v":86},{"$f":"transposednonex!CW9","v":87},89.3,{"$f":"transposednonex!CY9","v":81},{"$f":"transposednonex!DA9","v":81},{"$f":"transposednonex!DC9","v":74},{"$f":"transposednonex!DE9","v":77},{"$f":"transposednonex!DG9","v":76},{"$f":"transposednonex!DI9","v":85},{"$f":"transposednonex!DK9","v":74},{"$f":"transposednonex!DM9","v":75},{"$f":"transposednonex!DO9","v":76},{"$f":"transposednonex!DQ9","v":77},77.6,{"$f":"transposednonex!DR9","v":"F"},{"$f":"transposednonex!DS9","v":21},{"$f":"transposednonex!DT9","v":"F"}]
[{"$f":"transposednonex!A4","v":"JF101-nonexercise"},{"$f":"transposednonex!B4","v":16.907},{"$f":"transposednonex!D4","v":14.22},{"$f":"transposednonex!F4","v":13.768},{"$f":"transposednonex!H4","v":13.92},{"$f":"transposednonex!J4","v":15.072},{"$f":"transposednonex!L4","v":13.52},{"$f":"transposednonex!N4","v":12.984},{"$f":"transposednonex!P4","v":12.896},{"$f":"transposednonex!R4","v":13.688},{"$f":"transposednonex!T4","v":13.224},14.019899999999998,{"$f":"transposednonex!V4","v":14.089},{"$f":"transposednonex!X4","v":14.871},{"$f":"transposednonex!Z4","v":13.536},{"$f":"transposednonex!AB4","v":13.055},{"$f":"transposednonex!AD4","v":15.319},{"$f":"transposednonex!AF4","v":12.712},{"$f":"transposednonex!AH4","v":13.048},{"$f":"transposednonex!AJ4","v":12.488},{"$f":"transposednonex!AL4","v":14.463},{"$f":"transposednonex!AN4","v":14.519},13.809999999999999,{"$f":"transposednonex!C4","v":31.952},{"$f":"transposednonex!E4","v":28.384},{"$f":"transposednonex!G4","v":27.432},{"$f":"transposednonex!I4","v":31.745},{"$f":"transposednonex!K4","v":28.872},{"$f":"transposednonex!M4","v":28.817},{"$f":"transposednonex!O4","v":25.944},{"$f":"transposednonex!Q4","v":27.521},{"$f":"transposednonex!S4","v":27.16},{"$f":"transposednonex!U4","v":27.112},28.493900000000004,{"$f":"transposednonex!W4","v":23.935},{"$f":"transposednonex!Y4","v":24.577},{"$f":"transposednonex!AA4","v":26.681},{"$f":"transposednonex!AC4","v":25.194},{"$f":"transposednonex!AE4","v":27.113},{"$f":"transposednonex!AG4","v":29.976},{"$f":"transposednonex!AI4","v":27.544},{"$f":"transposednonex!AK4","v":28.872},{"$f":"transposednonex!AM4","v":25.962},{"$f":"transposednonex!AO4","v":27.033},26.6887,{"$f":"transposednonex!AP4","v":0},{"$f":"transposednonex!AR4","v":0},{"$f":"transposednonex!AT4","v":0},{"$f":"transposednonex!AV4","v":0},{"$f":"transposednonex!AX4","v":0},{"$f":"transposednonex!AZ4","v":0},{"$f":"transposednonex!BB4","v":0},{"$f":"transposednonex!BD4","v":0},{"$f":"transposednonex!BF4","v":0},{"$f":"transposednonex!BH4","v":2.5},0.25,{"$f":"transposednonex!BJ4","v":0},{"$f":"transposednonex!BL4","v":2.5},{"$f":"transposednonex!BN4","v":0},{"$f":"transposednonex!BP4","v":0},{"$f":"transposednonex!BR4","v":7.5},{"$f":"transposednonex!BT4","v":0},{"$f":"transposednonex!BV4","v":0},{"$f":"transposednonex!BX4","v":0},{"$f":"transposednonex!BZ4","v":0},{"$f":"transposednonex!CB4","v":0},2.5,{"$f":"transposednonex!AQ4","v":0},{"$f":"transposednonex!AS4","v":2.5},{"$f":"transposednonex!AU4","v":2.5},{"$f":"transposednonex!AW4","v":5},{"$f":"transposednonex!AY4","v":2.5},{"$f":"transposednonex!BA4","v":2.5},{"$f":"transposednonex!BC4","v":2.5},{"$f":"transposednonex!BE4","v":0},{"$f":"transposednonex!BG4","v":5},{"$f":"transposednonex!BI4","v":0},5.625,{"$f":"transposednonex!BK4","v":2.5},{"$f":"transposednonex!BM4","v":0},{"$f":"transposednonex!BO4","v":5},{"$f":"transposednonex!BQ4","v":0},{"$f":"transposednonex!BS4","v":7.5},{"$f":"transposednonex!BU4","v":10},{"$f":"transposednonex!BW4","v":2.5},{"$f":"transposednonex!BY4","v":2.5},{"$f":"transposednonex!CA4","v":0},{"$f":"transposednonex!CC4","v":0},7.5,{"$f":"transposednonex!CD4","v":67},{"$f":"transposednonex!CF4","v":75},{"$f":"transposednonex!CH4","v":73},{"$f":"transposednonex!CJ4","v":76},{"$f":"transposednonex!CL4","v":71},{"$f":"transposednonex!CN4","v":69},{"$f":"transposednonex!CP4","v":70},{"$f":"transposednonex!CR4","v":76},{"$f":"transposednonex!CT4","v":72},{"$f":"transposednonex!CV4","v":72},72.1,{"$f":"transposednonex!CX4","v":66},{"$f":"transposednonex!CZ4","v":65},{"$f":"transposednonex!DB4","v":66},{"$f":"transposednonex!DD4","v":64},{"$f":"transposednonex!DF4","v":65},{"$f":"transposednonex!DH4","v":70},{"$f":"transposednonex!DJ4","v":66},{"$f":"transposednonex!DL4","v":68},{"$f":"transposednonex!DN4","v":66},{"$f":"transposednonex!DP4","v":70},66.6,{"$f":"transposednonex!CE4","v":82},{"$f":"transposednonex!CG4","v":73},{"$f":"transposednonex!CI4","v":76},{"$f":"transposednonex!CK4","v":75},{"$f":"transposednonex!CM4","v":76},{"$f":"transposednonex!CO4","v":77},{"$f":"transposednonex!CQ4","v":74},{"$f":"transposednonex!CS4","v":73},{"$f":"transposednonex!CU4","v":71},{"$f":"transposednonex!CW4","v":74},75.1,{"$f":"transposednonex!CY4","v":70},{"$f":"transposednonex!DA4","v":66},{"$f":"transposednonex!DC4","v":74},{"$f":"transposednonex!DE4","v":66},{"$f":"transposednonex!DG4","v":67},{"$f":"transposednonex!DI4","v":66},{"$f":"transposednonex!DK4","v":66},{"$f":"transposednonex!DM4","v":67},{"$f":"transposednonex!DO4","v":67},{"$f":"transposednonex!DQ4","v":65},67.4,{"$f":"transposednonex!DR4","v":"M"},{"$f":"transposednonex!DS4","v":30},{"$f":"transposednonex!DT4","v":"T"}]
[{"$f":"transposednonex!A28","v":"JH102-nonexercise"},{"$f":"transposednonex!B28","v":13.02},{"$f":"transposednonex!D28","v":13.765},{"$f":"transposednonex!F28","v":13.239},{"$f":"transposednonex!H28","v":13.984},{"$f":"transposednonex!J28","v":13.249},{"$f":"transposednonex!L28","v":13.209},{"$f":"transposednonex!N28","v":13.247},{"$f":"transposednonex!P28","v":13.575},{"$f":"transposednonex!R28","v":13.389},{"$f":"transposednonex!T28","v":14.223},13.49,{"$f":"transposednonex!V28","v":13.058},{"$f":"transposednonex!X28","v":14.112},{"$f":"transposednonex!Z28","v":13.485},{"$f":"transposednonex!AB28","v":12.861},{"$f":"transposednonex!AD28","v":12.32},{"$f":"transposednonex!AF28","v":12.959},{"$f":"transposednonex!AH28","v":11.989},{"$f":"transposednonex!AJ28","v":12.948},{"$f":"transposednonex!AL28","v":12.054},{"$f":"transposednonex!AN28","v":12.511},12.829700000000003,{"$f":"transposednonex!C28","v":22.697},{"$f":"transposednonex!E28","v":22.09},{"$f":"transposednonex!G28","v":22.875},{"$f":"transposednonex!I28","v":24},{"$f":"transposednonex!K28","v":24.128},{"$f":"transposednonex!M28","v":24.078},{"$f":"transposednonex!O28","v":27.113},{"$f":"transposednonex!Q28","v":25.004},{"$f":"transposednonex!S28","v":27.968},{"$f":"transposednonex!U28","v":26.266},24.621899999999997,{"$f":"transposednonex!W28","v":23.549},{"$f":"transposednonex!Y28","v":22.546},{"$f":"transposednonex!AA28","v":24.077},{"$f":"transposednonex!AC28","v":21.56},{"$f":"transposednonex!AE28","v":25.261},{"$f":"transposednonex!AG28","v":22.913},{"$f":"transposednonex!AI28","v":26.713},{"$f":"transposednonex!AK28","v":29.251},{"$f":"transposednonex!AM28","v":29.945},{"$f":"transposednonex!AO28","v":26.553},25.2368,{"$f":"transposednonex!AP28","v":0},{"$f":"transposednonex!AR28","v":0},{"$f":"transposednonex!AT28","v":0},{"$f":"transposednonex!AV28","v":0},{"$f":"transposednonex!AX28","v":0},{"$f":"transposednonex!AZ28","v":0},{"$f":"transposednonex!BB28","v":0},{"$f":"transposednonex!BD28","v":0},{"$f":"transposednonex!BF28","v":0},{"$f":"transposednonex!BH28","v":0},0,{"$f":"transposednonex!BJ28","v":0},{"$f":"transposednonex!BL28","v":2.5},{"$f":"transposednonex!BN28","v":0},{"$f":"transposednonex!BP28","v":0},{"$f":"transposednonex!BR28","v":0},{"$f":"transposednonex!BT28","v":0},{"$f":"transposednonex!BV28","v":0},{"$f":"transposednonex!BX28","v":0},{"$f":"transposednonex!BZ28","v":0},{"$f":"transposednonex!CB28","v":0},0.625,{"$f":"transposednonex!AQ28","v":0},{"$f":"transposednonex!AS28","v":2.5},{"$f":"transposednonex!AU28","v":0},{"$f":"transposednonex!AW28","v":0},{"$f":"transposednonex!AY28","v":0},{"$f":"transposednonex!BA28","v":0},{"$f":"transposednonex!BC28","v":0},{"$f":"transposednonex!BE28","v":2.5},{"$f":"transposednonex!BG28","v":5},{"$f":"transposednonex!BI28","v":2.5},3.125,{"$f":"transposednonex!BK28","v":0},{"$f":"transposednonex!BM28","v":0},{"$f":"transposednonex!BO28","v":2.5},{"$f":"transposednonex!BQ28","v":0},{"$f":"transposednonex!BS28","v":2.5},{"$f":"transposednonex!BU28","v":0},{"$f":"transposednonex!BW28","v":2.5},{"$f":"transposednonex!BY28","v":5},{"$f":"transposednonex!CA28","v":10},{"$f":"transposednonex!CC28","v":2.5},6.25,{"$f":"transposednonex!CD28","v":82},{"$f":"transposednonex!CF28","v":63},{"$f":"transposednonex!CH28","v":65},{"$f":"transposednonex!CJ28","v":64},{"$f":"transposednonex!CL28","v":62},{"$f":"transposednonex!CN28","v":76},{"$f":"transposednonex!CP28","v":77},{"$f":"transposednonex!CR28","v":73},{"$f":"transposednonex!CT28","v":77},{"$f":"transposednonex!CV28","v":70},70.9,{"$f":"transposednonex!CX28","v":74},{"$f":"transposednonex!CZ28","v":67},{"$f":"transposednonex!DB28","v":68},{"$f":"transposednonex!DD28","v":87},{"$f":"transposednonex!DF28","v":64},{"$f":"transposednonex!DH28","v":68},{"$f":"transposednonex!DJ28","v":81},{"$f":"transposednonex!DL28","v":69},{"$f":"transposednonex!DN28","v":67},{"$f":"transposednonex!DP28","v":87},73.2,{"$f":"transposednonex!CE28","v":79},{"$f":"transposednonex!CG28","v":74},{"$f":"transposednonex!CI28","v":65},{"$f":"transposednonex!CK28","v":67},{"$f":"transposednonex!CM28","v":68},{"$f":"transposednonex!CO28","v":75},{"$f":"transposednonex!CQ28","v":69},{"$f":"transposednonex!CS28","v":64},{"$f":"transposednonex!CU28","v":69},{"$f":"transposednonex!CW28","v":67},69.7,{"$f":"transposednonex!CY28","v":64},{"$f":"transposednonex!DA28","v":73},{"$f":"transposednonex!DC28","v":74},{"$f":"transposednonex!DE28","v":72},{"$f":"transposednonex!DG28","v":72},{"$f":"transposednonex!DI28","v":76},{"$f":"transposednonex!DK28","v":68},{"$f":"transposednonex!DM28","v":71},{"$f":"transposednonex!DO28","v":61},{"$f":"transposednonex!DQ28","v":75},70.6,{"$f":"transposednonex!DR28","v":"F"},{"$f":"transposednonex!DS28","v":19},{"$f":"transposednonex!DT28","v":"F"}]
[{"$f":"transposednonex!A31","v":"JR101-nonexercise"},{"$f":"transposednonex!B31","v":22.558},{"$f":"transposednonex!D31","v":21.375},{"$f":"transposednonex!F31","v":{"v":19.117,"d":"19"}},{"$f":"transposednonex!H31","v":18.564},{"$f":"transposednonex!J31","v":21.024},{"$f":"transposednonex!L31","v":21.643},{"$f":"transposednonex!N31","v":20.823},{"$f":"transposednonex!P31","v":23.309},{"$f":"transposednonex!R31","v":23.096},{"$f":"transposednonex!T31","v":18.915},21.0424,{"$f":"transposednonex!V31","v":20.188},{"$f":"transposednonex!X31","v":19.002},{"$f":"transposednonex!Z31","v":21.057},{"$f":"transposednonex!AB31","v":20.556},{"$f":"transposednonex!AD31","v":21.423},{"$f":"transposednonex!AF31","v":20.788},{"$f":"transposednonex!AH31","v":19.569},{"$f":"transposednonex!AJ31","v":19.883},{"$f":"transposednonex!AL31","v":20.268},{"$f":"transposednonex!AN31","v":18.53},20.1264,{"$f":"transposednonex!C31","v":29.127},{"$f":"transposednonex!E31","v":33.438},{"$f":"transposednonex!G31","v":34.053},{"$f":"transposednonex!I31","v":34.691},{"$f":"transposednonex!K31","v":33.337},{"$f":"transposednonex!M31","v":35.795},{"$f":"transposednonex!O31","v":34.206},{"$f":"transposednonex!Q31","v":32.876},{"$f":"transposednonex!S31","v":38.766},{"$f":"transposednonex!U31","v":32.536},33.88250000000001,{"$f":"transposednonex!W31","v":28.425},{"$f":"transposednonex!Y31","v":33.318},{"$f":"transposednonex!AA31","v":30.612},{"$f":"transposednonex!AC31","v":28.928},{"$f":"transposednonex!AE31","v":33.439},{"$f":"transposednonex!AG31","v":32.081},{"$f":"transposednonex!AI31","v":35.76},{"$f":"transposednonex!AK31","v":32.648},{"$f":"transposednonex!AM31","v":34.56},{"$f":"transposednonex!AO31","v":32.602},32.23729999999999,{"$f":"transposednonex!AP31","v":0},{"$f":"transposednonex!AR31","v":0},{"$f":"transposednonex!AT31","v":0},{"$f":"transposednonex!AV31","v":0},{"$f":"transposednonex!AX31","v":0},{"$f":"transposednonex!AZ31","v":0},{"$f":"transposednonex!BB31","v":0},{"$f":"transposednonex!BD31","v":10},{"$f":"transposednonex!BF31","v":0},{"$f":"transposednonex!BH31","v":0},1,{"$f":"transposednonex!BJ31","v":0},{"$f":"transposednonex!BL31","v":0},{"$f":"transposednonex!BN31","v":0},{"$f":"transposednonex!BP31","v":0},{"$f":"transposednonex!BR31","v":0},{"$f":"transposednonex!BT31","v":0},{"$f":"transposednonex!BV31","v":0},{"$f":"transposednonex!BX31","v":0},{"$f":"transposednonex!BZ31","v":0},{"$f":"transposednonex!CB31","v":0},0,{"$f":"transposednonex!AQ31","v":0},{"$f":"transposednonex!AS31","v":5},{"$f":"transposednonex!AU31","v":5},{"$f":"transposednonex!AW31","v":7.5},{"$f":"transposednonex!AY31","v":0},{"$f":"transposednonex!BA31","v":2.5},{"$f":"transposednonex!BC31","v":0},{"$f":"transposednonex!BE31","v":0},{"$f":"transposednonex!BG31","v":2.5},{"$f":"transposednonex!BI31","v":0},5.625,{"$f":"transposednonex!BK31","v":0},{"$f":"transposednonex!BM31","v":2.5},{"$f":"transposednonex!BO31","v":0},{"$f":"transposednonex!BQ31","v":0},{"$f":"transposednonex!BS31","v":0},{"$f":"transposednonex!BU31","v":2.5},{"$f":"transposednonex!BW31","v":2.5},{"$f":"transposednonex!BY31","v":2.5},{"$f":"transposednonex!CA31","v":0},{"$f":"transposednonex!CC31","v":0},2.5,{"$f":"transposednonex!CD31","v":74},{"$f":"transposednonex!CF31","v":72},{"$f":"transposednonex!CH31","v":74},{"$f":"transposednonex!CJ31","v":72},{"$f":"transposednonex!CL31","v":71},{"$f":"transposednonex!CN31","v":82},{"$f":"transposednonex!CP31","v":72},{"$f":"transposednonex!CR31","v":69},{"$f":"transposednonex!CT31","v":74},{"$f":"transposednonex!CV31","v":75},73.5,{"$f":"transposednonex!CX31","v":71},{"$f":"transposednonex!CZ31","v":71},{"$f":"transposednonex!DB31","v":70},{"$f":"transposednonex!DD31","v":71},{"$f":"transposednonex!DF31","v":77},{"$f":"transposednonex!DH31","v":68},{"$f":"transposednonex!DJ31","v":78},{"$f":"transposednonex!DL31","v":71},{"$f":"transposednonex!DN31","v":76},{"$f":"transposednonex!DP31","v":75},72.8,{"$f":"transposednonex!CE31","v":72},{"$f":"transposednonex!CG31","v":69},{"$f":"transposednonex!CI31","v":72},{"$f":"transposednonex!CK31","v":75},{"$f":"transposednonex!CM31","v":71},{"$f":"transposednonex!CO31","v":72},{"$f":"transposednonex!CQ31","v":74},{"$f":"transposednonex!CS31","v":72},{"$f":"transposednonex!CU31","v":76},{"$f":"transposednonex!CW31","v":79},73.2,{"$f":"transposednonex!CY31","v":71},{"$f":"transposednonex!DA31","v":76},{"$f":"transposednonex!DC31","v":71},{"$f":"transposednonex!DE31","v":77},{"$f":"transposednonex!DG31","v":74},{"$f":"transposednonex!DI31","v":77},{"$f":"transposednonex!DK31","v":68},{"$f":"transposednonex!DM31","v":77},{"$f":"transposednonex!DO31","v":74},{"$f":"transposednonex!DQ31","v":81},74.6,{"$f":"transposednonex!DR31","v":"F"},{"$f":"transposednonex!DS31","v":27},{"$f":"transposednonex!DT31","v":"F"}]
[{"$f":"transposednonex!A3","v":"MR101-nonexercise"},{"$f":"transposednonex!B3","v":16.206},{"$f":"transposednonex!D3","v":17.096},{"$f":"transposednonex!F3","v":15.863},{"$f":"transposednonex!H3","v":16.066},{"$f":"transposednonex!J3","v":19.633},{"$f":"transposednonex!L3","v":16.256},{"$f":"transposednonex!N3","v":15.855},{"$f":"transposednonex!P3","v":19.977},{"$f":"transposednonex!R3","v":16.552},{"$f":"transposednonex!T3","v":15.72},16.9224,{"$f":"transposednonex!V3","v":16.017},{"$f":"transposednonex!X3","v":18.998},{"$f":"transposednonex!Z3","v":16.818},{"$f":"transposednonex!AB3","v":16.945},{"$f":"transposednonex!AD3","v":15.981},{"$f":"transposednonex!AF3","v":16.296},{"$f":"transposednonex!AH3","v":16.688},{"$f":"transposednonex!AJ3","v":15.889},{"$f":"transposednonex!AL3","v":16.895},{"$f":"transposednonex!AN3","v":15.599},16.612599999999997,{"$f":"transposednonex!C3","v":32.049},{"$f":"transposednonex!E3","v":29.289},{"$f":"transposednonex!G3","v":26.69},{"$f":"transposednonex!I3","v":31.234},{"$f":"transposednonex!K3","v":28.361},{"$f":"transposednonex!M3","v":30.224},{"$f":"transposednonex!O3","v":28.463},{"$f":"transposednonex!Q3","v":31.729},{"$f":"transposednonex!S3","v":29.105},{"$f":"transposednonex!U3","v":29.338},29.648200000000003,{"$f":"transposednonex!W3","v":29.593},{"$f":"transposednonex!Y3","v":28.417},{"$f":"transposednonex!AA3","v":25.105},{"$f":"transposednonex!AC3","v":26.569},{"$f":"transposednonex!AE3","v":27.847},{"$f":"transposednonex!AG3","v":30.913},{"$f":"transposednonex!AI3","v":27.928},{"$f":"transposednonex!AK3","v":30.297},{"$f":"transposednonex!AM3","v":28.326},{"$f":"transposednonex!AO3","v":25.697},28.069200000000002,{"$f":"transposednonex!AP3","v":0},{"$f":"transposednonex!AR3","v":0},{"$f":"transposednonex!AT3","v":0},{"$f":"transposednonex!AV3","v":0},{"$f":"transposednonex!AX3","v":5},{"$f":"transposednonex!AZ3","v":2.5},{"$f":"transposednonex!BB3","v":0},{"$f":"transposednonex!BD3","v":2.5},{"$f":"transposednonex!BF3","v":0},{"$f":"transposednonex!BH3","v":0},1,{"$f":"transposednonex!BJ3","v":0},{"$f":"transposednonex!BL3","v":0},{"$f":"transposednonex!BN3","v":0},{"$f":"transposednonex!BP3","v":0},{"$f":"transposednonex!BR3","v":0},{"$f":"transposednonex!BT3","v":0},{"$f":"transposednonex!BV3","v":2.5},{"$f":"transposednonex!BX3","v":0},{"$f":"transposednonex!BZ3","v":2.5},{"$f":"transposednonex!CB3","v":0},1.25,{"$f":"transposednonex!AQ3","v":2.5},{"$f":"transposednonex!AS3","v":0},{"$f":"transposednonex!AU3","v":0},{"$f":"transposednonex!AW3","v":2.5},{"$f":"transposednonex!AY3","v":0},{"$f":"transposednonex!BA3","v":2.5},{"$f":"transposednonex!BC3","v":0},{"$f":"transposednonex!BE3","v":2.5},{"$f":"transposednonex!BG3","v":0},{"$f":"transposednonex!BI3","v":2.5},3.125,{"$f":"transposednonex!BK3","v":2.5},{"$f":"transposednonex!BM3","v":5},{"$f":"transposednonex!BO3","v":0},{"$f":"transposednonex!BQ3","v":2.5},{"$f":"transposednonex!BS3","v":2.5},{"$f":"transposednonex!BU3","v":0},{"$f":"transposednonex!BW3","v":0},{"$f":"transposednonex!BY3","v":2.5},{"$f":"transposednonex!CA3","v":0},{"$f":"transposednonex!CC3","v":0},3.75,{"$f":"transposednonex!CD3","v":85},{"$f":"transposednonex!CF3","v":84},{"$f":"transposednonex!CH3","v":91},{"$f":"transposednonex!CJ3","v":91},{"$f":"transposednonex!CL3","v":90},{"$f":"transposednonex!CN3","v":87},{"$f":"transposednonex!CP3","v":85},{"$f":"transposednonex!CR3","v":88},{"$f":"transposednonex!CT3","v":83},{"$f":"transposednonex!CV3","v":85},86.9,{"$f":"transposednonex!CX3","v":80},{"$f":"transposednonex!CZ3","v":74},{"$f":"transposednonex!DB3","v":76},{"$f":"transposednonex!DD3","v":78},{"$f":"transposednonex!DF3","v":76},{"$f":"transposednonex!DH3","v":76},{"$f":"transposednonex!DJ3","v":77},{"$f":"transposednonex!DL3","v":74},{"$f":"transposednonex!DN3","v":74},{"$f":"transposednonex!DP3","v":75},76,{"$f":"transposednonex!CE3","v":91},{"$f":"transposednonex!CG3","v":88},{"$f":"transposednonex!CI3","v":84},{"$f":"transposednonex!CK3","v":86},{"$f":"transposednonex!CM3","v":90},{"$f":"transposednonex!CO3","v":85},{"$f":"transposednonex!CQ3","v":80},{"$f":"transposednonex!CS3","v":85},{"$f":"transposednonex!CU3","v":87},{"$f":"transposednonex!CW3","v":84},86,{"$f":"transposednonex!CY3","v":73},{"$f":"transposednonex!DA3","v":73},{"$f":"transposednonex!DC3","v":73},{"$f":"transposednonex!DE3","v":73},{"$f":"transposednonex!DG3","v":73},{"$f":"transposednonex!DI3","v":78},{"$f":"transposednonex!DK3","v":77},{"$f":"transposednonex!DM3","v":72},{"$f":"transposednonex!DO3","v":74},{"$f":"transposednonex!DQ3","v":75},74.1,{"$f":"transposednonex!DR3","v":"F"},{"$f":"transposednonex!DS3","v":22},{"$f":"transposednonex!DT3","v":"F"}]
[{"$f":"transposednonex!A29","v":"RS101-nonexercise"},{"$f":"transposednonex!B29","v":15.606},{"$f":"transposednonex!D29","v":17.339},{"$f":"transposednonex!F29","v":{"v":15.586,"d":"16"}},{"$f":"transposednonex!H29","v":16.679},{"$f":"transposednonex!J29","v":16.616},{"$f":"transposednonex!L29","v":15.53},{"$f":"transposednonex!N29","v":16.759},{"$f":"transposednonex!P29","v":15.597},{"$f":"transposednonex!R29","v":18.481},{"$f":"transposednonex!T29","v":16.55},16.4743,{"$f":"transposednonex!V29","v":15.635},{"$f":"transposednonex!X29","v":14.414},{"$f":"transposednonex!Z29","v":14.688},{"$f":"transposednonex!AB29","v":14.155},{"$f":"transposednonex!AD29","v":16.534},{"$f":"transposednonex!AF29","v":15.803},{"$f":"transposednonex!AH29","v":16.528},{"$f":"transposednonex!AJ29","v":18.087},{"$f":"transposednonex!AL29","v":15.439},{"$f":"transposednonex!AN29","v":14.955},15.623800000000003,{"$f":"transposednonex!C29","v":25.707},{"$f":"transposednonex!E29","v":25.229},{"$f":"transposednonex!G29","v":24.419},{"$f":"transposednonex!I29","v":27.267},{"$f":"transposednonex!K29","v":28.693},{"$f":"transposednonex!M29","v":27.669},{"$f":"transposednonex!O29","v":28.128},{"$f":"transposednonex!Q29","v":26.519},{"$f":"transposednonex!S29","v":27.603},{"$f":"transposednonex!U29","v":27.808},26.904200000000003,{"$f":"transposednonex!W29","v":24.109},{"$f":"transposednonex!Y29","v":23.692},{"$f":"transposednonex!AA29","v":27.406},{"$f":"transposednonex!AC29","v":27.817},{"$f":"transposednonex!AE29","v":25.496},{"$f":"transposednonex!AG29","v":24.637},{"$f":"transposednonex!AI29","v":27.044},{"$f":"transposednonex!AK29","v":25.552},{"$f":"transposednonex!AM29","v":28.572},{"$f":"transposednonex!AO29","v":28.559},26.288400000000003,{"$f":"transposednonex!AP29","v":0},{"$f":"transposednonex!AR29","v":0},{"$f":"transposednonex!AT29","v":0},{"$f":"transposednonex!AV29","v":0},{"$f":"transposednonex!AX29","v":0},{"$f":"transposednonex!AZ29","v":2.5},{"$f":"transposednonex!BB29","v":2.5},{"$f":"transposednonex!BD29","v":0},{"$f":"transposednonex!BF29","v":0},{"$f":"transposednonex!BH29","v":2.5},0.75,{"$f":"transposednonex!BJ29","v":0},{"$f":"transposednonex!BL29","v":0},{"$f":"transposednonex!BN29","v":2.5},{"$f":"transposednonex!BP29","v":0},{"$f":"transposednonex!BR29","v":7.5},{"$f":"transposednonex!BT29","v":2.5},{"$f":"transposednonex!BV29","v":0},{"$f":"transposednonex!BX29","v":2.5},{"$f":"transposednonex!BZ29","v":0},{"$f":"transposednonex!CB29","v":0},3.75,{"$f":"transposednonex!AQ29","v":0},{"$f":"transposednonex!AS29","v":0},{"$f":"transposednonex!AU29","v":2.5},{"$f":"transposednonex!AW29","v":5},{"$f":"transposednonex!AY29","v":2.5},{"$f":"transposednonex!BA29","v":0},{"$f":"transposednonex!BC29","v":0},{"$f":"transposednonex!BE29","v":0},{"$f":"transposednonex!BG29","v":5},{"$f":"transposednonex!BI29","v":0},3.75,{"$f":"transposednonex!BK29","v":0},{"$f":"transposednonex!BM29","v":0},{"$f":"transposednonex!BO29","v":0},{"$f":"transposednonex!BQ29","v":0},{"$f":"transposednonex!BS29","v":2.5},{"$f":"transposednonex!BU29","v":0},{"$f":"transposednonex!BW29","v":2.5},{"$f":"transposednonex!BY29","v":2.5},{"$f":"transposednonex!CA29","v":2.5},{"$f":"transposednonex!CC29","v":0},2.5,{"$f":"transposednonex!CD29","v":86},{"$f":"transposednonex!CF29","v":82},{"$f":"transposednonex!CH29","v":87},{"$f":"transposednonex!CJ29","v":89},{"$f":"transposednonex!CL29","v":90},{"$f":"transposednonex!CN29","v":95},{"$f":"transposednonex!CP29","v":83},{"$f":"transposednonex!CR29","v":92},{"$f":"transposednonex!CT29","v":76},{"$f":"transposednonex!CV29","v":86},86.6,{"$f":"transposednonex!CX29","v":77},{"$f":"transposednonex!CZ29","v":88},{"$f":"transposednonex!DB29","v":91},{"$f":"transposednonex!DD29","v":88},{"$f":"transposednonex!DF29","v":79},{"$f":"transposednonex!DH29","v":90},{"$f":"transposednonex!DJ29","v":85},{"$f":"transposednonex!DL29","v":92},{"$f":"transposednonex!DN29","v":88},{"$f":"transposednonex!DP29","v":81},85.9,{"$f":"transposednonex!CE29","v":92},{"$f":"transposednonex!CG29","v":90},{"$f":"transposednonex!CI29","v":93},{"$f":"transposednonex!CK29","v":77},{"$f":"transposednonex!CM29","v":93},{"$f":"transposednonex!CO29","v":77},{"$f":"transposednonex!CQ29","v":97},{"$f":"transposednonex!CS29","v":77},{"$f":"transposednonex!CU29","v":89},{"$f":"transposednonex!CW29","v":75},86,{"$f":"transposednonex!CY29","v":94},{"$f":"transposednonex!DA29","v":89},{"$f":"transposednonex!DC29","v":90},{"$f":"transposednonex!DE29","v":78},{"$f":"transposednonex!DG29","v":88},{"$f":"transposednonex!DI29","v":90},{"$f":"transposednonex!DK29","v":92},{"$f":"transposednonex!DM29","v":95},{"$f":"transposednonex!DO29","v":81},{"$f":"transposednonex!DQ29","v":90},88.7,{"$f":"transposednonex!DR29","v":"F"},{"$f":"transposednonex!DS29","v":25},{"$f":"transposednonex!DT29","v":"F"}]
[{"$f":"transposednonex!A7","v":"SN102-nonexercise"},{"$f":"transposednonex!B7","v":23.276},{"$f":"transposednonex!D7","v":18.82},{"$f":"transposednonex!F7","v":21.463},{"$f":"transposednonex!H7","v":21.48},{"$f":"transposednonex!J7","v":21.512},{"$f":"transposednonex!L7","v":18.039},{"$f":"transposednonex!N7","v":17.073},{"$f":"transposednonex!P7","v":16.335},{"$f":"transposednonex!R7","v":15.56},{"$f":"transposednonex!T7","v":17.871},19.142900000000004,{"$f":"transposednonex!V7","v":18.136},{"$f":"transposednonex!X7","v":16.287},{"$f":"transposednonex!Z7","v":16.281},{"$f":"transposednonex!AB7","v":15.838},{"$f":"transposednonex!AD7","v":15.367},{"$f":"transposednonex!AF7","v":16.302},{"$f":"transposednonex!AH7","v":16.456},{"$f":"transposednonex!AJ7","v":16.751},{"$f":"transposednonex!AL7","v":15.185},{"$f":"transposednonex!AN7","v":16.137},16.274,{"$f":"transposednonex!C7","v":31.599},{"$f":"transposednonex!E7","v":39.976},{"$f":"transposednonex!G7","v":34.608},{"$f":"transposednonex!I7","v":37.976},{"$f":"transposednonex!K7","v":35.169},{"$f":"transposednonex!M7","v":31.224},{"$f":"transposednonex!O7","v":38.904},{"$f":"transposednonex!Q7","v":32.031},{"$f":"transposednonex!S7","v":30.175},{"$f":"transposednonex!U7","v":34.44},34.6102,{"$f":"transposednonex!W7","v":35.31},{"$f":"transposednonex!Y7","v":35.961},{"$f":"transposednonex!AA7","v":30.897},{"$f":"transposednonex!AC7","v":40.575},{"$f":"transposednonex!AE7","v":34.425},{"$f":"transposednonex!AG7","v":33.73},{"$f":"transposednonex!AI7","v":35.623},{"$f":"transposednonex!AK7","v":34.392},{"$f":"transposednonex!AM7","v":34.392},{"$f":"transposednonex!AO7","v":35.032},35.033699999999996,{"$f":"transposednonex!AP7","v":0},{"$f":"transposednonex!AR7","v":0},{"$f":"transposednonex!AT7","v":0},{"$f":"transposednonex!AV7","v":0},{"$f":"transposednonex!AX7","v":2.5},{"$f":"transposednonex!AZ7","v":0},{"$f":"transposednonex!BB7","v":0},{"$f":"transposednonex!BD7","v":0},{"$f":"transposednonex!BF7","v":0},{"$f":"transposednonex!BH7","v":2.5},0.5,{"$f":"transposednonex!BJ7","v":2.5},{"$f":"transposednonex!BL7","v":0},{"$f":"transposednonex!BN7","v":0},{"$f":"transposednonex!BP7","v":0},{"$f":"transposednonex!BR7","v":0},{"$f":"transposednonex!BT7","v":0},{"$f":"transposednonex!BV7","v":0},{"$f":"transposednonex!BX7","v":0},{"$f":"transposednonex!BZ7","v":0},{"$f":"transposednonex!CB7","v":0},0.625,{"$f":"transposednonex!AQ7","v":0},{"$f":"transposednonex!AS7","v":5},{"$f":"transposednonex!AU7","v":2.5},{"$f":"transposednonex!AW7","v":2.5},{"$f":"transposednonex!AY7","v":5},{"$f":"transposednonex!BA7","v":0},{"$f":"transposednonex!BC7","v":10},{"$f":"transposednonex!BE7","v":2.5},{"$f":"transposednonex!BG7","v":0},{"$f":"transposednonex!BI7","v":7.5},8.75,{"$f":"transposednonex!BK7","v":0},{"$f":"transposednonex!BM7","v":5},{"$f":"transposednonex!BO7","v":2.5},{"$f":"transposednonex!BQ7","v":15},{"$f":"transposednonex!BS7","v":5},{"$f":"transposednonex!BU7","v":0},{"$f":"transposednonex!BW7","v":5},{"$f":"transposednonex!BY7","v":2.5},{"$f":"transposednonex!CA7","v":7.5},{"$f":"transposednonex!CC7","v":0},10.625,{"$f":"transposednonex!CD7","v":79},{"$f":"transposednonex!CF7","v":79},{"$f":"transposednonex!CH7","v":80},{"$f":"transposednonex!CJ7","v":80},{"$f":"transposednonex!CL7","v":80},{"$f":"transposednonex!CN7","v":76},{"$f":"transposednonex!CP7","v":67},{"$f":"transposednonex!CR7","v":65},{"$f":"transposednonex!CT7","v":63},{"$f":"transposednonex!CV7","v":85},75.4,{"$f":"transposednonex!CX7","v":85},{"$f":"transposednonex!CZ7","v":84},{"$f":"transposednonex!DB7","v":81},{"$f":"transposednonex!DD7","v":78},{"$f":"transposednonex!DF7","v":83},{"$f":"transposednonex!DH7","v":83},{"$f":"transposednonex!DJ7","v":84},{"$f":"transposednonex!DL7","v":80},{"$f":"transposednonex!DN7","v":80},{"$f":"transposednonex!DP7","v":77},81.5,{"$f":"transposednonex!CE7","v":76},{"$f":"transposednonex!CG7","v":82},{"$f":"transposednonex!CI7","v":86},{"$f":"transposednonex!CK7","v":80},{"$f":"transposednonex!CM7","v":79},{"$f":"transposednonex!CO7","v":78},{"$f":"transposednonex!CQ7","v":66},{"$f":"transposednonex!CS7","v":64},{"$f":"transposednonex!CU7","v":77.76},{"$f":"transposednonex!CW7","v":81},76.976,{"$f":"transposednonex!CY7","v":77},{"$f":"transposednonex!DA7","v":78},{"$f":"transposednonex!DC7","v":79},{"$f":"transposednonex!DE7","v":81},{"$f":"transposednonex!DG7","v":80},{"$f":"transposednonex!DI7","v":76},{"$f":"transposednonex!DK7","v":78},{"$f":"transposednonex!DM7","v":80},{"$f":"transposednonex!DO7","v":80},{"$f":"transposednonex!DQ7","v":77},78.6,{"$f":"transposednonex!DR7","v":"F"},{"$f":"transposednonex!DS7","v":28},{"$f":"transposednonex!DT7","v":"F"}]
[{"$f":"transposednonex!A6","v":"TB101-nonexercise"},{"$f":"transposednonex!B6","v":17.245},{"$f":"transposednonex!D6","v":16.646},{"$f":"transposednonex!F6","v":15.706},{"$f":"transposednonex!H6","v":15.811},{"$f":"transposednonex!J6","v":16.161},{"$f":"transposednonex!L6","v":16.138},{"$f":"transposednonex!N6","v":16.029},{"$f":"transposednonex!P6","v":16.025},{"$f":"transposednonex!R6","v":15.105},{"$f":"transposednonex!T6","v":15.494},16.036,{"$f":"transposednonex!V6","v":16.895},{"$f":"transposednonex!X6","v":15.59},{"$f":"transposednonex!Z6","v":16.726},{"$f":"transposednonex!AB6","v":15.975},{"$f":"transposednonex!AD6","v":16.225},{"$f":"transposednonex!AF6","v":15.744},{"$f":"transposednonex!AH6","v":15.509},{"$f":"transposednonex!AJ6","v":15.46},{"$f":"transposednonex!AL6","v":15.591},{"$f":"transposednonex!AN6","v":15.339},15.9054,{"$f":"transposednonex!C6","v":25.135},{"$f":"transposednonex!E6","v":25.232},{"$f":"transposednonex!G6","v":25.752},{"$f":"transposednonex!I6","v":25.484},{"$f":"transposednonex!K6","v":26.333},{"$f":"transposednonex!M6","v":24.145},{"$f":"transposednonex!O6","v":22.108},{"$f":"transposednonex!Q6","v":21.524},{"$f":"transposednonex!S6","v":22.993},{"$f":"transposednonex!U6","v":24.879},24.3585,{"$f":"transposednonex!W6","v":21.91},{"$f":"transposednonex!Y6","v":26.504},{"$f":"transposednonex!AA6","v":22.341},{"$f":"transposednonex!AC6","v":23.628},{"$f":"transposednonex!AE6","v":22.526},{"$f":"transposednonex!AG6","v":27.487},{"$f":"transposednonex!AI6","v":22.308},{"$f":"transposednonex!AK6","v":24.347},{"$f":"transposednonex!AM6","v":24.265},{"$f":"transposednonex!AO6","v":24.163},23.947899999999997,{"$f":"transposednonex!AP6","v":0},{"$f":"transposednonex!AR6","v":0},{"$f":"transposednonex!AT6","v":0},{"$f":"transposednonex!AV6","v":0},{"$f":"transposednonex!AX6","v":0},{"$f":"transposednonex!AZ6","v":0},{"$f":"transposednonex!BB6","v":0},{"$f":"transposednonex!BD6","v":0},{"$f":"transposednonex!BF6","v":0},{"$f":"transposednonex!BH6","v":0},0,{"$f":"transposednonex!BJ6","v":0},{"$f":"transposednonex!BL6","v":0},{"$f":"transposednonex!BN6","v":0},{"$f":"transposednonex!BP6","v":0},{"$f":"transposednonex!BR6","v":0},{"$f":"transposednonex!BT6","v":0},{"$f":"transposednonex!BV6","v":0},{"$f":"transposednonex!BX6","v":0},{"$f":"transposednonex!BZ6","v":0},{"$f":"transposednonex!CB6","v":0},0,{"$f":"transposednonex!AQ6","v":5},{"$f":"transposednonex!AS6","v":2.5},{"$f":"transposednonex!AU6","v":0},{"$f":"transposednonex!AW6","v":7.5},{"$f":"transposednonex!AY6","v":7.5},{"$f":"transposednonex!BA6","v":0},{"$f":"transposednonex!BC6","v":0},{"$f":"transposednonex!BE6","v":2.5},{"$f":"transposednonex!BG6","v":7.5},{"$f":"transposednonex!BI6","v":0},8.125,{"$f":"transposednonex!BK6","v":2.5},{"$f":"transposednonex!BM6","v":5},{"$f":"transposednonex!BO6","v":2.5},{"$f":"transposednonex!BQ6","v":0},{"$f":"transposednonex!BS6","v":2.5},{"$f":"transposednonex!BU6","v":10},{"$f":"transposednonex!BW6","v":7.5},{"$f":"transposednonex!BY6","v":0},{"$f":"transposednonex!CA6","v":0},{"$f":"transposednonex!CC6","v":5},8.75,{"$f":"transposednonex!CD6","v":85},{"$f":"transposednonex!CF6","v":84},{"$f":"transposednonex!CH6","v":85},{"$f":"transposednonex!CJ6","v":88},{"$f":"transposednonex!CL6","v":80},{"$f":"transposednonex!CN6","v":80},{"$f":"transposednonex!CP6","v":79},{"$f":"transposednonex!CR6","v":84},{"$f":"transposednonex!CT6","v":80},{"$f":"transposednonex!CV6","v":84},82.9,{"$f":"transposednonex!CX6","v":80},{"$f":"transposednonex!CZ6","v":83},{"$f":"transposednonex!DB6","v":76},{"$f":"transposednonex!DD6","v":84},{"$f":"transposednonex!DF6","v":72},{"$f":"transposednonex!DH6","v":81},{"$f":"transposednonex!DJ6","v":81},{"$f":"transposednonex!DL6","v":79},{"$f":"transposednonex!DN6","v":76},{"$f":"transposednonex!DP6","v":83},79.5,{"$f":"transposednonex!CE6","v":81},{"$f":"transposednonex!CG6","v":84},{"$f":"transposednonex!CI6","v":84},{"$f":"transposednonex!CK6","v":87},{"$f":"transposednonex!CM6","v":82},{"$f":"transposednonex!CO6","v":78},{"$f":"transposednonex!CQ6","v":82},{"$f":"transposednonex!CS6","v":83},{"$f":"transposednonex!CU6","v":79},{"$f":"transposednonex!CW6","v":78},81.8,{"$f":"transposednonex!CY6","v":89},{"$f":"transposednonex!DA6","v":77},{"$f":"transposednonex!DC6","v":87},{"$f":"transposednonex!DE6","v":78},{"$f":"transposednonex!DG6","v":82},{"$f":"transposednonex!DI6","v":73},{"$f":"transposednonex!DK6","v":84},{"$f":"transposednonex!DM6","v":77},{"$f":"transposednonex!DO6","v":82},{"$f":"transposednonex!DQ6","v":91},82,{"$f":"transposednonex!DR6","v":"F"},{"$f":"transposednonex!DS6","v":31},{"$f":"transposednonex!DT6","v":"F"}]
[{"$f":"transposednonex!A8","v":"SW101-nonexercise"},{"$f":"transposednonex!B8","v":11.558},{"$f":"transposednonex!D8","v":12.026},{"$f":"transposednonex!F8","v":11.159},{"$f":"transposednonex!H8","v":19.426},{"$f":"transposednonex!J8","v":11.031},{"$f":"transposednonex!L8","v":11.359},{"$f":"transposednonex!N8","v":11.239},{"$f":"transposednonex!P8","v":11.56},{"$f":"transposednonex!R8","v":11.096},{"$f":"transposednonex!T8","v":13.568},12.4022,{"$f":"transposednonex!V8","v":12.491},{"$f":"transposednonex!X8","v":12.825},{"$f":"transposednonex!Z8","v":12.048},{"$f":"transposednonex!AB8","v":11.615},{"$f":"transposednonex!AD8","v":11.184},{"$f":"transposednonex!AF8","v":12.232},{"$f":"transposednonex!AH8","v":11.335},{"$f":"transposednonex!AJ8","v":11.56},{"$f":"transposednonex!AL8","v":11.464},{"$f":"transposednonex!AN8","v":10.439},11.719299999999999,{"$f":"transposednonex!C8","v":40.748},{"$f":"transposednonex!E8","v":41.224},{"$f":"transposednonex!G8","v":36.88},{"$f":"transposednonex!I8","v":37.288},{"$f":"transposednonex!K8","v":32.081},{"$f":"transposednonex!M8","v":32.936},{"$f":"transposednonex!O8","v":30.656},{"$f":"transposednonex!Q8","v":31.616},{"$f":"transposednonex!S8","v":31.808},{"$f":"transposednonex!U8","v":31.544},34.6781,{"$f":"transposednonex!W8","v":35.112},{"$f":"transposednonex!Y8","v":31.544},{"$f":"transposednonex!AA8","v":34.399},{"$f":"transposednonex!AC8","v":30.485},{"$f":"transposednonex!AE8","v":29.767},{"$f":"transposednonex!AG8","v":31.864},{"$f":"transposednonex!AI8","v":32.152},{"$f":"transposednonex!AK8","v":31.768},{"$f":"transposednonex!AM8","v":29.399},{"$f":"transposednonex!AO8","v":29.319},31.580900000000003,{"$f":"transposednonex!AP8","v":0},{"$f":"transposednonex!AR8","v":0},{"$f":"transposednonex!AT8","v":0},{"$f":"transposednonex!AV8","v":0},{"$f":"transposednonex!AX8","v":0},{"$f":"transposednonex!AZ8","v":2.5},{"$f":"transposednonex!BB8","v":0},{"$f":"transposednonex!BD8","v":0},{"$f":"transposednonex!BF8","v":0},{"$f":"transposednonex!BH8","v":5},0.75,{"$f":"transposednonex!BJ8","v":2.5},{"$f":"transposednonex!BL8","v":0},{"$f":"transposednonex!BN8","v":0},{"$f":"transposednonex!BP8","v":0},{"$f":"transposednonex!BR8","v":0},{"$f":"transposednonex!BT8","v":0},{"$f":"transposednonex!BV8","v":0},{"$f":"transposednonex!BX8","v":0},{"$f":"transposednonex!BZ8","v":0},{"$f":"transposednonex!CB8","v":2.5},1.25,{"$f":"transposednonex!AQ8","v":0},{"$f":"transposednonex!AS8","v":7.5},{"$f":"transposednonex!AU8","v":0},{"$f":"transposednonex!AW8","v":2.5},{"$f":"transposednonex!AY8","v":0},{"$f":"transposednonex!BA8","v":0},{"$f":"transposednonex!BC8","v":0},{"$f":"transposednonex!BE8","v":2.5},{"$f":"transposednonex!BG8","v":0},{"$f":"transposednonex!BI8","v":0},3.125,{"$f":"transposednonex!BK8","v":5},{"$f":"transposednonex!BM8","v":0},{"$f":"transposednonex!BO8","v":2.5},{"$f":"transposednonex!BQ8","v":0},{"$f":"transposednonex!BS8","v":0},{"$f":"transposednonex!BU8","v":0},{"$f":"transposednonex!BW8","v":2.5},{"$f":"transposednonex!BY8","v":0},{"$f":"transposednonex!CA8","v":0},{"$f":"transposednonex!CC8","v":0},2.5,{"$f":"transposednonex!CD8","v":107},{"$f":"transposednonex!CF8","v":103},{"$f":"transposednonex!CH8","v":102},{"$f":"transposednonex!CJ8","v":99},{"$f":"transposednonex!CL8","v":97},{"$f":"transposednonex!CN8","v":96},{"$f":"transposednonex!CP8","v":95},{"$f":"transposednonex!CR8","v":93},{"$f":"transposednonex!CT8","v":103},{"$f":"transposednonex!CV8","v":96},99.1,{"$f":"transposednonex!CX8","v":95},{"$f":"transposednonex!CZ8","v":100},{"$f":"transposednonex!DB8","v":100},{"$f":"transposednonex!DD8","v":94},{"$f":"transposednonex!DF8","v":88},{"$f":"transposednonex!DH8","v":98},{"$f":"transposednonex!DJ8","v":94},{"$f":"transposednonex!DL8","v":97},{"$f":"transposednonex!DN8","v":102},{"$f":"transposednonex!DP8","v":102},97,{"$f":"transposednonex!CE8","v":107},{"$f":"transposednonex!CG8","v":96},{"$f":"transposednonex!CI8","v":104},{"$f":"transposednonex!CK8","v":100},{"$f":"transposednonex!CM8","v":100},{"$f":"transposednonex!CO8","v":98},{"$f":"transposednonex!CQ8","v":96},{"$f":"transposednonex!CS8","v":100},{"$f":"transposednonex!CU8","v":91},{"$f":"transposednonex!CW8","v":93},98.5,{"$f":"transposednonex!CY8","v":87},{"$f":"transposednonex!DA8","v":97},{"$f":"transposednonex!DC8","v":98},{"$f":"transposednonex!DE8","v":90},{"$f":"transposednonex!DG8","v":93},{"$f":"transposednonex!DI8","v":89},{"$f":"transposednonex!DK8","v":87},{"$f":"transposednonex!DM8","v":104},{"$f":"transposednonex!DO8","v":99},{"$f":"transposednonex!DQ8","v":91},93.5,{"$f":"transposednonex!DR8","v":"M"},{"$f":"transposednonex!DS8","v":26},{"$f":"transposednonex!DT8","v":"F"}]
[{"$f":"transposednonex!A11","v":"BR102-nonexercise"},{"$f":"transposednonex!B11","v":14.32},{"$f":"transposednonex!D11","v":14.222},{"$f":"transposednonex!F11","v":14.203},{"$f":"transposednonex!H11","v":13.889},{"$f":"transposednonex!J11","v":13.101},{"$f":"transposednonex!L11","v":12.46},{"$f":"transposednonex!N11","v":12.449},{"$f":"transposednonex!P11","v":11.679},{"$f":"transposednonex!R11","v":12.753},{"$f":"transposednonex!T11","v":12.301},13.137699999999999,{"$f":"transposednonex!V11","v":15.475},{"$f":"transposednonex!X11","v":14.689},{"$f":"transposednonex!Z11","v":14.132},{"$f":"transposednonex!AB11","v":13.018},{"$f":"transposednonex!AD11","v":13.266},{"$f":"transposednonex!AF11","v":13.281},{"$f":"transposednonex!AH11","v":12.599},{"$f":"transposednonex!AJ11","v":12.35},{"$f":"transposednonex!AL11","v":12.484},{"$f":"transposednonex!AN11","v":11.566},13.285999999999998,{"$f":"transposednonex!C11","v":34.823},{"$f":"transposednonex!E11","v":34.202},{"$f":"transposednonex!G11","v":31.731},{"$f":"transposednonex!I11","v":31.38},{"$f":"transposednonex!K11","v":30.681},{"$f":"transposednonex!M11","v":30.329},{"$f":"transposednonex!O11","v":29.019},{"$f":"transposednonex!Q11","v":29.075},{"$f":"transposednonex!S11","v":28.104},{"$f":"transposednonex!U11","v":28.361},30.7705,{"$f":"transposednonex!W11","v":29.844},{"$f":"transposednonex!Y11","v":33.329},{"$f":"transposednonex!AA11","v":31.332},{"$f":"transposednonex!AC11","v":30.464},{"$f":"transposednonex!AE11","v":34.308},{"$f":"transposednonex!AG11","v":33.87},{"$f":"transposednonex!AI11","v":31.58},{"$f":"transposednonex!AK11","v":29.795},{"$f":"transposednonex!AM11","v":28.571},{"$f":"transposednonex!AO11","v":33.57},31.6663,{"$f":"transposednonex!AP11","v":0},{"$f":"transposednonex!AR11","v":0},{"$f":"transposednonex!AT11","v":0},{"$f":"transposednonex!AV11","v":0},{"$f":"transposednonex!AX11","v":0},{"$f":"transposednonex!AZ11","v":0},{"$f":"transposednonex!BB11","v":0},{"$f":"transposednonex!BD11","v":0},{"$f":"transposednonex!BF11","v":0},{"$f":"transposednonex!BH11","v":0},0,{"$f":"transposednonex!BJ11","v":2.5},{"$f":"transposednonex!BL11","v":0},{"$f":"transposednonex!BN11","v":0},{"$f":"transposednonex!BP11","v":0},{"$f":"transposednonex!BR11","v":0},{"$f":"transposednonex!BT11","v":0},{"$f":"transposednonex!BV11","v":0},{"$f":"transposednonex!BX11","v":2.5},{"$f":"transposednonex!BZ11","v":0},{"$f":"transposednonex!CB11","v":0},1.25,{"$f":"transposednonex!AQ11","v":0},{"$f":"transposednonex!AS11","v":0},{"$f":"transposednonex!AU11","v":0},{"$f":"transposednonex!AW11","v":0},{"$f":"transposednonex!AY11","v":0},{"$f":"transposednonex!BA11","v":2.5},{"$f":"transposednonex!BC11","v":0},{"$f":"transposednonex!BE11","v":2.5},{"$f":"transposednonex!BG11","v":2.5},{"$f":"transposednonex!BI11","v":2.5},2.5,{"$f":"transposednonex!BK11","v":2.5},{"$f":"transposednonex!BM11","v":2.5},{"$f":"transposednonex!BO11","v":0},{"$f":"transposednonex!BQ11","v":2.5},{"$f":"transposednonex!BS11","v":2.5},{"$f":"transposednonex!BU11","v":0},{"$f":"transposednonex!BW11","v":0},{"$f":"transposednonex!BY11","v":0},{"$f":"transposednonex!CA11","v":2.5},{"$f":"transposednonex!CC11","v":2.5},3.75,{"$f":"transposednonex!CD11","v":69},{"$f":"transposednonex!CF11","v":68},{"$f":"transposednonex!CH11","v":74},{"$f":"transposednonex!CJ11","v":72},{"$f":"transposednonex!CL11","v":77},{"$f":"transposednonex!CN11","v":73},{"$f":"transposednonex!CP11","v":74},{"$f":"transposednonex!CR11","v":73},{"$f":"transposednonex!CT11","v":72},{"$f":"transposednonex!CV11","v":74},72.6,{"$f":"transposednonex!CX11","v":62},{"$f":"transposednonex!CZ11","v":69},{"$f":"transposednonex!DB11","v":67},{"$f":"transposednonex!DD11","v":71},{"$f":"transposednonex!DF11","v":68},{"$f":"transposednonex!DH11","v":68},{"$f":"transposednonex!DJ11","v":64},{"$f":"transposednonex!DL11","v":67},{"$f":"transposednonex!DN11","v":73},{"$f":"transposednonex!DP11","v":67},67.6,{"$f":"transposednonex!CE11","v":69},{"$f":"transposednonex!CG11","v":72},{"$f":"transposednonex!CI11","v":71},{"$f":"transposednonex!CK11","v":75},{"$f":"transposednonex!CM11","v":82},{"$f":"transposednonex!CO11","v":75},{"$f":"transposednonex!CQ11","v":70},{"$f":"transposednonex!CS11","v":68},{"$f":"transposednonex!CU11","v":73},{"$f":"transposednonex!CW11","v":72},72.7,{"$f":"transposednonex!CY11","v":68},{"$f":"transposednonex!DA11","v":65},{"$f":"transposednonex!DC11","v":71},{"$f":"transposednonex!DE11","v":65},{"$f":"transposednonex!DG11","v":65},{"$f":"transposednonex!DI11","v":68},{"$f":"transposednonex!DK11","v":70},{"$f":"transposednonex!DM11","v":74},{"$f":"transposednonex!DO11","v":63},{"$f":"transposednonex!DQ11","v":69},67.8,{"$f":"transposednonex!DR11","v":"M"},{"$f":"transposednonex!DS11","v":26},{"$f":"transposednonex!DT11","v":"F"}]
[{"$f":"transposednonex!A25","v":"DJ102-nonexercise"},{"$f":"transposednonex!B25","v":20.768},{"$f":"transposednonex!D25","v":20.424},{"$f":"transposednonex!F25","v":21.198},{"$f":"transposednonex!H25","v":19.255},{"$f":"transposednonex!J25","v":19.049},{"$f":"transposednonex!L25","v":18.536},{"$f":"transposednonex!N25","v":19.128},{"$f":"transposednonex!P25","v":16.792},{"$f":"transposednonex!R25","v":18.056},{"$f":"transposednonex!T25","v":16.896},19.010200000000005,{"$f":"transposednonex!V25","v":16.08},{"$f":"transposednonex!X25","v":16.47},{"$f":"transposednonex!Z25","v":19.344},{"$f":"transposednonex!AB25","v":16.696},{"$f":"transposednonex!AD25","v":16.144},{"$f":"transposednonex!AF25","v":16.04},{"$f":"transposednonex!AH25","v":16.217},{"$f":"transposednonex!AJ25","v":16.56},{"$f":"transposednonex!AL25","v":18.257},{"$f":"transposednonex!AN25","v":17.096},16.8904,{"$f":"transposednonex!C25","v":35.336},{"$f":"transposednonex!E25","v":33.208},{"$f":"transposednonex!G25","v":30.343},{"$f":"transposednonex!I25","v":29.112},{"$f":"transposednonex!K25","v":27.08},{"$f":"transposednonex!M25","v":29.168},{"$f":"transposednonex!O25","v":27.88},{"$f":"transposednonex!Q25","v":33.232},{"$f":"transposednonex!S25","v":28.368},{"$f":"transposednonex!U25","v":31.183},30.491000000000003,{"$f":"transposednonex!W25","v":25.513},{"$f":"transposednonex!Y25","v":35.032},{"$f":"transposednonex!AA25","v":32.735},{"$f":"transposednonex!AC25","v":33.544},{"$f":"transposednonex!AE25","v":29.376},{"$f":"transposednonex!AG25","v":35.776},{"$f":"transposednonex!AI25","v":25.96},{"$f":"transposednonex!AK25","v":27.079},{"$f":"transposednonex!AM25","v":27.437},{"$f":"transposednonex!AO25","v":28.744},30.119600000000002,{"$f":"transposednonex!AP25","v":0},{"$f":"transposednonex!AR25","v":0},{"$f":"transposednonex!AT25","v":0},{"$f":"transposednonex!AV25","v":0},{"$f":"transposednonex!AX25","v":0},{"$f":"transposednonex!AZ25","v":0},{"$f":"transposednonex!BB25","v":2.5},{"$f":"transposednonex!BD25","v":0},{"$f":"transposednonex!BF25","v":0},{"$f":"transposednonex!BH25","v":0},0.25,{"$f":"transposednonex!BJ25","v":0},{"$f":"transposednonex!BL25","v":2.5},{"$f":"transposednonex!BN25","v":2.5},{"$f":"transposednonex!BP25","v":0},{"$f":"transposednonex!BR25","v":0},{"$f":"transposednonex!BT25","v":0},{"$f":"transposednonex!BV25","v":0},{"$f":"transposednonex!BX25","v":5},{"$f":"transposednonex!BZ25","v":2.5},{"$f":"transposednonex!CB25","v":0},3.125,{"$f":"transposednonex!AQ25","v":5},{"$f":"transposednonex!AS25","v":2.5},{"$f":"transposednonex!AU25","v":2.5},{"$f":"transposednonex!AW25","v":2.5},{"$f":"transposednonex!AY25","v":7.5},{"$f":"transposednonex!BA25","v":0},{"$f":"transposednonex!BC25","v":5},{"$f":"transposednonex!BE25","v":10},{"$f":"transposednonex!BG25","v":5},{"$f":"transposednonex!BI25","v":12.5},13.125,{"$f":"transposednonex!BK25","v":12.5},{"$f":"transposednonex!BM25","v":15},{"$f":"transposednonex!BO25","v":12.5},{"$f":"transposednonex!BQ25","v":7.5},{"$f":"transposednonex!BS25","v":5},{"$f":"transposednonex!BU25","v":12.5},{"$f":"transposednonex!BW25","v":0},{"$f":"transposednonex!BY25","v":15},{"$f":"transposednonex!CA25","v":5},{"$f":"transposednonex!CC25","v":7.5},23.125,{"$f":"transposednonex!CD25","v":70},{"$f":"transposednonex!CF25","v":81},{"$f":"transposednonex!CH25","v":75},{"$f":"transposednonex!CJ25","v":84},{"$f":"transposednonex!CL25","v":81},{"$f":"transposednonex!CN25","v":81},{"$f":"transposednonex!CP25","v":76},{"$f":"transposednonex!CR25","v":79},{"$f":"transposednonex!CT25","v":76},{"$f":"transposednonex!CV25","v":75},77.8,{"$f":"transposednonex!CX25","v":63},{"$f":"transposednonex!CZ25","v":56},{"$f":"transposednonex!DB25","v":61},{"$f":"transposednonex!DD25","v":60},{"$f":"transposednonex!DF25","v":60},{"$f":"transposednonex!DH25","v":57},{"$f":"transposednonex!DJ25","v":57},{"$f":"transposednonex!DL25","v":57},{"$f":"transposednonex!DN25","v":57},{"$f":"transposednonex!DP25","v":60},58.8,{"$f":"transposednonex!CE25","v":81},{"$f":"transposednonex!CG25","v":78},{"$f":"transposednonex!CI25","v":80},{"$f":"transposednonex!CK25","v":81},{"$f":"transposednonex!CM25","v":72},{"$f":"transposednonex!CO25","v":81},{"$f":"transposednonex!CQ25","v":75},{"$f":"transposednonex!CS25","v":74},{"$f":"transposednonex!CU25","v":77},{"$f":"transposednonex!CW25","v":78},77.7,{"$f":"transposednonex!CY25","v":66},{"$f":"transposednonex!DA25","v":57},{"$f":"transposednonex!DC25","v":62},{"$f":"transposednonex!DE25","v":62},{"$f":"transposednonex!DG25","v":63},{"$f":"transposednonex!DI25","v":63},{"$f":"transposednonex!DK25","v":56},{"$f":"transposednonex!DM25","v":55},{"$f":"transposednonex!DO25","v":56},{"$f":"transposednonex!DQ25","v":56},59.6,{"$f":"transposednonex!DR25","v":"M"},{"$f":"transposednonex!DS25","v":29},{"$f":"transposednonex!DT25","v":"F"}]
[{"$f":"transposednonex!A12","v":"FH101-nonexercise"},{"$f":"transposednonex!B12","v":17.343},{"$f":"transposednonex!D12","v":15.6},{"$f":"transposednonex!F12","v":15.056},{"$f":"transposednonex!H12","v":14.408},{"$f":"transposednonex!J12","v":14.593},{"$f":"transposednonex!L12","v":14.856},{"$f":"transposednonex!N12","v":14.928},{"$f":"transposednonex!P12","v":14.776},{"$f":"transposednonex!R12","v":14.161},{"$f":"transposednonex!T12","v":14.4},15.012099999999998,{"$f":"transposednonex!V12","v":15.071},{"$f":"transposednonex!X12","v":14.04},{"$f":"transposednonex!Z12","v":13.856},{"$f":"transposednonex!AB12","v":13.184},{"$f":"transposednonex!AD12","v":13.312},{"$f":"transposednonex!AF12","v":13.057},{"$f":"transposednonex!AH12","v":12.344},{"$f":"transposednonex!AJ12","v":12.84},{"$f":"transposednonex!AL12","v":13.424},{"$f":"transposednonex!AN12","v":12.878},13.400599999999997,{"$f":"transposednonex!C12","v":38.936},{"$f":"transposednonex!E12","v":34.551},{"$f":"transposednonex!G12","v":28.383},{"$f":"transposednonex!I12","v":30.519},{"$f":"transposednonex!K12","v":31.839},{"$f":"transposednonex!M12","v":33.768},{"$f":"transposednonex!O12","v":30.823},{"$f":"transposednonex!Q12","v":28.009},{"$f":"transposednonex!S12","v":29.544},{"$f":"transposednonex!U12","v":30.6},31.6972,{"$f":"transposednonex!W12","v":30.28},{"$f":"transposednonex!Y12","v":31.04},{"$f":"transposednonex!AA12","v":26.64},{"$f":"transposednonex!AC12","v":31.793},{"$f":"transposednonex!AE12","v":29.824},{"$f":"transposednonex!AG12","v":28.263},{"$f":"transposednonex!AI12","v":24.834},{"$f":"transposednonex!AK12","v":27.712},{"$f":"transposednonex!AM12","v":29.648},{"$f":"transposednonex!AO12","v":29.585},28.961900000000004,{"$f":"transposednonex!AP12","v":0},{"$f":"transposednonex!AR12","v":0},{"$f":"transposednonex!AT12","v":0},{"$f":"transposednonex!AV12","v":0},{"$f":"transposednonex!AX12","v":0},{"$f":"transposednonex!AZ12","v":0},{"$f":"transposednonex!BB12","v":0},{"$f":"transposednonex!BD12","v":0},{"$f":"transposednonex!BF12","v":0},{"$f":"transposednonex!BH12","v":0},0,{"$f":"transposednonex!BJ12","v":0},{"$f":"transposednonex!BL12","v":0},{"$f":"transposednonex!BN12","v":0},{"$f":"transposednonex!BP12","v":0},{"$f":"transposednonex!BR12","v":0},{"$f":"transposednonex!BT12","v":0},{"$f":"transposednonex!BV12","v":0},{"$f":"transposednonex!BX12","v":0},{"$f":"transposednonex!BZ12","v":0},{"$f":"transposednonex!CB12","v":0},0,{"$f":"transposednonex!AQ12","v":5},{"$f":"transposednonex!AS12","v":5},{"$f":"transposednonex!AU12","v":2.5},{"$f":"transposednonex!AW12","v":5},{"$f":"transposednonex!AY12","v":5},{"$f":"transposednonex!BA12","v":2.5},{"$f":"transposednonex!BC12","v":2.5},{"$f":"transposednonex!BE12","v":5},{"$f":"transposednonex!BG12","v":5},{"$f":"transposednonex!BI12","v":2.5},10,{"$f":"transposednonex!BK12","v":5},{"$f":"transposednonex!BM12","v":0},{"$f":"transposednonex!BO12","v":2.5},{"$f":"transposednonex!BQ12","v":7.5},{"$f":"transposednonex!BS12","v":2.5},{"$f":"transposednonex!BU12","v":0},{"$f":"transposednonex!BW12","v":0},{"$f":"transposednonex!BY12","v":0},{"$f":"transposednonex!CA12","v":0},{"$f":"transposednonex!CC12","v":2.5},5,{"$f":"transposednonex!CD12","v":108},{"$f":"transposednonex!CF12","v":101},{"$f":"transposednonex!CH12","v":104},{"$f":"transposednonex!CJ12","v":108},{"$f":"transposednonex!CL12","v":101},{"$f":"transposednonex!CN12","v":106},{"$f":"transposednonex!CP12","v":110},{"$f":"transposednonex!CR12","v":101},{"$f":"transposednonex!CT12","v":106},{"$f":"transposednonex!CV12","v":96},104.1,{"$f":"transposednonex!CX12","v":104},{"$f":"transposednonex!CZ12","v":98},{"$f":"transposednonex!DB12","v":98},{"$f":"transposednonex!DD12","v":96},{"$f":"transposednonex!DF12","v":101},{"$f":"transposednonex!DH12","v":98},{"$f":"transposednonex!DJ12","v":99},{"$f":"transposednonex!DL12","v":97},{"$f":"transposednonex!DN12","v":95},{"$f":"transposednonex!DP12","v":97},98.3,{"$f":"transposednonex!CE12","v":70},{"$f":"transposednonex!CG12","v":112},{"$f":"transposednonex!CI12","v":102},{"$f":"transposednonex!CK12","v":103},{"$f":"transposednonex!CM12","v":102},{"$f":"transposednonex!CO12","v":109},{"$f":"transposednonex!CQ12","v":109},{"$f":"transposednonex!CS12","v":107},{"$f":"transposednonex!CU12","v":105},{"$f":"transposednonex!CW12","v":108},102.7,{"$f":"transposednonex!CY12","v":103},{"$f":"transposednonex!DA12","v":102},{"$f":"transposednonex!DC12","v":98},{"$f":"transposednonex!DE12","v":95},{"$f":"transposednonex!DG12","v":101},{"$f":"transposednonex!DI12","v":97},{"$f":"transposednonex!DK12","v":95},{"$f":"transposednonex!DM12","v":92},{"$f":"transposednonex!DO12","v":95},{"$f":"transposednonex!DQ12","v":95},97.3,{"$f":"transposednonex!DR12","v":"F"},{"$f":"transposednonex!DS12","v":27},{"$f":"transposednonex!DT12","v":"F"}]
[{"$f":"transposednonex!A10","v":"JF102-nonexercise"},{"$f":"transposednonex!B10","v":20.159},{"$f":"transposednonex!D10","v":20.521},{"$f":"transposednonex!F10","v":18.111},{"$f":"transposednonex!H10","v":17.035},{"$f":"transposednonex!J10","v":15.921},{"$f":"transposednonex!L10","v":15.636},{"$f":"transposednonex!N10","v":14.929},{"$f":"transposednonex!P10","v":15.13},{"$f":"transposednonex!R10","v":16.607},{"$f":"transposednonex!T10","v":15.642},16.969099999999997,{"$f":"transposednonex!V10","v":18.65},{"$f":"transposednonex!X10","v":16.821},{"$f":"transposednonex!Z10","v":15.325},{"$f":"transposednonex!AB10","v":13.536},{"$f":"transposednonex!AD10","v":13.676},{"$f":"transposednonex!AF10","v":14.64},{"$f":"transposednonex!AH10","v":13.85},{"$f":"transposednonex!AJ10","v":14.418},{"$f":"transposednonex!AL10","v":13.247},{"$f":"transposednonex!AN10","v":14.226},14.8389,{"$f":"transposednonex!C10","v":38.8},{"$f":"transposednonex!E10","v":36.523},{"$f":"transposednonex!G10","v":39.808},{"$f":"transposednonex!I10","v":38.172},{"$f":"transposednonex!K10","v":41.709},{"$f":"transposednonex!M10","v":33.261},{"$f":"transposednonex!O10","v":40.528},{"$f":"transposednonex!Q10","v":33.357},{"$f":"transposednonex!S10","v":34.974},{"$f":"transposednonex!U10","v":43.945},38.1077,{"$f":"transposednonex!W10","v":37.469},{"$f":"transposednonex!Y10","v":39.439},{"$f":"transposednonex!AA10","v":35.885},{"$f":"transposednonex!AC10","v":31.384},{"$f":"transposednonex!AE10","v":35.149},{"$f":"transposednonex!AG10","v":33.733},{"$f":"transposednonex!AI10","v":33.783},{"$f":"transposednonex!AK10","v":39.274},{"$f":"transposednonex!AM10","v":36.273},{"$f":"transposednonex!AO10","v":36.551},35.894000000000005,{"$f":"transposednonex!AP10","v":0},{"$f":"transposednonex!AR10","v":0},{"$f":"transposednonex!AT10","v":0},{"$f":"transposednonex!AV10","v":0},{"$f":"transposednonex!AX10","v":0},{"$f":"transposednonex!AZ10","v":0},{"$f":"transposednonex!BB10","v":0},{"$f":"transposednonex!BD10","v":0},{"$f":"transposednonex!BF10","v":0},{"$f":"transposednonex!BH10","v":0},0,{"$f":"transposednonex!BJ10","v":2.5},{"$f":"transposednonex!BL10","v":0},{"$f":"transposednonex!BN10","v":0},{"$f":"transposednonex!BP10","v":0},{"$f":"transposednonex!BR10","v":0},{"$f":"transposednonex!BT10","v":0},{"$f":"transposednonex!BV10","v":0},{"$f":"transposednonex!BX10","v":0},{"$f":"transposednonex!BZ10","v":0},{"$f":"transposednonex!CB10","v":0},0.625,{"$f":"transposednonex!AQ10","v":0},{"$f":"transposednonex!AS10","v":0},{"$f":"transposednonex!AU10","v":0},{"$f":"transposednonex!AW10","v":2.5},{"$f":"transposednonex!AY10","v":0},{"$f":"transposednonex!BA10","v":0},{"$f":"transposednonex!BC10","v":0},{"$f":"transposednonex!BE10","v":0},{"$f":"transposednonex!BG10","v":0},{"$f":"transposednonex!BI10","v":2.5},1.25,{"$f":"transposednonex!BK10","v":2.5},{"$f":"transposednonex!BM10","v":5},{"$f":"transposednonex!BO10","v":0},{"$f":"transposednonex!BQ10","v":0},{"$f":"transposednonex!BS10","v":2.5},{"$f":"transposednonex!BU10","v":2.5},{"$f":"transposednonex!BW10","v":0},{"$f":"transposednonex!BY10","v":5},{"$f":"transposednonex!CA10","v":2.5},{"$f":"transposednonex!CC10","v":0},5,{"$f":"transposednonex!CD10","v":121},{"$f":"transposednonex!CF10","v":116},{"$f":"transposednonex!CH10","v":116},{"$f":"transposednonex!CJ10","v":108},{"$f":"transposednonex!CL10","v":99},{"$f":"transposednonex!CN10","v":108},{"$f":"transposednonex!CP10","v":105},{"$f":"transposednonex!CR10","v":111},{"$f":"transposednonex!CT10","v":112},{"$f":"transposednonex!CV10","v":104},110,{"$f":"transposednonex!CX10","v":93},{"$f":"transposednonex!CZ10","v":97},{"$f":"transposednonex!DB10","v":95},{"$f":"transposednonex!DD10","v":91},{"$f":"transposednonex!DF10","v":99},{"$f":"transposednonex!DH10","v":99},{"$f":"transposednonex!DJ10","v":101},{"$f":"transposednonex!DL10","v":95},{"$f":"transposednonex!DN10","v":100},{"$f":"transposednonex!DP10","v":101},97.1,{"$f":"transposednonex!CE10","v":118},{"$f":"transposednonex!CG10","v":119},{"$f":"transposednonex!CI10","v":109},{"$f":"transposednonex!CK10","v":107},{"$f":"transposednonex!CM10","v":113},{"$f":"transposednonex!CO10","v":112},{"$f":"transposednonex!CQ10","v":111},{"$f":"transposednonex!CS10","v":114},{"$f":"transposednonex!CU10","v":106},{"$f":"transposednonex!CW10","v":100},110.9,{"$f":"transposednonex!CY10","v":93},{"$f":"transposednonex!DA10","v":102},{"$f":"transposednonex!DC10","v":95},{"$f":"transposednonex!DE10","v":93},{"$f":"transposednonex!DG10","v":99},{"$f":"transposednonex!DI10","v":97},{"$f":"transposednonex!DK10","v":97},{"$f":"transposednonex!DM10","v":109},{"$f":"transposednonex!DO10","v":104},{"$f":"transposednonex!DQ10","v":104},99.3,{"$f":"transposednonex!DR10","v":"F"},{"$f":"transposednonex!DS10","v":23},{"$f":"transposednonex!DT10","v":"F"}]
[{"$f":"transposednonex!A13","v":"JL101-nonexercise"},{"$f":"transposednonex!B13","v":18.64},{"$f":"transposednonex!D13","v":16.343},{"$f":"transposednonex!F13","v":13.609},{"$f":"transposednonex!H13","v":14.392},{"$f":"transposednonex!J13","v":16.375},{"$f":"transposednonex!L13","v":15.976},{"$f":"transposednonex!N13","v":15.575},{"$f":"transposednonex!P13","v":14.456},{"$f":"transposednonex!R13","v":14.24},{"$f":"transposednonex!T13","v":14.184},15.379000000000001,{"$f":"transposednonex!V13","v":15.855},{"$f":"transposednonex!X13","v":15.48},{"$f":"transposednonex!Z13","v":15.432},{"$f":"transposednonex!AB13","v":14.24},{"$f":"transposednonex!AD13","v":13.368},{"$f":"transposednonex!AF13","v":14.064},{"$f":"transposednonex!AH13","v":13.088},{"$f":"transposednonex!AJ13","v":13.631},{"$f":"transposednonex!AL13","v":13.608},{"$f":"transposednonex!AN13","v":12.471},14.1237,{"$f":"transposednonex!C13","v":40.438},{"$f":"transposednonex!E13","v":41.903},{"$f":"transposednonex!G13","v":39.192},{"$f":"transposednonex!I13","v":35.391},{"$f":"transposednonex!K13","v":39.72},{"$f":"transposednonex!M13","v":36.984},{"$f":"transposednonex!O13","v":35.992},{"$f":"transposednonex!Q13","v":35.28},{"$f":"transposednonex!S13","v":33.399},{"$f":"transposednonex!U13","v":40.512},37.881099999999996,{"$f":"transposednonex!W13","v":34.152},{"$f":"transposednonex!Y13","v":33.855},{"$f":"transposednonex!AA13","v":39.72},{"$f":"transposednonex!AC13","v":29.375},{"$f":"transposednonex!AE13","v":33.367},{"$f":"transposednonex!AG13","v":30.904},{"$f":"transposednonex!AI13","v":36.512},{"$f":"transposednonex!AK13","v":34.561},{"$f":"transposednonex!AM13","v":34.424},{"$f":"transposednonex!AO13","v":31.745},33.86149999999999,{"$f":"transposednonex!AP13","v":0},{"$f":"transposednonex!AR13","v":0},{"$f":"transposednonex!AT13","v":0},{"$f":"transposednonex!AV13","v":0},{"$f":"transposednonex!AX13","v":2.5},{"$f":"transposednonex!AZ13","v":0},{"$f":"transposednonex!BB13","v":2.5},{"$f":"transposednonex!BD13","v":0},{"$f":"transposednonex!BF13","v":2.5},{"$f":"transposednonex!BH13","v":0},0.75,{"$f":"transposednonex!BJ13","v":0},{"$f":"transposednonex!BL13","v":0},{"$f":"transposednonex!BN13","v":2.5},{"$f":"transposednonex!BP13","v":0},{"$f":"transposednonex!BR13","v":0},{"$f":"transposednonex!BT13","v":5},{"$f":"transposednonex!BV13","v":0},{"$f":"transposednonex!BX13","v":0},{"$f":"transposednonex!BZ13","v":0},{"$f":"transposednonex!CB13","v":0},1.875,{"$f":"transposednonex!AQ13","v":10},{"$f":"transposednonex!AS13","v":5},{"$f":"transposednonex!AU13","v":7.5},{"$f":"transposednonex!AW13","v":5},{"$f":"transposednonex!AY13","v":20},{"$f":"transposednonex!BA13","v":17.5},{"$f":"transposednonex!BC13","v":5},{"$f":"transposednonex!BE13","v":10},{"$f":"transposednonex!BG13","v":12.5},{"$f":"transposednonex!BI13","v":12.5},26.25,{"$f":"transposednonex!BK13","v":5},{"$f":"transposednonex!BM13","v":0},{"$f":"transposednonex!BO13","v":15},{"$f":"transposednonex!BQ13","v":7.5},{"$f":"transposednonex!BS13","v":7.5},{"$f":"transposednonex!BU13","v":2.5},{"$f":"transposednonex!BW13","v":2.5},{"$f":"transposednonex!BY13","v":10},{"$f":"transposednonex!CA13","v":2.5},{"$f":"transposednonex!CC13","v":0},13.125,{"$f":"transposednonex!CD13","v":82},{"$f":"transposednonex!CF13","v":84},{"$f":"transposednonex!CH13","v":82},{"$f":"transposednonex!CJ13","v":86},{"$f":"transposednonex!CL13","v":80},{"$f":"transposednonex!CN13","v":75},{"$f":"transposednonex!CP13","v":79},{"$f":"transposednonex!CR13","v":81},{"$f":"transposednonex!CT13","v":79},{"$f":"transposednonex!CV13","v":82},81,{"$f":"transposednonex!CX13","v":82},{"$f":"transposednonex!CZ13","v":77},{"$f":"transposednonex!DB13","v":81},{"$f":"transposednonex!DD13","v":78},{"$f":"transposednonex!DF13","v":79},{"$f":"transposednonex!DH13","v":79},{"$f":"transposednonex!DJ13","v":77},{"$f":"transposednonex!DL13","v":79},{"$f":"transposednonex!DN13","v":75},{"$f":"transposednonex!DP13","v":77},78.4,{"$f":"transposednonex!CE13","v":82},{"$f":"transposednonex!CG13","v":83},{"$f":"transposednonex!CI13","v":82},{"$f":"transposednonex!CK13","v":83},{"$f":"transposednonex!CM13","v":77},{"$f":"transposednonex!CO13","v":79},{"$f":"transposednonex!CQ13","v":75},{"$f":"transposednonex!CS13","v":77},{"$f":"transposednonex!CU13","v":82},{"$f":"transposednonex!CW13","v":81},80.1,{"$f":"transposednonex!CY13","v":84},{"$f":"transposednonex!DA13","v":79},{"$f":"transposednonex!DC13","v":79},{"$f":"transposednonex!DE13","v":76},{"$f":"transposednonex!DG13","v":79},{"$f":"transposednonex!DI13","v":82},{"$f":"transposednonex!DK13","v":78},{"$f":"transposednonex!DM13","v":81},{"$f":"transposednonex!DO13","v":80},{"$f":"transposednonex!DQ13","v":83},80.1,{"$f":"transposednonex!DR13","v":"F"},{"$f":"transposednonex!DS13","v":27},{"$f":"transposednonex!DT13","v":"F"}]
[{"$f":"transposednonex!A15","v":"KK101-nonexercise"},{"$f":"transposednonex!B15","v":21.44},{"$f":"transposednonex!D15","v":22.08},{"$f":"transposednonex!F15","v":22.065},{"$f":"transposednonex!H15","v":20.887},{"$f":"transposednonex!J15","v":21.993},{"$f":"transposednonex!L15","v":22.808},{"$f":"transposednonex!N15","v":21.2},{"$f":"transposednonex!P15","v":22.016},{"$f":"transposednonex!R15","v":21.528},{"$f":"transposednonex!T15","v":21.207},21.722399999999997,{"$f":"transposednonex!V15","v":19.632},{"$f":"transposednonex!X15","v":20.312},{"$f":"transposednonex!Z15","v":19.092},{"$f":"transposednonex!AB15","v":19.617},{"$f":"transposednonex!AD15","v":17.616},{"$f":"transposednonex!AF15","v":18.272},{"$f":"transposednonex!AH15","v":17.72},{"$f":"transposednonex!AJ15","v":18.584},{"$f":"transposednonex!AL15","v":17.056},{"$f":"transposednonex!AN15","v":17.408},18.530900000000003,{"$f":"transposednonex!C15","v":35.233},{"$f":"transposednonex!E15","v":31.385},{"$f":"transposednonex!G15","v":30.593},{"$f":"transposednonex!I15","v":27.481},{"$f":"transposednonex!K15","v":30.198},{"$f":"transposednonex!M15","v":26.744},{"$f":"transposednonex!O15","v":30.976},{"$f":"transposednonex!Q15","v":28.032},{"$f":"transposednonex!S15","v":29.281},{"$f":"transposednonex!U15","v":25.248},29.5171,{"$f":"transposednonex!W15","v":24.777},{"$f":"transposednonex!Y15","v":26.049},{"$f":"transposednonex!AA15","v":26.24},{"$f":"transposednonex!AC15","v":25.784},{"$f":"transposednonex!AE15","v":25.074},{"$f":"transposednonex!AG15","v":25.832},{"$f":"transposednonex!AI15","v":25.814},{"$f":"transposednonex!AK15","v":26.425},{"$f":"transposednonex!AM15","v":26.02},{"$f":"transposednonex!AO15","v":27.48},25.9495,{"$f":"transposednonex!AP15","v":0},{"$f":"transposednonex!AR15","v":0},{"$f":"transposednonex!AT15","v":0},{"$f":"transposednonex!AV15","v":0},{"$f":"transposednonex!AX15","v":0},{"$f":"transposednonex!AZ15","v":0},{"$f":"transposednonex!BB15","v":0},{"$f":"transposednonex!BD15","v":0},{"$f":"transposednonex!BF15","v":0},{"$f":"transposednonex!BH15","v":0},0,{"$f":"transposednonex!BJ15","v":0},{"$f":"transposednonex!BL15","v":0},{"$f":"transposednonex!BN15","v":0},{"$f":"transposednonex!BP15","v":0},{"$f":"transposednonex!BR15","v":0},{"$f":"transposednonex!BT15","v":0},{"$f":"transposednonex!BV15","v":0},{"$f":"transposednonex!BX15","v":0},{"$f":"transposednonex!BZ15","v":0},{"$f":"transposednonex!CB15","v":0},0,{"$f":"transposednonex!AQ15","v":0},{"$f":"transposednonex!AS15","v":0},{"$f":"transposednonex!AU15","v":0},{"$f":"transposednonex!AW15","v":0},{"$f":"transposednonex!AY15","v":0},{"$f":"transposednonex!BA15","v":0},{"$f":"transposednonex!BC15","v":2.5},{"$f":"transposednonex!BE15","v":2.5},{"$f":"transposednonex!BG15","v":0},{"$f":"transposednonex!BI15","v":0},1.25,{"$f":"transposednonex!BK15","v":0},{"$f":"transposednonex!BM15","v":0},{"$f":"transposednonex!BO15","v":0},{"$f":"transposednonex!BQ15","v":0},{"$f":"transposednonex!BS15","v":0},{"$f":"transposednonex!BU15","v":5},{"$f":"transposednonex!BW15","v":0},{"$f":"transposednonex!BY15","v":0},{"$f":"transposednonex!CA15","v":0},{"$f":"transposednonex!CC15","v":2.5},1.875,{"$f":"transposednonex!CD15","v":109},{"$f":"transposednonex!CF15","v":87},{"$f":"transposednonex!CH15","v":93},{"$f":"transposednonex!CJ15","v":88},{"$f":"transposednonex!CL15","v":90},{"$f":"transposednonex!CN15","v":93},{"$f":"transposednonex!CP15","v":93},{"$f":"transposednonex!CR15","v":93},{"$f":"transposednonex!CT15","v":98},{"$f":"transposednonex!CV15","v":97},94.1,{"$f":"transposednonex!CX15","v":90},{"$f":"transposednonex!CZ15","v":90},{"$f":"transposednonex!DB15","v":89},{"$f":"transposednonex!DD15","v":95},{"$f":"transposednonex!DF15","v":97},{"$f":"transposednonex!DH15","v":89},{"$f":"transposednonex!DJ15","v":84},{"$f":"transposednonex!DL15","v":90},{"$f":"transposednonex!DN15","v":88},{"$f":"transposednonex!DP15","v":87},89.9,{"$f":"transposednonex!CE15","v":88},{"$f":"transposednonex!CG15","v":96},{"$f":"transposednonex!CI15","v":101},{"$f":"transposednonex!CK15","v":90},{"$f":"transposednonex!CM15","v":90},{"$f":"transposednonex!CO15","v":93},{"$f":"transposednonex!CQ15","v":94},{"$f":"transposednonex!CS15","v":86},{"$f":"transposednonex!CU15","v":89},{"$f":"transposednonex!CW15","v":86},91.3,{"$f":"transposednonex!CY15","v":92},{"$f":"transposednonex!DA15","v":90},{"$f":"transposednonex!DC15","v":100},{"$f":"transposednonex!DE15","v":88},{"$f":"transposednonex!DG15","v":91},{"$f":"transposednonex!DI15","v":85},{"$f":"transposednonex!DK15","v":91},{"$f":"transposednonex!DM15","v":91},{"$f":"transposednonex!DO15","v":91},{"$f":"transposednonex!DQ15","v":88},90.7,{"$f":"transposednonex!DR15","v":"F"},{"$f":"transposednonex!DS15","v":20},{"$f":"transposednonex!DT15","v":"T"}]
[{"$f":"transposednonex!A21","v":"KLA101-nonexercise"},{"$f":"transposednonex!B21","v":17.668},{"$f":"transposednonex!D21","v":17.336},{"$f":"transposednonex!F21","v":15.664},{"$f":"transposednonex!H21","v":15.72},{"$f":"transposednonex!J21","v":16.104},{"$f":"transposednonex!L21","v":16.12},{"$f":"transposednonex!N21","v":15.72},{"$f":"transposednonex!P21","v":14.248},{"$f":"transposednonex!R21","v":13.511},{"$f":"transposednonex!T21","v":14.441},15.653200000000002,{"$f":"transposednonex!V21","v":13.928},{"$f":"transposednonex!X21","v":15.968},{"$f":"transposednonex!Z21","v":13.744},{"$f":"transposednonex!AB21","v":12.928},{"$f":"transposednonex!AD21","v":13.296},{"$f":"transposednonex!AF21","v":14.368},{"$f":"transposednonex!AH21","v":12.632},{"$f":"transposednonex!AJ21","v":13.112},{"$f":"transposednonex!AL21","v":13.544},{"$f":"transposednonex!AN21","v":13.343},13.6863,{"$f":"transposednonex!C21","v":42.776},{"$f":"transposednonex!E21","v":39.24},{"$f":"transposednonex!G21","v":32.448},{"$f":"transposednonex!I21","v":38.968},{"$f":"transposednonex!K21","v":43.807},{"$f":"transposednonex!M21","v":38.031},{"$f":"transposednonex!O21","v":34.872},{"$f":"transposednonex!Q21","v":30.712},{"$f":"transposednonex!S21","v":33.407},{"$f":"transposednonex!U21","v":30.02},36.4281,{"$f":"transposednonex!W21","v":35.719},{"$f":"transposednonex!Y21","v":33.527},{"$f":"transposednonex!AA21","v":30.968},{"$f":"transposednonex!AC21","v":28.839},{"$f":"transposednonex!AE21","v":32.318},{"$f":"transposednonex!AG21","v":33.263},{"$f":"transposednonex!AI21","v":28.081},{"$f":"transposednonex!AK21","v":32.408},{"$f":"transposednonex!AM21","v":32.095},{"$f":"transposednonex!AO21","v":31.473},31.869099999999996,{"$f":"transposednonex!AP21","v":0},{"$f":"transposednonex!AR21","v":0},{"$f":"transposednonex!AT21","v":0},{"$f":"transposednonex!AV21","v":0},{"$f":"transposednonex!AX21","v":0},{"$f":"transposednonex!AZ21","v":0},{"$f":"transposednonex!BB21","v":0},{"$f":"transposednonex!BD21","v":5},{"$f":"transposednonex!BF21","v":0},{"$f":"transposednonex!BH21","v":0},0.5,{"$f":"transposednonex!BJ21","v":0},{"$f":"transposednonex!BL21","v":0},{"$f":"transposednonex!BN21","v":0},{"$f":"transposednonex!BP21","v":0},{"$f":"transposednonex!BR21","v":0},{"$f":"transposednonex!BT21","v":0},{"$f":"transposednonex!BV21","v":0},{"$f":"transposednonex!BX21","v":0},{"$f":"transposednonex!BZ21","v":5},{"$f":"transposednonex!CB21","v":0},1.25,{"$f":"transposednonex!AQ21","v":5},{"$f":"transposednonex!AS21","v":5},{"$f":"transposednonex!AU21","v":0},{"$f":"transposednonex!AW21","v":5},{"$f":"transposednonex!AY21","v":22.5},{"$f":"transposednonex!BA21","v":2.5},{"$f":"transposednonex!BC21","v":2.5},{"$f":"transposednonex!BE21","v":2.5},{"$f":"transposednonex!BG21","v":5},{"$f":"transposednonex!BI21","v":2.5},13.125,{"$f":"transposednonex!BK21","v":0},{"$f":"transposednonex!BM21","v":2.5},{"$f":"transposednonex!BO21","v":10},{"$f":"transposednonex!BQ21","v":5},{"$f":"transposednonex!BS21","v":12.5},{"$f":"transposednonex!BU21","v":2.5},{"$f":"transposednonex!BW21","v":7.5},{"$f":"transposednonex!BY21","v":2.5},{"$f":"transposednonex!CA21","v":0},{"$f":"transposednonex!CC21","v":5},11.875,{"$f":"transposednonex!CD21","v":75},{"$f":"transposednonex!CF21","v":64},{"$f":"transposednonex!CH21","v":65},{"$f":"transposednonex!CJ21","v":70},{"$f":"transposednonex!CL21","v":77},{"$f":"transposednonex!CN21","v":62},{"$f":"transposednonex!CP21","v":67},{"$f":"transposednonex!CR21","v":74},{"$f":"transposednonex!CT21","v":65},{"$f":"transposednonex!CV21","v":70},68.9,{"$f":"transposednonex!CX21","v":59},{"$f":"transposednonex!CZ21","v":72},{"$f":"transposednonex!DB21","v":61},{"$f":"transposednonex!DD21","v":67},{"$f":"transposednonex!DF21","v":71},{"$f":"transposednonex!DH21","v":74},{"$f":"transposednonex!DJ21","v":73},{"$f":"transposednonex!DL21","v":59},{"$f":"transposednonex!DN21","v":68},{"$f":"transposednonex!DP21","v":70},67.4,{"$f":"transposednonex!CE21","v":69},{"$f":"transposednonex!CG21","v":66},{"$f":"transposednonex!CI21","v":64},{"$f":"transposednonex!CK21","v":68},{"$f":"transposednonex!CM21","v":64},{"$f":"transposednonex!CO21","v":76},{"$f":"transposednonex!CQ21","v":66},{"$f":"transposednonex!CS21","v":69},{"$f":"transposednonex!CU21","v":74},{"$f":"transposednonex!CW21","v":73},68.9,{"$f":"transposednonex!CY21","v":61},{"$f":"transposednonex!DA21","v":63},{"$f":"transposednonex!DC21","v":59},{"$f":"transposednonex!DE21","v":72},{"$f":"transposednonex!DG21","v":70},{"$f":"transposednonex!DI21","v":57},{"$f":"transposednonex!DK21","v":69},{"$f":"transposednonex!DM21","v":73},{"$f":"transposednonex!DO21","v":76},{"$f":"transposednonex!DQ21","v":56},65.6,{"$f":"transposednonex!DR21","v":"M"},{"$f":"transposednonex!DS21","v":24},{"$f":"transposednonex!DT21","v":"F"}]
[{"$f":"transposednonex!A16","v":"KV101-nonexercise"},{"$f":"transposednonex!B16","v":24.896},{"$f":"transposednonex!D16","v":20.792},{"$f":"transposednonex!F16","v":17.016},{"$f":"transposednonex!H16","v":19.72},{"$f":"transposednonex!J16","v":15.471},{"$f":"transposednonex!L16","v":16.207},{"$f":"transposednonex!N16","v":17.344},{"$f":"transposednonex!P16","v":16.504},{"$f":"transposednonex!R16","v":16.944},{"$f":"transposednonex!T16","v":16.464},18.135799999999996,{"$f":"transposednonex!V16","v":19.488},{"$f":"transposednonex!X16","v":18.158},{"$f":"transposednonex!Z16","v":17.864},{"$f":"transposednonex!AB16","v":18.631},{"$f":"transposednonex!AD16","v":18.96},{"$f":"transposednonex!AF16","v":18.088},{"$f":"transposednonex!AH16","v":16.343},{"$f":"transposednonex!AJ16","v":15.976},{"$f":"transposednonex!AL16","v":15.575},{"$f":"transposednonex!AN16","v":17.44},17.6523,{"$f":"transposednonex!C16","v":31.335},{"$f":"transposednonex!E16","v":28.08},{"$f":"transposednonex!G16","v":28.04},{"$f":"transposednonex!I16","v":27.279},{"$f":"transposednonex!K16","v":28.816},{"$f":"transposednonex!M16","v":27.936},{"$f":"transposednonex!O16","v":26.831},{"$f":"transposednonex!Q16","v":26.377},{"$f":"transposednonex!S16","v":26.799},{"$f":"transposednonex!U16","v":26.031},27.7524,{"$f":"transposednonex!W16","v":25.382},{"$f":"transposednonex!Y16","v":28.586},{"$f":"transposednonex!AA16","v":25.32},{"$f":"transposednonex!AC16","v":26.256},{"$f":"transposednonex!AE16","v":25.335},{"$f":"transposednonex!AG16","v":25.888},{"$f":"transposednonex!AI16","v":24.576},{"$f":"transposednonex!AK16","v":25.992},{"$f":"transposednonex!AM16","v":24.384},{"$f":"transposednonex!AO16","v":25.336},25.7055,{"$f":"transposednonex!AP16","v":0},{"$f":"transposednonex!AR16","v":0},{"$f":"transposednonex!AT16","v":0},{"$f":"transposednonex!AV16","v":0},{"$f":"transposednonex!AX16","v":0},{"$f":"transposednonex!AZ16","v":0},{"$f":"transposednonex!BB16","v":0},{"$f":"transposednonex!BD16","v":0},{"$f":"transposednonex!BF16","v":0},{"$f":"transposednonex!BH16","v":0},0,{"$f":"transposednonex!BJ16","v":0},{"$f":"transposednonex!BL16","v":0},{"$f":"transposednonex!BN16","v":0},{"$f":"transposednonex!BP16","v":0},{"$f":"transposednonex!BR16","v":0},{"$f":"transposednonex!BT16","v":0},{"$f":"transposednonex!BV16","v":0},{"$f":"transposednonex!BX16","v":0},{"$f":"transposednonex!BZ16","v":0},{"$f":"transposednonex!CB16","v":0},0,{"$f":"transposednonex!AQ16","v":0},{"$f":"transposednonex!AS16","v":0},{"$f":"transposednonex!AU16","v":0},{"$f":"transposednonex!AW16","v":5},{"$f":"transposednonex!AY16","v":2.5},{"$f":"transposednonex!BA16","v":2.5},{"$f":"transposednonex!BC16","v":0},{"$f":"transposednonex!BE16","v":0},{"$f":"transposednonex!BG16","v":0},{"$f":"transposednonex!BI16","v":0},2.5,{"$f":"transposednonex!BK16","v":0},{"$f":"transposednonex!BM16","v":2.5},{"$f":"transposednonex!BO16","v":0},{"$f":"transposednonex!BQ16","v":0},{"$f":"transposednonex!BS16","v":0},{"$f":"transposednonex!BU16","v":2.5},{"$f":"transposednonex!BW16","v":0},{"$f":"transposednonex!BY16","v":0},{"$f":"transposednonex!CA16","v":0},{"$f":"transposednonex!CC16","v":0},1.25,{"$f":"transposednonex!CD16","v":58},{"$f":"transposednonex!CF16","v":81},{"$f":"transposednonex!CH16","v":88},{"$f":"transposednonex!CJ16","v":73},{"$f":"transposednonex!CL16","v":88},{"$f":"transposednonex!CN16","v":87},{"$f":"transposednonex!CP16","v":82},{"$f":"transposednonex!CR16","v":79},{"$f":"transposednonex!CT16","v":90},{"$f":"transposednonex!CV16","v":73},79.9,{"$f":"transposednonex!CX16","v":80},{"$f":"transposednonex!CZ16","v":85},{"$f":"transposednonex!DB16","v":81},{"$f":"transposednonex!DD16","v":81},{"$f":"transposednonex!DF16","v":77},{"$f":"transposednonex!DH16","v":79},{"$f":"transposednonex!DJ16","v":76},{"$f":"transposednonex!DL16","v":80},{"$f":"transposednonex!DN16","v":74},{"$f":"transposednonex!DP16","v":76},78.9,{"$f":"transposednonex!CE16","v":78},{"$f":"transposednonex!CG16","v":78},{"$f":"transposednonex!CI16","v":85},{"$f":"transposednonex!CK16","v":82},{"$f":"transposednonex!CM16","v":80},{"$f":"transposednonex!CO16","v":72},{"$f":"transposednonex!CQ16","v":84},{"$f":"transposednonex!CS16","v":79},{"$f":"transposednonex!CU16","v":86},{"$f":"transposednonex!CW16","v":84},80.8,{"$f":"transposednonex!CY16","v":87},{"$f":"transposednonex!DA16","v":69},{"$f":"transposednonex!DC16","v":82},{"$f":"transposednonex!DE16","v":79},{"$f":"transposednonex!DG16","v":76},{"$f":"transposednonex!DI16","v":76},{"$f":"transposednonex!DK16","v":86},{"$f":"transposednonex!DM16","v":85},{"$f":"transposednonex!DO16","v":71},{"$f":"transposednonex!DQ16","v":75},78.6,{"$f":"transposednonex!DR16","v":"F"},{"$f":"transposednonex!DS16","v":20},{"$f":"transposednonex!DT16","v":"F"}]
[{"$f":"transposednonex!A26","v":"MA101-nonexercise"},{"$f":"transposednonex!B26","v":19.039},{"$f":"transposednonex!D26","v":20.041},{"$f":"transposednonex!F26","v":18.552},{"$f":"transposednonex!H26","v":17.848},{"$f":"transposednonex!J26","v":17.8},{"$f":"transposednonex!L26","v":18.68},{"$f":"transposednonex!N26","v":18.752},{"$f":"transposednonex!P26","v":17.303},{"$f":"transposednonex!R26","v":17.08},{"$f":"transposednonex!T26","v":17.584},18.267899999999997,{"$f":"transposednonex!V26","v":18.35},{"$f":"transposednonex!X26","v":16.442},{"$f":"transposednonex!Z26","v":17.127},{"$f":"transposednonex!AB26","v":17.569},{"$f":"transposednonex!AD26","v":16.64},{"$f":"transposednonex!AF26","v":16.967},{"$f":"transposednonex!AH26","v":16.968},{"$f":"transposednonex!AJ26","v":15.967},{"$f":"transposednonex!AL26","v":16.76},{"$f":"transposednonex!AN26","v":17.168},16.9958,{"$f":"transposednonex!C26","v":57.871},{"$f":"transposednonex!E26","v":56.808},{"$f":"transposednonex!G26","v":45.591},{"$f":"transposednonex!I26","v":51.512},{"$f":"transposednonex!K26","v":45.479},{"$f":"transposednonex!M26","v":44.287},{"$f":"transposednonex!O26","v":43.16},{"$f":"transposednonex!Q26","v":42.736},{"$f":"transposednonex!S26","v":41.903},{"$f":"transposednonex!U26","v":42.473},47.182,{"$f":"transposednonex!W26","v":40.88},{"$f":"transposednonex!Y26","v":40.031},{"$f":"transposednonex!AA26","v":41.986},{"$f":"transposednonex!AC26","v":50.321},{"$f":"transposednonex!AE26","v":40.072},{"$f":"transposednonex!AG26","v":40.488},{"$f":"transposednonex!AI26","v":38.856},{"$f":"transposednonex!AK26","v":40.408},{"$f":"transposednonex!AM26","v":44.511},{"$f":"transposednonex!AO26","v":42.696},42.0249,{"$f":"transposednonex!AP26","v":0},{"$f":"transposednonex!AR26","v":0},{"$f":"transposednonex!AT26","v":0},{"$f":"transposednonex!AV26","v":0},{"$f":"transposednonex!AX26","v":0},{"$f":"transposednonex!AZ26","v":0},{"$f":"transposednonex!BB26","v":0},{"$f":"transposednonex!BD26","v":0},{"$f":"transposednonex!BF26","v":0},{"$f":"transposednonex!BH26","v":0},0,{"$f":"transposednonex!BJ26","v":0},{"$f":"transposednonex!BL26","v":0},{"$f":"transposednonex!BN26","v":0},{"$f":"transposednonex!BP26","v":0},{"$f":"transposednonex!BR26","v":0},{"$f":"transposednonex!BT26","v":0},{"$f":"transposednonex!BV26","v":2.5},{"$f":"transposednonex!BX26","v":0},{"$f":"transposednonex!BZ26","v":0},{"$f":"transposednonex!CB26","v":0},0.625,{"$f":"transposednonex!AQ26","v":12.5},{"$f":"transposednonex!AS26","v":10},{"$f":"transposednonex!AU26","v":5},{"$f":"transposednonex!AW26","v":7.5},{"$f":"transposednonex!AY26","v":2.5},{"$f":"transposednonex!BA26","v":7.5},{"$f":"transposednonex!BC26","v":5},{"$f":"transposednonex!BE26","v":0},{"$f":"transposednonex!BG26","v":0},{"$f":"transposednonex!BI26","v":2.5},13.125,{"$f":"transposednonex!BK26","v":0},{"$f":"transposednonex!BM26","v":0},{"$f":"transposednonex!BO26","v":2.5},{"$f":"transposednonex!BQ26","v":5},{"$f":"transposednonex!BS26","v":0},{"$f":"transposednonex!BU26","v":0},{"$f":"transposednonex!BW26","v":5},{"$f":"transposednonex!BY26","v":2.5},{"$f":"transposednonex!CA26","v":7.5},{"$f":"transposednonex!CC26","v":0},5.625,{"$f":"transposednonex!CD26","v":66},{"$f":"transposednonex!CF26","v":74},{"$f":"transposednonex!CH26","v":65},{"$f":"transposednonex!CJ26","v":77},{"$f":"transposednonex!CL26","v":72},{"$f":"transposednonex!CN26","v":88},{"$f":"transposednonex!CP26","v":82},{"$f":"transposednonex!CR26","v":80},{"$f":"transposednonex!CT26","v":88},{"$f":"transposednonex!CV26","v":84},77.6,{"$f":"transposednonex!CX26","v":51},{"$f":"transposednonex!CZ26","v":65},{"$f":"transposednonex!DB26","v":78},{"$f":"transposednonex!DD26","v":77},{"$f":"transposednonex!DF26","v":59},{"$f":"transposednonex!DH26","v":65},{"$f":"transposednonex!DJ26","v":71},{"$f":"transposednonex!DL26","v":67},{"$f":"transposednonex!DN26","v":74},{"$f":"transposednonex!DP26","v":62},66.9,{"$f":"transposednonex!CE26","v":77},{"$f":"transposednonex!CG26","v":81},{"$f":"transposednonex!CI26","v":72},{"$f":"transposednonex!CK26","v":80},{"$f":"transposednonex!CM26","v":87},{"$f":"transposednonex!CO26","v":86},{"$f":"transposednonex!CQ26","v":76},{"$f":"transposednonex!CS26","v":81},{"$f":"transposednonex!CU26","v":83},{"$f":"transposednonex!CW26","v":80},80.3,{"$f":"transposednonex!CY26","v":51},{"$f":"transposednonex!DA26","v":76},{"$f":"transposednonex!DC26","v":80},{"$f":"transposednonex!DE26","v":70},{"$f":"transposednonex!DG26","v":64},{"$f":"transposednonex!DI26","v":75},{"$f":"transposednonex!DK26","v":73},{"$f":"transposednonex!DM26","v":75},{"$f":"transposednonex!DO26","v":70},{"$f":"transposednonex!DQ26","v":60},69.4,{"$f":"transposednonex!DR26","v":"M"},{"$f":"transposednonex!DS26","v":25},{"$f":"transposednonex!DT26","v":"T"}]
[{"$f":"transposednonex!A18","v":"MT102-nonexercise"},{"$f":"transposednonex!B18","v":18.92},{"$f":"transposednonex!D18","v":20.185},{"$f":"transposednonex!F18","v":{"v":18.561,"d":"19"}},{"$f":"transposednonex!H18","v":17.896},{"$f":"transposednonex!J18","v":16.136},{"$f":"transposednonex!L18","v":15.944},{"$f":"transposednonex!N18","v":15.767},{"$f":"transposednonex!P18","v":14.8},{"$f":"transposednonex!R18","v":14.983},{"$f":"transposednonex!T18","v":14.911},16.8103,{"$f":"transposednonex!V18","v":16.504},{"$f":"transposednonex!X18","v":14.6},{"$f":"transposednonex!Z18","v":14.4},{"$f":"transposednonex!AB18","v":13.92},{"$f":"transposednonex!AD18","v":14.088},{"$f":"transposednonex!AF18","v":14.017},{"$f":"transposednonex!AH18","v":13.512},{"$f":"transposednonex!AJ18","v":14.895},{"$f":"transposednonex!AL18","v":13.625},{"$f":"transposednonex!AN18","v":13.8},14.336099999999998,{"$f":"transposednonex!C18","v":27.303},{"$f":"transposednonex!E18","v":25.744},{"$f":"transposednonex!G18","v":25.047},{"$f":"transposednonex!I18","v":23.272},{"$f":"transposednonex!K18","v":22.961},{"$f":"transposednonex!M18","v":24},{"$f":"transposednonex!O18","v":23.751},{"$f":"transposednonex!Q18","v":22.92},{"$f":"transposednonex!S18","v":22.2},{"$f":"transposednonex!U18","v":26.234},24.3432,{"$f":"transposednonex!W18","v":22.6},{"$f":"transposednonex!Y18","v":21.056},{"$f":"transposednonex!AA18","v":20.928},{"$f":"transposednonex!AC18","v":23.848},{"$f":"transposednonex!AE18","v":21.815},{"$f":"transposednonex!AG18","v":22.688},{"$f":"transposednonex!AI18","v":23.073},{"$f":"transposednonex!AK18","v":21.793},{"$f":"transposednonex!AM18","v":22.536},{"$f":"transposednonex!AO18","v":21.225},22.156200000000002,{"$f":"transposednonex!AP18","v":0},{"$f":"transposednonex!AR18","v":0},{"$f":"transposednonex!AT18","v":0},{"$f":"transposednonex!AV18","v":0},{"$f":"transposednonex!AX18","v":0},{"$f":"transposednonex!AZ18","v":0},{"$f":"transposednonex!BB18","v":0},{"$f":"transposednonex!BD18","v":0},{"$f":"transposednonex!BF18","v":0},{"$f":"transposednonex!BH18","v":0},0,{"$f":"transposednonex!BJ18","v":0},{"$f":"transposednonex!BL18","v":0},{"$f":"transposednonex!BN18","v":0},{"$f":"transposednonex!BP18","v":0},{"$f":"transposednonex!BR18","v":0},{"$f":"transposednonex!BT18","v":0},{"$f":"transposednonex!BV18","v":0},{"$f":"transposednonex!BX18","v":0},{"$f":"transposednonex!BZ18","v":0},{"$f":"transposednonex!CB18","v":0},0,{"$f":"transposednonex!AQ18","v":7.5},{"$f":"transposednonex!AS18","v":0},{"$f":"transposednonex!AU18","v":0},{"$f":"transposednonex!AW18","v":0},{"$f":"transposednonex!AY18","v":0},{"$f":"transposednonex!BA18","v":2.5},{"$f":"transposednonex!BC18","v":2.5},{"$f":"transposednonex!BE18","v":0},{"$f":"transposednonex!BG18","v":0},{"$f":"transposednonex!BI18","v":7.5},5,{"$f":"transposednonex!BK18","v":0},{"$f":"transposednonex!BM18","v":0},{"$f":"transposednonex!BO18","v":2.5},{"$f":"transposednonex!BQ18","v":2.5},{"$f":"transposednonex!BS18","v":0},{"$f":"transposednonex!BU18","v":0},{"$f":"transposednonex!BW18","v":5},{"$f":"transposednonex!BY18","v":0},{"$f":"transposednonex!CA18","v":7.5},{"$f":"transposednonex!CC18","v":0},4.375,{"$f":"transposednonex!CD18","v":61},{"$f":"transposednonex!CF18","v":56},{"$f":"transposednonex!CH18","v":68},{"$f":"transposednonex!CJ18","v":63},{"$f":"transposednonex!CL18","v":66},{"$f":"transposednonex!CN18","v":80},{"$f":"transposednonex!CP18","v":61},{"$f":"transposednonex!CR18","v":65},{"$f":"transposednonex!CT18","v":77},{"$f":"transposednonex!CV18","v":69},66.6,{"$f":"transposednonex!CX18","v":77},{"$f":"transposednonex!CZ18","v":58},{"$f":"transposednonex!DB18","v":60},{"$f":"transposednonex!DD18","v":56},{"$f":"transposednonex!DF18","v":58},{"$f":"transposednonex!DH18","v":64},{"$f":"transposednonex!DJ18","v":65},{"$f":"transposednonex!DL18","v":68},{"$f":"transposednonex!DN18","v":56},{"$f":"transposednonex!DP18","v":59},62.1,{"$f":"transposednonex!CE18","v":58},{"$f":"transposednonex!CG18","v":65},{"$f":"transposednonex!CI18","v":63},{"$f":"transposednonex!CK18","v":74},{"$f":"transposednonex!CM18","v":72},{"$f":"transposednonex!CO18","v":71},{"$f":"transposednonex!CQ18","v":68},{"$f":"transposednonex!CS18","v":65},{"$f":"transposednonex!CU18","v":73},{"$f":"transposednonex!CW18","v":74},68.3,{"$f":"transposednonex!CY18","v":72},{"$f":"transposednonex!DA18","v":58},{"$f":"transposednonex!DC18","v":61},{"$f":"transposednonex!DE18","v":55},{"$f":"transposednonex!DG18","v":62},{"$f":"transposednonex!DI18","v":65},{"$f":"transposednonex!DK18","v":65},{"$f":"transposednonex!DM18","v":58},{"$f":"transposednonex!DO18","v":55},{"$f":"transposednonex!DQ18","v":60},61.1,{"$f":"transposednonex!DR18","v":"F"},{"$f":"transposednonex!DS18","v":23},{"$f":"transposednonex!DT18","v":"F"}]
[{"$f":"transposednonex!A20","v":"RA101-nonexercise"},{"$f":"transposednonex!B20","v":18.78},{"$f":"transposednonex!D20","v":18.136},{"$f":"transposednonex!F20","v":14.432},{"$f":"transposednonex!H20","v":15.96},{"$f":"transposednonex!J20","v":16.535},{"$f":"transposednonex!L20","v":16.28},{"$f":"transposednonex!N20","v":15.623},{"$f":"transposednonex!P20","v":15.623},{"$f":"transposednonex!R20","v":15.36},{"$f":"transposednonex!T20","v":15.399},16.212799999999998,{"$f":"transposednonex!V20","v":14.72},{"$f":"transposednonex!X20","v":15.2},{"$f":"transposednonex!Z20","v":13.94},{"$f":"transposednonex!AB20","v":14.063},{"$f":"transposednonex!AD20","v":15.015},{"$f":"transposednonex!AF20","v":13.416},{"$f":"transposednonex!AH20","v":13.679},{"$f":"transposednonex!AJ20","v":13.159},{"$f":"transposednonex!AL20","v":13.472},{"$f":"transposednonex!AN20","v":13.664},14.0328,{"$f":"transposednonex!C20","v":35.471},{"$f":"transposednonex!E20","v":32.68},{"$f":"transposednonex!G20","v":33.02},{"$f":"transposednonex!I20","v":35.903},{"$f":"transposednonex!K20","v":29.152},{"$f":"transposednonex!M20","v":33.48},{"$f":"transposednonex!O20","v":33.416},{"$f":"transposednonex!Q20","v":32.72},{"$f":"transposednonex!S20","v":32.479},{"$f":"transposednonex!U20","v":31.041},32.9362,{"$f":"transposednonex!W20","v":28.719},{"$f":"transposednonex!Y20","v":30.52},{"$f":"transposednonex!AA20","v":27.815},{"$f":"transposednonex!AC20","v":31.017},{"$f":"transposednonex!AE20","v":31.56},{"$f":"transposednonex!AG20","v":30.809},{"$f":"transposednonex!AI20","v":28.535},{"$f":"transposednonex!AK20","v":29.312},{"$f":"transposednonex!AM20","v":30.296},{"$f":"transposednonex!AO20","v":26.839},29.5422,{"$f":"transposednonex!AP20","v":0},{"$f":"transposednonex!AR20","v":0},{"$f":"transposednonex!AT20","v":0},{"$f":"transposednonex!AV20","v":0},{"$f":"transposednonex!AX20","v":0},{"$f":"transposednonex!AZ20","v":0},{"$f":"transposednonex!BB20","v":0},{"$f":"transposednonex!BD20","v":0},{"$f":"transposednonex!BF20","v":0},{"$f":"transposednonex!BH20","v":0},0,{"$f":"transposednonex!BJ20","v":0},{"$f":"transposednonex!BL20","v":0},{"$f":"transposednonex!BN20","v":0},{"$f":"transposednonex!BP20","v":0},{"$f":"transposednonex!BR20","v":2.5},{"$f":"transposednonex!BT20","v":0},{"$f":"transposednonex!BV20","v":2.5},{"$f":"transposednonex!BX20","v":0},{"$f":"transposednonex!BZ20","v":0},{"$f":"transposednonex!CB20","v":0},1.25,{"$f":"transposednonex!AQ20","v":0},{"$f":"transposednonex!AS20","v":2.5},{"$f":"transposednonex!AU20","v":2.5},{"$f":"transposednonex!AW20","v":0},{"$f":"transposednonex!AY20","v":0},{"$f":"transposednonex!BA20","v":5},{"$f":"transposednonex!BC20","v":2.5},{"$f":"transposednonex!BE20","v":5},{"$f":"transposednonex!BG20","v":0},{"$f":"transposednonex!BI20","v":0},4.375,{"$f":"transposednonex!BK20","v":0},{"$f":"transposednonex!BM20","v":2.5},{"$f":"transposednonex!BO20","v":0},{"$f":"transposednonex!BQ20","v":0},{"$f":"transposednonex!BS20","v":2.5},{"$f":"transposednonex!BU20","v":5},{"$f":"transposednonex!BW20","v":2.5},{"$f":"transposednonex!BY20","v":2.5},{"$f":"transposednonex!CA20","v":5},{"$f":"transposednonex!CC20","v":0},5,{"$f":"transposednonex!CD20","v":72},{"$f":"transposednonex!CF20","v":81},{"$f":"transposednonex!CH20","v":80},{"$f":"transposednonex!CJ20","v":91},{"$f":"transposednonex!CL20","v":91},{"$f":"transposednonex!CN20","v":89},{"$f":"transposednonex!CP20","v":88},{"$f":"transposednonex!CR20","v":86},{"$f":"transposednonex!CT20","v":89},{"$f":"transposednonex!CV20","v":95},86.2,{"$f":"transposednonex!CX20","v":75},{"$f":"transposednonex!CZ20","v":77},{"$f":"transposednonex!DB20","v":74},{"$f":"transposednonex!DD20","v":80},{"$f":"transposednonex!DF20","v":77},{"$f":"transposednonex!DH20","v":71},{"$f":"transposednonex!DJ20","v":75},{"$f":"transposednonex!DL20","v":84},{"$f":"transposednonex!DN20","v":85},{"$f":"transposednonex!DP20","v":74},77.2,{"$f":"transposednonex!CE20","v":85},{"$f":"transposednonex!CG20","v":96},{"$f":"transposednonex!CI20","v":80},{"$f":"transposednonex!CK20","v":90},{"$f":"transposednonex!CM20","v":95},{"$f":"transposednonex!CO20","v":95},{"$f":"transposednonex!CQ20","v":93},{"$f":"transposednonex!CS20","v":92},{"$f":"transposednonex!CU20","v":93},{"$f":"transposednonex!CW20","v":88},90.7,{"$f":"transposednonex!CY20","v":75},{"$f":"transposednonex!DA20","v":71},{"$f":"transposednonex!DC20","v":76},{"$f":"transposednonex!DE20","v":75},{"$f":"transposednonex!DG20","v":86},{"$f":"transposednonex!DI20","v":74},{"$f":"transposednonex!DK20","v":80},{"$f":"transposednonex!DM20","v":83},{"$f":"transposednonex!DO20","v":84},{"$f":"transposednonex!DQ20","v":76},78,{"$f":"transposednonex!DR20","v":"F"},{"$f":"transposednonex!DS20","v":23},{"$f":"transposednonex!DT20","v":"T"}]
[{"$f":"transposednonex!A14","v":"RO101-nonexercise"},{"$f":"transposednonex!B14","v":18.457},{"$f":"transposednonex!D14","v":16.495},{"$f":"transposednonex!F14","v":17.88},{"$f":"transposednonex!H14","v":16.808},{"$f":"transposednonex!J14","v":21.05},{"$f":"transposednonex!L14","v":21.937},{"$f":"transposednonex!N14","v":18.632},{"$f":"transposednonex!P14","v":19.192},{"$f":"transposednonex!R14","v":17.56},{"$f":"transposednonex!T14","v":18.16},18.6171,{"$f":"transposednonex!V14","v":18.328},{"$f":"transposednonex!X14","v":19.688},{"$f":"transposednonex!Z14","v":18.04},{"$f":"transposednonex!AB14","v":22.16},{"$f":"transposednonex!AD14","v":17.4},{"$f":"transposednonex!AF14","v":18.056},{"$f":"transposednonex!AH14","v":16.632},{"$f":"transposednonex!AJ14","v":15.072},{"$f":"transposednonex!AL14","v":19.423},{"$f":"transposednonex!AN14","v":13.808},17.860699999999998,{"$f":"transposednonex!C14","v":42.095},{"$f":"transposednonex!E14","v":39.976},{"$f":"transposednonex!G14","v":44.727},{"$f":"transposednonex!I14","v":43.759},{"$f":"transposednonex!K14","v":38.232},{"$f":"transposednonex!M14","v":40.4},{"$f":"transposednonex!O14","v":42.031},{"$f":"transposednonex!Q14","v":39.183},{"$f":"transposednonex!S14","v":45.03},{"$f":"transposednonex!U14","v":43.431},41.886399999999995,{"$f":"transposednonex!W14","v":36.879},{"$f":"transposednonex!Y14","v":37.848},{"$f":"transposednonex!AA14","v":48.703},{"$f":"transposednonex!AC14","v":38.631},{"$f":"transposednonex!AE14","v":45.904},{"$f":"transposednonex!AG14","v":40.688},{"$f":"transposednonex!AI14","v":35.639},{"$f":"transposednonex!AK14","v":39.591},{"$f":"transposednonex!AM14","v":36.759},{"$f":"transposednonex!AO14","v":36.2},39.684200000000004,{"$f":"transposednonex!AP14","v":0},{"$f":"transposednonex!AR14","v":0},{"$f":"transposednonex!AT14","v":0},{"$f":"transposednonex!AV14","v":0},{"$f":"transposednonex!AX14","v":0},{"$f":"transposednonex!AZ14","v":2.5},{"$f":"transposednonex!BB14","v":2.5},{"$f":"transposednonex!BD14","v":2.5},{"$f":"transposednonex!BF14","v":0},{"$f":"transposednonex!BH14","v":0},0.75,{"$f":"transposednonex!BJ14","v":0},{"$f":"transposednonex!BL14","v":0},{"$f":"transposednonex!BN14","v":0},{"$f":"transposednonex!BP14","v":2.5},{"$f":"transposednonex!BR14","v":0},{"$f":"transposednonex!BT14","v":0},{"$f":"transposednonex!BV14","v":0},{"$f":"transposednonex!BX14","v":0},{"$f":"transposednonex!BZ14","v":0},{"$f":"transposednonex!CB14","v":0},0.625,{"$f":"transposednonex!AQ14","v":15},{"$f":"transposednonex!AS14","v":32.5},{"$f":"transposednonex!AU14","v":7.5},{"$f":"transposednonex!AW14","v":15},{"$f":"transposednonex!AY14","v":0},{"$f":"transposednonex!BA14","v":17.5},{"$f":"transposednonex!BC14","v":10},{"$f":"transposednonex!BE14","v":7.5},{"$f":"transposednonex!BG14","v":10},{"$f":"transposednonex!BI14","v":22.5},34.375,{"$f":"transposednonex!BK14","v":10},{"$f":"transposednonex!BM14","v":10},{"$f":"transposednonex!BO14","v":10},{"$f":"transposednonex!BQ14","v":0},{"$f":"transposednonex!BS14","v":2.5},{"$f":"transposednonex!BU14","v":5},{"$f":"transposednonex!BW14","v":2.5},{"$f":"transposednonex!BY14","v":0},{"$f":"transposednonex!CA14","v":0},{"$f":"transposednonex!CC14","v":2.5},10.625,{"$f":"transposednonex!CD14","v":97},{"$f":"transposednonex!CF14","v":83},{"$f":"transposednonex!CH14","v":91},{"$f":"transposednonex!CJ14","v":92},{"$f":"transposednonex!CL14","v":82},{"$f":"transposednonex!CN14","v":93},{"$f":"transposednonex!CP14","v":82},{"$f":"transposednonex!CR14","v":76},{"$f":"transposednonex!CT14","v":75},{"$f":"transposednonex!CV14","v":81},85.2,{"$f":"transposednonex!CX14","v":70},{"$f":"transposednonex!CZ14","v":75},{"$f":"transposednonex!DB14","v":78},{"$f":"transposednonex!DD14","v":76},{"$f":"transposednonex!DF14","v":73},{"$f":"transposednonex!DH14","v":81},{"$f":"transposednonex!DJ14","v":80},{"$f":"transposednonex!DL14","v":70},{"$f":"transposednonex!DN14","v":70},{"$f":"transposednonex!DP14","v":63},73.6,{"$f":"transposednonex!CE14","v":84},{"$f":"transposednonex!CG14","v":89},{"$f":"transposednonex!CI14","v":96},{"$f":"transposednonex!CK14","v":96},{"$f":"transposednonex!CM14","v":95},{"$f":"transposednonex!CO14","v":95},{"$f":"transposednonex!CQ14","v":101},{"$f":"transposednonex!CS14","v":76},{"$f":"transposednonex!CU14","v":74},{"$f":"transposednonex!CW14","v":78},88.4,{"$f":"transposednonex!CY14","v":73},{"$f":"transposednonex!DA14","v":74},{"$f":"transposednonex!DC14","v":73},{"$f":"transposednonex!DE14","v":73},{"$f":"transposednonex!DG14","v":81},{"$f":"transposednonex!DI14","v":93},{"$f":"transposednonex!DK14","v":70},{"$f":"transposednonex!DM14","v":70},{"$f":"transposednonex!DO14","v":70},{"$f":"transposednonex!DQ14","v":63},74,{"$f":"transposednonex!DR14","v":"F"},{"$f":"transposednonex!DS14","v":24},{"$f":"transposednonex!DT14","v":"F"}]
[{"$f":"transposednonex!A27","v":"SA102-nonexercise"},{"$f":"transposednonex!B27","v":16.096},{"$f":"transposednonex!D27","v":17.36},{"$f":"transposednonex!F27","v":17.416},{"$f":"transposednonex!H27","v":15.768},{"$f":"transposednonex!J27","v":17.391},{"$f":"transposednonex!L27","v":16.663},{"$f":"transposednonex!N27","v":17.04},{"$f":"transposednonex!P27","v":18.247},{"$f":"transposednonex!R27","v":16.736},{"$f":"transposednonex!T27","v":16.248},16.896499999999996,{"$f":"transposednonex!V27","v":16.83},{"$f":"transposednonex!X27","v":16.744},{"$f":"transposednonex!Z27","v":15.85},{"$f":"transposednonex!AB27","v":14.268},{"$f":"transposednonex!AD27","v":14.616},{"$f":"transposednonex!AF27","v":14.197},{"$f":"transposednonex!AH27","v":16.206},{"$f":"transposednonex!AJ27","v":16.479},{"$f":"transposednonex!AL27","v":17.681},{"$f":"transposednonex!AN27","v":15.324},15.819500000000001,{"$f":"transposednonex!C27","v":44.232},{"$f":"transposednonex!E27","v":39.112},{"$f":"transposednonex!G27","v":41.048},{"$f":"transposednonex!I27","v":36.663},{"$f":"transposednonex!K27","v":36.231},{"$f":"transposednonex!M27","v":45.592},{"$f":"transposednonex!O27","v":37.215},{"$f":"transposednonex!Q27","v":39.32},{"$f":"transposednonex!S27","v":36.088},{"$f":"transposednonex!U27","v":34.321},38.9822,{"$f":"transposednonex!W27","v":31.467},{"$f":"transposednonex!Y27","v":33.346},{"$f":"transposednonex!AA27","v":34.601},{"$f":"transposednonex!AC27","v":35.911},{"$f":"transposednonex!AE27","v":33.801},{"$f":"transposednonex!AG27","v":35.231},{"$f":"transposednonex!AI27","v":36.829},{"$f":"transposednonex!AK27","v":34.396},{"$f":"transposednonex!AM27","v":33.899},{"$f":"transposednonex!AO27","v":31.632},34.1113,{"$f":"transposednonex!AP27","v":0},{"$f":"transposednonex!AR27","v":0},{"$f":"transposednonex!AT27","v":0},{"$f":"transposednonex!AV27","v":0},{"$f":"transposednonex!AX27","v":0},{"$f":"transposednonex!AZ27","v":0},{"$f":"transposednonex!BB27","v":0},{"$f":"transposednonex!BD27","v":0},{"$f":"transposednonex!BF27","v":0},{"$f":"transposednonex!BH27","v":0},0,{"$f":"transposednonex!BJ27","v":0},{"$f":"transposednonex!BL27","v":0},{"$f":"transposednonex!BN27","v":0},{"$f":"transposednonex!BP27","v":0},{"$f":"transposednonex!BR27","v":0},{"$f":"transposednonex!BT27","v":0},{"$f":"transposednonex!BV27","v":0},{"$f":"transposednonex!BX27","v":0},{"$f":"transposednonex!BZ27","v":0},{"$f":"transposednonex!CB27","v":0},0,{"$f":"transposednonex!AQ27","v":7.5},{"$f":"transposednonex!AS27","v":7.5},{"$f":"transposednonex!AU27","v":5},{"$f":"transposednonex!AW27","v":5},{"$f":"transposednonex!AY27","v":0},{"$f":"transposednonex!BA27","v":7.5},{"$f":"transposednonex!BC27","v":2.5},{"$f":"transposednonex!BE27","v":0},{"$f":"transposednonex!BG27","v":2.5},{"$f":"transposednonex!BI27","v":0},9.375,{"$f":"transposednonex!BK27","v":0},{"$f":"transposednonex!BM27","v":0},{"$f":"transposednonex!BO27","v":0},{"$f":"transposednonex!BQ27","v":5},{"$f":"transposednonex!BS27","v":0},{"$f":"transposednonex!BU27","v":5},{"$f":"transposednonex!BW27","v":0},{"$f":"transposednonex!BY27","v":2.5},{"$f":"transposednonex!CA27","v":0},{"$f":"transposednonex!CC27","v":0},3.125,{"$f":"transposednonex!CD27","v":85},{"$f":"transposednonex!CF27","v":70},{"$f":"transposednonex!CH27","v":70},{"$f":"transposednonex!CJ27","v":76},{"$f":"transposednonex!CL27","v":78},{"$f":"transposednonex!CN27","v":68},{"$f":"transposednonex!CP27","v":79},{"$f":"transposednonex!CR27","v":73},{"$f":"transposednonex!CT27","v":74},{"$f":"transposednonex!CV27","v":74},74.7,{"$f":"transposednonex!CX27","v":65},{"$f":"transposednonex!CZ27","v":71},{"$f":"transposednonex!DB27","v":74},{"$f":"transposednonex!DD27","v":70},{"$f":"transposednonex!DF27","v":72},{"$f":"transposednonex!DH27","v":69},{"$f":"transposednonex!DJ27","v":77},{"$f":"transposednonex!DL27","v":80},{"$f":"transposednonex!DN27","v":70},{"$f":"transposednonex!DP27","v":69},71.7,{"$f":"transposednonex!CE27","v":78},{"$f":"transposednonex!CG27","v":76},{"$f":"transposednonex!CI27","v":76},{"$f":"transposednonex!CK27","v":77},{"$f":"transposednonex!CM27","v":81},{"$f":"transposednonex!CO27","v":68},{"$f":"transposednonex!CQ27","v":71},{"$f":"transposednonex!CS27","v":69},{"$f":"transposednonex!CU27","v":86},{"$f":"transposednonex!CW27","v":67},74.9,{"$f":"transposednonex!CY27","v":75},{"$f":"transposednonex!DA27","v":73},{"$f":"transposednonex!DC27","v":70},{"$f":"transposednonex!DE27","v":71},{"$f":"transposednonex!DG27","v":71},{"$f":"transposednonex!DI27","v":74},{"$f":"transposednonex!DK27","v":76},{"$f":"transposednonex!DM27","v":67},{"$f":"transposednonex!DO27","v":70},{"$f":"transposednonex!DQ27","v":68},71.5,{"$f":"transposednonex!DR27","v":"F"},{"$f":"transposednonex!DS27","v":26},{"$f":"transposednonex!DT27","v":"F"}]
[{"$f":"transposednonex!A23","v":"TM101-nonexercise"},{"$f":"transposednonex!B23","v":19.511},{"$f":"transposednonex!D23","v":19.719},{"$f":"transposednonex!F23","v":17.76},{"$f":"transposednonex!H23","v":16.592},{"$f":"transposednonex!J23","v":15.824},{"$f":"transposednonex!L23","v":15.048},{"$f":"transposednonex!N23","v":14.942},{"$f":"transposednonex!P23","v":14.76},{"$f":"transposednonex!R23","v":14.265},{"$f":"transposednonex!T23","v":13.127},16.1548,{"$f":"transposednonex!V23","v":15.24},{"$f":"transposednonex!X23","v":13.631},{"$f":"transposednonex!Z23","v":15.384},{"$f":"transposednonex!AB23","v":13.753},{"$f":"transposednonex!AD23","v":13.216},{"$f":"transposednonex!AF23","v":13.167},{"$f":"transposednonex!AH23","v":12.905},{"$f":"transposednonex!AJ23","v":11.832},{"$f":"transposednonex!AL23","v":12.912},{"$f":"transposednonex!AN23","v":13.583},13.562300000000002,{"$f":"transposednonex!C23","v":44.928},{"$f":"transposednonex!E23","v":34.975},{"$f":"transposednonex!G23","v":33.543},{"$f":"transposednonex!I23","v":32.424},{"$f":"transposednonex!K23","v":31.544},{"$f":"transposednonex!M23","v":32.241},{"$f":"transposednonex!O23","v":36.88},{"$f":"transposednonex!Q23","v":34.424},{"$f":"transposednonex!S23","v":34.383},{"$f":"transposednonex!U23","v":37.544},35.288599999999995,{"$f":"transposednonex!W23","v":28.263},{"$f":"transposednonex!Y23","v":30.44},{"$f":"transposednonex!AA23","v":28.407},{"$f":"transposednonex!AC23","v":27.856},{"$f":"transposednonex!AE23","v":30.175},{"$f":"transposednonex!AG23","v":32.631},{"$f":"transposednonex!AI23","v":35.264},{"$f":"transposednonex!AK23","v":28.991},{"$f":"transposednonex!AM23","v":29.968},{"$f":"transposednonex!AO23","v":28.105},30.01000000000001,{"$f":"transposednonex!AP23","v":0},{"$f":"transposednonex!AR23","v":0},{"$f":"transposednonex!AT23","v":0},{"$f":"transposednonex!AV23","v":0},{"$f":"transposednonex!AX23","v":2.5},{"$f":"transposednonex!AZ23","v":0},{"$f":"transposednonex!BB23","v":0},{"$f":"transposednonex!BD23","v":0},{"$f":"transposednonex!BF23","v":0},{"$f":"transposednonex!BH23","v":0},0.25,{"$f":"transposednonex!BJ23","v":0},{"$f":"transposednonex!BL23","v":0},{"$f":"transposednonex!BN23","v":2.5},{"$f":"transposednonex!BP23","v":2.5},{"$f":"transposednonex!BR23","v":0},{"$f":"transposednonex!BT23","v":0},{"$f":"transposednonex!BV23","v":0},{"$f":"transposednonex!BX23","v":0},{"$f":"transposednonex!BZ23","v":0},{"$f":"transposednonex!CB23","v":2.5},1.875,{"$f":"transposednonex!AQ23","v":0},{"$f":"transposednonex!AS23","v":5},{"$f":"transposednonex!AU23","v":0},{"$f":"transposednonex!AW23","v":0},{"$f":"transposednonex!AY23","v":0},{"$f":"transposednonex!BA23","v":2.5},{"$f":"transposednonex!BC23","v":5},{"$f":"transposednonex!BE23","v":5},{"$f":"transposednonex!BG23","v":2.5},{"$f":"transposednonex!BI23","v":10},7.5,{"$f":"transposednonex!BK23","v":5},{"$f":"transposednonex!BM23","v":2.5},{"$f":"transposednonex!BO23","v":0},{"$f":"transposednonex!BQ23","v":0},{"$f":"transposednonex!BS23","v":0},{"$f":"transposednonex!BU23","v":2.5},{"$f":"transposednonex!BW23","v":2.5},{"$f":"transposednonex!BY23","v":0},{"$f":"transposednonex!CA23","v":5},{"$f":"transposednonex!CC23","v":0},4.375,{"$f":"transposednonex!CD23","v":50},{"$f":"transposednonex!CF23","v":57},{"$f":"transposednonex!CH23","v":56},{"$f":"transposednonex!CJ23","v":59},{"$f":"transposednonex!CL23","v":60},{"$f":"transposednonex!CN23","v":57},{"$f":"transposednonex!CP23","v":58},{"$f":"transposednonex!CR23","v":53},{"$f":"transposednonex!CT23","v":54},{"$f":"transposednonex!CV23","v":58},56.2,{"$f":"transposednonex!CX23","v":49},{"$f":"transposednonex!CZ23","v":57},{"$f":"transposednonex!DB23","v":54},{"$f":"transposednonex!DD23","v":54},{"$f":"transposednonex!DF23","v":52},{"$f":"transposednonex!DH23","v":53},{"$f":"transposednonex!DJ23","v":54},{"$f":"transposednonex!DL23","v":51},{"$f":"transposednonex!DN23","v":58},{"$f":"transposednonex!DP23","v":53},53.5,{"$f":"transposednonex!CE23","v":56},{"$f":"transposednonex!CG23","v":65},{"$f":"transposednonex!CI23","v":49},{"$f":"transposednonex!CK23","v":60},{"$f":"transposednonex!CM23","v":59},{"$f":"transposednonex!CO23","v":56},{"$f":"transposednonex!CQ23","v":53},{"$f":"transposednonex!CS23","v":68},{"$f":"transposednonex!CU23","v":55},{"$f":"transposednonex!CW23","v":59},58,{"$f":"transposednonex!CY23","v":49},{"$f":"transposednonex!DA23","v":61},{"$f":"transposednonex!DC23","v":48},{"$f":"transposednonex!DE23","v":51},{"$f":"transposednonex!DG23","v":56},{"$f":"transposednonex!DI23","v":55},{"$f":"transposednonex!DK23","v":49},{"$f":"transposednonex!DM23","v":56},{"$f":"transposednonex!DO23","v":56},{"$f":"transposednonex!DQ23","v":48},52.9,{"$f":"transposednonex!DR23","v":"M"},{"$f":"transposednonex!DS23","v":26},{"$f":"transposednonex!DT23","v":"F"}]
[{"$f":"transposednonex!A19","v":"TP101-nonexercise"},{"$f":"transposednonex!B19","v":30.633},{"$f":"transposednonex!D19","v":28.336},{"$f":"transposednonex!F19","v":28.599},{"$f":"transposednonex!H19","v":26.832},{"$f":"transposednonex!J19","v":27.048},{"$f":"transposednonex!L19","v":25.927},{"$f":"transposednonex!N19","v":23.856},{"$f":"transposednonex!P19","v":24.631},{"$f":"transposednonex!R19","v":23.728},{"$f":"transposednonex!T19","v":23.447},26.3037,{"$f":"transposednonex!V19","v":25.768},{"$f":"transposednonex!X19","v":22.473},{"$f":"transposednonex!Z19","v":20.744},{"$f":"transposednonex!AB19","v":19.736},{"$f":"transposednonex!AD19","v":19.927},{"$f":"transposednonex!AF19","v":19.976},{"$f":"transposednonex!AH19","v":20.649},{"$f":"transposednonex!AJ19","v":21.928},{"$f":"transposednonex!AL19","v":18.056},{"$f":"transposednonex!AN19","v":16.76},20.6017,{"$f":"transposednonex!C19","v":40.23},{"$f":"transposednonex!E19","v":39.943},{"$f":"transposednonex!G19","v":35.288},{"$f":"transposednonex!I19","v":38.069},{"$f":"transposednonex!K19","v":35.928},{"$f":"transposednonex!M19","v":36.216},{"$f":"transposednonex!O19","v":35.224},{"$f":"transposednonex!Q19","v":34.6},{"$f":"transposednonex!S19","v":35.241},{"$f":"transposednonex!U19","v":33.277},36.4016,{"$f":"transposednonex!W19","v":33.312},{"$f":"transposednonex!Y19","v":32.248},{"$f":"transposednonex!AA19","v":32.057},{"$f":"transposednonex!AC19","v":35.439},{"$f":"transposednonex!AE19","v":32.312},{"$f":"transposednonex!AG19","v":35.488},{"$f":"transposednonex!AI19","v":33.383},{"$f":"transposednonex!AK19","v":32.671},{"$f":"transposednonex!AM19","v":35},{"$f":"transposednonex!AO19","v":35.295},33.7205,{"$f":"transposednonex!AP19","v":0},{"$f":"transposednonex!AR19","v":0},{"$f":"transposednonex!AT19","v":0},{"$f":"transposednonex!AV19","v":0},{"$f":"transposednonex!AX19","v":0},{"$f":"transposednonex!AZ19","v":0},{"$f":"transposednonex!BB19","v":0},{"$f":"transposednonex!BD19","v":0},{"$f":"transposednonex!BF19","v":0},{"$f":"transposednonex!BH19","v":0},0,{"$f":"transposednonex!BJ19","v":0},{"$f":"transposednonex!BL19","v":0},{"$f":"transposednonex!BN19","v":0},{"$f":"transposednonex!BP19","v":0},{"$f":"transposednonex!BR19","v":0},{"$f":"transposednonex!BT19","v":0},{"$f":"transposednonex!BV19","v":0},{"$f":"transposednonex!BX19","v":2.5},{"$f":"transposednonex!BZ19","v":0},{"$f":"transposednonex!CB19","v":0},0.625,{"$f":"transposednonex!AQ19","v":2.5},{"$f":"transposednonex!AS19","v":10},{"$f":"transposednonex!AU19","v":2.5},{"$f":"transposednonex!AW19","v":5},{"$f":"transposednonex!AY19","v":2.5},{"$f":"transposednonex!BA19","v":7.5},{"$f":"transposednonex!BC19","v":0},{"$f":"transposednonex!BE19","v":2.5},{"$f":"transposednonex!BG19","v":2.5},{"$f":"transposednonex!BI19","v":0},8.75,{"$f":"transposednonex!BK19","v":2.5},{"$f":"transposednonex!BM19","v":5},{"$f":"transposednonex!BO19","v":5},{"$f":"transposednonex!BQ19","v":5},{"$f":"transposednonex!BS19","v":0},{"$f":"transposednonex!BU19","v":12.5},{"$f":"transposednonex!BW19","v":12.5},{"$f":"transposednonex!BY19","v":2.5},{"$f":"transposednonex!CA19","v":7.5},{"$f":"transposednonex!CC19","v":5},14.375,{"$f":"transposednonex!CD19","v":105},{"$f":"transposednonex!CF19","v":113},{"$f":"transposednonex!CH19","v":84},{"$f":"transposednonex!CJ19","v":106},{"$f":"transposednonex!CL19","v":104},{"$f":"transposednonex!CN19","v":98},{"$f":"transposednonex!CP19","v":88},{"$f":"transposednonex!CR19","v":94},{"$f":"transposednonex!CT19","v":103},{"$f":"transposednonex!CV19","v":101},99.6,{"$f":"transposednonex!CX19","v":94},{"$f":"transposednonex!CZ19","v":70},{"$f":"transposednonex!DB19","v":70},{"$f":"transposednonex!DD19","v":90},{"$f":"transposednonex!DF19","v":93},{"$f":"transposednonex!DH19","v":89},{"$f":"transposednonex!DJ19","v":80},{"$f":"transposednonex!DL19","v":79},{"$f":"transposednonex!DN19","v":84},{"$f":"transposednonex!DP19","v":90},83.9,{"$f":"transposednonex!CE19","v":67},{"$f":"transposednonex!CG19","v":112},{"$f":"transposednonex!CI19","v":81},{"$f":"transposednonex!CK19","v":97},{"$f":"transposednonex!CM19","v":102},{"$f":"transposednonex!CO19","v":98},{"$f":"transposednonex!CQ19","v":115},{"$f":"transposednonex!CS19","v":102},{"$f":"transposednonex!CU19","v":90},{"$f":"transposednonex!CW19","v":101},96.5,{"$f":"transposednonex!CY19","v":82},{"$f":"transposednonex!DA19","v":77},{"$f":"transposednonex!DC19","v":90},{"$f":"transposednonex!DE19","v":85},{"$f":"transposednonex!DG19","v":90},{"$f":"transposednonex!DI19","v":83},{"$f":"transposednonex!DK19","v":88},{"$f":"transposednonex!DM19","v":90},{"$f":"transposednonex!DO19","v":100},{"$f":"transposednonex!DQ19","v":83},86.8,{"$f":"transposednonex!DR19","v":"F"},{"$f":"transposednonex!DS19","v":20},{"$f":"transposednonex!DT19","v":"F"}]
[{"$f":"transposednonex!A24","v":"TR101-nonexercise"},{"$f":"transposednonex!B24","v":21.079},{"$f":"transposednonex!D24","v":21.23},{"$f":"transposednonex!F24","v":21.791},{"$f":"transposednonex!H24","v":21.92},{"$f":"transposednonex!J24","v":22.495},{"$f":"transposednonex!L24","v":21.776},{"$f":"transposednonex!N24","v":20.743},{"$f":"transposednonex!P24","v":21.615},{"$f":"transposednonex!R24","v":20.718},{"$f":"transposednonex!T24","v":20.456},21.382299999999997,{"$f":"transposednonex!V24","v":21.648},{"$f":"transposednonex!X24","v":21.776},{"$f":"transposednonex!Z24","v":21.335},{"$f":"transposednonex!AB24","v":20.375},{"$f":"transposednonex!AD24","v":21.36},{"$f":"transposednonex!AF24","v":20.183},{"$f":"transposednonex!AH24","v":19.391},{"$f":"transposednonex!AJ24","v":20.024},{"$f":"transposednonex!AL24","v":19.512},{"$f":"transposednonex!AN24","v":20.159},20.576299999999996,{"$f":"transposednonex!C24","v":37.408},{"$f":"transposednonex!E24","v":36.062},{"$f":"transposednonex!G24","v":34.408},{"$f":"transposednonex!I24","v":31.88},{"$f":"transposednonex!K24","v":31.6},{"$f":"transposednonex!M24","v":33.575},{"$f":"transposednonex!O24","v":31.736},{"$f":"transposednonex!Q24","v":31.681},{"$f":"transposednonex!S24","v":31.488},{"$f":"transposednonex!U24","v":31.088},33.0926,{"$f":"transposednonex!W24","v":28.879},{"$f":"transposednonex!Y24","v":35.95},{"$f":"transposednonex!AA24","v":31.001},{"$f":"transposednonex!AC24","v":30.424},{"$f":"transposednonex!AE24","v":31.151},{"$f":"transposednonex!AG24","v":31.767},{"$f":"transposednonex!AI24","v":33.752},{"$f":"transposednonex!AK24","v":33.025},{"$f":"transposednonex!AM24","v":31.56},{"$f":"transposednonex!AO24","v":31.142},31.8651,{"$f":"transposednonex!AP24","v":0},{"$f":"transposednonex!AR24","v":0},{"$f":"transposednonex!AT24","v":0},{"$f":"transposednonex!AV24","v":0},{"$f":"transposednonex!AX24","v":2.5},{"$f":"transposednonex!AZ24","v":0},{"$f":"transposednonex!BB24","v":0},{"$f":"transposednonex!BD24","v":0},{"$f":"transposednonex!BF24","v":0},{"$f":"transposednonex!BH24","v":0},0.25,{"$f":"transposednonex!BJ24","v":2.5},{"$f":"transposednonex!BL24","v":0},{"$f":"transposednonex!BN24","v":0},{"$f":"transposednonex!BP24","v":0},{"$f":"transposednonex!BR24","v":0},{"$f":"transposednonex!BT24","v":0},{"$f":"transposednonex!BV24","v":0},{"$f":"transposednonex!BX24","v":0},{"$f":"transposednonex!BZ24","v":0},{"$f":"transposednonex!CB24","v":0},0.625,{"$f":"transposednonex!AQ24","v":0},{"$f":"transposednonex!AS24","v":15},{"$f":"transposednonex!AU24","v":2.5},{"$f":"transposednonex!AW24","v":5},{"$f":"transposednonex!AY24","v":0},{"$f":"transposednonex!BA24","v":2.5},{"$f":"transposednonex!BC24","v":5},{"$f":"transposednonex!BE24","v":2.5},{"$f":"transposednonex!BG24","v":0},{"$f":"transposednonex!BI24","v":7.5},10,{"$f":"transposednonex!BK24","v":2.5},{"$f":"transposednonex!BM24","v":7.5},{"$f":"transposednonex!BO24","v":5},{"$f":"transposednonex!BQ24","v":5},{"$f":"transposednonex!BS24","v":10},{"$f":"transposednonex!BU24","v":2.5},{"$f":"transposednonex!BW24","v":0},{"$f":"transposednonex!BY24","v":0},{"$f":"transposednonex!CA24","v":2.5},{"$f":"transposednonex!CC24","v":0},8.75,{"$f":"transposednonex!CD24","v":90},{"$f":"transposednonex!CF24","v":91},{"$f":"transposednonex!CH24","v":92},{"$f":"transposednonex!CJ24","v":94},{"$f":"transposednonex!CL24","v":95},{"$f":"transposednonex!CN24","v":100},{"$f":"transposednonex!CP24","v":97},{"$f":"transposednonex!CR24","v":96},{"$f":"transposednonex!CT24","v":95},{"$f":"transposednonex!CV24","v":100},95,{"$f":"transposednonex!CX24","v":94},{"$f":"transposednonex!CZ24","v":89},{"$f":"transposednonex!DB24","v":77},{"$f":"transposednonex!DD24","v":82},{"$f":"transposednonex!DF24","v":104},{"$f":"transposednonex!DH24","v":101},{"$f":"transposednonex!DJ24","v":80},{"$f":"transposednonex!DL24","v":100},{"$f":"transposednonex!DN24","v":86},{"$f":"transposednonex!DP24","v":87},90,{"$f":"transposednonex!CE24","v":94},{"$f":"transposednonex!CG24","v":102},{"$f":"transposednonex!CI24","v":99},{"$f":"transposednonex!CK24","v":99},{"$f":"transposednonex!CM24","v":104},{"$f":"transposednonex!CO24","v":88},{"$f":"transposednonex!CQ24","v":96},{"$f":"transposednonex!CS24","v":93},{"$f":"transposednonex!CU24","v":96},{"$f":"transposednonex!CW24","v":89},96,{"$f":"transposednonex!CY24","v":91},{"$f":"transposednonex!DA24","v":97},{"$f":"transposednonex!DC24","v":89},{"$f":"transposednonex!DE24","v":89},{"$f":"transposednonex!DG24","v":92},{"$f":"transposednonex!DI24","v":82},{"$f":"transposednonex!DK24","v":89},{"$f":"transposednonex!DM24","v":89},{"$f":"transposednonex!DO24","v":91},{"$f":"transposednonex!DQ24","v":87},89.6,{"$f":"transposednonex!DR24","v":"M"},{"$f":"transposednonex!DS24","v":27},{"$f":"transposednonex!DT24","v":"F"}]
[{"$f":"transposednonex!A22","v":"YS102-nonexercise"},{"$f":"transposednonex!B22","v":20.376},{"$f":"transposednonex!D22","v":16.88},{"$f":"transposednonex!F22","v":15.768},{"$f":"transposednonex!H22","v":16.224},{"$f":"transposednonex!J22","v":20.031},{"$f":"transposednonex!L22","v":14.215},{"$f":"transposednonex!N22","v":14.328},{"$f":"transposednonex!P22","v":14.848},{"$f":"transposednonex!R22","v":11.808},{"$f":"transposednonex!T22","v":15.176},15.965399999999999,{"$f":"transposednonex!V22","v":13.764},{"$f":"transposednonex!X22","v":13.216},{"$f":"transposednonex!Z22","v":13.92},{"$f":"transposednonex!AB22","v":14.832},{"$f":"transposednonex!AD22","v":13.088},{"$f":"transposednonex!AF22","v":13.192},{"$f":"transposednonex!AH22","v":12.488},{"$f":"transposednonex!AJ22","v":14.85},{"$f":"transposednonex!AL22","v":12.911},{"$f":"transposednonex!AN22","v":12.032},13.429300000000001,{"$f":"transposednonex!C22","v":48.6},{"$f":"transposednonex!E22","v":49.73},{"$f":"transposednonex!G22","v":38.345},{"$f":"transposednonex!I22","v":49.959},{"$f":"transposednonex!K22","v":40.687},{"$f":"transposednonex!M22","v":40.336},{"$f":"transposednonex!O22","v":35.784},{"$f":"transposednonex!Q22","v":33.984},{"$f":"transposednonex!S22","v":37.906},{"$f":"transposednonex!U22","v":33.567},40.8898,{"$f":"transposednonex!W22","v":27.048},{"$f":"transposednonex!Y22","v":28.032},{"$f":"transposednonex!AA22","v":33.952},{"$f":"transposednonex!AC22","v":33.695},{"$f":"transposednonex!AE22","v":34.688},{"$f":"transposednonex!AG22","v":37.815},{"$f":"transposednonex!AI22","v":30.688},{"$f":"transposednonex!AK22","v":31.384},{"$f":"transposednonex!AM22","v":35.137},{"$f":"transposednonex!AO22","v":29.97},32.240899999999996,{"$f":"transposednonex!AP22","v":0},{"$f":"transposednonex!AR22","v":0},{"$f":"transposednonex!AT22","v":0},{"$f":"transposednonex!AV22","v":0},{"$f":"transposednonex!AX22","v":0},{"$f":"transposednonex!AZ22","v":0},{"$f":"transposednonex!BB22","v":2.5},{"$f":"transposednonex!BD22","v":0},{"$f":"transposednonex!BF22","v":0},{"$f":"transposednonex!BH22","v":0},0.25,{"$f":"transposednonex!BJ22","v":0},{"$f":"transposednonex!BL22","v":0},{"$f":"transposednonex!BN22","v":0},{"$f":"transposednonex!BP22","v":0},{"$f":"transposednonex!BR22","v":0},{"$f":"transposednonex!BT22","v":0},{"$f":"transposednonex!BV22","v":0},{"$f":"transposednonex!BX22","v":2.5},{"$f":"transposednonex!BZ22","v":0},{"$f":"transposednonex!CB22","v":0},0.625,{"$f":"transposednonex!AQ22","v":7.5},{"$f":"transposednonex!AS22","v":12.5},{"$f":"transposednonex!AU22","v":2.5},{"$f":"transposednonex!AW22","v":5},{"$f":"transposednonex!AY22","v":7.5},{"$f":"transposednonex!BA22","v":5},{"$f":"transposednonex!BC22","v":5},{"$f":"transposednonex!BE22","v":2.5},{"$f":"transposednonex!BG22","v":10},{"$f":"transposednonex!BI22","v":7.5},16.25,{"$f":"transposednonex!BK22","v":0},{"$f":"transposednonex!BM22","v":5},{"$f":"transposednonex!BO22","v":2.5},{"$f":"transposednonex!BQ22","v":2.5},{"$f":"transposednonex!BS22","v":12.5},{"$f":"transposednonex!BU22","v":12.5},{"$f":"transposednonex!BW22","v":5},{"$f":"transposednonex!BY22","v":7.5},{"$f":"transposednonex!CA22","v":5},{"$f":"transposednonex!CC22","v":2.5},13.75,{"$f":"transposednonex!CD22","v":75},{"$f":"transposednonex!CF22","v":77},{"$f":"transposednonex!CH22","v":79},{"$f":"transposednonex!CJ22","v":85},{"$f":"transposednonex!CL22","v":74},{"$f":"transposednonex!CN22","v":87},{"$f":"transposednonex!CP22","v":80},{"$f":"transposednonex!CR22","v":76},{"$f":"transposednonex!CT22","v":85},{"$f":"transposednonex!CV22","v":80},79.8,{"$f":"transposednonex!CX22","v":75},{"$f":"transposednonex!CZ22","v":75},{"$f":"transposednonex!DB22","v":69},{"$f":"transposednonex!DD22","v":74},{"$f":"transposednonex!DF22","v":74},{"$f":"transposednonex!DH22","v":76},{"$f":"transposednonex!DJ22","v":79},{"$f":"transposednonex!DL22","v":73},{"$f":"transposednonex!DN22","v":73},{"$f":"transposednonex!DP22","v":79},74.7,{"$f":"transposednonex!CE22","v":75},{"$f":"transposednonex!CG22","v":68},{"$f":"transposednonex!CI22","v":81},{"$f":"transposednonex!CK22","v":87},{"$f":"transposednonex!CM22","v":70},{"$f":"transposednonex!CO22","v":78},{"$f":"transposednonex!CQ22","v":83},{"$f":"transposednonex!CS22","v":86},{"$f":"transposednonex!CU22","v":74},{"$f":"transposednonex!CW22","v":87},78.9,{"$f":"transposednonex!CY22","v":85},{"$f":"transposednonex!DA22","v":74},{"$f":"transposednonex!DC22","v":76},{"$f":"transposednonex!DE22","v":76},{"$f":"transposednonex!DG22","v":66},{"$f":"transposednonex!DI22","v":64},{"$f":"transposednonex!DK22","v":68},{"$f":"transposednonex!DM22","v":73},{"$f":"transposednonex!DO22","v":73},{"$f":"transposednonex!DQ22","v":77},73.2,{"$f":"transposednonex!DR22","v":"M"},{"$f":"transposednonex!DS22","v":23},{"$f":"transposednonex!DT22","v":"F"}]

{"sheet":"PlotArray1","index":10,"n_rows":74,"n_cols":64,"rows_kept":74,"merged":[[0,53,0,61],[1,53,2,53],[1,55,1,56],[1,58,1,59],[1,60,1,61]]}
[{"$f":"analysis!A1","v":"ID (reds lack HR data)"},"%change-c-1","%change-c-2","%change-c-3","%change-c-4","%change-c-5","%change-c-6","%change-c-7","%change-c-8","%change-c-9","%change-c-10","%change-c-avg","congruent","%change-i-1","%change-i-2","%change-i-3","%change-i-4","%change-i-5","%change-i-6","%change-i-7","%change-i-8","%change-i-9","%change-i-10","%change-i-avg","incongruent","diff-err-c-1","diff-err-c-2","diff-err-c-3","diff-err-c-4","diff-err-c-5","diff-err-c-6","diff-err-c-7","diff-err-c-8","diff-err-c-9","diff-err-c-10","avg-change-err-c","avg-err-c","diff-err-i-1","diff-err-i-2","diff-err-i-3","diff-err-i-4","diff-err-i-5","diff-err-i-6","diff-err-i-7","diff-err-i-8","diff-err-i-9","diff-err-i-10","avg-change-err-i","avg-err-i",{"$f":"analysis!ED1","v":"Gender"},{"$f":"analysis!EE1","v":"BMI"},{"$f":"analysis!EF1","v":"ADD"},"BMI","Descriptive Statistics incong rT"]
[{"$f":"analysis!A2","v":"AA102"},{"$f":"(analysis!M2-analysis!L2)*100/ABS(analysis!L2)","v":-9.719409755144643},{"$f":"((analysis!N2-analysis!L2)*100)/ABS(analysis!L2)","v":-13.569247042343457},{"$f":"((analysis!O2-analysis!L2)*100)/ABS(analysis!L2)","v":-10.462695171980052},{"$f":"((analysis!P2-analysis!L2)*100)/ABS(analysis!L2)","v":-19.90623168587617},{"$f":"((analysis!Q2-analysis!L2)*100)/ABS(analysis!L2)","v":-8.709303932265748},{"$f":"((analysis!R2-analysis!L2)*100)/ABS(analysis!L2)","v":-13.245250835004951},{"$f":"((analysis!S2-analysis!L2)*100)/ABS(analysis!L2)","v":-10.238756616907859},{"$f":"((analysis!T2-analysis!L2)*100)/ABS(analysis!L2)","v":-7.484788854530475},{"$f":"((analysis!U2-analysis!L2)*100)/ABS(analysis!L2)","v":-15.684751690259631},{"$f":"((analysis!V2-analysis!L2)*100)/ABS(analysis!L2)","v":-13.40248428856628},{"$f":"AVERAGE(B2:K2)","v":-12.242291987287928},{"$f":"AVERAGE($L$2:INDEX(L:L,MATCH(9.99999999999999E+307,L:L)))","v":-11.40612822921507},{"$f":"(analysis!AI2-analysis!AH2)*100/ABS(analysis!AH2)","v":-25.13727845463684},{"$f":"(analysis!AJ2-analysis!AH2)*100/ABS(analysis!AH2)","v":-5.722182727428746},{"$f":"(analysis!AK2-analysis!AH2)*100/ABS(analysis!AH2)","v":-5.673154707915589},{"$f":"(analysis!AL2-analysis!AH2)*100/ABS(analysis!AH2)","v":-6.282940700610419},{"$f":"(analysis!AM2-analysis!AH2)*100/ABS(analysis!AH2)","v":-10.995759076312131},{"$f":"(analysis!AN2-analysis!AH2)*100/ABS(analysis!AH2)","v":-18.690093888657383},{"$f":"(analysis!AO2-analysis!AH2)*100/ABS(analysis!AH2)","v":-11.13671463241244},{"$f":"(analysis!AP2-analysis!AH2)*100/ABS(analysis!AH2)","v":-18.003701615473258},{"$f":"(analysis!AQ2-analysis!AH2)*100/ABS(analysis!AH2)","v":-0.421028117569211},{"$f":"(analysis!AR2-analysis!AH2)*100/ABS(analysis!AH2)","v":6.786090750864087},{"$f":"AVERAGE(N2:W2)","v":-9.527676317015192},{"$f":"AVERAGE($X$2:INDEX(X:X,MATCH(9.99999999999999E+307,X:X)))","v":-9.473423797674725},{"$f":"(analysis!BE2-analysis!BD2)","v":2.25},{"$f":"analysis!BF2-analysis!BD2","v":2.25},{"$f":"analysis!BG2-analysis!BD2","v":-0.25},{"$f":"analysis!BH2-analysis!BD2","v":2.25},{"$f":"analysis!BI2-analysis!BD2","v":-0.25},{"$f":"analysis!BJ2-analysis!BD2","v":2.25},{"$f":"analysis!BK2-analysis!BD2","v":2.25},{"$f":"analysis!BL2-analysis!BD2","v":2.25},{"$f":"analysis!BM2-analysis!BD2","v":-0.25},{"$f":"analysis!BN2-analysis!BD2","v":2.25},{"$f":"SUM(Z2:AI2)/10","v":1.5},{"$f":"AVERAGE($AJ$2:INDEX(AJ:AJ,MATCH(9.99999999999999E+307,AJ:AJ)))","v":0.010273972602739725},{"$f":"(analysis!CA2-analysis!BZ2)","v":2.25},{"$f":"analysis!CB2-analysis!BZ2","v":-2.75},{"$f":"analysis!CC2-analysis!BZ2","v":2.25},{"$f":"analysis!CD2-analysis!BZ2","v":-0.25},{"$f":"analysis!CE2-analysis!BZ2","v":-0.25},{"$f":"analysis!CF2-analysis!BZ2","v":-5.25},{"$f":"analysis!CG2-analysis!BZ2","v":-5.25},{"$f":"analysis!CH2-analysis!BZ2","v":-5.25},{"$f":"analysis!CI2-analysis!BZ2","v":-2.75},{"$f":"analysis!CJ2-analysis!BZ2","v":2.25},{"$f":"SUM(AL2:AU2)/10","v":-1.5},{"$f":"AVERAGE($AV$2:INDEX(AV:AV,MATCH(9.99999999999999E+307,AV:AV)))","v":-0.0547945205479452},{"$f":"analysis!ED2","v":"F"},{"$f":"analysis!EE2","v":21},{"$f":"analysis!EF2","v":"F"},1,"","N","Mean",null,"Std. Deviation","Skewness",null,"Kurtosis"]
[{"$f":"analysis!A3","v":"CJ101"},{"$f":"(analysis!M3-analysis!L3)*100/ABS(analysis!L3)","v":-19.562943831001867},{"$f":"((analysis!N3-analysis!L3)*100)/ABS(analysis!L3)","v":-14.114186991165264},{"$f":"((analysis!O3-analysis!L3)*100)/ABS(analysis!L3)","v":-2.3672912802556283},{"$f":"((analysis!P3-analysis!L3)*100)/ABS(analysis!L3)","v":-9.769048981030465},{"$f":"((analysis!Q3-analysis!L3)*100)/ABS(analysis!L3)","v":-16.795229593163338},{"$f":"((analysis!R3-analysis!L3)*100)/ABS(analysis!L3)","v":-7.365355613721849},{"$f":"((analysis!S3-analysis!L3)*100)/ABS(analysis!L3)","v":-7.365355613721849},{"$f":"((analysis!T3-analysis!L3)*100)/ABS(analysis!L3)","v":-21.094142730849896},{"$f":"((analysis!U3-analysis!L3)*100)/ABS(analysis!L3)","v":-19.112251324631494},{"$f":"((analysis!V3-analysis!L3)*100)/ABS(analysis!L3)","v":-20.169645281885042},-13.771545124142667,"stdev",{"$f":"(analysis!AI3-analysis!AH3)*100/ABS(analysis!AH3)","v":-25.834209771488663},{"$f":"(analysis!AJ3-analysis!AH3)*100/ABS(analysis!AH3)","v":-14.42776556076106},{"$f":"(analysis!AK3-analysis!AH3)*100/ABS(analysis!AH3)","v":7.291965452401441},{"$f":"(analysis!AL3-analysis!AH3)*100/ABS(analysis!AH3)","v":6.265736048698106},{"$f":"(analysis!AM3-analysis!AH3)*100/ABS(analysis!AH3)","v":0.9146827293877764},{"$f":"(analysis!AN3-analysis!AH3)*100/ABS(analysis!AH3)","v":-15.80775727443668},{"$f":"(analysis!AO3-analysis!AH3)*100/ABS(analysis!AH3)","v":7.722216910475821},{"$f":"(analysis!AP3-analysis!AH3)*100/ABS(analysis!AH3)","v":-0.5131147018516679},{"$f":"(analysis!AQ3-analysis!AH3)*100/ABS(analysis!AH3)","v":-3.2412276508270375},{"$f":"(analysis!AR3-analysis!AH3)*100/ABS(analysis!AH3)","v":-5.025974439876337},-4.2655448258278295,"stdev",{"$f":"(analysis!BE3-analysis!BD3)","v":0},{"$f":"analysis!BF3-analysis!BD3","v":0},{"$f":"analysis!BG3-analysis!BD3","v":0},{"$f":"analysis!BH3-analysis!BD3","v":0},{"$f":"analysis!BI3-analysis!BD3","v":0},{"$f":"analysis!BJ3-analysis!BD3","v":0},{"$f":"analysis!BK3-analysis!BD3","v":2.5},{"$f":"analysis!BL3-analysis!BD3","v":0},{"$f":"analysis!BM3-analysis!BD3","v":0},{"$f":"analysis!BN3-analysis!BD3","v":0},{"$f":"SUM(Z3:AI3)/10","v":0.25},"stdev",{"$f":"(analysis!CA3-analysis!BZ3)","v":-1.25},{"$f":"analysis!CB3-analysis!BZ3","v":-1.25},{"$f":"analysis!CC3-analysis!BZ3","v":3.75},{"$f":"analysis!CD3-analysis!BZ3","v":1.25},{"$f":"analysis!CE3-analysis!BZ3","v":3.75},{"$f":"analysis!CF3-analysis!BZ3","v":-1.25},{"$f":"analysis!CG3-analysis!BZ3","v":1.25},{"$f":"analysis!CH3-analysis!BZ3","v":1.25},{"$f":"analysis!CI3-analysis!BZ3","v":1.25},{"$f":"analysis!CJ3-analysis!BZ3","v":-1.25},{"$f":"SUM(AL3:AU3)/10","v":0.75},"stdev",{"$f":"analysis!ED3","v":"M"},{"$f":"analysis!EE3","v":26.78},{"$f":"analysis!EF3","v":"F"},2,null,"Statistic","Statistic","Std. Error","Statistic","Statistic","Std. Error","Statistic","Std. Error"]
[{"$f":"analysis!A4","v":"CN101"},{"$f":"(analysis!M4-analysis!L4)*100/ABS(analysis!L4)","v":-6.07010870602306},{"$f":"((analysis!N4-analysis!L4)*100)/ABS(analysis!L4)","v":-2.247269627829776},{"$f":"((analysis!O4-analysis!L4)*100)/ABS(analysis!L4)","v":-10.287317206592352},{"$f":"((analysis!P4-analysis!L4)*100)/ABS(analysis!L4)","v":-21.278774656039914},{"$f":"((analysis!Q4-analysis!L4)*100)/ABS(analysis!L4)","v":-15.992952236774325},{"$f":"((analysis!R4-analysis!L4)*100)/ABS(analysis!L4)","v":-19.24331957280888},{"$f":"((analysis!S4-analysis!L4)*100)/ABS(analysis!L4)","v":-13.544045339761992},{"$f":"((analysis!T4-analysis!L4)*100)/ABS(analysis!L4)","v":-15.93570506255846},{"$f":"((analysis!U4-analysis!L4)*100)/ABS(analysis!L4)","v":-22.404635748952074},{"$f":"((analysis!V4-analysis!L4)*100)/ABS(analysis!L4)","v":-17.97116014578948},-14.497528830313033,{"$f":"STDEV($L$2:INDEX(L:L,MATCH(9.99999999999999E+307,L:L)))","v":9.170102286801464},{"$f":"(analysis!AI4-analysis!AH4)*100/ABS(analysis!AH4)","v":-19.09622191126841},{"$f":"(analysis!AJ4-analysis!AH4)*100/ABS(analysis!AH4)","v":-8.516475978818537},{"$f":"(analysis!AK4-analysis!AH4)*100/ABS(analysis!AH4)","v":-19.271819354130653},{"$f":"(analysis!AL4-analysis!AH4)*100/ABS(analysis!AH4)","v":-15.057480725436927},{"$f":"(analysis!AM4-analysis!AH4)*100/ABS(analysis!AH4)","v":-15.891568579032555},{"$f":"(analysis!AN4-analysis!AH4)*100/ABS(analysis!AH4)","v":-18.196285016599433},{"$f":"(analysis!AO4-analysis!AH4)*100/ABS(analysis!AH4)","v":-23.61785606497105},{"$f":"(analysis!AP4-analysis!AH4)*100/ABS(analysis!AH4)","v":-16.92320355584821},{"$f":"(analysis!AQ4-analysis!AH4)*100/ABS(analysis!AH4)","v":-17.428046204077148},{"$f":"(analysis!AR4-analysis!AH4)*100/ABS(analysis!AH4)","v":-24.58364200071336},-17.858259939089628,{"$f":"STDEV($X$2:INDEX(X:X,MATCH(9.99999999999999E+307,X:X)))","v":6.8360608237151},{"$f":"(analysis!BE4-analysis!BD4)","v":0},{"$f":"analysis!BF4-analysis!BD4","v":0},{"$f":"analysis!BG4-analysis!BD4","v":0},{"$f":"analysis!BH4-analysis!BD4","v":0},{"$f":"analysis!BI4-analysis!BD4","v":0},{"$f":"analysis!BJ4-analysis!BD4","v":0},{"$f":"analysis!BK4-analysis!BD4","v":0},{"$f":"analysis!BL4-analysis!BD4","v":0},{"$f":"analysis!BM4-analysis!BD4","v":0},{"$f":"analysis!BN4-analysis!BD4","v":0},0,{"$f":"STDEV($AJ$2:INDEX(AJ:AJ,MATCH(9.99999999999999E+307,AJ:AJ)))","v":0.35217172500997185},{"$f":"(analysis!CA4-analysis!BZ4)","v":-1.5},{"$f":"analysis!CB4-analysis!BZ4","v":1},{"$f":"analysis!CC4-analysis!BZ4","v":-4},{"$f":"analysis!CD4-analysis!BZ4","v":1},{"$f":"analysis!CE4-analysis!BZ4","v":1},{"$f":"analysis!CF4-analysis!BZ4","v":1},{"$f":"analysis!CG4-analysis!BZ4","v":-4},{"$f":"analysis!CH4-analysis!BZ4","v":-4},{"$f":"analysis!CI4-analysis!BZ4","v":-4},{"$f":"analysis!CJ4-analysis!BZ4","v":-4},-1.75,{"$f":"STDEV($AV$2:INDEX(AV:AV,MATCH(9.99999999999999E+307,AV:AV)))","v":1.1661059480989628},{"$f":"analysis!ED4","v":"F"},{"$f":"analysis!EE4","v":32},{"$f":"analysis!EF4","v":"T"},2,"VAR00001",73,{"v":-9.473423798013698,"d":"-9.47"},{"v":0.8001004011299073,"d":".800"},{"v":6.836060823883987,"d":"6.836"},{"v":0.04159450427163905,"d":".042"},{"v":0.2810292168299213,"d":".281"},{"v":-0.1362143021804782,"d":"-.136"},{"v":0.5552227534063949,"d":".555"}]
[{"$f":"analysis!A5","v":"DD101"},{"$f":"(analysis!M5-analysis!L5)*100/ABS(analysis!L5)","v":3.6843934654153587},{"$f":"((analysis!N5-analysis!L5)*100)/ABS(analysis!L5)","v":-5.70733402850191},{"$f":"((analysis!O5-analysis!L5)*100)/ABS(analysis!L5)","v":-7.403545359749735},{"$f":"((analysis!P5-analysis!L5)*100)/ABS(analysis!L5)","v":-13.409801876955164},{"$f":"((analysis!Q5-analysis!L5)*100)/ABS(analysis!L5)","v":-9.127563434132782},{"$f":"((analysis!R5-analysis!L5)*100)/ABS(analysis!L5)","v":-12.40180743830378},{"$f":"((analysis!S5-analysis!L5)*100)/ABS(analysis!L5)","v":-3.2603406326034023},{"$f":"((analysis!T5-analysis!L5)*100)/ABS(analysis!L5)","v":-4.414320472714632},{"$f":"((analysis!U5-analysis!L5)*100)/ABS(analysis!L5)","v":-10.239833159541181},{"$f":"((analysis!V5-analysis!L5)*100)/ABS(analysis!L5)","v":-11.456378171706636},-7.373653110879386,"n",{"$f":"(analysis!AI5-analysis!AH5)*100/ABS(analysis!AH5)","v":-19.730433041969718},{"$f":"(analysis!AJ5-analysis!AH5)*100/ABS(analysis!AH5)","v":-19.76494571157073},{"$f":"(analysis!AK5-analysis!AH5)*100/ABS(analysis!AH5)","v":-21.38474033817816},{"$f":"(analysis!AL5-analysis!AH5)*100/ABS(analysis!AH5)","v":-18.069223211841074},{"$f":"(analysis!AM5-analysis!AH5)*100/ABS(analysis!AH5)","v":-20.521923598152895},{"$f":"(analysis!AN5-analysis!AH5)*100/ABS(analysis!AH5)","v":-14.75830777478413},{"$f":"(analysis!AO5-analysis!AH5)*100/ABS(analysis!AH5)","v":-12.153751642227876},{"$f":"(analysis!AP5-analysis!AH5)*100/ABS(analysis!AH5)","v":-23.022941721906115},{"$f":"(analysis!AQ5-analysis!AH5)*100/ABS(analysis!AH5)","v":-23.10117043966842},{"$f":"(analysis!AR5-analysis!AH5)*100/ABS(analysis!AH5)","v":-15.489976370325566},-18.799741385062468,"n",{"$f":"(analysis!BE5-analysis!BD5)","v":0},{"$f":"analysis!BF5-analysis!BD5","v":0},{"$f":"analysis!BG5-analysis!BD5","v":0},{"$f":"analysis!BH5-analysis!BD5","v":0},{"$f":"analysis!BI5-analysis!BD5","v":0},{"$f":"analysis!BJ5-analysis!BD5","v":0},{"$f":"analysis!BK5-analysis!BD5","v":0},{"$f":"analysis!BL5-analysis!BD5","v":0},{"$f":"analysis!BM5-analysis!BD5","v":0},{"$f":"analysis!BN5-analysis!BD5","v":0},0,"n",{"$f":"(analysis!CA5-analysis!BZ5)","v":-0.25},{"$f":"analysis!CB5-analysis!BZ5","v":-2.75},{"$f":"analysis!CC5-analysis!BZ5","v":-2.75},{"$f":"analysis!CD5-analysis!BZ5","v":-0.25},{"$f":"analysis!CE5-analysis!BZ5","v":-0.25},{"$f":"analysis!CF5-analysis!BZ5","v":-2.75},{"$f":"analysis!CG5-analysis!BZ5","v":-2.75},{"$f":"analysis!CH5-analysis!BZ5","v":-0.25},{"$f":"analysis!CI5-analysis!BZ5","v":-0.25},{"$f":"analysis!CJ5-analysis!BZ5","v":-0.25},-1.25,"n",{"$f":"analysis!ED5","v":"M"},{"$f":"analysis!EE5","v":23},{"$f":"analysis!EF5","v":"T"},1,"Valid N (listwise)",73]
[{"$f":"analysis!A6","v":"FA102"},{"$f":"(analysis!M6-analysis!L6)*100/ABS(analysis!L6)","v":0.336492141326707},{"$f":"((analysis!N6-analysis!L6)*100)/ABS(analysis!L6)","v":13.530147682662028},{"$f":"((analysis!O6-analysis!L6)*100)/ABS(analysis!L6)","v":-1.9499288189700936},{"$f":"((analysis!P6-analysis!L6)*100)/ABS(analysis!L6)","v":5.966264505831096},{"$f":"((analysis!Q6-analysis!L6)*100)/ABS(analysis!L6)","v":-1.4610086136236102},{"$f":"((analysis!R6-analysis!L6)*100)/ABS(analysis!L6)","v":-3.869659625257041},{"$f":"((analysis!S6-analysis!L6)*100)/ABS(analysis!L6)","v":14.04063789706793},{"$f":"((analysis!T6-analysis!L6)*100)/ABS(analysis!L6)","v":-2.5754590816928022},{"$f":"((analysis!U6-analysis!L6)*100)/ABS(analysis!L6)","v":4.715203980385679},{"$f":"((analysis!V6-analysis!L6)*100)/ABS(analysis!L6)","v":12.336607181375028},4.106929724910492,{"$f":"COUNT($L$2:INDEX(L:L,MATCH(9.99999999999999E+307,L:L)))","v":73},{"$f":"(analysis!AI6-analysis!AH6)*100/ABS(analysis!AH6)","v":-4.367248768546039},{"$f":"(analysis!AJ6-analysis!AH6)*100/ABS(analysis!AH6)","v":-5.997090040482085},{"$f":"(analysis!AK6-analysis!AH6)*100/ABS(analysis!AH6)","v":1.5714441251480613},{"$f":"(analysis!AL6-analysis!AH6)*100/ABS(analysis!AH6)","v":5.180849694982133},{"$f":"(analysis!AM6-analysis!AH6)*100/ABS(analysis!AH6)","v":0.4496910230058433},{"$f":"(analysis!AN6-analysis!AH6)*100/ABS(analysis!AH6)","v":-4.759862354295815},{"$f":"(analysis!AO6-analysis!AH6)*100/ABS(analysis!AH6)","v":-5.442812037070638},{"$f":"(analysis!AP6-analysis!AH6)*100/ABS(analysis!AH6)","v":24.8709159114079},{"$f":"(analysis!AQ6-analysis!AH6)*100/ABS(analysis!AH6)","v":4.47810436922834},{"$f":"(analysis!AR6-analysis!AH6)*100/ABS(analysis!AH6)","v":5.266630814557714},2.1250622737935414,{"$f":"COUNT($X$2:INDEX(X:X,MATCH(9.99999999999999E+307,X:X)))","v":73},{"$f":"(analysis!BE6-analysis!BD6)","v":-0.25},{"$f":"analysis!BF6-analysis!BD6","v":2.25},{"$f":"analysis!BG6-analysis!BD6","v":-0.25},{"$f":"analysis!BH6-analysis!BD6","v":2.25},{"$f":"analysis!BI6-analysis!BD6","v":-0.25},{"$f":"analysis!BJ6-analysis!BD6","v":-0.25},{"$f":"analysis!BK6-analysis!BD6","v":-0.25},{"$f":"analysis!BL6-analysis!BD6","v":-0.25},{"$f":"analysis!BM6-analysis!BD6","v":4.75},{"$f":"analysis!BN6-analysis!BD6","v":2.25},1,{"$f":"COUNT($AJ$2:INDEX(AJ:AJ,MATCH(9.99999999999999E+307,AJ:AJ)))","v":73},{"$f":"(analysis!CA6-analysis!BZ6)","v":0},{"$f":"analysis!CB6-analysis!BZ6","v":-2.5},{"$f":"analysis!CC6-analysis!BZ6","v":5},{"$f":"analysis!CD6-analysis!BZ6","v":7.5},{"$f":"analysis!CE6-analysis!BZ6","v":5},{"$f":"analysis!CF6-analysis!BZ6","v":5},{"$f":"analysis!CG6-analysis!BZ6","v":-2.5},{"$f":"analysis!CH6-analysis!BZ6","v":12.5},{"$f":"analysis!CI6-analysis!BZ6","v":2.5},{"$f":"analysis!CJ6-analysis!BZ6","v":7.5},4,{"$f":"COUNT($AV$2:INDEX(AV:AV,MATCH(9.99999999999999E+307,AV:AV)))","v":73},{"$f":"analysis!ED6","v":"F"},{"$f":"analysis!EE6","v":21},{"$f":"analysis!EF6","v":"F"},1]
[{"$f":"analysis!A7","v":"JF101"},{"$f":"(analysis!M7-analysis!L7)*100/ABS(analysis!L7)","v":-13.262360412882135},{"$f":"((analysis!N7-analysis!L7)*100)/ABS(analysis!L7)","v":-11.06557954177403},{"$f":"((analysis!O7-analysis!L7)*100)/ABS(analysis!L7)","v":-5.031473110557215},{"$f":"((analysis!P7-analysis!L7)*100)/ABS(analysis!L7)","v":-8.298480559897481},{"$f":"((analysis!Q7-analysis!L7)*100)/ABS(analysis!L7)","v":-4.6301381437201545},{"$f":"((analysis!R7-analysis!L7)*100)/ABS(analysis!L7)","v":-5.270865897793347},{"$f":"((analysis!S7-analysis!L7)*100)/ABS(analysis!L7)","v":-6.101699688789365},{"$f":"((analysis!T7-analysis!L7)*100)/ABS(analysis!L7)","v":-7.002943123090128},{"$f":"((analysis!U7-analysis!L7)*100)/ABS(analysis!L7)","v":1.9461225409432124},{"$f":"((analysis!V7-analysis!L7)*100)/ABS(analysis!L7)","v":-8.199907059270828},-6.691732499683146,"se",{"$f":"(analysis!AI7-analysis!AH7)*100/ABS(analysis!AH7)","v":-22.213817049277868},{"$f":"(analysis!AJ7-analysis!AH7)*100/ABS(analysis!AH7)","v":-12.613984168030296},{"$f":"(analysis!AK7-analysis!AH7)*100/ABS(analysis!AH7)","v":-17.830114925793573},{"$f":"(analysis!AL7-analysis!AH7)*100/ABS(analysis!AH7)","v":-6.0906555929392185},{"$f":"(analysis!AM7-analysis!AH7)*100/ABS(analysis!AH7)","v":-11.129539189030927},{"$f":"(analysis!AN7-analysis!AH7)*100/ABS(analysis!AH7)","v":-9.39821423484615},{"$f":"(analysis!AO7-analysis!AH7)*100/ABS(analysis!AH7)","v":-10.92064074848944},{"$f":"(analysis!AP7-analysis!AH7)*100/ABS(analysis!AH7)","v":-11.325777118024451},{"$f":"(analysis!AQ7-analysis!AH7)*100/ABS(analysis!AH7)","v":-12.585498017047374},{"$f":"(analysis!AR7-analysis!AH7)*100/ABS(analysis!AH7)","v":-10.562981297259302},-12.467122234073859,"se",{"$f":"(analysis!BE7-analysis!BD7)","v":0},{"$f":"analysis!BF7-analysis!BD7","v":0},{"$f":"analysis!BG7-analysis!BD7","v":0},{"$f":"analysis!BH7-analysis!BD7","v":0},{"$f":"analysis!BI7-analysis!BD7","v":0},{"$f":"analysis!BJ7-analysis!BD7","v":0},{"$f":"analysis!BK7-analysis!BD7","v":0},{"$f":"analysis!BL7-analysis!BD7","v":0},{"$f":"analysis!BM7-analysis!BD7","v":2.5},{"$f":"analysis!BN7-analysis!BD7","v":0},0.25,"se",{"$f":"(analysis!CA7-analysis!BZ7)","v":-1},{"$f":"analysis!CB7-analysis!BZ7","v":1.5},{"$f":"analysis!CC7-analysis!BZ7","v":-1},{"$f":"analysis!CD7-analysis!BZ7","v":4},{"$f":"analysis!CE7-analysis!BZ7","v":-1},{"$f":"analysis!CF7-analysis!BZ7","v":1.5},{"$f":"analysis!CG7-analysis!BZ7","v":1.5},{"$f":"analysis!CH7-analysis!BZ7","v":-1},{"$f":"analysis!CI7-analysis!BZ7","v":-1},{"$f":"analysis!CJ7-analysis!BZ7","v":1.5},0.5,"se",{"$f":"analysis!ED7","v":"M"},{"$f":"analysis!EE7","v":30},{"$f":"analysis!EF7","v":"T"},2,"Descriptive Statistics congruent"]
[{"$f":"analysis!A8","v":"JH102"},{"$f":"(analysis!M8-analysis!L8)*100/ABS(analysis!L8)","v":-9.87855495772482},{"$f":"((analysis!N8-analysis!L8)*100)/ABS(analysis!L8)","v":-11.735588009223676},{"$f":"((analysis!O8-analysis!L8)*100)/ABS(analysis!L8)","v":-13.691006917755573},{"$f":"((analysis!P8-analysis!L8)*100)/ABS(analysis!L8)","v":-7.738662567255955},{"$f":"((analysis!Q8-analysis!L8)*100)/ABS(analysis!L8)","v":-14.61337432744043},{"$f":"((analysis!R8-analysis!L8)*100)/ABS(analysis!L8)","v":-12.867025365103764},{"$f":"((analysis!S8-analysis!L8)*100)/ABS(analysis!L8)","v":-12.639508070714825},{"$f":"((analysis!T8-analysis!L8)*100)/ABS(analysis!L8)","v":-10.40122982321291},{"$f":"((analysis!U8-analysis!L8)*100)/ABS(analysis!L8)","v":-14.926979246733273},{"$f":"((analysis!V8-analysis!L8)*100)/ABS(analysis!L8)","v":-8.95618754803997},{"$f":"AVERAGE(B8:K8)","v":-11.74481168332052},"se",{"$f":"(analysis!AI8-analysis!AH8)*100/ABS(analysis!AH8)","v":-3.605706874189366},{"$f":"(analysis!AJ8-analysis!AH8)*100/ABS(analysis!AH8)","v":-19.550367488110677},{"$f":"(analysis!AK8-analysis!AH8)*100/ABS(analysis!AH8)","v":-17.23994811932555},{"$f":"(analysis!AL8-analysis!AH8)*100/ABS(analysis!AH8)","v":-12.90272373540857},{"$f":"(analysis!AM8-analysis!AH8)*100/ABS(analysis!AH8)","v":-3.4258538694336385},{"$f":"(analysis!AN8-analysis!AH8)*100/ABS(analysis!AH8)","v":0.5620406398616441},{"$f":"(analysis!AO8-analysis!AH8)*100/ABS(analysis!AH8)","v":-10.882836143536544},{"$f":"(analysis!AP8-analysis!AH8)*100/ABS(analysis!AH8)","v":0.5032425421530424},{"$f":"(analysis!AQ8-analysis!AH8)*100/ABS(analysis!AH8)","v":-3.304798962386513},{"$f":"(analysis!AR8-analysis!AH8)*100/ABS(analysis!AH8)","v":-14.113272805879811},{"$f":"AVERAGE(N8:W8)","v":-8.396022481625598},"se",{"$f":"(analysis!BE8-analysis!BD8)","v":-0.25},{"$f":"analysis!BF8-analysis!BD8","v":-0.25},{"$f":"analysis!BG8-analysis!BD8","v":-0.25},{"$f":"analysis!BH8-analysis!BD8","v":-0.25},{"$f":"analysis!BI8-analysis!BD8","v":-0.25},{"$f":"analysis!BJ8-analysis!BD8","v":-0.25},{"$f":"analysis!BK8-analysis!BD8","v":-0.25},{"$f":"analysis!BL8-analysis!BD8","v":-0.25},{"$f":"analysis!BM8-analysis!BD8","v":-0.25},{"$f":"analysis!BN8-analysis!BD8","v":-0.25},{"$f":"SUM(Z8:AI8)/10","v":-0.25},"se",{"$f":"(analysis!CA8-analysis!BZ8)","v":-1},{"$f":"analysis!CB8-analysis!BZ8","v":-1},{"$f":"analysis!CC8-analysis!BZ8","v":-1},{"$f":"analysis!CD8-analysis!BZ8","v":-1},{"$f":"analysis!CE8-analysis!BZ8","v":-1},{"$f":"analysis!CF8-analysis!BZ8","v":-1},{"$f":"analysis!CG8-analysis!BZ8","v":-1},{"$f":"analysis!CH8-analysis!BZ8","v":1.5},{"$f":"analysis!CI8-analysis!BZ8","v":-1},{"$f":"analysis!CJ8-analysis!BZ8","v":1.5},{"$f":"SUM(AL8:AU8)/10","v":-0.5},null,{"$f":"analysis!ED8","v":"F"},{"$f":"analysis!EE8","v":19},{"$f":"analysis!EF8","v":"F"},1,null,"N","Minimum","Maximum","Mean",null,"Std. Deviation","Skewness",null,"Kurtosis"]
[{"$f":"analysis!A9","v":"JR101"},{"$f":"(analysis!M9-analysis!L9)*100/ABS(analysis!L9)","v":-5.75380450929258},{"$f":"((analysis!N9-analysis!L9)*100)/ABS(analysis!L9)","v":-2.774568382134485},{"$f":"((analysis!O9-analysis!L9)*100)/ABS(analysis!L9)","v":-8.9022216353613},{"$f":"((analysis!P9-analysis!L9)*100)/ABS(analysis!L9)","v":-9.219951804047144},{"$f":"((analysis!Q9-analysis!L9)*100)/ABS(analysis!L9)","v":-6.281979335159943},{"$f":"((analysis!R9-analysis!L9)*100)/ABS(analysis!L9)","v":-4.429241078797079},{"$f":"((analysis!S9-analysis!L9)*100)/ABS(analysis!L9)","v":-10.383586967286176},{"$f":"((analysis!T9-analysis!L9)*100)/ABS(analysis!L9)","v":-4.161027300036319},{"$f":"((analysis!U9-analysis!L9)*100)/ABS(analysis!L9)","v":-9.261215462318036},{"$f":"((analysis!V9-analysis!L9)*100)/ABS(analysis!L9)","v":-8.081074835770643},-6.92486713102037,{"$f":"M4/SQRT(M6)","v":1.0732792915531038},{"$f":"(analysis!AI9-analysis!AH9)*100/ABS(analysis!AH9)","v":-11.882022549022315},{"$f":"(analysis!AJ9-analysis!AH9)*100/ABS(analysis!AH9)","v":-10.86355562998082},{"$f":"(analysis!AK9-analysis!AH9)*100/ABS(analysis!AH9)","v":3.987943108602614},{"$f":"(analysis!AL9-analysis!AH9)*100/ABS(analysis!AH9)","v":-1.6397042877182886},{"$f":"(analysis!AM9-analysis!AH9)*100/ABS(analysis!AH9)","v":6.302141525723829},{"$f":"(analysis!AN9-analysis!AH9)*100/ABS(analysis!AH9)","v":-10.177257167014858},{"$f":"(analysis!AO9-analysis!AH9)*100/ABS(analysis!AH9)","v":-8.206207981376604},{"$f":"(analysis!AP9-analysis!AH9)*100/ABS(analysis!AH9)","v":-12.92794140658243},{"$f":"(analysis!AQ9-analysis!AH9)*100/ABS(analysis!AH9)","v":-13.979350651846282},{"$f":"(analysis!AR9-analysis!AH9)*100/ABS(analysis!AH9)","v":-15.21743307903688},-7.4603388118252045,{"$f":"Y4/SQRT(Y6)","v":0.8001004011101407},{"$f":"(analysis!BE9-analysis!BD9)","v":2.25},{"$f":"analysis!BF9-analysis!BD9","v":2.25},{"$f":"analysis!BG9-analysis!BD9","v":-0.25},{"$f":"analysis!BH9-analysis!BD9","v":-0.25},{"$f":"analysis!BI9-analysis!BD9","v":2.25},{"$f":"analysis!BJ9-analysis!BD9","v":-0.25},{"$f":"analysis!BK9-analysis!BD9","v":-0.25},{"$f":"analysis!BL9-analysis!BD9","v":-0.25},{"$f":"analysis!BM9-analysis!BD9","v":-0.25},{"$f":"analysis!BN9-analysis!BD9","v":-0.25},0.5,{"$f":"AK4/SQRT(AK6)","v":0.041218582705207334},{"$f":"(analysis!CA9-analysis!BZ9)","v":1.25},{"$f":"analysis!CB9-analysis!BZ9","v":3.75},{"$f":"analysis!CC9-analysis!BZ9","v":3.75},{"$f":"analysis!CD9-analysis!BZ9","v":-1.25},{"$f":"analysis!CE9-analysis!BZ9","v":-1.25},{"$f":"analysis!CF9-analysis!BZ9","v":-1.25},{"$f":"analysis!CG9-analysis!BZ9","v":-1.25},{"$f":"analysis!CH9-analysis!BZ9","v":-1.25},{"$f":"analysis!CI9-analysis!BZ9","v":-1.25},{"$f":"analysis!CJ9-analysis!BZ9","v":1.25},0.25,{"$f":"AW4/SQRT(AW6)","v":0.1364823779177341},{"$f":"analysis!ED9","v":"F"},{"$f":"analysis!EE9","v":27},{"$f":"analysis!EF9","v":"F"},2,null,"Statistic","Statistic","Statistic","Statistic","Std. Error","Statistic","Statistic","Std. Error","Statistic","Std. Error"]
[{"$f":"analysis!A10","v":"MR101"},{"$f":"(analysis!M10-analysis!L10)*100/ABS(analysis!L10)","v":4.266044365995097},{"$f":"((analysis!N10-analysis!L10)*100)/ABS(analysis!L10)","v":-8.295477310751469},{"$f":"((analysis!O10-analysis!L10)*100)/ABS(analysis!L10)","v":-8.950625639581798},{"$f":"((analysis!P10-analysis!L10)*100)/ABS(analysis!L10)","v":-8.993941231570576},{"$f":"((analysis!Q10-analysis!L10)*100)/ABS(analysis!L10)","v":-13.758656350336508},{"$f":"((analysis!R10-analysis!L10)*100)/ABS(analysis!L10)","v":-14.023964351267802},{"$f":"((analysis!S10-analysis!L10)*100)/ABS(analysis!L10)","v":-11.901500343817512},{"$f":"((analysis!T10-analysis!L10)*100)/ABS(analysis!L10)","v":-16.35217742066479},{"$f":"((analysis!U10-analysis!L10)*100)/ABS(analysis!L10)","v":-15.843219214796616},{"$f":"((analysis!V10-analysis!L10)*100)/ABS(analysis!L10)","v":-17.954854324249695},-11.180837182104167,"change ex- nonex",{"$f":"(analysis!AI10-analysis!AH10)*100/ABS(analysis!AH10)","v":-16.3689691636897},{"$f":"(analysis!AJ10-analysis!AH10)*100/ABS(analysis!AH10)","v":-23.110719231107193},{"$f":"(analysis!AK10-analysis!AH10)*100/ABS(analysis!AH10)","v":-10.578639105786397},{"$f":"(analysis!AL10-analysis!AH10)*100/ABS(analysis!AH10)","v":-1.9491990194920008},{"$f":"(analysis!AM10-analysis!AH10)*100/ABS(analysis!AH10)","v":-14.069199140692001},{"$f":"(analysis!AN10-analysis!AH10)*100/ABS(analysis!AH10)","v":-9.924159099241594},{"$f":"(analysis!AO10-analysis!AH10)*100/ABS(analysis!AH10)","v":-11.287659112876604},{"$f":"(analysis!AP10-analysis!AH10)*100/ABS(analysis!AH10)","v":-15.356949153569504},{"$f":"(analysis!AQ10-analysis!AH10)*100/ABS(analysis!AH10)","v":-18.674799186747997},{"$f":"(analysis!AR10-analysis!AH10)*100/ABS(analysis!AH10)","v":-21.004869210048692},-14.23251614232517,"change ex- nonex",{"$f":"(analysis!BE10-analysis!BD10)","v":0},{"$f":"analysis!BF10-analysis!BD10","v":0},{"$f":"analysis!BG10-analysis!BD10","v":0},{"$f":"analysis!BH10-analysis!BD10","v":0},{"$f":"analysis!BI10-analysis!BD10","v":0},{"$f":"analysis!BJ10-analysis!BD10","v":0},{"$f":"analysis!BK10-analysis!BD10","v":0},{"$f":"analysis!BL10-analysis!BD10","v":0},{"$f":"analysis!BM10-analysis!BD10","v":0},{"$f":"analysis!BN10-analysis!BD10","v":0},0,null,{"$f":"(analysis!CA10-analysis!BZ10)","v":1.75},{"$f":"analysis!CB10-analysis!BZ10","v":-0.75},{"$f":"analysis!CC10-analysis!BZ10","v":4.25},{"$f":"analysis!CD10-analysis!BZ10","v":4.25},{"$f":"analysis!CE10-analysis!BZ10","v":4.25},{"$f":"analysis!CF10-analysis!BZ10","v":4.25},{"$f":"analysis!CG10-analysis!BZ10","v":4.25},{"$f":"analysis!CH10-analysis!BZ10","v":-0.75},{"$f":"analysis!CI10-analysis!BZ10","v":-0.75},{"$f":"analysis!CJ10-analysis!BZ10","v":1.75},2.25,null,{"$f":"analysis!ED10","v":"F"},{"$f":"analysis!EE10","v":22},{"$f":"analysis!EF10","v":"F"},1,"VAR00002",73,-38,16,-11.41,1.073,9.17,-0.509,0.281,1.833,0.555]
[{"$f":"analysis!A11","v":"RS101"},{"$f":"(analysis!M11-analysis!L11)*100/ABS(analysis!L11)","v":-27.43997912317327},{"$f":"((analysis!N11-analysis!L11)*100)/ABS(analysis!L11)","v":-30.54866910229644},{"$f":"((analysis!O11-analysis!L11)*100)/ABS(analysis!L11)","v":-36.661664926931095},{"$f":"((analysis!P11-analysis!L11)*100)/ABS(analysis!L11)","v":-40.08350730688935},{"$f":"((analysis!Q11-analysis!L11)*100)/ABS(analysis!L11)","v":-31.468554279749466},{"$f":"((analysis!R11-analysis!L11)*100)/ABS(analysis!L11)","v":-31.373956158663873},{"$f":"((analysis!S11-analysis!L11)*100)/ABS(analysis!L11)","v":-38.33833507306889},{"$f":"((analysis!T11-analysis!L11)*100)/ABS(analysis!L11)","v":-34.59681628392483},{"$f":"((analysis!U11-analysis!L11)*100)/ABS(analysis!L11)","v":-31.321764091858032},{"$f":"((analysis!V11-analysis!L11)*100)/ABS(analysis!L11)","v":-27.231210855949882},{"$f":"AVERAGE(B11:K11)","v":-32.90644572025052},"change ex- nonex",{"$f":"(analysis!AI11-analysis!AH11)*100/ABS(analysis!AH11)","v":5.44636756390322},{"$f":"(analysis!AJ11-analysis!AH11)*100/ABS(analysis!AH11)","v":-25.253003491744096},{"$f":"(analysis!AK11-analysis!AH11)*100/ABS(analysis!AH11)","v":-23.977898174501117},{"$f":"(analysis!AL11-analysis!AH11)*100/ABS(analysis!AH11)","v":-18.003195833579923},{"$f":"(analysis!AM11-analysis!AH11)*100/ABS(analysis!AH11)","v":-24.042460469045068},{"$f":"(analysis!AN11-analysis!AH11)*100/ABS(analysis!AH11)","v":-16.133579387411434},{"$f":"(analysis!AO11-analysis!AH11)*100/ABS(analysis!AH11)","v":-17.63734283116422},{"$f":"(analysis!AP11-analysis!AH11)*100/ABS(analysis!AH11)","v":-19.899713235808402},{"$f":"(analysis!AQ11-analysis!AH11)*100/ABS(analysis!AH11)","v":-18.051617554487883},{"$f":"(analysis!AR11-analysis!AH11)*100/ABS(analysis!AH11)","v":-10.772218844657749},{"$f":"AVERAGE(N11:W11)","v":-16.832466225849664},"change ex- nonex",{"$f":"(analysis!BE11-analysis!BD11)","v":0},{"$f":"analysis!BF11-analysis!BD11","v":0},{"$f":"analysis!BG11-analysis!BD11","v":0},{"$f":"analysis!BH11-analysis!BD11","v":0},{"$f":"analysis!BI11-analysis!BD11","v":0},{"$f":"analysis!BJ11-analysis!BD11","v":0},{"$f":"analysis!BK11-analysis!BD11","v":0},{"$f":"analysis!BL11-analysis!BD11","v":0},{"$f":"analysis!BM11-analysis!BD11","v":0},{"$f":"analysis!BN11-analysis!BD11","v":0},{"$f":"SUM(Z11:AI11)/10","v":0},null,{"$f":"(analysis!CA11-analysis!BZ11)","v":3.5},{"$f":"analysis!CB11-analysis!BZ11","v":1},{"$f":"analysis!CC11-analysis!BZ11","v":1},{"$f":"analysis!CD11-analysis!BZ11","v":1},{"$f":"analysis!CE11-analysis!BZ11","v":-1.5},{"$f":"analysis!CF11-analysis!BZ11","v":1},{"$f":"analysis!CG11-analysis!BZ11","v":-1.5},{"$f":"analysis!CH11-analysis!BZ11","v":-1.5},{"$f":"analysis!CI11-analysis!BZ11","v":1},{"$f":"analysis!CJ11-analysis!BZ11","v":6},{"$f":"SUM(AL11:AU11)/10","v":1},null,{"$f":"analysis!ED11","v":"F"},{"$f":"analysis!EE11","v":25},{"$f":"analysis!EF11","v":"F"},1,"Valid N (listwise)",73]
[{"$f":"analysis!A12","v":"SN102"},{"$f":"(analysis!M12-analysis!L12)*100/ABS(analysis!L12)","v":0.30708794879208023},{"$f":"((analysis!N12-analysis!L12)*100)/ABS(analysis!L12)","v":-8.157771418885918},{"$f":"((analysis!O12-analysis!L12)*100)/ABS(analysis!L12)","v":-7.075984326550143},{"$f":"((analysis!P12-analysis!L12)*100)/ABS(analysis!L12)","v":-15.575740052045433},{"$f":"((analysis!Q12-analysis!L12)*100)/ABS(analysis!L12)","v":-8.516705385006535},{"$f":"((analysis!R12-analysis!L12)*100)/ABS(analysis!L12)","v":-9.354217972621317},{"$f":"((analysis!S12-analysis!L12)*100)/ABS(analysis!L12)","v":0.3419843066093701},{"$f":"((analysis!T12-analysis!L12)*100)/ABS(analysis!L12)","v":0.5015105137740911},{"$f":"((analysis!U12-analysis!L12)*100)/ABS(analysis!L12)","v":-8.11290467312084},{"$f":"((analysis!V12-analysis!L12)*100)/ABS(analysis!L12)","v":-8.152786224912015},-6.379552728396665,{"$f":"AVERAGE($L$2:INDEX(L:L,MATCH(9.99999999999999E+307,L:L)))-PlotArray1nonex!M2","v":-3.1325983585795285},{"$f":"(analysis!AI12-analysis!AH12)*100/ABS(analysis!AH12)","v":-20.256410847229564},{"$f":"(analysis!AJ12-analysis!AH12)*100/ABS(analysis!AH12)","v":-16.311628582159546},{"$f":"(analysis!AK12-analysis!AH12)*100/ABS(analysis!AH12)","v":-12.530444179718026},{"$f":"(analysis!AL12-analysis!AH12)*100/ABS(analysis!AH12)","v":-13.343825102363889},{"$f":"(analysis!AM12-analysis!AH12)*100/ABS(analysis!AH12)","v":-13.048888110582954},{"$f":"(analysis!AN12-analysis!AH12)*100/ABS(analysis!AH12)","v":-12.993587424624026},{"$f":"(analysis!AO12-analysis!AH12)*100/ABS(analysis!AH12)","v":-11.145622835496603},{"$f":"(analysis!AP12-analysis!AH12)*100/ABS(analysis!AH12)","v":-13.30695797839126},{"$f":"(analysis!AQ12-analysis!AH12)*100/ABS(analysis!AH12)","v":-19.777138235585532},{"$f":"(analysis!AR12-analysis!AH12)*100/ABS(analysis!AH12)","v":-19.908477364737987},-15.26229806608894,{"$f":"AVERAGE($X$2:INDEX(X:X,MATCH(9.99999999999999E+307,X:X)))-PlotArray1nonex!Y2","v":-2.419323052598182},{"$f":"(analysis!BE11-analysis!BD11)","v":0},{"$f":"analysis!BF11-analysis!BD11","v":0},{"$f":"analysis!BG11-analysis!BD11","v":0},{"$f":"analysis!BH11-analysis!BD11","v":0},{"$f":"analysis!BI11-analysis!BD11","v":0},{"$f":"analysis!BJ11-analysis!BD11","v":0},{"$f":"analysis!BK11-analysis!BD11","v":0},{"$f":"analysis!BL11-analysis!BD11","v":0},{"$f":"analysis!BM11-analysis!BD11","v":0},{"$f":"analysis!BN11-analysis!BD11","v":0},0,"p-value ttest after exercise",{"$f":"(analysis!CA11-analysis!BZ11)","v":3.5},{"$f":"analysis!CB11-analysis!BZ11","v":1},{"$f":"analysis!CC11-analysis!BZ11","v":1},{"$f":"analysis!CD11-analysis!BZ11","v":1},{"$f":"analysis!CE11-analysis!BZ11","v":-1.5},{"$f":"analysis!CF11-analysis!BZ11","v":1},{"$f":"analysis!CG11-analysis!BZ11","v":-1.5},{"$f":"analysis!CH11-analysis!BZ11","v":-1.5},{"$f":"analysis!CI11-analysis!BZ11","v":1},{"$f":"analysis!CJ11-analysis!BZ11","v":6},1,"p-value ttest after exercise",{"$f":"analysis!ED11","v":"F"},{"$f":"analysis!EE11","v":25},{"$f":"analysis!EF11","v":"F"},1]
[{"$f":"analysis!A13","v":"TB101"},{"$f":"(analysis!M13-analysis!L13)*100/ABS(analysis!L13)","v":2.669650229151965},{"$f":"((analysis!N13-analysis!L13)*100)/ABS(analysis!L13)","v":0.15675669207480847},{"$f":"((analysis!O13-analysis!L13)*100)/ABS(analysis!L13)","v":-12.024793882899152},{"$f":"((analysis!P13-analysis!L13)*100)/ABS(analysis!L13)","v":-11.258959662075641},{"$f":"((analysis!Q13-analysis!L13)*100)/ABS(analysis!L13)","v":-10.259785327094967},{"$f":"((analysis!R13-analysis!L13)*100)/ABS(analysis!L13)","v":-11.217078103124358},{"$f":"((analysis!S13-analysis!L13)*100)/ABS(analysis!L13)","v":-12.168387799303567},{"$f":"((analysis!T13-analysis!L13)*100)/ABS(analysis!L13)","v":-6.957125249793577},{"$f":"((analysis!U13-analysis!L13)*100)/ABS(analysis!L13)","v":-16.625782287690406},{"$f":"((analysis!V13-analysis!L13)*100)/ABS(analysis!L13)","v":-14.280414986418405},{"$f":"AVERAGE(B13:K13)","v":-9.19659203771733},{"$f":"SQRT(((M4*M4)/M6)+((PlotArray1nonex!M4*PlotArray1nonex!M4)/PlotArray1nonex!M6))","v":1.565901731379888},{"$f":"(analysis!AI13-analysis!AH13)*100/ABS(analysis!AH13)","v":-17.41144354821144},{"$f":"(analysis!AJ13-analysis!AH13)*100/ABS(analysis!AH13)","v":-8.234533930606881},{"$f":"(analysis!AK13-analysis!AH13)*100/ABS(analysis!AH13)","v":-20.780182521762487},{"$f":"(analysis!AL13-analysis!AH13)*100/ABS(analysis!AH13)","v":-13.196889724620112},{"$f":"(analysis!AM13-analysis!AH13)*100/ABS(analysis!AH13)","v":-10.848210720430961},{"$f":"(analysis!AN13-analysis!AH13)*100/ABS(analysis!AH13)","v":-13.225930577840376},{"$f":"(analysis!AO13-analysis!AH13)*100/ABS(analysis!AH13)","v":-10.035066830263467},{"$f":"(analysis!AP13-analysis!AH13)*100/ABS(analysis!AH13)","v":-16.914118936814358},{"$f":"(analysis!AQ13-analysis!AH13)*100/ABS(analysis!AH13)","v":-14.097156174448399},{"$f":"(analysis!AR13-analysis!AH13)*100/ABS(analysis!AH13)","v":-7.915084545183933},{"$f":"AVERAGE(N13:W13)","v":-13.26586175101824},{"$f":"SQRT(((Y4*Y4)/Y6)+((PlotArray1nonex!Y4*PlotArray1nonex!Y4)/PlotArray1nonex!Y6))","v":1.2401243775276574},{"$f":"(analysis!BE14-analysis!BD14)","v":-0.5},{"$f":"analysis!BF14-analysis!BD14","v":2},{"$f":"analysis!BG14-analysis!BD14","v":2},{"$f":"analysis!BH14-analysis!BD14","v":-0.5},{"$f":"analysis!BI14-analysis!BD14","v":-0.5},{"$f":"analysis!BJ14-analysis!BD14","v":-0.5},{"$f":"analysis!BK14-analysis!BD14","v":2},{"$f":"analysis!BL14-analysis!BD14","v":-0.5},{"$f":"analysis!BM14-analysis!BD14","v":2},{"$f":"analysis!BN14-analysis!BD14","v":2},{"$f":"SUM(Z13:AI13)/10","v":0.75},"p-value ttest change with exercise vs change with nonex",{"$f":"(analysis!CA14-analysis!BZ14)","v":5.5},{"$f":"analysis!CB14-analysis!BZ14","v":0.5},{"$f":"analysis!CC14-analysis!BZ14","v":0.5},{"$f":"analysis!CD14-analysis!BZ14","v":-2},{"$f":"analysis!CE14-analysis!BZ14","v":3},{"$f":"analysis!CF14-analysis!BZ14","v":-2},{"$f":"analysis!CG14-analysis!BZ14","v":0.5},{"$f":"analysis!CH14-analysis!BZ14","v":0.5},{"$f":"analysis!CI14-analysis!BZ14","v":3},{"$f":"analysis!CJ14-analysis!BZ14","v":-2},{"$f":"SUM(AL13:AU13)/10","v":0.75},"p-value ttest change with exercise vs change with nonex",{"$f":"analysis!ED13","v":"F"},{"$f":"analysis!EE13","v":31},{"$f":"analysis!EF13","v":"F"},2,null,"Exercise Incongruent","Rest Incongruent",null,null,"Exercise congruent","Rest congruent"]
[{"$f":"analysis!A14","v":"SW101"},{"$f":"(analysis!M14-analysis!L14)*100/ABS(analysis!L14)","v":0.909061979569983},{"$f":"((analysis!N14-analysis!L14)*100)/ABS(analysis!L14)","v":12.439404707604519},{"$f":"((analysis!O14-analysis!L14)*100)/ABS(analysis!L14)","v":0.46354735714362744},{"$f":"((analysis!P14-analysis!L14)*100)/ABS(analysis!L14)","v":4.611076342112813},{"$f":"((analysis!Q14-analysis!L14)*100)/ABS(analysis!L14)","v":3.444252330996169},{"$f":"((analysis!R14-analysis!L14)*100)/ABS(analysis!L14)","v":4.632291324133123},{"$f":"((analysis!S14-analysis!L14)*100)/ABS(analysis!L14)","v":10.561878798807731},{"$f":"((analysis!T14-analysis!L14)*100)/ABS(analysis!L14)","v":2.256213337859214},{"$f":"((analysis!U14-analysis!L14)*100)/ABS(analysis!L14)","v":6.488602250909602},{"$f":"((analysis!V14-analysis!L14)*100)/ABS(analysis!L14)","v":14.030528359127228},5.983685678826402,"se of ex and non ex",{"$f":"(analysis!AI14-analysis!AH14)*100/ABS(analysis!AH14)","v":-8.26474743286079},{"$f":"(analysis!AJ14-analysis!AH14)*100/ABS(analysis!AH14)","v":5.25797904117966},{"$f":"(analysis!AK14-analysis!AH14)*100/ABS(analysis!AH14)","v":5.033068829553208},{"$f":"(analysis!AL14-analysis!AH14)*100/ABS(analysis!AH14)","v":-8.686454079660379},{"$f":"(analysis!AM14-analysis!AH14)*100/ABS(analysis!AH14)","v":-3.7419436459351054},{"$f":"(analysis!AN14-analysis!AH14)*100/ABS(analysis!AH14)","v":-10.93907041798157},{"$f":"(analysis!AO14-analysis!AH14)*100/ABS(analysis!AH14)","v":0.39429571475762903},{"$f":"(analysis!AP14-analysis!AH14)*100/ABS(analysis!AH14)","v":-3.7946569767850447},{"$f":"(analysis!AQ14-analysis!AH14)*100/ABS(analysis!AH14)","v":6.748009193204904},{"$f":"(analysis!AR14-analysis!AH14)*100/ABS(analysis!AH14)","v":-4.666184046837551},-2.265970382136504,"se of ex and non ex",{"$f":"(analysis!BE12-analysis!BD12)","v":0},{"$f":"analysis!BF12-analysis!BD12","v":0},{"$f":"analysis!BG12-analysis!BD12","v":0},{"$f":"analysis!BH12-analysis!BD12","v":0},{"$f":"analysis!BI12-analysis!BD12","v":0},{"$f":"analysis!BJ12-analysis!BD12","v":0},{"$f":"analysis!BK12-analysis!BD12","v":0},{"$f":"analysis!BL12-analysis!BD12","v":0},{"$f":"analysis!BM12-analysis!BD12","v":0},{"$f":"analysis!BN12-analysis!BD12","v":0},0,{"$f":"TTEST(analysis!BO2:BO74,analysis!BD2:BD74,2,1)","v":0.9349411587282361},{"$f":"(analysis!CA12-analysis!BZ12)","v":-2.75},{"$f":"analysis!CB12-analysis!BZ12","v":-0.25},{"$f":"analysis!CC12-analysis!BZ12","v":-0.25},{"$f":"analysis!CD12-analysis!BZ12","v":-2.75},{"$f":"analysis!CE12-analysis!BZ12","v":-2.75},{"$f":"analysis!CF12-analysis!BZ12","v":-0.25},{"$f":"analysis!CG12-analysis!BZ12","v":-2.75},{"$f":"analysis!CH12-analysis!BZ12","v":2.25},{"$f":"analysis!CI12-analysis!BZ12","v":-2.75},{"$f":"analysis!CJ12-analysis!BZ12","v":-2.75},-1.5,{"$f":"TTEST(analysis!CK2:CK74,analysis!BZ2:BZ74,2,1)","v":0.6483454230875297},{"$f":"analysis!ED12","v":"F"},{"$f":"analysis!EE12","v":28},{"$f":"analysis!EF12","v":"F"},2]
[{"$f":"analysis!A15","v":"AA101"},{"$f":"(analysis!M15-analysis!L15)*100/ABS(analysis!L15)","v":-10.137995669456744},{"$f":"((analysis!N15-analysis!L15)*100)/ABS(analysis!L15)","v":-13.182302944123068},{"$f":"((analysis!O15-analysis!L15)*100)/ABS(analysis!L15)","v":-16.653201047086583},{"$f":"((analysis!P15-analysis!L15)*100)/ABS(analysis!L15)","v":-15.412209546585663},{"$f":"((analysis!Q15-analysis!L15)*100)/ABS(analysis!L15)","v":-12.251559318747374},{"$f":"((analysis!R15-analysis!L15)*100)/ABS(analysis!L15)","v":-25.902465824257504},{"$f":"((analysis!S15-analysis!L15)*100)/ABS(analysis!L15)","v":-15.664285945124911},{"$f":"((analysis!T15-analysis!L15)*100)/ABS(analysis!L15)","v":-19.74921630094044},{"$f":"((analysis!U15-analysis!L15)*100)/ABS(analysis!L15)","v":-20.21458811362829},{"$f":"((analysis!V15-analysis!L15)*100)/ABS(analysis!L15)","v":-17.532236693274733},-16.67000614032253,"p-value ttest after exercise",{"$f":"(analysis!AI15-analysis!AH15)*100/ABS(analysis!AH15)","v":-1.6444023397098795},{"$f":"(analysis!AJ15-analysis!AH15)*100/ABS(analysis!AH15)","v":-13.577618050183814},{"$f":"(analysis!AK15-analysis!AH15)*100/ABS(analysis!AH15)","v":-9.123304101445369},{"$f":"(analysis!AL15-analysis!AH15)*100/ABS(analysis!AH15)","v":-13.017026343464545},{"$f":"(analysis!AM15-analysis!AH15)*100/ABS(analysis!AH15)","v":-8.184638918101454},{"$f":"(analysis!AN15-analysis!AH15)*100/ABS(analysis!AH15)","v":-12.812779752644339},{"$f":"(analysis!AO15-analysis!AH15)*100/ABS(analysis!AH15)","v":-9.231945905073129},{"$f":"(analysis!AP15-analysis!AH15)*100/ABS(analysis!AH15)","v":-3.6694855593314477},{"$f":"(analysis!AQ15-analysis!AH15)*100/ABS(analysis!AH15)","v":-7.354615538385319},{"$f":"(analysis!AR15-analysis!AH15)*100/ABS(analysis!AH15)","v":-9.470957873054216},-8.808677438139352,"p-value ttest after exercise",{"$f":"(analysis!BE13-analysis!BD13)","v":0},{"$f":"analysis!BF13-analysis!BD13","v":0},{"$f":"analysis!BG13-analysis!BD13","v":0},{"$f":"analysis!BH13-analysis!BD13","v":0},{"$f":"analysis!BI13-analysis!BD13","v":0},{"$f":"analysis!BJ13-analysis!BD13","v":0},{"$f":"analysis!BK13-analysis!BD13","v":0},{"$f":"analysis!BL13-analysis!BD13","v":0},{"$f":"analysis!BM13-analysis!BD13","v":0},{"$f":"analysis!BN13-analysis!BD13","v":0},0,{"$f":"TTEST(AJ2:AJ75,PlotArray1nonex!AJ2:AJ31,2,3)","v":0.7497779006378626},{"$f":"(analysis!CA13-analysis!BZ13)","v":-1.75},{"$f":"analysis!CB13-analysis!BZ13","v":-1.75},{"$f":"analysis!CC13-analysis!BZ13","v":-1.75},{"$f":"analysis!CD13-analysis!BZ13","v":-1.75},{"$f":"analysis!CE13-analysis!BZ13","v":3.25},{"$f":"analysis!CF13-analysis!BZ13","v":-1.75},{"$f":"analysis!CG13-analysis!BZ13","v":-1.75},{"$f":"analysis!CH13-analysis!BZ13","v":3.25},{"$f":"analysis!CI13-analysis!BZ13","v":3.25},{"$f":"analysis!CJ13-analysis!BZ13","v":-1.75},-0.25,{"$f":"TTEST(AV2:AV75,PlotArray1nonex!AV2:AV31,2,3)","v":0.3652218991489917},{"$f":"analysis!ED14","v":"M"},{"$f":"analysis!EE14","v":26},{"$f":"analysis!EF14","v":"F"},2,null,{"$f":"Y2","v":-9.473423797674725},{"$f":"PlotArray1nonex!Y2","v":-7.054100745076543},null,null,{"$f":"M2","v":-11.40612822921507},{"$f":"PlotArray1nonex!M2","v":-8.273529870635542}]
[{"$f":"analysis!A16","v":"AI101"},{"$f":"(analysis!M16-analysis!L16)*100/ABS(analysis!L16)","v":-8.274632783978802},{"$f":"((analysis!N16-analysis!L16)*100)/ABS(analysis!L16)","v":-20.237153396688615},{"$f":"((analysis!O16-analysis!L16)*100)/ABS(analysis!L16)","v":-20.275280952426332},{"$f":"((analysis!P16-analysis!L16)*100)/ABS(analysis!L16)","v":-20.83766239955772},{"$f":"((analysis!Q16-analysis!L16)*100)/ABS(analysis!L16)","v":-17.482437494638308},{"$f":"((analysis!R16-analysis!L16)*100)/ABS(analysis!L16)","v":-24.888715196690526},{"$f":"((analysis!S16-analysis!L16)*100)/ABS(analysis!L16)","v":-20.999704511443024},{"$f":"((analysis!T16-analysis!L16)*100)/ABS(analysis!L16)","v":-28.89210854915118},{"$f":"((analysis!U16-analysis!L16)*100)/ABS(analysis!L16)","v":-31.251251060422636},{"$f":"((analysis!V16-analysis!L16)*100)/ABS(analysis!L16)","v":-28.658577270257645},-22.17975236152548,{"$f":"TTEST(analysis!L2:L74,analysis!W2:W74,2,1)","v":3.732640872675217e-13},{"$f":"(analysis!AI16-analysis!AH16)*100/ABS(analysis!AH16)","v":-10.980388823244388},{"$f":"(analysis!AJ16-analysis!AH16)*100/ABS(analysis!AH16)","v":-18.676380163837344},{"$f":"(analysis!AK16-analysis!AH16)*100/ABS(analysis!AH16)","v":-18.32218321333141},{"$f":"(analysis!AL16-analysis!AH16)*100/ABS(analysis!AH16)","v":-4.468832085143284},{"$f":"(analysis!AM16-analysis!AH16)*100/ABS(analysis!AH16)","v":-11.751121387545306},{"$f":"(analysis!AN16-analysis!AH16)*100/ABS(analysis!AH16)","v":1.011303133084554},{"$f":"(analysis!AO16-analysis!AH16)*100/ABS(analysis!AH16)","v":-7.920127170873103},{"$f":"(analysis!AP16-analysis!AH16)*100/ABS(analysis!AH16)","v":-9.212237646318764},{"$f":"(analysis!AQ16-analysis!AH16)*100/ABS(analysis!AH16)","v":-13.901805271017334},{"$f":"(analysis!AR16-analysis!AH16)*100/ABS(analysis!AH16)","v":-15.468772580055594},-10.969054520828198,{"$f":"TTEST(analysis!AH2:AH74,analysis!AS2:AS74,2,1)","v":7.48984856584738e-12},{"$f":"(analysis!BE15-analysis!BD15)","v":0},{"$f":"analysis!BF15-analysis!BD15","v":0},{"$f":"analysis!BG15-analysis!BD15","v":0},{"$f":"analysis!BH15-analysis!BD15","v":0},{"$f":"analysis!BI15-analysis!BD15","v":0},{"$f":"analysis!BJ15-analysis!BD15","v":0},{"$f":"analysis!BK15-analysis!BD15","v":0},{"$f":"analysis!BL15-analysis!BD15","v":0},{"$f":"analysis!BM15-analysis!BD15","v":0},{"$f":"analysis!BN15-analysis!BD15","v":0},0,null,{"$f":"(analysis!CA15-analysis!BZ15)","v":-0.75},{"$f":"analysis!CB15-analysis!BZ15","v":1.75},{"$f":"analysis!CC15-analysis!BZ15","v":4.25},{"$f":"analysis!CD15-analysis!BZ15","v":1.75},{"$f":"analysis!CE15-analysis!BZ15","v":4.25},{"$f":"analysis!CF15-analysis!BZ15","v":-0.75},{"$f":"analysis!CG15-analysis!BZ15","v":-0.75},{"$f":"analysis!CH15-analysis!BZ15","v":-0.75},{"$f":"analysis!CI15-analysis!BZ15","v":-0.75},{"$f":"analysis!CJ15-analysis!BZ15","v":1.75},1,null,{"$f":"analysis!ED15","v":"F"},{"$f":"analysis!EE15","v":20},{"$f":"analysis!EF15","v":"T"},1,null,{"$f":"Y9","v":0.8001004011101407},{"$f":"PlotArray1nonex!Y9","v":0.9474955513783438},null,null,{"$f":"M9","v":1.0732792915531038},{"$f":"PlotArray1nonex!M9","v":1.1402279573233587}]
[{"$f":"analysis!A17","v":"AK101"},{"$f":"(analysis!M17-analysis!L17)*100/ABS(analysis!L17)","v":-8.339350382572379},{"$f":"((analysis!N17-analysis!L17)*100)/ABS(analysis!L17)","v":-17.289361297219845},{"$f":"((analysis!O17-analysis!L17)*100)/ABS(analysis!L17)","v":-17.78751700166238},{"$f":"((analysis!P17-analysis!L17)*100)/ABS(analysis!L17)","v":-17.104651878718673},{"$f":"((analysis!Q17-analysis!L17)*100)/ABS(analysis!L17)","v":-20.390240625997006},{"$f":"((analysis!R17-analysis!L17)*100)/ABS(analysis!L17)","v":-28.618205631958087},{"$f":"((analysis!S17-analysis!L17)*100)/ABS(analysis!L17)","v":-22.71310149502684},{"$f":"((analysis!T17-analysis!L17)*100)/ABS(analysis!L17)","v":-24.9911843232079},{"$f":"((analysis!U17-analysis!L17)*100)/ABS(analysis!L17)","v":-24.81766941491892},{"$f":"((analysis!V17-analysis!L17)*100)/ABS(analysis!L17)","v":-29.87199077572359},-21.192327282700564,"p-value ttest change with exercise vs change with nonex",{"$f":"(analysis!AI17-analysis!AH17)*100/ABS(analysis!AH17)","v":-10.71551811630976},{"$f":"(analysis!AJ17-analysis!AH17)*100/ABS(analysis!AH17)","v":9.323048817618991},{"$f":"(analysis!AK17-analysis!AH17)*100/ABS(analysis!AH17)","v":-19.17182583984573},{"$f":"(analysis!AL17-analysis!AH17)*100/ABS(analysis!AH17)","v":-24.262661118441088},{"$f":"(analysis!AM17-analysis!AH17)*100/ABS(analysis!AH17)","v":-16.110829189079464},{"$f":"(analysis!AN17-analysis!AH17)*100/ABS(analysis!AH17)","v":-17.15010656652796},{"$f":"(analysis!AO17-analysis!AH17)*100/ABS(analysis!AH17)","v":-4.2809296660915495},{"$f":"(analysis!AP17-analysis!AH17)*100/ABS(analysis!AH17)","v":-5.429818329442804},{"$f":"(analysis!AQ17-analysis!AH17)*100/ABS(analysis!AH17)","v":-11.693900334923379},{"$f":"(analysis!AR17-analysis!AH17)*100/ABS(analysis!AH17)","v":-18.250279102811323},-11.774281944585407,"p-value ttest change with exercise vs change with nonex",{"$f":"(analysis!BE16-analysis!BD16)","v":0},{"$f":"analysis!BF16-analysis!BD16","v":0},{"$f":"analysis!BG16-analysis!BD16","v":0},{"$f":"analysis!BH16-analysis!BD16","v":0},{"$f":"analysis!BI16-analysis!BD16","v":0},{"$f":"analysis!BJ16-analysis!BD16","v":0},{"$f":"analysis!BK16-analysis!BD16","v":0},{"$f":"analysis!BL16-analysis!BD16","v":0},{"$f":"analysis!BM16-analysis!BD16","v":0},{"$f":"analysis!BN16-analysis!BD16","v":0},0,null,{"$f":"(analysis!CA16-analysis!BZ16)","v":-0.5},{"$f":"analysis!CB16-analysis!BZ16","v":-0.5},{"$f":"analysis!CC16-analysis!BZ16","v":-0.5},{"$f":"analysis!CD16-analysis!BZ16","v":-0.5},{"$f":"analysis!CE16-analysis!BZ16","v":-0.5},{"$f":"analysis!CF16-analysis!BZ16","v":-0.5},{"$f":"analysis!CG16-analysis!BZ16","v":-0.5},{"$f":"analysis!CH16-analysis!BZ16","v":-0.5},{"$f":"analysis!CI16-analysis!BZ16","v":-0.5},{"$f":"analysis!CJ16-analysis!BZ16","v":-0.5},-0.5,null,{"$f":"analysis!ED16","v":"F"},{"$f":"analysis!EE16","v":19},{"$f":"analysis!EF16","v":"F"},1]
[{"$f":"analysis!A18","v":"AMP101"},{"$f":"(analysis!M18-analysis!L18)*100/ABS(analysis!L18)","v":-15.730337078651685},{"$f":"((analysis!N18-analysis!L18)*100)/ABS(analysis!L18)","v":-15.05124089393752},{"$f":"((analysis!O18-analysis!L18)*100)/ABS(analysis!L18)","v":-10.463779953840465},{"$f":"((analysis!P18-analysis!L18)*100)/ABS(analysis!L18)","v":-12.695774407096795},{"$f":"((analysis!Q18-analysis!L18)*100)/ABS(analysis!L18)","v":-19.33477067444224},{"$f":"((analysis!R18-analysis!L18)*100)/ABS(analysis!L18)","v":-17.929089061327616},{"$f":"((analysis!S18-analysis!L18)*100)/ABS(analysis!L18)","v":-14.443378574752833},{"$f":"((analysis!T18-analysis!L18)*100)/ABS(analysis!L18)","v":-16.114999952510754},{"$f":"((analysis!U18-analysis!L18)*100)/ABS(analysis!L18)","v":-16.461671431420783},{"$f":"((analysis!V18-analysis!L18)*100)/ABS(analysis!L18)","v":-14.21543020505856},-15.244047223303927,{"$f":"TTEST(L2:L74,PlotArray1nonex!L2:L30,2,3)","v":0.033955496361941485},{"$f":"(analysis!AI18-analysis!AH18)*100/ABS(analysis!AH18)","v":7.134404810163954},{"$f":"(analysis!AJ18-analysis!AH18)*100/ABS(analysis!AH18)","v":-15.929918947987519},{"$f":"(analysis!AK18-analysis!AH18)*100/ABS(analysis!AH18)","v":-5.197967021508424},{"$f":"(analysis!AL18-analysis!AH18)*100/ABS(analysis!AH18)","v":-13.22115553597664},{"$f":"(analysis!AM18-analysis!AH18)*100/ABS(analysis!AH18)","v":-8.876823904602787},{"$f":"(analysis!AN18-analysis!AH18)*100/ABS(analysis!AH18)","v":-16.23219444984686},{"$f":"(analysis!AO18-analysis!AH18)*100/ABS(analysis!AH18)","v":-7.995772829415846},{"$f":"(analysis!AP18-analysis!AH18)*100/ABS(analysis!AH18)","v":-17.724826191586423},{"$f":"(analysis!AQ18-analysis!AH18)*100/ABS(analysis!AH18)","v":-9.518866443435819},{"$f":"(analysis!AR18-analysis!AH18)*100/ABS(analysis!AH18)","v":-18.68086033700203},-10.62439808511984,{"$f":"TTEST(X2:X75,PlotArray1nonex!X2:X30,2,3)","v":0.014481995541944319},{"$f":"(analysis!BE17-analysis!BD17)","v":0},{"$f":"analysis!BF17-analysis!BD17","v":0},{"$f":"analysis!BG17-analysis!BD17","v":0},{"$f":"analysis!BH17-analysis!BD17","v":0},{"$f":"analysis!BI17-analysis!BD17","v":0},{"$f":"analysis!BJ17-analysis!BD17","v":0},{"$f":"analysis!BK17-analysis!BD17","v":0},{"$f":"analysis!BL17-analysis!BD17","v":0},{"$f":"analysis!BM17-analysis!BD17","v":0},{"$f":"analysis!BN17-analysis!BD17","v":0},0,null,{"$f":"(analysis!CA17-analysis!BZ17)","v":0},{"$f":"analysis!CB17-analysis!BZ17","v":2.5},{"$f":"analysis!CC17-analysis!BZ17","v":0},{"$f":"analysis!CD17-analysis!BZ17","v":0},{"$f":"analysis!CE17-analysis!BZ17","v":0},{"$f":"analysis!CF17-analysis!BZ17","v":0},{"$f":"analysis!CG17-analysis!BZ17","v":2.5},{"$f":"analysis!CH17-analysis!BZ17","v":0},{"$f":"analysis!CI17-analysis!BZ17","v":0},{"$f":"analysis!CJ17-analysis!BZ17","v":0},0.5,null,{"$f":"analysis!ED17","v":"F"},{"$f":"analysis!EE17","v":21.97},{"$f":"analysis!EF17","v":"F"},1]
[{"$f":"analysis!A19","v":"AP101"},{"$f":"(analysis!M19-analysis!L19)*100/ABS(analysis!L19)","v":-19.802920574617115},{"$f":"((analysis!N19-analysis!L19)*100)/ABS(analysis!L19)","v":0.4338769386852067},{"$f":"((analysis!O19-analysis!L19)*100)/ABS(analysis!L19)","v":-9.657539421281557},{"$f":"((analysis!P19-analysis!L19)*100)/ABS(analysis!L19)","v":6.003043614346006},{"$f":"((analysis!Q19-analysis!L19)*100)/ABS(analysis!L19)","v":2.355023582614697},{"$f":"((analysis!R19-analysis!L19)*100)/ABS(analysis!L19)","v":-12.836065750704234},{"$f":"((analysis!S19-analysis!L19)*100)/ABS(analysis!L19)","v":-1.152687986357698},{"$f":"((analysis!T19-analysis!L19)*100)/ABS(analysis!L19)","v":-4.325817836443507},{"$f":"((analysis!U19-analysis!L19)*100)/ABS(analysis!L19)","v":1.8693404422954418},{"$f":"((analysis!V19-analysis!L19)*100)/ABS(analysis!L19)","v":19.693911692012133},-1.7419835299450628,"cong vs incong",{"$f":"(analysis!AI19-analysis!AH19)*100/ABS(analysis!AH19)","v":4.255477514784878},{"$f":"(analysis!AJ19-analysis!AH19)*100/ABS(analysis!AH19)","v":-7.673933931495553},{"$f":"(analysis!AK19-analysis!AH19)*100/ABS(analysis!AH19)","v":-15.046080142909359},{"$f":"(analysis!AL19-analysis!AH19)*100/ABS(analysis!AH19)","v":-15.171261147875995},{"$f":"(analysis!AM19-analysis!AH19)*100/ABS(analysis!AH19)","v":-2.3621993964245713},{"$f":"(analysis!AN19-analysis!AH19)*100/ABS(analysis!AH19)","v":2.60444155738702},{"$f":"(analysis!AO19-analysis!AH19)*100/ABS(analysis!AH19)","v":3.247262934242736},{"$f":"(analysis!AP19-analysis!AH19)*100/ABS(analysis!AH19)","v":-4.777854465240298},{"$f":"(analysis!AQ19-analysis!AH19)*100/ABS(analysis!AH19)","v":-8.492685369385477},{"$f":"(analysis!AR19-analysis!AH19)*100/ABS(analysis!AH19)","v":0.47974774335862785},-4.293708470355798,null,{"$f":"(analysis!BE18-analysis!BD18)","v":0},{"$f":"analysis!BF18-analysis!BD18","v":0},{"$f":"analysis!BG18-analysis!BD18","v":0},{"$f":"analysis!BH18-analysis!BD18","v":0},{"$f":"analysis!BI18-analysis!BD18","v":0},{"$f":"analysis!BJ18-analysis!BD18","v":0},{"$f":"analysis!BK18-analysis!BD18","v":0},{"$f":"analysis!BL18-analysis!BD18","v":0},{"$f":"analysis!BM18-analysis!BD18","v":0},{"$f":"analysis!BN18-analysis!BD18","v":0},0,null,{"$f":"(analysis!CA18-analysis!BZ18)","v":9.25},{"$f":"analysis!CB18-analysis!BZ18","v":-0.75},{"$f":"analysis!CC18-analysis!BZ18","v":4.25},{"$f":"analysis!CD18-analysis!BZ18","v":-0.75},{"$f":"analysis!CE18-analysis!BZ18","v":-0.75},{"$f":"analysis!CF18-analysis!BZ18","v":-0.75},{"$f":"analysis!CG18-analysis!BZ18","v":-0.75},{"$f":"analysis!CH18-analysis!BZ18","v":1.75},{"$f":"analysis!CI18-analysis!BZ18","v":1.75},{"$f":"analysis!CJ18-analysis!BZ18","v":1.75},1.5,null,{"$f":"analysis!ED18","v":"F"},{"$f":"analysis!EE18","v":22},{"$f":"analysis!EF18","v":"F"},1]
[{"$f":"analysis!A20","v":"AP102"},{"$f":"(analysis!M20-analysis!L20)*100/ABS(analysis!L20)","v":-9.458213569065567},{"$f":"((analysis!N20-analysis!L20)*100)/ABS(analysis!L20)","v":-7.0231574380389485},{"$f":"((analysis!O20-analysis!L20)*100)/ABS(analysis!L20)","v":-7.592602635717764},{"$f":"((analysis!P20-analysis!L20)*100)/ABS(analysis!L20)","v":-12.972503931883503},{"$f":"((analysis!Q20-analysis!L20)*100)/ABS(analysis!L20)","v":-10.396442323336416},{"$f":"((analysis!R20-analysis!L20)*100)/ABS(analysis!L20)","v":-8.633873854330488},{"$f":"((analysis!S20-analysis!L20)*100)/ABS(analysis!L20)","v":-7.684798524865783},{"$f":"((analysis!T20-analysis!L20)*100)/ABS(analysis!L20)","v":-9.24128206518792},{"$f":"((analysis!U20-analysis!L20)*100)/ABS(analysis!L20)","v":7.419057432615643},{"$f":"((analysis!V20-analysis!L20)*100)/ABS(analysis!L20)","v":2.218124627148972},-6.336569228266177,{"$f":"TTEST(L2:L74,X2:X74,2,1)","v":0.06131108125206372},{"$f":"(analysis!AI20-analysis!AH20)*100/ABS(analysis!AH20)","v":-9.908213035716805},{"$f":"(analysis!AJ20-analysis!AH20)*100/ABS(analysis!AH20)","v":-8.263638024823251},{"$f":"(analysis!AK20-analysis!AH20)*100/ABS(analysis!AH20)","v":-15.685309868855683},{"$f":"(analysis!AL20-analysis!AH20)*100/ABS(analysis!AH20)","v":-9.45841474213907},{"$f":"(analysis!AM20-analysis!AH20)*100/ABS(analysis!AH20)","v":-17.369242230437287},{"$f":"(analysis!AN20-analysis!AH20)*100/ABS(analysis!AH20)","v":-1.4238927231069891},{"$f":"(analysis!AO20-analysis!AH20)*100/ABS(analysis!AH20)","v":-6.329505362439031},{"$f":"(analysis!AP20-analysis!AH20)*100/ABS(analysis!AH20)","v":-14.76322336702135},{"$f":"(analysis!AQ20-analysis!AH20)*100/ABS(analysis!AH20)","v":-14.46804323686097},{"$f":"(analysis!AR20-analysis!AH20)*100/ABS(analysis!AH20)","v":-11.659615141335061},-10.93290977327355,null,{"$f":"(analysis!BE19-analysis!BD19)","v":-0.5},{"$f":"analysis!BF19-analysis!BD19","v":-0.5},{"$f":"analysis!BG19-analysis!BD19","v":-0.5},{"$f":"analysis!BH19-analysis!BD19","v":-0.5},{"$f":"analysis!BI19-analysis!BD19","v":-0.5},{"$f":"analysis!BJ19-analysis!BD19","v":-0.5},{"$f":"analysis!BK19-analysis!BD19","v":-0.5},{"$f":"analysis!BL19-analysis!BD19","v":-0.5},{"$f":"analysis!BM19-analysis!BD19","v":-0.5},{"$f":"analysis!BN19-analysis!BD19","v":-0.5},-0.5,null,{"$f":"(analysis!CA19-analysis!BZ19)","v":-0.25},{"$f":"analysis!CB19-analysis!BZ19","v":-0.25},{"$f":"analysis!CC19-analysis!BZ19","v":-0.25},{"$f":"analysis!CD19-analysis!BZ19","v":-0.25},{"$f":"analysis!CE19-analysis!BZ19","v":-0.25},{"$f":"analysis!CF19-analysis!BZ19","v":-0.25},{"$f":"analysis!CG19-analysis!BZ19","v":-0.25},{"$f":"analysis!CH19-analysis!BZ19","v":-0.25},{"$f":"analysis!CI19-analysis!BZ19","v":-0.25},{"$f":"analysis!CJ19-analysis!BZ19","v":-0.25},-0.25,null,{"$f":"analysis!ED19","v":"F"},{"$f":"analysis!EE19","v":26},{"$f":"analysis!EF19","v":"F"},2]
[{"$f":"analysis!A21","v":"AS102"},{"$f":"(analysis!M21-analysis!L21)*100/ABS(analysis!L21)","v":-0.9376999916525511},{"$f":"((analysis!N21-analysis!L21)*100)/ABS(analysis!L21)","v":-11.583516514093343},{"$f":"((analysis!O21-analysis!L21)*100)/ABS(analysis!L21)","v":-7.1983082445254745},{"$f":"((analysis!P21-analysis!L21)*100)/ABS(analysis!L21)","v":-4.660675032694298},{"$f":"((analysis!Q21-analysis!L21)*100)/ABS(analysis!L21)","v":-8.962408525557203},{"$f":"((analysis!R21-analysis!L21)*100)/ABS(analysis!L21)","v":-7.932886279529217},{"$f":"((analysis!S21-analysis!L21)*100)/ABS(analysis!L21)","v":-18.528617935947032},{"$f":"((analysis!T21-analysis!L21)*100)/ABS(analysis!L21)","v":-23.709619076768988},{"$f":"((analysis!U21-analysis!L21)*100)/ABS(analysis!L21)","v":-14.800077909791607},{"$f":"((analysis!V21-analysis!L21)*100)/ABS(analysis!L21)","v":-23.932218481315573},-12.224602799187528,null,{"$f":"(analysis!AI21-analysis!AH21)*100/ABS(analysis!AH21)","v":-23.349310083453695},{"$f":"(analysis!AJ21-analysis!AH21)*100/ABS(analysis!AH21)","v":-12.04365386138315},{"$f":"(analysis!AK21-analysis!AH21)*100/ABS(analysis!AH21)","v":-15.479095094974305},{"$f":"(analysis!AL21-analysis!AH21)*100/ABS(analysis!AH21)","v":-11.28566957164461},{"$f":"(analysis!AM21-analysis!AH21)*100/ABS(analysis!AH21)","v":-15.645022004170805},{"$f":"(analysis!AN21-analysis!AH21)*100/ABS(analysis!AH21)","v":-14.434509780259976},{"$f":"(analysis!AO21-analysis!AH21)*100/ABS(analysis!AH21)","v":-13.359755936600836},{"$f":"(analysis!AP21-analysis!AH21)*100/ABS(analysis!AH21)","v":-13.710465085584344},{"$f":"(analysis!AQ21-analysis!AH21)*100/ABS(analysis!AH21)","v":-13.925415854316181},{"$f":"(analysis!AR21-analysis!AH21)*100/ABS(analysis!AH21)","v":-14.310064598362612},-14.75429618707505,null,{"$f":"(analysis!BE20-analysis!BD20)","v":-0.25},{"$f":"analysis!BF20-analysis!BD20","v":-0.25},{"$f":"analysis!BG20-analysis!BD20","v":-0.25},{"$f":"analysis!BH20-analysis!BD20","v":-0.25},{"$f":"analysis!BI20-analysis!BD20","v":-0.25},{"$f":"analysis!BJ20-analysis!BD20","v":-0.25},{"$f":"analysis!BK20-analysis!BD20","v":4.75},{"$f":"analysis!BL20-analysis!BD20","v":-0.25},{"$f":"analysis!BM20-analysis!BD20","v":-0.25},{"$f":"analysis!BN20-analysis!BD20","v":-0.25},0.25,null,{"$f":"(analysis!CA20-analysis!BZ20)","v":3.75},{"$f":"analysis!CB20-analysis!BZ20","v":1.25},{"$f":"analysis!CC20-analysis!BZ20","v":-1.25},{"$f":"analysis!CD20-analysis!BZ20","v":-1.25},{"$f":"analysis!CE20-analysis!BZ20","v":-1.25},{"$f":"analysis!CF20-analysis!BZ20","v":3.75},{"$f":"analysis!CG20-analysis!BZ20","v":-1.25},{"$f":"analysis!CH20-analysis!BZ20","v":-1.25},{"$f":"analysis!CI20-analysis!BZ20","v":-1.25},{"$f":"analysis!CJ20-analysis!BZ20","v":-1.25},0,null,{"$f":"analysis!ED20","v":"F"},{"$f":"analysis!EE20","v":22},{"$f":"analysis!EF20","v":"F"},1]
[{"$f":"analysis!A22","v":"BH101"},{"$f":"(analysis!M22-analysis!L22)*100/ABS(analysis!L22)","v":-21.80463668204815},{"$f":"((analysis!N22-analysis!L22)*100)/ABS(analysis!L22)","v":-14.54939678656809},{"$f":"((analysis!O22-analysis!L22)*100)/ABS(analysis!L22)","v":-12.263023294601666},{"$f":"((analysis!P22-analysis!L22)*100)/ABS(analysis!L22)","v":-8.329626952799249},{"$f":"((analysis!Q22-analysis!L22)*100)/ABS(analysis!L22)","v":-25.75888141435482},{"$f":"((analysis!R22-analysis!L22)*100)/ABS(analysis!L22)","v":-17.89208873075},{"$f":"((analysis!S22-analysis!L22)*100)/ABS(analysis!L22)","v":-20.060321343192314},{"$f":"((analysis!T22-analysis!L22)*100)/ABS(analysis!L22)","v":-19.448768555067563},{"$f":"((analysis!U22-analysis!L22)*100)/ABS(analysis!L22)","v":-26.836048257074555},{"$f":"((analysis!V22-analysis!L22)*100)/ABS(analysis!L22)","v":-27.07927947962418},-19.40220714960806,null,{"$f":"(analysis!AI22-analysis!AH22)*100/ABS(analysis!AH22)","v":-17.694761969271593},{"$f":"(analysis!AJ22-analysis!AH22)*100/ABS(analysis!AH22)","v":-20.04680733782098},{"$f":"(analysis!AK22-analysis!AH22)*100/ABS(analysis!AH22)","v":-21.12823435434369},{"$f":"(analysis!AL22-analysis!AH22)*100/ABS(analysis!AH22)","v":-8.408036661076572},{"$f":"(analysis!AM22-analysis!AH22)*100/ABS(analysis!AH22)","v":-15.971018690235395},{"$f":"(analysis!AN22-analysis!AH22)*100/ABS(analysis!AH22)","v":-19.967393690819314},{"$f":"(analysis!AO22-analysis!AH22)*100/ABS(analysis!AH22)","v":-20.642409690333494},{"$f":"(analysis!AP22-analysis!AH22)*100/ABS(analysis!AH22)","v":-21.85930704585905},{"$f":"(analysis!AQ22-analysis!AH22)*100/ABS(analysis!AH22)","v":-22.102219377864152},{"$f":"(analysis!AR22-analysis!AH22)*100/ABS(analysis!AH22)","v":-28.083935553489766},-19.590412437111404,null,{"$f":"(analysis!BE21-analysis!BD21)","v":2.5},{"$f":"analysis!BF21-analysis!BD21","v":0},{"$f":"analysis!BG21-analysis!BD21","v":0},{"$f":"analysis!BH21-analysis!BD21","v":0},{"$f":"analysis!BI21-analysis!BD21","v":0},{"$f":"analysis!BJ21-analysis!BD21","v":0},{"$f":"analysis!BK21-analysis!BD21","v":0},{"$f":"analysis!BL21-analysis!BD21","v":0},{"$f":"analysis!BM21-analysis!BD21","v":0},{"$f":"analysis!BN21-analysis!BD21","v":0},0.25,null,{"$f":"(analysis!CA21-analysis!BZ21)","v":-1.5},{"$f":"analysis!CB21-analysis!BZ21","v":1},{"$f":"analysis!CC21-analysis!BZ21","v":3.5},{"$f":"analysis!CD21-analysis!BZ21","v":-1.5},{"$f":"analysis!CE21-analysis!BZ21","v":1},{"$f":"analysis!CF21-analysis!BZ21","v":1},{"$f":"analysis!CG21-analysis!BZ21","v":3.5},{"$f":"analysis!CH21-analysis!BZ21","v":-1.5},{"$f":"analysis!CI21-analysis!BZ21","v":-1.5},{"$f":"analysis!CJ21-analysis!BZ21","v":6},1,null,{"$f":"analysis!ED21","v":"F"},{"$f":"analysis!EE21","v":19},{"$f":"analysis!EF21","v":"F"},1]
[{"$f":"analysis!A23","v":"CC101"},{"$f":"(analysis!M23-analysis!L23)*100/ABS(analysis!L23)","v":-12.083542246581027},{"$f":"((analysis!N23-analysis!L23)*100)/ABS(analysis!L23)","v":-15.818046646726264},{"$f":"((analysis!O23-analysis!L23)*100)/ABS(analysis!L23)","v":-13.547375761452777},{"$f":"((analysis!P23-analysis!L23)*100)/ABS(analysis!L23)","v":-14.942051787432936},{"$f":"((analysis!Q23-analysis!L23)*100)/ABS(analysis!L23)","v":-14.457949365191888},{"$f":"((analysis!R23-analysis!L23)*100)/ABS(analysis!L23)","v":-12.377461574370237},{"$f":"((analysis!S23-analysis!L23)*100)/ABS(analysis!L23)","v":-11.910648524352084},{"$f":"((analysis!T23-analysis!L23)*100)/ABS(analysis!L23)","v":-13.305324550332253},{"$f":"((analysis!U23-analysis!L23)*100)/ABS(analysis!L23)","v":-2.8452543554810217},{"$f":"((analysis!V23-analysis!L23)*100)/ABS(analysis!L23)","v":-20.278704680233062},-13.156635949215357,null,{"$f":"(analysis!AI23-analysis!AH23)*100/ABS(analysis!AH23)","v":-2.1442198435462068},{"$f":"(analysis!AJ23-analysis!AH23)*100/ABS(analysis!AH23)","v":0.3749957357028073},{"$f":"(analysis!AK23-analysis!AH23)*100/ABS(analysis!AH23)","v":-9.512925412849565},{"$f":"(analysis!AL23-analysis!AH23)*100/ABS(analysis!AH23)","v":-13.39934028042018},{"$f":"(analysis!AM23-analysis!AH23)*100/ABS(analysis!AH23)","v":-16.180974149174293},{"$f":"(analysis!AN23-analysis!AH23)*100/ABS(analysis!AH23)","v":-5.505798132106603},{"$f":"(analysis!AO23-analysis!AH23)*100/ABS(analysis!AH23)","v":-10.814520128794893},{"$f":"(analysis!AP23-analysis!AH23)*100/ABS(analysis!AH23)","v":-14.010774894967069},{"$f":"(analysis!AQ23-analysis!AH23)*100/ABS(analysis!AH23)","v":-7.815079079751538},{"$f":"(analysis!AR23-analysis!AH23)*100/ABS(analysis!AH23)","v":-6.319294829572436},-8.532793101547998,null,{"$f":"(analysis!BE22-analysis!BD22)","v":0},{"$f":"analysis!BF22-analysis!BD22","v":0},{"$f":"analysis!BG22-analysis!BD22","v":0},{"$f":"analysis!BH22-analysis!BD22","v":0},{"$f":"analysis!BI22-analysis!BD22","v":0},{"$f":"analysis!BJ22-analysis!BD22","v":0},{"$f":"analysis!BK22-analysis!BD22","v":0},{"$f":"analysis!BL22-analysis!BD22","v":0},{"$f":"analysis!BM22-analysis!BD22","v":0},{"$f":"analysis!BN22-analysis!BD22","v":0},0,null,{"$f":"(analysis!CA22-analysis!BZ22)","v":0},{"$f":"analysis!CB22-analysis!BZ22","v":-5},{"$f":"analysis!CC22-analysis!BZ22","v":0},{"$f":"analysis!CD22-analysis!BZ22","v":-5},{"$f":"analysis!CE22-analysis!BZ22","v":-2.5},{"$f":"analysis!CF22-analysis!BZ22","v":-5},{"$f":"analysis!CG22-analysis!BZ22","v":-5},{"$f":"analysis!CH22-analysis!BZ22","v":0},{"$f":"analysis!CI22-analysis!BZ22","v":-5},{"$f":"analysis!CJ22-analysis!BZ22","v":-2.5},-3,null,{"$f":"analysis!ED22","v":"F"},{"$f":"analysis!EE22","v":21},{"$f":"analysis!EF22","v":"T"},1]
[{"$f":"analysis!A24","v":"DE101"},{"$f":"(analysis!M24-analysis!L24)*100/ABS(analysis!L24)","v":-9.331540034484503},{"$f":"((analysis!N24-analysis!L24)*100)/ABS(analysis!L24)","v":-2.8920853745792034},{"$f":"((analysis!O24-analysis!L24)*100)/ABS(analysis!L24)","v":-6.5633955905179295},{"$f":"((analysis!P24-analysis!L24)*100)/ABS(analysis!L24)","v":-2.325163136761191},{"$f":"((analysis!Q24-analysis!L24)*100)/ABS(analysis!L24)","v":-6.946556827112169},{"$f":"((analysis!R24-analysis!L24)*100)/ABS(analysis!L24)","v":-0.9684595745346283},{"$f":"((analysis!S24-analysis!L24)*100)/ABS(analysis!L24)","v":-7.986565897867981},{"$f":"((analysis!T24-analysis!L24)*100)/ABS(analysis!L24)","v":-10.01966633693948},{"$f":"((analysis!U24-analysis!L24)*100)/ABS(analysis!L24)","v":-10.715612256467804},{"$f":"((analysis!V24-analysis!L24)*100)/ABS(analysis!L24)","v":-8.338448666168818},-6.6087493695433706,null,{"$f":"(analysis!AI24-analysis!AH24)*100/ABS(analysis!AH24)","v":-20.712773648595928},{"$f":"(analysis!AJ24-analysis!AH24)*100/ABS(analysis!AH24)","v":-16.35156010256783},{"$f":"(analysis!AK24-analysis!AH24)*100/ABS(analysis!AH24)","v":-15.958868841118662},{"$f":"(analysis!AL24-analysis!AH24)*100/ABS(analysis!AH24)","v":-16.229331696686295},{"$f":"(analysis!AM24-analysis!AH24)*100/ABS(analysis!AH24)","v":-21.719207543833182},{"$f":"(analysis!AN24-analysis!AH24)*100/ABS(analysis!AH24)","v":-15.821036808954394},{"$f":"(analysis!AO24-analysis!AH24)*100/ABS(analysis!AH24)","v":-17.537435700056687},{"$f":"(analysis!AP24-analysis!AH24)*100/ABS(analysis!AH24)","v":-19.98720502644814},{"$f":"(analysis!AQ24-analysis!AH24)*100/ABS(analysis!AH24)","v":-15.906856753509514},{"$f":"(analysis!AR24-analysis!AH24)*100/ABS(analysis!AH24)","v":-12.49746441072905},-17.272174053249966,null,{"$f":"(analysis!BE23-analysis!BD23)","v":0},{"$f":"analysis!BF23-analysis!BD23","v":0},{"$f":"analysis!BG23-analysis!BD23","v":0},{"$f":"analysis!BH23-analysis!BD23","v":0},{"$f":"analysis!BI23-analysis!BD23","v":0},{"$f":"analysis!BJ23-analysis!BD23","v":0},{"$f":"analysis!BK23-analysis!BD23","v":0},{"$f":"analysis!BL23-analysis!BD23","v":0},{"$f":"analysis!BM23-analysis!BD23","v":0},{"$f":"analysis!BN23-analysis!BD23","v":0},0,null,{"$f":"(analysis!CA23-analysis!BZ23)","v":4},{"$f":"analysis!CB23-analysis!BZ23","v":1.5},{"$f":"analysis!CC23-analysis!BZ23","v":-1},{"$f":"analysis!CD23-analysis!BZ23","v":-1},{"$f":"analysis!CE23-analysis!BZ23","v":-1},{"$f":"analysis!CF23-analysis!BZ23","v":-1},{"$f":"analysis!CG23-analysis!BZ23","v":-1},{"$f":"analysis!CH23-analysis!BZ23","v":-1},{"$f":"analysis!CI23-analysis!BZ23","v":-1},{"$f":"analysis!CJ23-analysis!BZ23","v":1.5},0,null,{"$f":"analysis!ED23","v":"F"},{"$f":"analysis!EE23","v":25},{"$f":"analysis!EF23","v":"T"},1]
[{"$f":"analysis!A25","v":"DI101"},{"$f":"(analysis!M25-analysis!L25)*100/ABS(analysis!L25)","v":-16.953739136209308},{"$f":"((analysis!N25-analysis!L25)*100)/ABS(analysis!L25)","v":-11.58306286264515},{"$f":"((analysis!O25-analysis!L25)*100)/ABS(analysis!L25)","v":-12.30939079763258},{"$f":"((analysis!P25-analysis!L25)*100)/ABS(analysis!L25)","v":-17.754775087366873},{"$f":"((analysis!Q25-analysis!L25)*100)/ABS(analysis!L25)","v":-12.438054603258918},{"$f":"((analysis!R25-analysis!L25)*100)/ABS(analysis!L25)","v":-9.246362134657044},{"$f":"((analysis!S25-analysis!L25)*100)/ABS(analysis!L25)","v":-12.305240352289788},{"$f":"((analysis!T25-analysis!L25)*100)/ABS(analysis!L25)","v":-8.681901568038247},{"$f":"((analysis!U25-analysis!L25)*100)/ABS(analysis!L25)","v":-12.27203678954751},{"$f":"((analysis!V25-analysis!L25)*100)/ABS(analysis!L25)","v":3.229876565755513},-11.03146867658899,null,{"$f":"(analysis!AI25-analysis!AH25)*100/ABS(analysis!AH25)","v":-8.624495396424507},{"$f":"(analysis!AJ25-analysis!AH25)*100/ABS(analysis!AH25)","v":-17.550758645375534},{"$f":"(analysis!AK25-analysis!AH25)*100/ABS(analysis!AH25)","v":-9.158927754688065},{"$f":"(analysis!AL25-analysis!AH25)*100/ABS(analysis!AH25)","v":-10.093562948674595},{"$f":"(analysis!AM25-analysis!AH25)*100/ABS(analysis!AH25)","v":4.042794360371496},{"$f":"(analysis!AN25-analysis!AH25)*100/ABS(analysis!AH25)","v":-9.638674011175839},{"$f":"(analysis!AO25-analysis!AH25)*100/ABS(analysis!AH25)","v":-5.144470737964073},{"$f":"(analysis!AP25-analysis!AH25)*100/ABS(analysis!AH25)","v":-18.067790880346795},{"$f":"(analysis!AQ25-analysis!AH25)*100/ABS(analysis!AH25)","v":-4.227235667269841},{"$f":"(analysis!AR25-analysis!AH25)*100/ABS(analysis!AH25)","v":-10.45399407401513},-8.891711575556288,null,{"$f":"(analysis!BE24-analysis!BD24)","v":0},{"$f":"analysis!BF24-analysis!BD24","v":0},{"$f":"analysis!BG24-analysis!BD24","v":0},{"$f":"analysis!BH24-analysis!BD24","v":0},{"$f":"analysis!BI24-analysis!BD24","v":0},{"$f":"analysis!BJ24-analysis!BD24","v":0},{"$f":"analysis!BK24-analysis!BD24","v":0},{"$f":"analysis!BL24-analysis!BD24","v":0},{"$f":"analysis!BM24-analysis!BD24","v":0},{"$f":"analysis!BN24-analysis!BD24","v":0},0,null,{"$f":"(analysis!CA24-analysis!BZ24)","v":-2.75},{"$f":"analysis!CB24-analysis!BZ24","v":2.25},{"$f":"analysis!CC24-analysis!BZ24","v":-0.25},{"$f":"analysis!CD24-analysis!BZ24","v":-2.75},{"$f":"analysis!CE24-analysis!BZ24","v":-2.75},{"$f":"analysis!CF24-analysis!BZ24","v":2.25},{"$f":"analysis!CG24-analysis!BZ24","v":-0.25},{"$f":"analysis!CH24-analysis!BZ24","v":-2.75},{"$f":"analysis!CI24-analysis!BZ24","v":-2.75},{"$f":"analysis!CJ24-analysis!BZ24","v":2.25},-0.75,null,{"$f":"analysis!ED24","v":"F"},{"$f":"analysis!EE24","v":23},{"$f":"analysis!EF24","v":"F"},1]
[{"$f":"analysis!A26","v":"DJ101"},{"$f":"(analysis!M26-analysis!L26)*100/ABS(analysis!L26)","v":-9.303564397711753},{"$f":"((analysis!N26-analysis!L26)*100)/ABS(analysis!L26)","v":8.946893021747675},{"$f":"((analysis!O26-analysis!L26)*100)/ABS(analysis!L26)","v":1.4834286773050451},{"$f":"((analysis!P26-analysis!L26)*100)/ABS(analysis!L26)","v":-6.431665006832347},{"$f":"((analysis!Q26-analysis!L26)*100)/ABS(analysis!L26)","v":-6.3390230909975385},{"$f":"((analysis!R26-analysis!L26)*100)/ABS(analysis!L26)","v":13.526877735831565},{"$f":"((analysis!S26-analysis!L26)*100)/ABS(analysis!L26)","v":-4.439863816383722},{"$f":"((analysis!T26-analysis!L26)*100)/ABS(analysis!L26)","v":-2.314889871922566},{"$f":"((analysis!U26-analysis!L26)*100)/ABS(analysis!L26)","v":-0.22465664589944845},{"$f":"((analysis!V26-analysis!L26)*100)/ABS(analysis!L26)","v":4.262686152349631},-0.08337772425134586,null,{"$f":"(analysis!AI26-analysis!AH26)*100/ABS(analysis!AH26)","v":-2.546335445745499},{"$f":"(analysis!AJ26-analysis!AH26)*100/ABS(analysis!AH26)","v":-8.035456688918297},{"$f":"(analysis!AK26-analysis!AH26)*100/ABS(analysis!AH26)","v":-3.3024264552264877},{"$f":"(analysis!AL26-analysis!AH26)*100/ABS(analysis!AH26)","v":7.839967368703801},{"$f":"(analysis!AM26-analysis!AH26)*100/ABS(analysis!AH26)","v":-2.6085139827093924},{"$f":"(analysis!AN26-analysis!AH26)*100/ABS(analysis!AH26)","v":-9.231771740103675},{"$f":"(analysis!AO26-analysis!AH26)*100/ABS(analysis!AH26)","v":-1.0938448222688655},{"$f":"(analysis!AP26-analysis!AH26)*100/ABS(analysis!AH26)","v":-4.555945760418639},{"$f":"(analysis!AQ26-analysis!AH26)*100/ABS(analysis!AH26)","v":-88.12389943989574},{"$f":"(analysis!AR26-analysis!AH26)*100/ABS(analysis!AH26)","v":8.297601400758074},-10.336062556582473,null,{"$f":"(analysis!BE25-analysis!BD25)","v":0},{"$f":"analysis!BF25-analysis!BD25","v":0},{"$f":"analysis!BG25-analysis!BD25","v":0},{"$f":"analysis!BH25-analysis!BD25","v":0},{"$f":"analysis!BI25-analysis!BD25","v":0},{"$f":"analysis!BJ25-analysis!BD25","v":0},{"$f":"analysis!BK25-analysis!BD25","v":0},{"$f":"analysis!BL25-analysis!BD25","v":0},{"$f":"analysis!BM25-analysis!BD25","v":0},{"$f":"analysis!BN25-analysis!BD25","v":2.5},0.25,null,{"$f":"(analysis!CA25-analysis!BZ25)","v":-0.25},{"$f":"analysis!CB25-analysis!BZ25","v":-2.75},{"$f":"analysis!CC25-analysis!BZ25","v":-2.75},{"$f":"analysis!CD25-analysis!BZ25","v":-0.25},{"$f":"analysis!CE25-analysis!BZ25","v":-0.25},{"$f":"analysis!CF25-analysis!BZ25","v":-0.25},{"$f":"analysis!CG25-analysis!BZ25","v":2.25},{"$f":"analysis!CH25-analysis!BZ25","v":-2.75},{"$f":"analysis!CI25-analysis!BZ25","v":-2.75},{"$f":"analysis!CJ25-analysis!BZ25","v":-2.75},-1.25,null,{"$f":"analysis!ED25","v":"F"},{"$f":"analysis!EE25","v":23},{"$f":"analysis!EF25","v":"T"},1]
[{"$f":"analysis!A27","v":"DP101"},{"$f":"(analysis!M27-analysis!L27)*100/ABS(analysis!L27)","v":-9.515246420704832},{"$f":"((analysis!N27-analysis!L27)*100)/ABS(analysis!L27)","v":-10.724118942731275},{"$f":"((analysis!O27-analysis!L27)*100)/ABS(analysis!L27)","v":0.11701541850220505},{"$f":"((analysis!P27-analysis!L27)*100)/ABS(analysis!L27)","v":-18.089207048458146},{"$f":"((analysis!Q27-analysis!L27)*100)/ABS(analysis!L27)","v":-6.6371833700440375},{"$f":"((analysis!R27-analysis!L27)*100)/ABS(analysis!L27)","v":16.59381883259913},{"$f":"((analysis!S27-analysis!L27)*100)/ABS(analysis!L27)","v":-17.7407420154185},{"$f":"((analysis!T27-analysis!L27)*100)/ABS(analysis!L27)","v":-12.311570759911891},{"$f":"((analysis!U27-analysis!L27)*100)/ABS(analysis!L27)","v":-4.761495044052848},{"$f":"((analysis!V27-analysis!L27)*100)/ABS(analysis!L27)","v":-20.334870594713646},-8.340359994493385,null,{"$f":"(analysis!AI27-analysis!AH27)*100/ABS(analysis!AH27)","v":1.8391003775787442},{"$f":"(analysis!AJ27-analysis!AH27)*100/ABS(analysis!AH27)","v":11.64565966838735},{"$f":"(analysis!AK27-analysis!AH27)*100/ABS(analysis!AH27)","v":5.81553362639767},{"$f":"(analysis!AL27-analysis!AH27)*100/ABS(analysis!AH27)","v":4.759863560914202},{"$f":"(analysis!AM27-analysis!AH27)*100/ABS(analysis!AH27)","v":-4.510880469875783},{"$f":"(analysis!AN27-analysis!AH27)*100/ABS(analysis!AH27)","v":-4.948652937635665},{"$f":"(analysis!AO27-analysis!AH27)*100/ABS(analysis!AH27)","v":-4.0913485216059025},{"$f":"(analysis!AP27-analysis!AH27)*100/ABS(analysis!AH27)","v":1.248563559090153},{"$f":"(analysis!AQ27-analysis!AH27)*100/ABS(analysis!AH27)","v":-1.3507104682341464},{"$f":"(analysis!AR27-analysis!AH27)*100/ABS(analysis!AH27)","v":2.404556481768586},1.281168487678521,null,{"$f":"(analysis!BE26-analysis!BD26)","v":-0.75},{"$f":"analysis!BF26-analysis!BD26","v":-0.75},{"$f":"analysis!BG26-analysis!BD26","v":-0.75},{"$f":"analysis!BH26-analysis!BD26","v":-0.75},{"$f":"analysis!BI26-analysis!BD26","v":-0.75},{"$f":"analysis!BJ26-analysis!BD26","v":1.75},{"$f":"analysis!BK26-analysis!BD26","v":-0.75},{"$f":"analysis!BL26-analysis!BD26","v":-0.75},{"$f":"analysis!BM26-analysis!BD26","v":-0.75},{"$f":"analysis!BN26-analysis!BD26","v":-0.75},-0.5,null,{"$f":"(analysis!CA26-analysis!BZ26)","v":-2.25},{"$f":"analysis!CB26-analysis!BZ26","v":-2.25},{"$f":"analysis!CC26-analysis!BZ26","v":2.75},{"$f":"analysis!CD26-analysis!BZ26","v":0.25},{"$f":"analysis!CE26-analysis!BZ26","v":-2.25},{"$f":"analysis!CF26-analysis!BZ26","v":0.25},{"$f":"analysis!CG26-analysis!BZ26","v":0.25},{"$f":"analysis!CH26-analysis!BZ26","v":-2.25},{"$f":"analysis!CI26-analysis!BZ26","v":2.75},{"$f":"analysis!CJ26-analysis!BZ26","v":-2.25},-0.5,null,{"$f":"analysis!ED26","v":"M"},{"$f":"analysis!EE26","v":25},{"$f":"analysis!EF26","v":"F"},1]
[{"$f":"analysis!A28","v":"DS101"},{"$f":"(analysis!M28-analysis!L28)*100/ABS(analysis!L28)","v":5.517492470128755},{"$f":"((analysis!N28-analysis!L28)*100)/ABS(analysis!L28)","v":-1.9627312746168837},{"$f":"((analysis!O28-analysis!L28)*100)/ABS(analysis!L28)","v":-0.24161784662232502},{"$f":"((analysis!P28-analysis!L28)*100)/ABS(analysis!L28)","v":0.2879555158375437},{"$f":"((analysis!Q28-analysis!L28)*100)/ABS(analysis!L28)","v":-8.251414953827831},{"$f":"((analysis!R28-analysis!L28)*100)/ABS(analysis!L28)","v":-13.116870221427865},{"$f":"((analysis!S28-analysis!L28)*100)/ABS(analysis!L28)","v":-2.8232879886141777},{"$f":"((analysis!T28-analysis!L28)*100)/ABS(analysis!L28)","v":-13.017575215966636},{"$f":"((analysis!U28-analysis!L28)*100)/ABS(analysis!L28)","v":-12.438354350776153},{"$f":"((analysis!V28-analysis!L28)*100)/ABS(analysis!L28)","v":-12.554198523814259},-5.860060238969983,null,{"$f":"(analysis!AI28-analysis!AH28)*100/ABS(analysis!AH28)","v":-23.874878175773997},{"$f":"(analysis!AJ28-analysis!AH28)*100/ABS(analysis!AH28)","v":-25.183236986502536},{"$f":"(analysis!AK28-analysis!AH28)*100/ABS(analysis!AH28)","v":-2.72085230231098},{"$f":"(analysis!AL28-analysis!AH28)*100/ABS(analysis!AH28)","v":-15.277091705272147},{"$f":"(analysis!AM28-analysis!AH28)*100/ABS(analysis!AH28)","v":-16.398542114468047},{"$f":"(analysis!AN28-analysis!AH28)*100/ABS(analysis!AH28)","v":-5.260803973138581},{"$f":"(analysis!AO28-analysis!AH28)*100/ABS(analysis!AH28)","v":-14.609561699798402},{"$f":"(analysis!AP28-analysis!AH28)*100/ABS(analysis!AH28)","v":-11.37871647330547},{"$f":"(analysis!AQ28-analysis!AH28)*100/ABS(analysis!AH28)","v":-5.714724376860738},{"$f":"(analysis!AR28-analysis!AH28)*100/ABS(analysis!AH28)","v":-11.405417673524417},-13.182382548095532,null,{"$f":"(analysis!BE27-analysis!BD27)","v":-0.5},{"$f":"analysis!BF27-analysis!BD27","v":-0.5},{"$f":"analysis!BG27-analysis!BD27","v":-0.5},{"$f":"analysis!BH27-analysis!BD27","v":-0.5},{"$f":"analysis!BI27-analysis!BD27","v":-0.5},{"$f":"analysis!BJ27-analysis!BD27","v":7},{"$f":"analysis!BK27-analysis!BD27","v":-0.5},{"$f":"analysis!BL27-analysis!BD27","v":-0.5},{"$f":"analysis!BM27-analysis!BD27","v":-0.5},{"$f":"analysis!BN27-analysis!BD27","v":-0.5},0.25,null,{"$f":"(analysis!CA27-analysis!BZ27)","v":-0.75},{"$f":"analysis!CB27-analysis!BZ27","v":1.75},{"$f":"analysis!CC27-analysis!BZ27","v":-0.75},{"$f":"analysis!CD27-analysis!BZ27","v":-0.75},{"$f":"analysis!CE27-analysis!BZ27","v":-0.75},{"$f":"analysis!CF27-analysis!BZ27","v":-0.75},{"$f":"analysis!CG27-analysis!BZ27","v":-0.75},{"$f":"analysis!CH27-analysis!BZ27","v":-0.75},{"$f":"analysis!CI27-analysis!BZ27","v":1.75},{"$f":"analysis!CJ27-analysis!BZ27","v":1.75},0,null,{"$f":"analysis!ED27","v":"F"},{"$f":"analysis!EE27","v":28},{"$f":"analysis!EF27","v":"T"},2]
[{"$f":"analysis!A29","v":"DST102"},{"$f":"(analysis!M29-analysis!L29)*100/ABS(analysis!L29)","v":-16.686376961174286},{"$f":"((analysis!N29-analysis!L29)*100)/ABS(analysis!L29)","v":-13.418051762817052},{"$f":"((analysis!O29-analysis!L29)*100)/ABS(analysis!L29)","v":-10.19989822320653},{"$f":"((analysis!P29-analysis!L29)*100)/ABS(analysis!L29)","v":-18.299037420890027},{"$f":"((analysis!Q29-analysis!L29)*100)/ABS(analysis!L29)","v":-17.481956121300723},{"$f":"((analysis!R29-analysis!L29)*100)/ABS(analysis!L29)","v":-13.819425032790758},{"$f":"((analysis!S29-analysis!L29)*100)/ABS(analysis!L29)","v":-19.840024082396194},{"$f":"((analysis!T29-analysis!L29)*100)/ABS(analysis!L29)","v":-20.993972233570567},{"$f":"((analysis!U29-analysis!L29)*100)/ABS(analysis!L29)","v":-13.24603464711405},{"$f":"((analysis!V29-analysis!L29)*100)/ABS(analysis!L29)","v":-20.18405831380222},-16.41688347990624,null,{"$f":"(analysis!AI29-analysis!AH29)*100/ABS(analysis!AH29)","v":-10.907651303096879},{"$f":"(analysis!AJ29-analysis!AH29)*100/ABS(analysis!AH29)","v":-9.595447060179243},{"$f":"(analysis!AK29-analysis!AH29)*100/ABS(analysis!AH29)","v":-0.6144684457628384},{"$f":"(analysis!AL29-analysis!AH29)*100/ABS(analysis!AH29)","v":-0.584730105980006},{"$f":"(analysis!AM29-analysis!AH29)*100/ABS(analysis!AH29)","v":-9.417017021482234},{"$f":"(analysis!AN29-analysis!AH29)*100/ABS(analysis!AH29)","v":-7.246118217335211},{"$f":"(analysis!AO29-analysis!AH29)*100/ABS(analysis!AH29)","v":-12.747711077159831},{"$f":"(analysis!AP29-analysis!AH29)*100/ABS(analysis!AH29)","v":-9.978328184883262},{"$f":"(analysis!AQ29-analysis!AH29)*100/ABS(analysis!AH29)","v":-11.944775903023276},{"$f":"(analysis!AR29-analysis!AH29)*100/ABS(analysis!AH29)","v":-9.744138759093419},-8.278038607799619,null,{"$f":"(analysis!BE28-analysis!BD28)","v":0},{"$f":"analysis!BF28-analysis!BD28","v":0},{"$f":"analysis!BG28-analysis!BD28","v":0},{"$f":"analysis!BH28-analysis!BD28","v":0},{"$f":"analysis!BI28-analysis!BD28","v":0},{"$f":"analysis!BJ28-analysis!BD28","v":0},{"$f":"analysis!BK28-analysis!BD28","v":0},{"$f":"analysis!BL28-analysis!BD28","v":0},{"$f":"analysis!BM28-analysis!BD28","v":0},{"$f":"analysis!BN28-analysis!BD28","v":0},0,null,{"$f":"(analysis!CA28-analysis!BZ28)","v":-0.75},{"$f":"analysis!CB28-analysis!BZ28","v":-0.75},{"$f":"analysis!CC28-analysis!BZ28","v":4.25},{"$f":"analysis!CD28-analysis!BZ28","v":4.25},{"$f":"analysis!CE28-analysis!BZ28","v":-0.75},{"$f":"analysis!CF28-analysis!BZ28","v":-0.75},{"$f":"analysis!CG28-analysis!BZ28","v":-0.75},{"$f":"analysis!CH28-analysis!BZ28","v":1.75},{"$f":"analysis!CI28-analysis!BZ28","v":1.75},{"$f":"analysis!CJ28-analysis!BZ28","v":-0.75},0.75,null,{"$f":"analysis!ED28","v":"F"},{"$f":"analysis!EE28","v":18},{"$f":"analysis!EF28","v":"F"},1]
[{"$f":"analysis!A30","v":"DT101"},{"$f":"(analysis!M30-analysis!L30)*100/ABS(analysis!L30)","v":-27.569063526561703},{"$f":"((analysis!N30-analysis!L30)*100)/ABS(analysis!L30)","v":-30.51291191836953},{"$f":"((analysis!O30-analysis!L30)*100)/ABS(analysis!L30)","v":-41.92032443662484},{"$f":"((analysis!P30-analysis!L30)*100)/ABS(analysis!L30)","v":-41.09236707642889},{"$f":"((analysis!Q30-analysis!L30)*100)/ABS(analysis!L30)","v":-46.64274789848322},{"$f":"((analysis!R30-analysis!L30)*100)/ABS(analysis!L30)","v":-37.93386307271842},{"$f":"((analysis!S30-analysis!L30)*100)/ABS(analysis!L30)","v":-45.2973171881648},{"$f":"((analysis!T30-analysis!L30)*100)/ABS(analysis!L30)","v":-41.60984042655135},{"$f":"((analysis!U30-analysis!L30)*100)/ABS(analysis!L30)","v":-36.921915188034475},{"$f":"((analysis!V30-analysis!L30)*100)/ABS(analysis!L30)","v":-30.171762820881387},-37.96721135528186,null,{"$f":"(analysis!AI30-analysis!AH30)*100/ABS(analysis!AH30)","v":-19.988783765539157},{"$f":"(analysis!AJ30-analysis!AH30)*100/ABS(analysis!AH30)","v":-39.72208663502581},{"$f":"(analysis!AK30-analysis!AH30)*100/ABS(analysis!AH30)","v":-34.471227242987254},{"$f":"(analysis!AL30-analysis!AH30)*100/ABS(analysis!AH30)","v":-39.37313711846628},{"$f":"(analysis!AM30-analysis!AH30)*100/ABS(analysis!AH30)","v":-27.176520682528643},{"$f":"(analysis!AN30-analysis!AH30)*100/ABS(analysis!AH30)","v":-18.76849899780868},{"$f":"(analysis!AO30-analysis!AH30)*100/ABS(analysis!AH30)","v":-34.870026690483854},{"$f":"(analysis!AP30-analysis!AH30)*100/ABS(analysis!AH30)","v":-28.896343299857715},{"$f":"(analysis!AQ30-analysis!AH30)*100/ABS(analysis!AH30)","v":-16.217844198195017},{"$f":"(analysis!AR30-analysis!AH30)*100/ABS(analysis!AH30)","v":-14.207230317066339},-27.369169894795867,null,{"$f":"(analysis!BE29-analysis!BD29)","v":0},{"$f":"analysis!BF29-analysis!BD29","v":0},{"$f":"analysis!BG29-analysis!BD29","v":0},{"$f":"analysis!BH29-analysis!BD29","v":0},{"$f":"analysis!BI29-analysis!BD29","v":0},{"$f":"analysis!BJ29-analysis!BD29","v":0},{"$f":"analysis!BK29-analysis!BD29","v":0},{"$f":"analysis!BL29-analysis!BD29","v":0},{"$f":"analysis!BM29-analysis!BD29","v":0},{"$f":"analysis!BN29-analysis!BD29","v":0},0,null,{"$f":"(analysis!CA29-analysis!BZ29)","v":2.75},{"$f":"analysis!CB29-analysis!BZ29","v":2.75},{"$f":"analysis!CC29-analysis!BZ29","v":2.75},{"$f":"analysis!CD29-analysis!BZ29","v":0.25},{"$f":"analysis!CE29-analysis!BZ29","v":-2.25},{"$f":"analysis!CF29-analysis!BZ29","v":0.25},{"$f":"analysis!CG29-analysis!BZ29","v":-2.25},{"$f":"analysis!CH29-analysis!BZ29","v":2.75},{"$f":"analysis!CI29-analysis!BZ29","v":-2.25},{"$f":"analysis!CJ29-analysis!BZ29","v":-2.25},0.25,null,{"$f":"analysis!ED29","v":"M"},{"$f":"analysis!EE29","v":22},{"$f":"analysis!EF29","v":"F"},1]
[{"$f":"analysis!A31","v":"DY101"},{"$f":"(analysis!M31-analysis!L31)*100/ABS(analysis!L31)","v":-15.126065779012485},{"$f":"((analysis!N31-analysis!L31)*100)/ABS(analysis!L31)","v":-15.304266771454927},{"$f":"((analysis!O31-analysis!L31)*100)/ABS(analysis!L31)","v":-16.583658512067394},{"$f":"((analysis!P31-analysis!L31)*100)/ABS(analysis!L31)","v":-22.619645974028344},{"$f":"((analysis!Q31-analysis!L31)*100)/ABS(analysis!L31)","v":-23.816791102744293},{"$f":"((analysis!R31-analysis!L31)*100)/ABS(analysis!L31)","v":-24.438209948184628},{"$f":"((analysis!S31-analysis!L31)*100)/ABS(analysis!L31)","v":-18.013835707823464},{"$f":"((analysis!T31-analysis!L31)*100)/ABS(analysis!L31)","v":-21.852010929660853},{"$f":"((analysis!U31-analysis!L31)*100)/ABS(analysis!L31)","v":-30.18176501229129},{"$f":"((analysis!V31-analysis!L31)*100)/ABS(analysis!L31)","v":-32.781671799464476},-22.071792153673215,null,{"$f":"(analysis!AI31-analysis!AH31)*100/ABS(analysis!AH31)","v":-6.1424703793193975},{"$f":"(analysis!AJ31-analysis!AH31)*100/ABS(analysis!AH31)","v":-11.341736776221966},{"$f":"(analysis!AK31-analysis!AH31)*100/ABS(analysis!AH31)","v":1.3070944077319173},{"$f":"(analysis!AL31-analysis!AH31)*100/ABS(analysis!AH31)","v":-4.098861750749638},{"$f":"(analysis!AM31-analysis!AH31)*100/ABS(analysis!AH31)","v":2.8674565514831944},{"$f":"(analysis!AN31-analysis!AH31)*100/ABS(analysis!AH31)","v":8.084189688800889},{"$f":"(analysis!AO31-analysis!AH31)*100/ABS(analysis!AH31)","v":4.54426363133531},{"$f":"(analysis!AP31-analysis!AH31)*100/ABS(analysis!AH31)","v":-7.912433408052186},{"$f":"(analysis!AQ31-analysis!AH31)*100/ABS(analysis!AH31)","v":-5.752379843381578},{"$f":"(analysis!AR31-analysis!AH31)*100/ABS(analysis!AH31)","v":-2.608366568658868},-2.1053244447032324,null,{"$f":"(analysis!BE30-analysis!BD30)","v":0},{"$f":"analysis!BF30-analysis!BD30","v":0},{"$f":"analysis!BG30-analysis!BD30","v":0},{"$f":"analysis!BH30-analysis!BD30","v":0},{"$f":"analysis!BI30-analysis!BD30","v":0},{"$f":"analysis!BJ30-analysis!BD30","v":0},{"$f":"analysis!BK30-analysis!BD30","v":2.5},{"$f":"analysis!BL30-analysis!BD30","v":0},{"$f":"analysis!BM30-analysis!BD30","v":0},{"$f":"analysis!BN30-analysis!BD30","v":0},0.25,null,{"$f":"(analysis!CA30-analysis!BZ30)","v":-1.25},{"$f":"analysis!CB30-analysis!BZ30","v":-1.25},{"$f":"analysis!CC30-analysis!BZ30","v":-3.75},{"$f":"analysis!CD30-analysis!BZ30","v":-6.25},{"$f":"analysis!CE30-analysis!BZ30","v":-3.75},{"$f":"analysis!CF30-analysis!BZ30","v":-3.75},{"$f":"analysis!CG30-analysis!BZ30","v":-6.25},{"$f":"analysis!CH30-analysis!BZ30","v":-1.25},{"$f":"analysis!CI30-analysis!BZ30","v":3.75},{"$f":"analysis!CJ30-analysis!BZ30","v":28.75},0.5,null,{"$f":"analysis!ED30","v":"M"},{"$f":"analysis!EE30","v":25},{"$f":"analysis!EF30","v":"T"},1]
[{"$f":"analysis!A32","v":"DZ101"},{"$f":"(analysis!M32-analysis!L32)*100/ABS(analysis!L32)","v":-9.293372352777434},{"$f":"((analysis!N32-analysis!L32)*100)/ABS(analysis!L32)","v":-11.839594777188577},{"$f":"((analysis!O32-analysis!L32)*100)/ABS(analysis!L32)","v":-8.20019419189692},{"$f":"((analysis!P32-analysis!L32)*100)/ABS(analysis!L32)","v":8.84931116196009},{"$f":"((analysis!Q32-analysis!L32)*100)/ABS(analysis!L32)","v":26.998784603162733},{"$f":"((analysis!R32-analysis!L32)*100)/ABS(analysis!L32)","v":32.26097761361242},{"$f":"((analysis!S32-analysis!L32)*100)/ABS(analysis!L32)","v":23.84146879689292},{"$f":"((analysis!T32-analysis!L32)*100)/ABS(analysis!L32)","v":23.89578820861368},{"$f":"((analysis!U32-analysis!L32)*100)/ABS(analysis!L32)","v":34.65103172932635},{"$f":"((analysis!V32-analysis!L32)*100)/ABS(analysis!L32)","v":34.16215702383941},15.532635781554466,null,{"$f":"(analysis!AI32-analysis!AH32)*100/ABS(analysis!AH32)","v":-4.986318029796302},{"$f":"(analysis!AJ32-analysis!AH32)*100/ABS(analysis!AH32)","v":-3.5206710791995137},{"$f":"(analysis!AK32-analysis!AH32)*100/ABS(analysis!AH32)","v":-10.318778211754804},{"$f":"(analysis!AL32-analysis!AH32)*100/ABS(analysis!AH32)","v":8.734632146003369},{"$f":"(analysis!AM32-analysis!AH32)*100/ABS(analysis!AH32)","v":4.587163115591195},{"$f":"(analysis!AN32-analysis!AH32)*100/ABS(analysis!AH32)","v":3.523009877524915},{"$f":"(analysis!AO32-analysis!AH32)*100/ABS(analysis!AH32)","v":9.638967498499253},{"$f":"(analysis!AP32-analysis!AH32)*100/ABS(analysis!AH32)","v":9.794887386860625},{"$f":"(analysis!AQ32-analysis!AH32)*100/ABS(analysis!AH32)","v":-0.4022733119723266},{"$f":"(analysis!AR32-analysis!AH32)*100/ABS(analysis!AH32)","v":7.986216681868841},2.5036836073625253,null,{"$f":"(analysis!BE31-analysis!BD31)","v":0},{"$f":"analysis!BF31-analysis!BD31","v":0},{"$f":"analysis!BG31-analysis!BD31","v":0},{"$f":"analysis!BH31-analysis!BD31","v":0},{"$f":"analysis!BI31-analysis!BD31","v":0},{"$f":"analysis!BJ31-analysis!BD31","v":0},{"$f":"analysis!BK31-analysis!BD31","v":0},{"$f":"analysis!BL31-analysis!BD31","v":0},{"$f":"analysis!BM31-analysis!BD31","v":0},{"$f":"analysis!BN31-analysis!BD31","v":0},0,null,{"$f":"(analysis!CA31-analysis!BZ31)","v":1.75},{"$f":"analysis!CB31-analysis!BZ31","v":-0.75},{"$f":"analysis!CC31-analysis!BZ31","v":1.75},{"$f":"analysis!CD31-analysis!BZ31","v":-0.75},{"$f":"analysis!CE31-analysis!BZ31","v":4.25},{"$f":"analysis!CF31-analysis!BZ31","v":-0.75},{"$f":"analysis!CG31-analysis!BZ31","v":-0.75},{"$f":"analysis!CH31-analysis!BZ31","v":1.75},{"$f":"analysis!CI31-analysis!BZ31","v":-0.75},{"$f":"analysis!CJ31-analysis!BZ31","v":-0.75},0.5,null,{"$f":"analysis!ED31","v":"F"},{"$f":"analysis!EE31","v":25.6},{"$f":"analysis!EF31","v":"F"},2]
[{"$f":"analysis!A33","v":"EC101"},{"$f":"(analysis!M33-analysis!L33)*100/ABS(analysis!L33)","v":-23.527152765246687},{"$f":"((analysis!N33-analysis!L33)*100)/ABS(analysis!L33)","v":-33.965363278412426},{"$f":"((analysis!O33-analysis!L33)*100)/ABS(analysis!L33)","v":-23.41610797255343},{"$f":"((analysis!P33-analysis!L33)*100)/ABS(analysis!L33)","v":-34.11342300200343},{"$f":"((analysis!Q33-analysis!L33)*100)/ABS(analysis!L33)","v":-32.558795904297895},{"$f":"((analysis!R33-analysis!L33)*100)/ABS(analysis!L33)","v":-27.191630924124016},{"$f":"((analysis!S33-analysis!L33)*100)/ABS(analysis!L33)","v":-25.923869540876044},{"$f":"((analysis!T33-analysis!L33)*100)/ABS(analysis!L33)","v":-28.820287883625056},{"$f":"((analysis!U33-analysis!L33)*100)/ABS(analysis!L33)","v":-30.85610908300135},{"$f":"((analysis!V33-analysis!L33)*100)/ABS(analysis!L33)","v":-36.91267715114584},-29.728541750528613,null,{"$f":"(analysis!AI33-analysis!AH33)*100/ABS(analysis!AH33)","v":-3.3528427588622685},{"$f":"(analysis!AJ33-analysis!AH33)*100/ABS(analysis!AH33)","v":-5.315865451404601},{"$f":"(analysis!AK33-analysis!AH33)*100/ABS(analysis!AH33)","v":-4.301133721105804},{"$f":"(analysis!AL33-analysis!AH33)*100/ABS(analysis!AH33)","v":8.772597411226101},{"$f":"(analysis!AM33-analysis!AH33)*100/ABS(analysis!AH33)","v":-1.9817469089942419},{"$f":"(analysis!AN33-analysis!AH33)*100/ABS(analysis!AH33)","v":-2.776016090745999},{"$f":"(analysis!AO33-analysis!AH33)*100/ABS(analysis!AH33)","v":-5.799071037261174},{"$f":"(analysis!AP33-analysis!AH33)*100/ABS(analysis!AH33)","v":-6.569179939720083},{"$f":"(analysis!AQ33-analysis!AH33)*100/ABS(analysis!AH33)","v":-0.701252106474326},{"$f":"(analysis!AR33-analysis!AH33)*100/ABS(analysis!AH33)","v":-16.924879651608762},-3.8949390254951153,null,{"$f":"(analysis!BE32-analysis!BD32)","v":-0.25},{"$f":"analysis!BF32-analysis!BD32","v":-0.25},{"$f":"analysis!BG32-analysis!BD32","v":-0.25},{"$f":"analysis!BH32-analysis!BD32","v":-0.25},{"$f":"analysis!BI32-analysis!BD32","v":-0.25},{"$f":"analysis!BJ32-analysis!BD32","v":-0.25},{"$f":"analysis!BK32-analysis!BD32","v":-0.25},{"$f":"analysis!BL32-analysis!BD32","v":-0.25},{"$f":"analysis!BM32-analysis!BD32","v":-0.25},{"$f":"analysis!BN32-analysis!BD32","v":-0.25},-0.25,null,{"$f":"(analysis!CA32-analysis!BZ32)","v":-1.25},{"$f":"analysis!CB32-analysis!BZ32","v":3.75},{"$f":"analysis!CC32-analysis!BZ32","v":3.75},{"$f":"analysis!CD32-analysis!BZ32","v":-1.25},{"$f":"analysis!CE32-analysis!BZ32","v":-1.25},{"$f":"analysis!CF32-analysis!BZ32","v":-1.25},{"$f":"analysis!CG32-analysis!BZ32","v":-1.25},{"$f":"analysis!CH32-analysis!BZ32","v":-1.25},{"$f":"analysis!CI32-analysis!BZ32","v":-1.25},{"$f":"analysis!CJ32-analysis!BZ32","v":1.25},0,null,{"$f":"analysis!ED32","v":"M"},{"$f":"analysis!EE32","v":20},{"$f":"analysis!EF32","v":"F"},1]
[{"$f":"analysis!A34","v":"EF101"},{"$f":"(analysis!M34-analysis!L34)*100/ABS(analysis!L34)","v":-5.319021933775391},{"$f":"((analysis!N34-analysis!L34)*100)/ABS(analysis!L34)","v":-14.050205663059858},{"$f":"((analysis!O34-analysis!L34)*100)/ABS(analysis!L34)","v":-7.435343658089217},{"$f":"((analysis!P34-analysis!L34)*100)/ABS(analysis!L34)","v":-10.31679708273188},{"$f":"((analysis!Q34-analysis!L34)*100)/ABS(analysis!L34)","v":-5.009713374067993},{"$f":"((analysis!R34-analysis!L34)*100)/ABS(analysis!L34)","v":-0.4460555018938189},{"$f":"((analysis!S34-analysis!L34)*100)/ABS(analysis!L34)","v":-1.4390987725333815},{"$f":"((analysis!T34-analysis!L34)*100)/ABS(analysis!L34)","v":-8.862504205511094},{"$f":"((analysis!U34-analysis!L34)*100)/ABS(analysis!L34)","v":-6.317491670374739},{"$f":"((analysis!V34-analysis!L34)*100)/ABS(analysis!L34)","v":-17.002203145179656},-7.619843500721703,null,{"$f":"(analysis!AI34-analysis!AH34)*100/ABS(analysis!AH34)","v":-17.65941687428458},{"$f":"(analysis!AJ34-analysis!AH34)*100/ABS(analysis!AH34)","v":-20.859201400579114},{"$f":"(analysis!AK34-analysis!AH34)*100/ABS(analysis!AH34)","v":-7.343613224698695},{"$f":"(analysis!AL34-analysis!AH34)*100/ABS(analysis!AH34)","v":-11.847013669113222},{"$f":"(analysis!AM34-analysis!AH34)*100/ABS(analysis!AH34)","v":-12.819338765066346},{"$f":"(analysis!AN34-analysis!AH34)*100/ABS(analysis!AH34)","v":-13.76203622651676},{"$f":"(analysis!AO34-analysis!AH34)*100/ABS(analysis!AH34)","v":-15.962561443673852},{"$f":"(analysis!AP34-analysis!AH34)*100/ABS(analysis!AH34)","v":-14.462325769308494},{"$f":"(analysis!AQ34-analysis!AH34)*100/ABS(analysis!AH34)","v":-9.11319103090704},{"$f":"(analysis!AR34-analysis!AH34)*100/ABS(analysis!AH34)","v":-19.604067066190854},-14.343276547033895,null,{"$f":"(analysis!BE33-analysis!BD33)","v":0},{"$f":"analysis!BF33-analysis!BD33","v":0},{"$f":"analysis!BG33-analysis!BD33","v":0},{"$f":"analysis!BH33-analysis!BD33","v":0},{"$f":"analysis!BI33-analysis!BD33","v":0},{"$f":"analysis!BJ33-analysis!BD33","v":0},{"$f":"analysis!BK33-analysis!BD33","v":0},{"$f":"analysis!BL33-analysis!BD33","v":0},{"$f":"analysis!BM33-analysis!BD33","v":0},{"$f":"analysis!BN33-analysis!BD33","v":0},0,null,{"$f":"(analysis!CA33-analysis!BZ33)","v":3.75},{"$f":"analysis!CB33-analysis!BZ33","v":1.25},{"$f":"analysis!CC33-analysis!BZ33","v":-1.25},{"$f":"analysis!CD33-analysis!BZ33","v":-1.25},{"$f":"analysis!CE33-analysis!BZ33","v":-1.25},{"$f":"analysis!CF33-analysis!BZ33","v":-1.25},{"$f":"analysis!CG33-analysis!BZ33","v":-1.25},{"$f":"analysis!CH33-analysis!BZ33","v":1.25},{"$f":"analysis!CI33-analysis!BZ33","v":-1.25},{"$f":"analysis!CJ33-analysis!BZ33","v":-1.25},-0.25,null,{"$f":"analysis!ED33","v":"F"},{"$f":"analysis!EE33","v":21},{"$f":"analysis!EF33","v":"F"},1]
[{"$f":"analysis!A35","v":"EJ101"},{"$f":"(analysis!M35-analysis!L35)*100/ABS(analysis!L35)","v":-15.541029824951002},{"$f":"((analysis!N35-analysis!L35)*100)/ABS(analysis!L35)","v":-11.40377132595032},{"$f":"((analysis!O35-analysis!L35)*100)/ABS(analysis!L35)","v":-17.853453186702858},{"$f":"((analysis!P35-analysis!L35)*100)/ABS(analysis!L35)","v":-20.05484160624114},{"$f":"((analysis!Q35-analysis!L35)*100)/ABS(analysis!L35)","v":-19.089320369601527},{"$f":"((analysis!R35-analysis!L35)*100)/ABS(analysis!L35)","v":-23.767270761120397},{"$f":"((analysis!S35-analysis!L35)*100)/ABS(analysis!L35)","v":-12.026532523582869},{"$f":"((analysis!T35-analysis!L35)*100)/ABS(analysis!L35)","v":-15.845169014492487},{"$f":"((analysis!U35-analysis!L35)*100)/ABS(analysis!L35)","v":-13.682401444419783},{"$f":"((analysis!V35-analysis!L35)*100)/ABS(analysis!L35)","v":-15.922410713423648},-16.518620077048602,null,{"$f":"(analysis!AI35-analysis!AH35)*100/ABS(analysis!AH35)","v":-6.945030364273191},{"$f":"(analysis!AJ35-analysis!AH35)*100/ABS(analysis!AH35)","v":-5.345878013126803},{"$f":"(analysis!AK35-analysis!AH35)*100/ABS(analysis!AH35)","v":-2.468057831104668},{"$f":"(analysis!AL35-analysis!AH35)*100/ABS(analysis!AH35)","v":-1.2122817516768418},{"$f":"(analysis!AM35-analysis!AH35)*100/ABS(analysis!AH35)","v":-13.979338559193183},{"$f":"(analysis!AN35-analysis!AH35)*100/ABS(analysis!AH35)","v":1.1390281470435129},{"$f":"(analysis!AO35-analysis!AH35)*100/ABS(analysis!AH35)","v":-3.8579141690130836},{"$f":"(analysis!AP35-analysis!AH35)*100/ABS(analysis!AH35)","v":13.74911294463138},{"$f":"(analysis!AQ35-analysis!AH35)*100/ABS(analysis!AH35)","v":-2.837596104477974},{"$f":"(analysis!AR35-analysis!AH35)*100/ABS(analysis!AH35)","v":-8.671722473486462},-3.042967817467732,null,{"$f":"(analysis!BE34-analysis!BD34)","v":-0.25},{"$f":"analysis!BF34-analysis!BD34","v":-0.25},{"$f":"analysis!BG34-analysis!BD34","v":-0.25},{"$f":"analysis!BH34-analysis!BD34","v":-0.25},{"$f":"analysis!BI34-analysis!BD34","v":-0.25},{"$f":"analysis!BJ34-analysis!BD34","v":-0.25},{"$f":"analysis!BK34-analysis!BD34","v":-0.25},{"$f":"analysis!BL34-analysis!BD34","v":-0.25},{"$f":"analysis!BM34-analysis!BD34","v":-0.25},{"$f":"analysis!BN34-analysis!BD34","v":-0.25},-0.25,null,{"$f":"(analysis!CA34-analysis!BZ34)","v":1.75},{"$f":"analysis!CB34-analysis!BZ34","v":-0.75},{"$f":"analysis!CC34-analysis!BZ34","v":1.75},{"$f":"analysis!CD34-analysis!BZ34","v":1.75},{"$f":"analysis!CE34-analysis!BZ34","v":1.75},{"$f":"analysis!CF34-analysis!BZ34","v":-0.75},{"$f":"analysis!CG34-analysis!BZ34","v":-0.75},{"$f":"analysis!CH34-analysis!BZ34","v":-0.75},{"$f":"analysis!CI34-analysis!BZ34","v":-0.75},{"$f":"analysis!CJ34-analysis!BZ34","v":-0.75},0.25,null,{"$f":"analysis!ED34","v":"F"},{"$f":"analysis!EE34","v":29},{"$f":"analysis!EF34","v":"F"},2]
[{"$f":"analysis!A36","v":"ER101"},{"$f":"(analysis!M36-analysis!L36)*100/ABS(analysis!L36)","v":-7.501668096463627},{"$f":"((analysis!N36-analysis!L36)*100)/ABS(analysis!L36)","v":-4.76598989610142},{"$f":"((analysis!O36-analysis!L36)*100)/ABS(analysis!L36)","v":1.5727766657134776},{"$f":"((analysis!P36-analysis!L36)*100)/ABS(analysis!L36)","v":-0.5719187875321752},{"$f":"((analysis!Q36-analysis!L36)*100)/ABS(analysis!L36)","v":-0.34315127251929833},{"$f":"((analysis!R36-analysis!L36)*100)/ABS(analysis!L36)","v":-3.3838528262320127},{"$f":"((analysis!S36-analysis!L36)*100)/ABS(analysis!L36)","v":1.420264989038232},{"$f":"((analysis!T36-analysis!L36)*100)/ABS(analysis!L36)","v":-4.756457916309206},{"$f":"((analysis!U36-analysis!L36)*100)/ABS(analysis!L36)","v":0.6481746258697895},{"$f":"((analysis!V36-analysis!L36)*100)/ABS(analysis!L36)","v":0.04765989896102166},-1.7634162615575217,null,{"$f":"(analysis!AI36-analysis!AH36)*100/ABS(analysis!AH36)","v":-10.58337590436147},{"$f":"(analysis!AJ36-analysis!AH36)*100/ABS(analysis!AH36)","v":-17.39037414475896},{"$f":"(analysis!AK36-analysis!AH36)*100/ABS(analysis!AH36)","v":-5.308934676394697},{"$f":"(analysis!AL36-analysis!AH36)*100/ABS(analysis!AH36)","v":-8.59236166598991},{"$f":"(analysis!AM36-analysis!AH36)*100/ABS(analysis!AH36)","v":-0.7680250099332493},{"$f":"(analysis!AN36-analysis!AH36)*100/ABS(analysis!AH36)","v":-2.3049482816586653},{"$f":"(analysis!AO36-analysis!AH36)*100/ABS(analysis!AH36)","v":-12.260019473516468},{"$f":"(analysis!AP36-analysis!AH36)*100/ABS(analysis!AH36)","v":2.1311711617305917},{"$f":"(analysis!AQ36-analysis!AH36)*100/ABS(analysis!AH36)","v":0.21001707207383358},{"$f":"(analysis!AR36-analysis!AH36)*100/ABS(analysis!AH36)","v":-1.1173257535072152},-5.5984176676316215,null,{"$f":"(analysis!BE35-analysis!BD35)","v":0},{"$f":"analysis!BF35-analysis!BD35","v":0},{"$f":"analysis!BG35-analysis!BD35","v":0},{"$f":"analysis!BH35-analysis!BD35","v":0},{"$f":"analysis!BI35-analysis!BD35","v":0},{"$f":"analysis!BJ35-analysis!BD35","v":0},{"$f":"analysis!BK35-analysis!BD35","v":0},{"$f":"analysis!BL35-analysis!BD35","v":2.5},{"$f":"analysis!BM35-analysis!BD35","v":0},{"$f":"analysis!BN35-analysis!BD35","v":0},0.25,null,{"$f":"(analysis!CA35-analysis!BZ35)","v":-0.5},{"$f":"analysis!CB35-analysis!BZ35","v":-0.5},{"$f":"analysis!CC35-analysis!BZ35","v":4.5},{"$f":"analysis!CD35-analysis!BZ35","v":2},{"$f":"analysis!CE35-analysis!BZ35","v":-0.5},{"$f":"analysis!CF35-analysis!BZ35","v":-0.5},{"$f":"analysis!CG35-analysis!BZ35","v":-0.5},{"$f":"analysis!CH35-analysis!BZ35","v":2},{"$f":"analysis!CI35-analysis!BZ35","v":4.5},{"$f":"analysis!CJ35-analysis!BZ35","v":-0.5},1,null,{"$f":"analysis!ED35","v":"F"},{"$f":"analysis!EE35","v":27},{"$f":"analysis!EF35","v":"F"},2]
[{"$f":"analysis!A37","v":"FA101"},{"$f":"(analysis!M37-analysis!L37)*100/ABS(analysis!L37)","v":-8.755410433594038},{"$f":"((analysis!N37-analysis!L37)*100)/ABS(analysis!L37)","v":-17.346293061989},{"$f":"((analysis!O37-analysis!L37)*100)/ABS(analysis!L37)","v":-8.876907889741055},{"$f":"((analysis!P37-analysis!L37)*100)/ABS(analysis!L37)","v":-2.3970435619004116},{"$f":"((analysis!Q37-analysis!L37)*100)/ABS(analysis!L37)","v":-7.343002505885024},{"$f":"((analysis!R37-analysis!L37)*100)/ABS(analysis!L37)","v":-11.752347685220343},{"$f":"((analysis!S37-analysis!L37)*100)/ABS(analysis!L37)","v":-3.69301642746854},{"$f":"((analysis!T37-analysis!L37)*100)/ABS(analysis!L37)","v":-4.052446401903458},{"$f":"((analysis!U37-analysis!L37)*100)/ABS(analysis!L37)","v":-5.191485053281684},{"$f":"((analysis!V37-analysis!L37)*100)/ABS(analysis!L37)","v":-8.390918065153006},-7.779887108613655,null,{"$f":"(analysis!AI37-analysis!AH37)*100/ABS(analysis!AH37)","v":-16.303007533283235},{"$f":"(analysis!AJ37-analysis!AH37)*100/ABS(analysis!AH37)","v":-18.55962083116582},{"$f":"(analysis!AK37-analysis!AH37)*100/ABS(analysis!AH37)","v":-9.135791765408547},{"$f":"(analysis!AL37-analysis!AH37)*100/ABS(analysis!AH37)","v":-6.38065237076855},{"$f":"(analysis!AM37-analysis!AH37)*100/ABS(analysis!AH37)","v":-0.6608481205325318},{"$f":"(analysis!AN37-analysis!AH37)*100/ABS(analysis!AH37)","v":5.930774714371044},{"$f":"(analysis!AO37-analysis!AH37)*100/ABS(analysis!AH37)","v":8.608847272797343},{"$f":"(analysis!AP37-analysis!AH37)*100/ABS(analysis!AH37)","v":-1.698842070785883},{"$f":"(analysis!AQ37-analysis!AH37)*100/ABS(analysis!AH37)","v":-4.398589676897289},{"$f":"(analysis!AR37-analysis!AH37)*100/ABS(analysis!AH37)","v":-9.350133903627913},-5.194786428530138,null,{"$f":"(analysis!BE36-analysis!BD36)","v":0},{"$f":"analysis!BF36-analysis!BD36","v":0},{"$f":"analysis!BG36-analysis!BD36","v":0},{"$f":"analysis!BH36-analysis!BD36","v":0},{"$f":"analysis!BI36-analysis!BD36","v":0},{"$f":"analysis!BJ36-analysis!BD36","v":0},{"$f":"analysis!BK36-analysis!BD36","v":0},{"$f":"analysis!BL36-analysis!BD36","v":0},{"$f":"analysis!BM36-analysis!BD36","v":0},{"$f":"analysis!BN36-analysis!BD36","v":0},0,null,{"$f":"(analysis!CA36-analysis!BZ36)","v":-1.5},{"$f":"analysis!CB36-analysis!BZ36","v":-1.5},{"$f":"analysis!CC36-analysis!BZ36","v":-1.5},{"$f":"analysis!CD36-analysis!BZ36","v":3.5},{"$f":"analysis!CE36-analysis!BZ36","v":-1.5},{"$f":"analysis!CF36-analysis!BZ36","v":1},{"$f":"analysis!CG36-analysis!BZ36","v":-1.5},{"$f":"analysis!CH36-analysis!BZ36","v":1},{"$f":"analysis!CI36-analysis!BZ36","v":-1.5},{"$f":"analysis!CJ36-analysis!BZ36","v":-1.5},-0.5,null,{"$f":"analysis!ED36","v":"M"},{"$f":"analysis!EE36","v":23},{"$f":"analysis!EF36","v":"F"},1]
[{"$f":"analysis!A38","v":"GH101"},{"$f":"(analysis!M38-analysis!L38)*100/ABS(analysis!L38)","v":-8.312921467235162},{"$f":"((analysis!N38-analysis!L38)*100)/ABS(analysis!L38)","v":-11.052647494632419},{"$f":"((analysis!O38-analysis!L38)*100)/ABS(analysis!L38)","v":-14.554416523027596},{"$f":"((analysis!P38-analysis!L38)*100)/ABS(analysis!L38)","v":-15.219692158819422},{"$f":"((analysis!Q38-analysis!L38)*100)/ABS(analysis!L38)","v":-19.392784783331816},{"$f":"((analysis!R38-analysis!L38)*100)/ABS(analysis!L38)","v":-16.87683328797362},{"$f":"((analysis!S38-analysis!L38)*100)/ABS(analysis!L38)","v":-14.457649157821512},{"$f":"((analysis!T38-analysis!L38)*100)/ABS(analysis!L38)","v":-23.075992621488396},{"$f":"((analysis!U38-analysis!L38)*100)/ABS(analysis!L38)","v":-19.63470319634702},{"$f":"((analysis!V38-analysis!L38)*100)/ABS(analysis!L38)","v":-20.644712570685524},-16.322235326136248,null,{"$f":"(analysis!AI38-analysis!AH38)*100/ABS(analysis!AH38)","v":-6.3244580136074005},{"$f":"(analysis!AJ38-analysis!AH38)*100/ABS(analysis!AH38)","v":12.286081843795595},{"$f":"(analysis!AK38-analysis!AH38)*100/ABS(analysis!AH38)","v":-9.241626729237801},{"$f":"(analysis!AL38-analysis!AH38)*100/ABS(analysis!AH38)","v":-15.784872396517505},{"$f":"(analysis!AM38-analysis!AH38)*100/ABS(analysis!AH38)","v":-7.465958815375816},{"$f":"(analysis!AN38-analysis!AH38)*100/ABS(analysis!AH38)","v":-6.086645346572305},{"$f":"(analysis!AO38-analysis!AH38)*100/ABS(analysis!AH38)","v":-19.578550656362943},{"$f":"(analysis!AP38-analysis!AH38)*100/ABS(analysis!AH38)","v":8.31800762812443},{"$f":"(analysis!AQ38-analysis!AH38)*100/ABS(analysis!AH38)","v":-15.241300586151585},{"$f":"(analysis!AR38-analysis!AH38)*100/ABS(analysis!AH38)","v":-3.2985749359038135},-6.241789800780914,null,{"$f":"(analysis!BE37-analysis!BD37)","v":0},{"$f":"analysis!BF37-analysis!BD37","v":0},{"$f":"analysis!BG37-analysis!BD37","v":0},{"$f":"analysis!BH37-analysis!BD37","v":0},{"$f":"analysis!BI37-analysis!BD37","v":0},{"$f":"analysis!BJ37-analysis!BD37","v":0},{"$f":"analysis!BK37-analysis!BD37","v":0},{"$f":"analysis!BL37-analysis!BD37","v":0},{"$f":"analysis!BM37-analysis!BD37","v":0},{"$f":"analysis!BN37-analysis!BD37","v":0},0,null,{"$f":"(analysis!CA37-analysis!BZ37)","v":-1.75},{"$f":"analysis!CB37-analysis!BZ37","v":-1.75},{"$f":"analysis!CC37-analysis!BZ37","v":-1.75},{"$f":"analysis!CD37-analysis!BZ37","v":3.25},{"$f":"analysis!CE37-analysis!BZ37","v":3.25},{"$f":"analysis!CF37-analysis!BZ37","v":-1.75},{"$f":"analysis!CG37-analysis!BZ37","v":3.25},{"$f":"analysis!CH37-analysis!BZ37","v":3.25},{"$f":"analysis!CI37-analysis!BZ37","v":3.25},{"$f":"analysis!CJ37-analysis!BZ37","v":-1.75},0.75,null,{"$f":"analysis!ED37","v":"M"},{"$f":"analysis!EE37","v":20},{"$f":"analysis!EF37","v":"F"},1]
[{"$f":"analysis!A39","v":"GS101"},{"$f":"(analysis!M39-analysis!L39)*100/ABS(analysis!L39)","v":-8.318727248213563},{"$f":"((analysis!N39-analysis!L39)*100)/ABS(analysis!L39)","v":-3.4366285134435066},{"$f":"((analysis!O39-analysis!L39)*100)/ABS(analysis!L39)","v":-5.714468184753369},{"$f":"((analysis!P39-analysis!L39)*100)/ABS(analysis!L39)","v":1.1687233453730042},{"$f":"((analysis!Q39-analysis!L39)*100)/ABS(analysis!L39)","v":-10.369492559766678},{"$f":"((analysis!R39-analysis!L39)*100)/ABS(analysis!L39)","v":-3.4437245871859137},{"$f":"((analysis!S39-analysis!L39)*100)/ABS(analysis!L39)","v":-5.01905295799834},{"$f":"((analysis!T39-analysis!L39)*100)/ABS(analysis!L39)","v":-9.177352171043765},{"$f":"((analysis!U39-analysis!L39)*100)/ABS(analysis!L39)","v":-8.716107377787862},{"$f":"((analysis!V39-analysis!L39)*100)/ABS(analysis!L39)","v":-3.7204714631394467},-5.674730171795945,null,{"$f":"(analysis!AI39-analysis!AH39)*100/ABS(analysis!AH39)","v":-15.31569750411603},{"$f":"(analysis!AJ39-analysis!AH39)*100/ABS(analysis!AH39)","v":4.39582638909932},{"$f":"(analysis!AK39-analysis!AH39)*100/ABS(analysis!AH39)","v":-8.767916123753828},{"$f":"(analysis!AL39-analysis!AH39)*100/ABS(analysis!AH39)","v":-9.755259941617929},{"$f":"(analysis!AM39-analysis!AH39)*100/ABS(analysis!AH39)","v":-14.608648222781119},{"$f":"(analysis!AN39-analysis!AH39)*100/ABS(analysis!AH39)","v":-11.982465177822887},{"$f":"(analysis!AO39-analysis!AH39)*100/ABS(analysis!AH39)","v":-1.6191428542569362},{"$f":"(analysis!AP39-analysis!AH39)*100/ABS(analysis!AH39)","v":-6.101330262719302},{"$f":"(analysis!AQ39-analysis!AH39)*100/ABS(analysis!AH39)","v":-15.659121440764421},{"$f":"(analysis!AR39-analysis!AH39)*100/ABS(analysis!AH39)","v":-13.335959516378288},-9.274971465511143,null,{"$f":"(analysis!BE38-analysis!BD38)","v":0},{"$f":"analysis!BF38-analysis!BD38","v":0},{"$f":"analysis!BG38-analysis!BD38","v":0},{"$f":"analysis!BH38-analysis!BD38","v":0},{"$f":"analysis!BI38-analysis!BD38","v":0},{"$f":"analysis!BJ38-analysis!BD38","v":0},{"$f":"analysis!BK38-analysis!BD38","v":0},{"$f":"analysis!BL38-analysis!BD38","v":0},{"$f":"analysis!BM38-analysis!BD38","v":0},{"$f":"analysis!BN38-analysis!BD38","v":0},0,null,{"$f":"(analysis!CA38-analysis!BZ38)","v":-0.25},{"$f":"analysis!CB38-analysis!BZ38","v":-0.25},{"$f":"analysis!CC38-analysis!BZ38","v":-0.25},{"$f":"analysis!CD38-analysis!BZ38","v":-0.25},{"$f":"analysis!CE38-analysis!BZ38","v":-0.25},{"$f":"analysis!CF38-analysis!BZ38","v":-0.25},{"$f":"analysis!CG38-analysis!BZ38","v":-0.25},{"$f":"analysis!CH38-analysis!BZ38","v":-0.25},{"$f":"analysis!CI38-analysis!BZ38","v":-0.25},{"$f":"analysis!CJ38-analysis!BZ38","v":-0.25},-0.25,null,{"$f":"analysis!ED38","v":"M"},{"$f":"analysis!EE38","v":25},{"$f":"analysis!EF38","v":"F"},1]
[{"$f":"analysis!A40","v":"HR101"},{"$f":"(analysis!M40-analysis!L40)*100/ABS(analysis!L40)","v":10.956245284431569},{"$f":"((analysis!N40-analysis!L40)*100)/ABS(analysis!L40)","v":-4.254522626089269},{"$f":"((analysis!O40-analysis!L40)*100)/ABS(analysis!L40)","v":-1.8182655923329876},{"$f":"((analysis!P40-analysis!L40)*100)/ABS(analysis!L40)","v":-24.343564077015674},{"$f":"((analysis!Q40-analysis!L40)*100)/ABS(analysis!L40)","v":-22.316229618665304},{"$f":"((analysis!R40-analysis!L40)*100)/ABS(analysis!L40)","v":-17.48403186140405},{"$f":"((analysis!S40-analysis!L40)*100)/ABS(analysis!L40)","v":-21.440789738923094},{"$f":"((analysis!T40-analysis!L40)*100)/ABS(analysis!L40)","v":-17.714410777125675},{"$f":"((analysis!U40-analysis!L40)*100)/ABS(analysis!L40)","v":-18.17516860856894},{"$f":"((analysis!V40-analysis!L40)*100)/ABS(analysis!L40)","v":11.497635736377417},-10.5093101879316,null,{"$f":"(analysis!AI40-analysis!AH40)*100/ABS(analysis!AH40)","v":5.517057150489496},{"$f":"(analysis!AJ40-analysis!AH40)*100/ABS(analysis!AH40)","v":-7.556686937255453},{"$f":"(analysis!AK40-analysis!AH40)*100/ABS(analysis!AH40)","v":-11.126824745831952},{"$f":"(analysis!AL40-analysis!AH40)*100/ABS(analysis!AH40)","v":-4.690519964172901},{"$f":"(analysis!AM40-analysis!AH40)*100/ABS(analysis!AH40)","v":-8.436650481622893},{"$f":"(analysis!AN40-analysis!AH40)*100/ABS(analysis!AH40)","v":-5.067647197473239},{"$f":"(analysis!AO40-analysis!AH40)*100/ABS(analysis!AH40)","v":-8.58435864799886},{"$f":"(analysis!AP40-analysis!AH40)*100/ABS(analysis!AH40)","v":-3.5842800798252625},{"$f":"(analysis!AQ40-analysis!AH40)*100/ABS(analysis!AH40)","v":4.489385439746067},{"$f":"(analysis!AR40-analysis!AH40)*100/ABS(analysis!AH40)","v":-9.869733968164175},-4.891025943210917,null,{"$f":"(analysis!BE39-analysis!BD39)","v":0},{"$f":"analysis!BF39-analysis!BD39","v":0},{"$f":"analysis!BG39-analysis!BD39","v":0},{"$f":"analysis!BH39-analysis!BD39","v":0},{"$f":"analysis!BI39-analysis!BD39","v":0},{"$f":"analysis!BJ39-analysis!BD39","v":0},{"$f":"analysis!BK39-analysis!BD39","v":0},{"$f":"analysis!BL39-analysis!BD39","v":0},{"$f":"analysis!BM39-analysis!BD39","v":0},{"$f":"analysis!BN39-analysis!BD39","v":0},0,null,{"$f":"(analysis!CA39-analysis!BZ39)","v":1.25},{"$f":"analysis!CB39-analysis!BZ39","v":-1.25},{"$f":"analysis!CC39-analysis!BZ39","v":-1.25},{"$f":"analysis!CD39-analysis!BZ39","v":1.25},{"$f":"analysis!CE39-analysis!BZ39","v":-1.25},{"$f":"analysis!CF39-analysis!BZ39","v":-1.25},{"$f":"analysis!CG39-analysis!BZ39","v":-1.25},{"$f":"analysis!CH39-analysis!BZ39","v":1.25},{"$f":"analysis!CI39-analysis!BZ39","v":-1.25},{"$f":"analysis!CJ39-analysis!BZ39","v":-1.25},-0.5,null,{"$f":"analysis!ED39","v":"F"},{"$f":"analysis!EE39","v":25},{"$f":"analysis!EF39","v":"F"},1]
[{"$f":"analysis!A41","v":"IF101"},{"$f":"(analysis!M41-analysis!L41)*100/ABS(analysis!L41)","v":-5.550453449661361},{"$f":"((analysis!N41-analysis!L41)*100)/ABS(analysis!L41)","v":-8.345769716450468},{"$f":"((analysis!O41-analysis!L41)*100)/ABS(analysis!L41)","v":-7.921019400757656},{"$f":"((analysis!P41-analysis!L41)*100)/ABS(analysis!L41)","v":-9.809436344851346},{"$f":"((analysis!Q41-analysis!L41)*100)/ABS(analysis!L41)","v":-16.31844793938698},{"$f":"((analysis!R41-analysis!L41)*100)/ABS(analysis!L41)","v":-11.795431064171735},{"$f":"((analysis!S41-analysis!L41)*100)/ABS(analysis!L41)","v":-6.692687406727129},{"$f":"((analysis!T41-analysis!L41)*100)/ABS(analysis!L41)","v":-12.24888072551946},{"$f":"((analysis!U41-analysis!L41)*100)/ABS(analysis!L41)","v":-2.789576397658137},{"$f":"((analysis!V41-analysis!L41)*100)/ABS(analysis!L41)","v":-7.932499139019639},-8.940420158420391,null,{"$f":"(analysis!AI41-analysis!AH41)*100/ABS(analysis!AH41)","v":-22.465229967871732},{"$f":"(analysis!AJ41-analysis!AH41)*100/ABS(analysis!AH41)","v":-22.8921835473438},{"$f":"(analysis!AK41-analysis!AH41)*100/ABS(analysis!AH41)","v":-15.92750328220563},{"$f":"(analysis!AL41-analysis!AH41)*100/ABS(analysis!AH41)","v":-24.917544589964443},{"$f":"(analysis!AM41-analysis!AH41)*100/ABS(analysis!AH41)","v":-23.231077951049766},{"$f":"(analysis!AN41-analysis!AH41)*100/ABS(analysis!AH41)","v":-18.985558295174346},{"$f":"(analysis!AO41-analysis!AH41)*100/ABS(analysis!AH41)","v":-25.12835291982878},{"$f":"(analysis!AP41-analysis!AH41)*100/ABS(analysis!AH41)","v":-29.50195864954582},{"$f":"(analysis!AQ41-analysis!AH41)*100/ABS(analysis!AH41)","v":-11.778048181711432},{"$f":"(analysis!AR41-analysis!AH41)*100/ABS(analysis!AH41)","v":-13.520552477931822},-20.834800986262756,null,{"$f":"(analysis!BE40-analysis!BD40)","v":0},{"$f":"analysis!BF40-analysis!BD40","v":0},{"$f":"analysis!BG40-analysis!BD40","v":0},{"$f":"analysis!BH40-analysis!BD40","v":0},{"$f":"analysis!BI40-analysis!BD40","v":0},{"$f":"analysis!BJ40-analysis!BD40","v":0},{"$f":"analysis!BK40-analysis!BD40","v":0},{"$f":"analysis!BL40-analysis!BD40","v":0},{"$f":"analysis!BM40-analysis!BD40","v":0},{"$f":"analysis!BN40-analysis!BD40","v":0},0,null,{"$f":"(analysis!CA40-analysis!BZ40)","v":6},{"$f":"analysis!CB40-analysis!BZ40","v":1},{"$f":"analysis!CC40-analysis!BZ40","v":1},{"$f":"analysis!CD40-analysis!BZ40","v":3.5},{"$f":"analysis!CE40-analysis!BZ40","v":-1.5},{"$f":"analysis!CF40-analysis!BZ40","v":-1.5},{"$f":"analysis!CG40-analysis!BZ40","v":1},{"$f":"analysis!CH40-analysis!BZ40","v":1},{"$f":"analysis!CI40-analysis!BZ40","v":-1.5},{"$f":"analysis!CJ40-analysis!BZ40","v":-1.5},0.75,null,{"$f":"analysis!ED40","v":"M"},{"$f":"analysis!EE40","v":16},{"$f":"analysis!EF40","v":"T"},1]
[{"$f":"analysis!A42","v":"IG101"},{"$f":"(analysis!M42-analysis!L42)*100/ABS(analysis!L42)","v":-19.0224877697597},{"$f":"((analysis!N42-analysis!L42)*100)/ABS(analysis!L42)","v":-13.246073001638251},{"$f":"((analysis!O42-analysis!L42)*100)/ABS(analysis!L42)","v":-10.525092541679175},{"$f":"((analysis!P42-analysis!L42)*100)/ABS(analysis!L42)","v":-10.343693844348572},{"$f":"((analysis!Q42-analysis!L42)*100)/ABS(analysis!L42)","v":-13.38212202463621},{"$f":"((analysis!R42-analysis!L42)*100)/ABS(analysis!L42)","v":-14.119054232541785},{"$f":"((analysis!S42-analysis!L42)*100)/ABS(analysis!L42)","v":-11.794883422993411},{"$f":"((analysis!T42-analysis!L42)*100)/ABS(analysis!L42)","v":-19.561015152459934},{"$f":"((analysis!U42-analysis!L42)*100)/ABS(analysis!L42)","v":-14.787961928948393},{"$f":"((analysis!V42-analysis!L42)*100)/ABS(analysis!L42)","v":-6.897118595067086},-13.367950251407251,null,{"$f":"(analysis!AI42-analysis!AH42)*100/ABS(analysis!AH42)","v":-4.768878825779664},{"$f":"(analysis!AJ42-analysis!AH42)*100/ABS(analysis!AH42)","v":-24.26208476249338},{"$f":"(analysis!AK42-analysis!AH42)*100/ABS(analysis!AH42)","v":4.744860149794506},{"$f":"(analysis!AL42-analysis!AH42)*100/ABS(analysis!AH42)","v":-10.10864057223032},{"$f":"(analysis!AM42-analysis!AH42)*100/ABS(analysis!AH42)","v":-16.250977589403675},{"$f":"(analysis!AN42-analysis!AH42)*100/ABS(analysis!AH42)","v":-18.046520074633655},{"$f":"(analysis!AO42-analysis!AH42)*100/ABS(analysis!AH42)","v":-1.5351448882692322},{"$f":"(analysis!AP42-analysis!AH42)*100/ABS(analysis!AH42)","v":-20.117398601644414},{"$f":"(analysis!AQ42-analysis!AH42)*100/ABS(analysis!AH42)","v":-9.830375423622087},{"$f":"(analysis!AR42-analysis!AH42)*100/ABS(analysis!AH42)","v":-4.719084009712919},-10.489424459799483,null,{"$f":"(analysis!BE41-analysis!BD41)","v":0},{"$f":"analysis!BF41-analysis!BD41","v":0},{"$f":"analysis!BG41-analysis!BD41","v":0},{"$f":"analysis!BH41-analysis!BD41","v":0},{"$f":"analysis!BI41-analysis!BD41","v":0},{"$f":"analysis!BJ41-analysis!BD41","v":0},{"$f":"analysis!BK41-analysis!BD41","v":0},{"$f":"analysis!BL41-analysis!BD41","v":0},{"$f":"analysis!BM41-analysis!BD41","v":0},{"$f":"analysis!BN41-analysis!BD41","v":0},0,null,{"$f":"(analysis!CA41-analysis!BZ41)","v":-1.75},{"$f":"analysis!CB41-analysis!BZ41","v":-1.75},{"$f":"analysis!CC41-analysis!BZ41","v":0.75},{"$f":"analysis!CD41-analysis!BZ41","v":-1.75},{"$f":"analysis!CE41-analysis!BZ41","v":0.75},{"$f":"analysis!CF41-analysis!BZ41","v":-1.75},{"$f":"analysis!CG41-analysis!BZ41","v":-1.75},{"$f":"analysis!CH41-analysis!BZ41","v":-1.75},{"$f":"analysis!CI41-analysis!BZ41","v":-1.75},{"$f":"analysis!CJ41-analysis!BZ41","v":-1.75},-1.25,null,{"$f":"analysis!ED41","v":"F"},{"$f":"analysis!EE41","v":19.53},{"$f":"analysis!EF41","v":"F"},1]
[{"$f":"analysis!A43","v":"IH101"},{"$f":"(analysis!M43-analysis!L43)*100/ABS(analysis!L43)","v":-7.586962476033949},{"$f":"((analysis!N43-analysis!L43)*100)/ABS(analysis!L43)","v":-6.661797376669994},{"$f":"((analysis!O43-analysis!L43)*100)/ABS(analysis!L43)","v":-4.221065765847998},{"$f":"((analysis!P43-analysis!L43)*100)/ABS(analysis!L43)","v":-10.356371161629982},{"$f":"((analysis!Q43-analysis!L43)*100)/ABS(analysis!L43)","v":-15.761283057914106},{"$f":"((analysis!R43-analysis!L43)*100)/ABS(analysis!L43)","v":3.8132627286284047},{"$f":"((analysis!S43-analysis!L43)*100)/ABS(analysis!L43)","v":-15.761283057914106},{"$f":"((analysis!T43-analysis!L43)*100)/ABS(analysis!L43)","v":-14.105724459052299},{"$f":"((analysis!U43-analysis!L43)*100)/ABS(analysis!L43)","v":-14.592653458717535},{"$f":"((analysis!V43-analysis!L43)*100)/ABS(analysis!L43)","v":-9.674670562098651},-9.490854864725023,null,{"$f":"(analysis!AI43-analysis!AH43)*100/ABS(analysis!AH43)","v":-16.755497161555812},{"$f":"(analysis!AJ43-analysis!AH43)*100/ABS(analysis!AH43)","v":-18.66741862713503},{"$f":"(analysis!AK43-analysis!AH43)*100/ABS(analysis!AH43)","v":-14.747514811968564},{"$f":"(analysis!AL43-analysis!AH43)*100/ABS(analysis!AH43)","v":-13.061801234537294},{"$f":"(analysis!AM43-analysis!AH43)*100/ABS(analysis!AH43)","v":-8.649198046555442},{"$f":"(analysis!AN43-analysis!AH43)*100/ABS(analysis!AH43)","v":-22.43238553261112},{"$f":"(analysis!AO43-analysis!AH43)*100/ABS(analysis!AH43)","v":-17.523984233620073},{"$f":"(analysis!AP43-analysis!AH43)*100/ABS(analysis!AH43)","v":2.332730112298274},{"$f":"(analysis!AQ43-analysis!AH43)*100/ABS(analysis!AH43)","v":5.927266417114942},{"$f":"(analysis!AR43-analysis!AH43)*100/ABS(analysis!AH43)","v":-1.237016286967948},-10.481481940553806,null,{"$f":"(analysis!BE42-analysis!BD42)","v":0},{"$f":"analysis!BF42-analysis!BD42","v":0},{"$f":"analysis!BG42-analysis!BD42","v":0},{"$f":"analysis!BH42-analysis!BD42","v":0},{"$f":"analysis!BI42-analysis!BD42","v":0},{"$f":"analysis!BJ42-analysis!BD42","v":0},{"$f":"analysis!BK42-analysis!BD42","v":0},{"$f":"analysis!BL42-analysis!BD42","v":0},{"$f":"analysis!BM42-analysis!BD42","v":0},{"$f":"analysis!BN42-analysis!BD42","v":0},0,null,{"$f":"(analysis!CA42-analysis!BZ42)","v":4},{"$f":"analysis!CB42-analysis!BZ42","v":-1},{"$f":"analysis!CC42-analysis!BZ42","v":4},{"$f":"analysis!CD42-analysis!BZ42","v":-3.5},{"$f":"analysis!CE42-analysis!BZ42","v":-1},{"$f":"analysis!CF42-analysis!BZ42","v":-3.5},{"$f":"analysis!CG42-analysis!BZ42","v":-1},{"$f":"analysis!CH42-analysis!BZ42","v":-3.5},{"$f":"analysis!CI42-analysis!BZ42","v":-3.5},{"$f":"analysis!CJ42-analysis!BZ42","v":-1},-1,null,{"$f":"analysis!ED42","v":"F"},{"$f":"analysis!EE42","v":33},{"$f":"analysis!EF42","v":"T"},2]
[{"$f":"analysis!A44","v":"IOD101"},{"$f":"(analysis!M44-analysis!L44)*100/ABS(analysis!L44)","v":-0.9423315652860775},{"$f":"((analysis!N44-analysis!L44)*100)/ABS(analysis!L44)","v":-9.561561900462689},{"$f":"((analysis!O44-analysis!L44)*100)/ABS(analysis!L44)","v":-3.0207275326336314},{"$f":"((analysis!P44-analysis!L44)*100)/ABS(analysis!L44)","v":-9.716736260015793},{"$f":"((analysis!Q44-analysis!L44)*100)/ABS(analysis!L44)","v":-7.083474400932909},{"$f":"((analysis!R44-analysis!L44)*100)/ABS(analysis!L44)","v":-18.78268066057254},{"$f":"((analysis!S44-analysis!L44)*100)/ABS(analysis!L44)","v":-4.948651393747879},{"$f":"((analysis!T44-analysis!L44)*100)/ABS(analysis!L44)","v":-12.918970770793361},{"$f":"((analysis!U44-analysis!L44)*100)/ABS(analysis!L44)","v":-13.365684836173486},{"$f":"((analysis!V44-analysis!L44)*100)/ABS(analysis!L44)","v":-16.11180077493134},-9.64526200955497,null,{"$f":"(analysis!AI44-analysis!AH44)*100/ABS(analysis!AH44)","v":-8.999546885710629},{"$f":"(analysis!AJ44-analysis!AH44)*100/ABS(analysis!AH44)","v":-4.938945754086728},{"$f":"(analysis!AK44-analysis!AH44)*100/ABS(analysis!AH44)","v":3.75155394964623},{"$f":"(analysis!AL44-analysis!AH44)*100/ABS(analysis!AH44)","v":5.424591325765947},{"$f":"(analysis!AM44-analysis!AH44)*100/ABS(analysis!AH44)","v":-5.752227811922704},{"$f":"(analysis!AN44-analysis!AH44)*100/ABS(analysis!AH44)","v":-3.567984570877513},{"$f":"(analysis!AO44-analysis!AH44)*100/ABS(analysis!AH44)","v":2.9847451522580393},{"$f":"(analysis!AP44-analysis!AH44)*100/ABS(analysis!AH44)","v":0.5681356089740041},{"$f":"(analysis!AQ44-analysis!AH44)*100/ABS(analysis!AH44)","v":12.932927466858768},{"$f":"(analysis!AR44-analysis!AH44)*100/ABS(analysis!AH44)","v":13.583553113127538},1.5986801594032953,null,{"$f":"(analysis!BE43-analysis!BD43)","v":0},{"$f":"analysis!BF43-analysis!BD43","v":0},{"$f":"analysis!BG43-analysis!BD43","v":0},{"$f":"analysis!BH43-analysis!BD43","v":0},{"$f":"analysis!BI43-analysis!BD43","v":0},{"$f":"analysis!BJ43-analysis!BD43","v":0},{"$f":"analysis!BK43-analysis!BD43","v":0},{"$f":"analysis!BL43-analysis!BD43","v":0},{"$f":"analysis!BM43-analysis!BD43","v":0},{"$f":"analysis!BN43-analysis!BD43","v":0},0,null,{"$f":"(analysis!CA43-analysis!BZ43)","v":-3.25},{"$f":"analysis!CB43-analysis!BZ43","v":-3.25},{"$f":"analysis!CC43-analysis!BZ43","v":-3.25},{"$f":"analysis!CD43-analysis!BZ43","v":-0.75},{"$f":"analysis!CE43-analysis!BZ43","v":1.75},{"$f":"analysis!CF43-analysis!BZ43","v":-3.25},{"$f":"analysis!CG43-analysis!BZ43","v":-0.75},{"$f":"analysis!CH43-analysis!BZ43","v":4.25},{"$f":"analysis!CI43-analysis!BZ43","v":4.25},{"$f":"analysis!CJ43-analysis!BZ43","v":1.75},-0.25,null,{"$f":"analysis!ED43","v":"F"},{"$f":"analysis!EE43","v":21},{"$f":"analysis!EF43","v":"F"},1]
[{"$f":"analysis!A45","v":"JB101"},{"$f":"(analysis!M45-analysis!L45)*100/ABS(analysis!L45)","v":-9.91266697270063},{"$f":"((analysis!N45-analysis!L45)*100)/ABS(analysis!L45)","v":-7.736425409887154},{"$f":"((analysis!O45-analysis!L45)*100)/ABS(analysis!L45)","v":5.768740330176655},{"$f":"((analysis!P45-analysis!L45)*100)/ABS(analysis!L45)","v":-7.696754339731712},{"$f":"((analysis!Q45-analysis!L45)*100)/ABS(analysis!L45)","v":-11.595853806439177},{"$f":"((analysis!R45-analysis!L45)*100)/ABS(analysis!L45)","v":-2.7492051617729523},{"$f":"((analysis!S45-analysis!L45)*100)/ABS(analysis!L45)","v":0.42448045066335427},{"$f":"((analysis!T45-analysis!L45)*100)/ABS(analysis!L45)","v":-11.187808513411655},{"$f":"((analysis!U45-analysis!L45)*100)/ABS(analysis!L45)","v":-11.046126119999318},{"$f":"((analysis!V45-analysis!L45)*100)/ABS(analysis!L45)","v":-11.771539974270476},-6.750315951737306,null,{"$f":"(analysis!AI45-analysis!AH45)*100/ABS(analysis!AH45)","v":-10.5339238198709},{"$f":"(analysis!AJ45-analysis!AH45)*100/ABS(analysis!AH45)","v":-5.380977371843847},{"$f":"(analysis!AK45-analysis!AH45)*100/ABS(analysis!AH45)","v":-10.067427178953617},{"$f":"(analysis!AL45-analysis!AH45)*100/ABS(analysis!AH45)","v":-10.312951726804823},{"$f":"(analysis!AM45-analysis!AH45)*100/ABS(analysis!AH45)","v":-6.188139322904661},{"$f":"(analysis!AN45-analysis!AH45)*100/ABS(analysis!AH45)","v":-12.15745489253696},{"$f":"(analysis!AO45-analysis!AH45)*100/ABS(analysis!AH45)","v":-15.837254053456824},{"$f":"(analysis!AP45-analysis!AH45)*100/ABS(analysis!AH45)","v":-18.071527438902734},{"$f":"(analysis!AQ45-analysis!AH45)*100/ABS(analysis!AH45)","v":-15.714491779531214},{"$f":"(analysis!AR45-analysis!AH45)*100/ABS(analysis!AH45)","v":-0.8848090893187385},-10.514895667412432,null,{"$f":"(analysis!BE44-analysis!BD44)","v":0},{"$f":"analysis!BF44-analysis!BD44","v":0},{"$f":"analysis!BG44-analysis!BD44","v":0},{"$f":"analysis!BH44-analysis!BD44","v":0},{"$f":"analysis!BI44-analysis!BD44","v":0},{"$f":"analysis!BJ44-analysis!BD44","v":0},{"$f":"analysis!BK44-analysis!BD44","v":0},{"$f":"analysis!BL44-analysis!BD44","v":0},{"$f":"analysis!BM44-analysis!BD44","v":0},{"$f":"analysis!BN44-analysis!BD44","v":0},0,null,{"$f":"(analysis!CA44-analysis!BZ44)","v":-2},{"$f":"analysis!CB44-analysis!BZ44","v":-2},{"$f":"analysis!CC44-analysis!BZ44","v":-2},{"$f":"analysis!CD44-analysis!BZ44","v":3},{"$f":"analysis!CE44-analysis!BZ44","v":-2},{"$f":"analysis!CF44-analysis!BZ44","v":5.5},{"$f":"analysis!CG44-analysis!BZ44","v":3},{"$f":"analysis!CH44-analysis!BZ44","v":0.5},{"$f":"analysis!CI44-analysis!BZ44","v":0.5},{"$f":"analysis!CJ44-analysis!BZ44","v":3},0.75,null,{"$f":"analysis!ED44","v":"F"},{"$f":"analysis!EE44","v":19},{"$f":"analysis!EF44","v":"F"},1]
[{"$f":"analysis!A46","v":"JC102"},{"$f":"(analysis!M46-analysis!L46)*100/ABS(analysis!L46)","v":3.234930175004416},{"$f":"((analysis!N46-analysis!L46)*100)/ABS(analysis!L46)","v":-5.7215249543338675},{"$f":"((analysis!O46-analysis!L46)*100)/ABS(analysis!L46)","v":-13.839949194377342},{"$f":"((analysis!P46-analysis!L46)*100)/ABS(analysis!L46)","v":-8.490955158800311},{"$f":"((analysis!Q46-analysis!L46)*100)/ABS(analysis!L46)","v":-8.137410877379061},{"$f":"((analysis!R46-analysis!L46)*100)/ABS(analysis!L46)","v":-7.927903155055359},{"$f":"((analysis!S46-analysis!L46)*100)/ABS(analysis!L46)","v":-14.710715665285237},{"$f":"((analysis!T46-analysis!L46)*100)/ABS(analysis!L46)","v":1.9255069104812683},{"$f":"((analysis!U46-analysis!L46)*100)/ABS(analysis!L46)","v":-10.121187123131625},{"$f":"((analysis!V46-analysis!L46)*100)/ABS(analysis!L46)","v":-2.2711946523153976},-6.606040369519252,null,{"$f":"(analysis!AI46-analysis!AH46)*100/ABS(analysis!AH46)","v":-11.445763396708568},{"$f":"(analysis!AJ46-analysis!AH46)*100/ABS(analysis!AH46)","v":-5.883594879019203},{"$f":"(analysis!AK46-analysis!AH46)*100/ABS(analysis!AH46)","v":-2.942343463905977},{"$f":"(analysis!AL46-analysis!AH46)*100/ABS(analysis!AH46)","v":-8.326144012114467},{"$f":"(analysis!AM46-analysis!AH46)*100/ABS(analysis!AH46)","v":-4.689621532290074},{"$f":"(analysis!AN46-analysis!AH46)*100/ABS(analysis!AH46)","v":-8.675599625791287},{"$f":"(analysis!AO46-analysis!AH46)*100/ABS(analysis!AH46)","v":-12.17379592520195},{"$f":"(analysis!AP46-analysis!AH46)*100/ABS(analysis!AH46)","v":-10.630366964796002},{"$f":"(analysis!AQ46-analysis!AH46)*100/ABS(analysis!AH46)","v":-13.60073968104896},{"$f":"(analysis!AR46-analysis!AH46)*100/ABS(analysis!AH46)","v":4.137772875692077},-7.423019660518442,null,{"$f":"(analysis!BE45-analysis!BD45)","v":-1},{"$f":"analysis!BF45-analysis!BD45","v":-1},{"$f":"analysis!BG45-analysis!BD45","v":-1},{"$f":"analysis!BH45-analysis!BD45","v":-1},{"$f":"analysis!BI45-analysis!BD45","v":-1},{"$f":"analysis!BJ45-analysis!BD45","v":-1},{"$f":"analysis!BK45-analysis!BD45","v":-1},{"$f":"analysis!BL45-analysis!BD45","v":-1},{"$f":"analysis!BM45-analysis!BD45","v":-1},{"$f":"analysis!BN45-analysis!BD45","v":-1},-1,null,{"$f":"(analysis!CA45-analysis!BZ45)","v":1},{"$f":"analysis!CB45-analysis!BZ45","v":3.5},{"$f":"analysis!CC45-analysis!BZ45","v":-1.5},{"$f":"analysis!CD45-analysis!BZ45","v":-1.5},{"$f":"analysis!CE45-analysis!BZ45","v":1},{"$f":"analysis!CF45-analysis!BZ45","v":-1.5},{"$f":"analysis!CG45-analysis!BZ45","v":-1.5},{"$f":"analysis!CH45-analysis!BZ45","v":-1.5},{"$f":"analysis!CI45-analysis!BZ45","v":-1.5},{"$f":"analysis!CJ45-analysis!BZ45","v":3.5},0,null,{"$f":"analysis!ED45","v":"F"},{"$f":"analysis!EE45","v":24},{"$f":"analysis!EF45","v":"F"},1]
[{"$f":"analysis!A47","v":"JD101"},{"$f":"(analysis!M47-analysis!L47)*100/ABS(analysis!L47)","v":-11.874096512447226},{"$f":"((analysis!N47-analysis!L47)*100)/ABS(analysis!L47)","v":-14.950494330275081},{"$f":"((analysis!O47-analysis!L47)*100)/ABS(analysis!L47)","v":-11.231212907068796},{"$f":"((analysis!P47-analysis!L47)*100)/ABS(analysis!L47)","v":-15.24106319146308},{"$f":"((analysis!Q47-analysis!L47)*100)/ABS(analysis!L47)","v":-6.429562475937251},{"$f":"((analysis!R47-analysis!L47)*100)/ABS(analysis!L47)","v":-12.974626074196744},{"$f":"((analysis!S47-analysis!L47)*100)/ABS(analysis!L47)","v":-14.195015291186312},{"$f":"((analysis!T47-analysis!L47)*100)/ABS(analysis!L47)","v":-14.191383180421457},{"$f":"((analysis!U47-analysis!L47)*100)/ABS(analysis!L47)","v":-20.525784354319654},{"$f":"((analysis!V47-analysis!L47)*100)/ABS(analysis!L47)","v":-17.50386819796455},-13.911710651528015,null,{"$f":"(analysis!AI47-analysis!AH47)*100/ABS(analysis!AH47)","v":-10.000275793596067},{"$f":"(analysis!AJ47-analysis!AH47)*100/ABS(analysis!AH47)","v":-12.915414104084501},{"$f":"(analysis!AK47-analysis!AH47)*100/ABS(analysis!AH47)","v":-6.028848010149204},{"$f":"(analysis!AL47-analysis!AH47)*100/ABS(analysis!AH47)","v":-6.103312281088836},{"$f":"(analysis!AM47-analysis!AH47)*100/ABS(analysis!AH47)","v":-11.128271601533422},{"$f":"(analysis!AN47-analysis!AH47)*100/ABS(analysis!AH47)","v":-11.062081138475971},{"$f":"(analysis!AO47-analysis!AH47)*100/ABS(analysis!AH47)","v":-7.22027634518327},{"$f":"(analysis!AP47-analysis!AH47)*100/ABS(analysis!AH47)","v":-11.147577153258506},{"$f":"(analysis!AQ47-analysis!AH47)*100/ABS(analysis!AH47)","v":-13.442179872583354},{"$f":"(analysis!AR47-analysis!AH47)*100/ABS(analysis!AH47)","v":-6.296367798339726},-9.534460409829286,null,{"$f":"(analysis!BE46-analysis!BD46)","v":0},{"$f":"analysis!BF46-analysis!BD46","v":0},{"$f":"analysis!BG46-analysis!BD46","v":0},{"$f":"analysis!BH46-analysis!BD46","v":0},{"$f":"analysis!BI46-analysis!BD46","v":0},{"$f":"analysis!BJ46-analysis!BD46","v":0},{"$f":"analysis!BK46-analysis!BD46","v":2.5},{"$f":"analysis!BL46-analysis!BD46","v":0},{"$f":"analysis!BM46-analysis!BD46","v":0},{"$f":"analysis!BN46-analysis!BD46","v":0},0.25,null,{"$f":"(analysis!CA46-analysis!BZ46)","v":-0.5},{"$f":"analysis!CB46-analysis!BZ46","v":-0.5},{"$f":"analysis!CC46-analysis!BZ46","v":-0.5},{"$f":"analysis!CD46-analysis!BZ46","v":-0.5},{"$f":"analysis!CE46-analysis!BZ46","v":-0.5},{"$f":"analysis!CF46-analysis!BZ46","v":-0.5},{"$f":"analysis!CG46-analysis!BZ46","v":-0.5},{"$f":"analysis!CH46-analysis!BZ46","v":-0.5},{"$f":"analysis!CI46-analysis!BZ46","v":-0.5},{"$f":"analysis!CJ46-analysis!BZ46","v":2},-0.25,null,{"$f":"analysis!ED46","v":"M"},{"$f":"analysis!EE46","v":29},{"$f":"analysis!EF46","v":"F"},2]
[{"$f":"analysis!A48","v":"JG101"},{"$f":"(analysis!M48-analysis!L48)*100/ABS(analysis!L48)","v":-14.934663302473078},{"$f":"((analysis!N48-analysis!L48)*100)/ABS(analysis!L48)","v":-13.054576514132567},{"$f":"((analysis!O48-analysis!L48)*100)/ABS(analysis!L48)","v":-14.26706068311457},{"$f":"((analysis!P48-analysis!L48)*100)/ABS(analysis!L48)","v":-14.311240268219178},{"$f":"((analysis!Q48-analysis!L48)*100)/ABS(analysis!L48)","v":-13.800720618121497},{"$f":"((analysis!R48-analysis!L48)*100)/ABS(analysis!L48)","v":-18.513209695946276},{"$f":"((analysis!S48-analysis!L48)*100)/ABS(analysis!L48)","v":-20.47674681170662},{"$f":"((analysis!T48-analysis!L48)*100)/ABS(analysis!L48)","v":-19.966227161608934},{"$f":"((analysis!U48-analysis!L48)*100)/ABS(analysis!L48)","v":-18.748834149837524},{"$f":"((analysis!V48-analysis!L48)*100)/ABS(analysis!L48)","v":-19.1808123153048},-16.725409152046502,null,{"$f":"(analysis!AI48-analysis!AH48)*100/ABS(analysis!AH48)","v":-20.23051442227701},{"$f":"(analysis!AJ48-analysis!AH48)*100/ABS(analysis!AH48)","v":-20.427147459652417},{"$f":"(analysis!AK48-analysis!AH48)*100/ABS(analysis!AH48)","v":-22.19381967237911},{"$f":"(analysis!AL48-analysis!AH48)*100/ABS(analysis!AH48)","v":-16.65179314204468},{"$f":"(analysis!AM48-analysis!AH48)*100/ABS(analysis!AH48)","v":-21.78240285571672},{"$f":"(analysis!AN48-analysis!AH48)*100/ABS(analysis!AH48)","v":-17.81041550073359},{"$f":"(analysis!AO48-analysis!AH48)*100/ABS(analysis!AH48)","v":-16.019542298791464},{"$f":"(analysis!AP48-analysis!AH48)*100/ABS(analysis!AH48)","v":-25.122139367446646},{"$f":"(analysis!AQ48-analysis!AH48)*100/ABS(analysis!AH48)","v":-22.8956483596267},{"$f":"(analysis!AR48-analysis!AH48)*100/ABS(analysis!AH48)","v":-16.08306989548198},-19.92164929741503,null,{"$f":"(analysis!BE47-analysis!BD47)","v":0},{"$f":"analysis!BF47-analysis!BD47","v":0},{"$f":"analysis!BG47-analysis!BD47","v":0},{"$f":"analysis!BH47-analysis!BD47","v":0},{"$f":"analysis!BI47-analysis!BD47","v":0},{"$f":"analysis!BJ47-analysis!BD47","v":0},{"$f":"analysis!BK47-analysis!BD47","v":0},{"$f":"analysis!BL47-analysis!BD47","v":0},{"$f":"analysis!BM47-analysis!BD47","v":0},{"$f":"analysis!BN47-analysis!BD47","v":0},0,null,{"$f":"(analysis!CA47-analysis!BZ47)","v":-1.25},{"$f":"analysis!CB47-analysis!BZ47","v":-1.25},{"$f":"analysis!CC47-analysis!BZ47","v":-1.25},{"$f":"analysis!CD47-analysis!BZ47","v":3.75},{"$f":"analysis!CE47-analysis!BZ47","v":1.25},{"$f":"analysis!CF47-analysis!BZ47","v":3.75},{"$f":"analysis!CG47-analysis!BZ47","v":1.25},{"$f":"analysis!CH47-analysis!BZ47","v":-1.25},{"$f":"analysis!CI47-analysis!BZ47","v":-3.75},{"$f":"analysis!CJ47-analysis!BZ47","v":1.25},0.25,null,{"$f":"analysis!ED47","v":"M"},{"$f":"analysis!EE47","v":28},{"$f":"analysis!EF47","v":"T"},2]
[{"$f":"analysis!A49","v":"JM101"},{"$f":"(analysis!M49-analysis!L49)*100/ABS(analysis!L49)","v":-11.37290484689554},{"$f":"((analysis!N49-analysis!L49)*100)/ABS(analysis!L49)","v":-12.733944222313076},{"$f":"((analysis!O49-analysis!L49)*100)/ABS(analysis!L49)","v":-14.01521572224827},{"$f":"((analysis!P49-analysis!L49)*100)/ABS(analysis!L49)","v":-9.229143193307486},{"$f":"((analysis!Q49-analysis!L49)*100)/ABS(analysis!L49)","v":-7.4144240260841014},{"$f":"((analysis!R49-analysis!L49)*100)/ABS(analysis!L49)","v":-15.765123490642239},{"$f":"((analysis!S49-analysis!L49)*100)/ABS(analysis!L49)","v":-3.4011027908785514},{"$f":"((analysis!T49-analysis!L49)*100)/ABS(analysis!L49)","v":-10.301024020101513},{"$f":"((analysis!U49-analysis!L49)*100)/ABS(analysis!L49)","v":-10.301024020101513},{"$f":"((analysis!V49-analysis!L49)*100)/ABS(analysis!L49)","v":-12.335104844901352},-10.686901117747365,null,{"$f":"(analysis!AI49-analysis!AH49)*100/ABS(analysis!AH49)","v":-13.241385759035019},{"$f":"(analysis!AJ49-analysis!AH49)*100/ABS(analysis!AH49)","v":-19.532469961195016},{"$f":"(analysis!AK49-analysis!AH49)*100/ABS(analysis!AH49)","v":-14.139043433540612},{"$f":"(analysis!AL49-analysis!AH49)*100/ABS(analysis!AH49)","v":-2.632194118472123},{"$f":"(analysis!AM49-analysis!AH49)*100/ABS(analysis!AH49)","v":-9.514236289681621},{"$f":"(analysis!AN49-analysis!AH49)*100/ABS(analysis!AH49)","v":4.878208424891297},{"$f":"(analysis!AO49-analysis!AH49)*100/ABS(analysis!AH49)","v":-17.98401047267287},{"$f":"(analysis!AP49-analysis!AH49)*100/ABS(analysis!AH49)","v":-3.202580765814214},{"$f":"(analysis!AQ49-analysis!AH49)*100/ABS(analysis!AH49)","v":-0.8368787694609474},{"$f":"(analysis!AR49-analysis!AH49)*100/ABS(analysis!AH49)","v":-23.083828135957745},-9.928841928093886,null,{"$f":"(analysis!BE8-analysis!BD8)","v":-0.25},{"$f":"analysis!BF8-analysis!BD8","v":-0.25},{"$f":"analysis!BG8-analysis!BD8","v":-0.25},{"$f":"analysis!BH8-analysis!BD8","v":-0.25},{"$f":"analysis!BI8-analysis!BD8","v":-0.25},{"$f":"analysis!BJ8-analysis!BD8","v":-0.25},{"$f":"analysis!BK8-analysis!BD8","v":-0.25},{"$f":"analysis!BL8-analysis!BD8","v":-0.25},{"$f":"analysis!BM8-analysis!BD8","v":-0.25},{"$f":"analysis!BN8-analysis!BD8","v":-0.25},-0.25,null,{"$f":"(analysis!CA8-analysis!BZ8)","v":-1},{"$f":"analysis!CB8-analysis!BZ8","v":-1},{"$f":"analysis!CC8-analysis!BZ8","v":-1},{"$f":"analysis!CD8-analysis!BZ8","v":-1},{"$f":"analysis!CE8-analysis!BZ8","v":-1},{"$f":"analysis!CF8-analysis!BZ8","v":-1},{"$f":"analysis!CG8-analysis!BZ8","v":-1},{"$f":"analysis!CH8-analysis!BZ8","v":1.5},{"$f":"analysis!CI8-analysis!BZ8","v":-1},{"$f":"analysis!CJ8-analysis!BZ8","v":1.5},-0.5,null,{"$f":"analysis!ED49","v":"F"},{"$f":"analysis!EE49","v":25},{"$f":"analysis!EF49","v":"F"},1]
[{"$f":"analysis!A50","v":"JP101"},{"$f":"(analysis!M50-analysis!L50)*100/ABS(analysis!L50)","v":-7.197763801537383},{"$f":"((analysis!N50-analysis!L50)*100)/ABS(analysis!L50)","v":-9.105520614954571},{"$f":"((analysis!O50-analysis!L50)*100)/ABS(analysis!L50)","v":-14.919636617749813},{"$f":"((analysis!P50-analysis!L50)*100)/ABS(analysis!L50)","v":-8.819007686932208},{"$f":"((analysis!Q50-analysis!L50)*100)/ABS(analysis!L50)","v":-18.7141858839972},{"$f":"((analysis!R50-analysis!L50)*100)/ABS(analysis!L50)","v":-16.995108315863025},{"$f":"((analysis!S50-analysis!L50)*100)/ABS(analysis!L50)","v":-15.024458420684827},{"$f":"((analysis!T50-analysis!L50)*100)/ABS(analysis!L50)","v":-19.601677148846946},{"$f":"((analysis!U50-analysis!L50)*100)/ABS(analysis!L50)","v":-19.580712788259955},{"$f":"((analysis!V50-analysis!L50)*100)/ABS(analysis!L50)","v":-21.25087351502445},-15.120894479385035,null,{"$f":"(analysis!AI50-analysis!AH50)*100/ABS(analysis!AH50)","v":-13.723315774882177},{"$f":"(analysis!AJ50-analysis!AH50)*100/ABS(analysis!AH50)","v":-19.264624341558083},{"$f":"(analysis!AK50-analysis!AH50)*100/ABS(analysis!AH50)","v":-12.614360964790686},{"$f":"(analysis!AL50-analysis!AH50)*100/ABS(analysis!AH50)","v":-13.924313834211258},{"$f":"(analysis!AM50-analysis!AH50)*100/ABS(analysis!AH50)","v":-21.92611588577766},{"$f":"(analysis!AN50-analysis!AH50)*100/ABS(analysis!AH50)","v":-15.137233157748827},{"$f":"(analysis!AO50-analysis!AH50)*100/ABS(analysis!AH50)","v":-19.18491821458276},{"$f":"(analysis!AP50-analysis!AH50)*100/ABS(analysis!AH50)","v":-18.67202661491545},{"$f":"(analysis!AQ50-analysis!AH50)*100/ABS(analysis!AH50)","v":-14.745633490435273},{"$f":"(analysis!AR50-analysis!AH50)*100/ABS(analysis!AH50)","v":3.4412253950651457},-14.575131688383701,null,{"$f":"(analysis!BE49-analysis!BD49)","v":0},{"$f":"analysis!BF49-analysis!BD49","v":0},{"$f":"analysis!BG49-analysis!BD49","v":0},{"$f":"analysis!BH49-analysis!BD49","v":0},{"$f":"analysis!BI49-analysis!BD49","v":0},{"$f":"analysis!BJ49-analysis!BD49","v":0},{"$f":"analysis!BK49-analysis!BD49","v":0},{"$f":"analysis!BL49-analysis!BD49","v":0},{"$f":"analysis!BM49-analysis!BD49","v":0},{"$f":"analysis!BN49-analysis!BD49","v":0},0,null,{"$f":"(analysis!CA49-analysis!BZ49)","v":-0.75},{"$f":"analysis!CB49-analysis!BZ49","v":-0.75},{"$f":"analysis!CC49-analysis!BZ49","v":-0.75},{"$f":"analysis!CD49-analysis!BZ49","v":-0.75},{"$f":"analysis!CE49-analysis!BZ49","v":-0.75},{"$f":"analysis!CF49-analysis!BZ49","v":-0.75},{"$f":"analysis!CG49-analysis!BZ49","v":-0.75},{"$f":"analysis!CH49-analysis!BZ49","v":1.75},{"$f":"analysis!CI49-analysis!BZ49","v":-0.75},{"$f":"analysis!CJ49-analysis!BZ49","v":-0.75},-0.5,null,{"$f":"analysis!ED50","v":"F"},{"$f":"analysis!EE50","v":37},{"$f":"analysis!EF50","v":"F"},2]
[{"$f":"analysis!A51","v":"JS102"},{"$f":"(analysis!M51-analysis!L51)*100/ABS(analysis!L51)","v":-10.184759789012107},{"$f":"((analysis!N51-analysis!L51)*100)/ABS(analysis!L51)","v":9.26241472960635},{"$f":"((analysis!O51-analysis!L51)*100)/ABS(analysis!L51)","v":-1.0485423342424909},{"$f":"((analysis!P51-analysis!L51)*100)/ABS(analysis!L51)","v":-0.4379103592260594},{"$f":"((analysis!Q51-analysis!L51)*100)/ABS(analysis!L51)","v":-4.572761161480176},{"$f":"((analysis!R51-analysis!L51)*100)/ABS(analysis!L51)","v":-11.923607032154136},{"$f":"((analysis!S51-analysis!L51)*100)/ABS(analysis!L51)","v":3.4759498234982797},{"$f":"((analysis!T51-analysis!L51)*100)/ABS(analysis!L51)","v":3.987717573988245},{"$f":"((analysis!U51-analysis!L51)*100)/ABS(analysis!L51)","v":-24.584043314161427},{"$f":"((analysis!V51-analysis!L51)*100)/ABS(analysis!L51)","v":-23.560507813181506},-5.958604967636502,null,{"$f":"(analysis!AI51-analysis!AH51)*100/ABS(analysis!AH51)","v":19.158453903683483},{"$f":"(analysis!AJ51-analysis!AH51)*100/ABS(analysis!AH51)","v":-0.13280212483401063},{"$f":"(analysis!AK51-analysis!AH51)*100/ABS(analysis!AH51)","v":9.600195708394478},{"$f":"(analysis!AL51-analysis!AH51)*100/ABS(analysis!AH51)","v":1.4363598238624247},{"$f":"(analysis!AM51-analysis!AH51)*100/ABS(analysis!AH51)","v":-10.35856573705181},{"$f":"(analysis!AN51-analysis!AH51)*100/ABS(analysis!AH51)","v":-9.942685398755872},{"$f":"(analysis!AO51-analysis!AH51)*100/ABS(analysis!AH51)","v":2.1073600335499907},{"$f":"(analysis!AP51-analysis!AH51)*100/ABS(analysis!AH51)","v":-12.322639267491448},{"$f":"(analysis!AQ51-analysis!AH51)*100/ABS(analysis!AH51)","v":-5.556720486475163},{"$f":"(analysis!AR51-analysis!AH51)*100/ABS(analysis!AH51)","v":3.889704340532592},-0.21213392045853346,null,{"$f":"(analysis!BE50-analysis!BD50)","v":0},{"$f":"analysis!BF50-analysis!BD50","v":0},{"$f":"analysis!BG50-analysis!BD50","v":0},{"$f":"analysis!BH50-analysis!BD50","v":0},{"$f":"analysis!BI50-analysis!BD50","v":0},{"$f":"analysis!BJ50-analysis!BD50","v":0},{"$f":"analysis!BK50-analysis!BD50","v":0},{"$f":"analysis!BL50-analysis!BD50","v":0},{"$f":"analysis!BM50-analysis!BD50","v":0},{"$f":"analysis!BN50-analysis!BD50","v":0},0,null,{"$f":"(analysis!CA50-analysis!BZ50)","v":-1.25},{"$f":"analysis!CB50-analysis!BZ50","v":-1.25},{"$f":"analysis!CC50-analysis!BZ50","v":-1.25},{"$f":"analysis!CD50-analysis!BZ50","v":-1.25},{"$f":"analysis!CE50-analysis!BZ50","v":-1.25},{"$f":"analysis!CF50-analysis!BZ50","v":-1.25},{"$f":"analysis!CG50-analysis!BZ50","v":-1.25},{"$f":"analysis!CH50-analysis!BZ50","v":-1.25},{"$f":"analysis!CI50-analysis!BZ50","v":-1.25},{"$f":"analysis!CJ50-analysis!BZ50","v":1.25},-1,null,{"$f":"analysis!ED51","v":"M"},{"$f":"analysis!EE51","v":20},{"$f":"analysis!EF51","v":"F"},1]
[{"$f":"analysis!A52","v":"KM101"},{"$f":"(analysis!M52-analysis!L52)*100/ABS(analysis!L52)","v":-9.697795463226367},{"$f":"((analysis!N52-analysis!L52)*100)/ABS(analysis!L52)","v":-5.319506758413096},{"$f":"((analysis!O52-analysis!L52)*100)/ABS(analysis!L52)","v":-0.07468174743888037},{"$f":"((analysis!P52-analysis!L52)*100)/ABS(analysis!L52)","v":11.235897406662069},{"$f":"((analysis!Q52-analysis!L52)*100)/ABS(analysis!L52)","v":-16.949336130573343},{"$f":"((analysis!R52-analysis!L52)*100)/ABS(analysis!L52)","v":-4.732314393054037},{"$f":"((analysis!S52-analysis!L52)*100)/ABS(analysis!L52)","v":5.346871062818176},{"$f":"((analysis!T52-analysis!L52)*100)/ABS(analysis!L52)","v":4.166785435348971},{"$f":"((analysis!U52-analysis!L52)*100)/ABS(analysis!L52)","v":-2.634384388664334},{"$f":"((analysis!V52-analysis!L52)*100)/ABS(analysis!L52)","v":-10.70115329141274},-2.9359618267953578,null,{"$f":"(analysis!AI52-analysis!AH52)*100/ABS(analysis!AH52)","v":-6.617248237208471},{"$f":"(analysis!AJ52-analysis!AH52)*100/ABS(analysis!AH52)","v":-7.911389393751966},{"$f":"(analysis!AK52-analysis!AH52)*100/ABS(analysis!AH52)","v":-4.7688150044248285},{"$f":"(analysis!AL52-analysis!AH52)*100/ABS(analysis!AH52)","v":11.731484741504811},{"$f":"(analysis!AM52-analysis!AH52)*100/ABS(analysis!AH52)","v":-2.2400060900760335},{"$f":"(analysis!AN52-analysis!AH52)*100/ABS(analysis!AH52)","v":20.65725242413573},{"$f":"(analysis!AO52-analysis!AH52)*100/ABS(analysis!AH52)","v":-0.372541369696173},{"$f":"(analysis!AP52-analysis!AH52)*100/ABS(analysis!AH52)","v":7.618304484770045},{"$f":"(analysis!AQ52-analysis!AH52)*100/ABS(analysis!AH52)","v":2.5583077201229307},{"$f":"(analysis!AR52-analysis!AH52)*100/ABS(analysis!AH52)","v":-11.734339464644256},0.8921009810731795,null,{"$f":"(analysis!BE51-analysis!BD51)","v":0},{"$f":"analysis!BF51-analysis!BD51","v":0},{"$f":"analysis!BG51-analysis!BD51","v":0},{"$f":"analysis!BH51-analysis!BD51","v":0},{"$f":"analysis!BI51-analysis!BD51","v":0},{"$f":"analysis!BJ51-analysis!BD51","v":0},{"$f":"analysis!BK51-analysis!BD51","v":0},{"$f":"analysis!BL51-analysis!BD51","v":0},{"$f":"analysis!BM51-analysis!BD51","v":0},{"$f":"analysis!BN51-analysis!BD51","v":0},0,null,{"$f":"(analysis!CA51-analysis!BZ51)","v":4.25},{"$f":"analysis!CB51-analysis!BZ51","v":-0.75},{"$f":"analysis!CC51-analysis!BZ51","v":-0.75},{"$f":"analysis!CD51-analysis!BZ51","v":-0.75},{"$f":"analysis!CE51-analysis!BZ51","v":-0.75},{"$f":"analysis!CF51-analysis!BZ51","v":1.75},{"$f":"analysis!CG51-analysis!BZ51","v":1.75},{"$f":"analysis!CH51-analysis!BZ51","v":-0.75},{"$f":"analysis!CI51-analysis!BZ51","v":1.75},{"$f":"analysis!CJ51-analysis!BZ51","v":4.25},1,null,{"$f":"analysis!ED52","v":"F"},{"$f":"analysis!EE52","v":17},{"$f":"analysis!EF52","v":"T"},1]
[{"$f":"analysis!A53","v":"KP101"},{"$f":"(analysis!M53-analysis!L53)*100/ABS(analysis!L53)","v":-14.201314308464372},{"$f":"((analysis!N53-analysis!L53)*100)/ABS(analysis!L53)","v":-18.860867129017524},{"$f":"((analysis!O53-analysis!L53)*100)/ABS(analysis!L53)","v":-15.931443625800563},{"$f":"((analysis!P53-analysis!L53)*100)/ABS(analysis!L53)","v":-14.90909448373826},{"$f":"((analysis!Q53-analysis!L53)*100)/ABS(analysis!L53)","v":-15.81348026325491},{"$f":"((analysis!R53-analysis!L53)*100)/ABS(analysis!L53)","v":-19.58339272460962},{"$f":"((analysis!S53-analysis!L53)*100)/ABS(analysis!L53)","v":-17.77953630568239},{"$f":"((analysis!T53-analysis!L53)*100)/ABS(analysis!L53)","v":-21.588769887885665},{"$f":"((analysis!U53-analysis!L53)*100)/ABS(analysis!L53)","v":-11.606120332460076},{"$f":"((analysis!V53-analysis!L53)*100)/ABS(analysis!L53)","v":-12.977444422053265},-16.325146348296663,null,{"$f":"(analysis!AI53-analysis!AH53)*100/ABS(analysis!AH53)","v":-22.64739854385941},{"$f":"(analysis!AJ53-analysis!AH53)*100/ABS(analysis!AH53)","v":-19.821421618885694},{"$f":"(analysis!AK53-analysis!AH53)*100/ABS(analysis!AH53)","v":18.90841368927882},{"$f":"(analysis!AL53-analysis!AH53)*100/ABS(analysis!AH53)","v":-16.599613253215317},{"$f":"(analysis!AM53-analysis!AH53)*100/ABS(analysis!AH53)","v":-19.354210738063397},{"$f":"(analysis!AN53-analysis!AH53)*100/ABS(analysis!AH53)","v":-5.983543794531029},{"$f":"(analysis!AO53-analysis!AH53)*100/ABS(analysis!AH53)","v":-15.19149157073702},{"$f":"(analysis!AP53-analysis!AH53)*100/ABS(analysis!AH53)","v":-12.083241405266493},{"$f":"(analysis!AQ53-analysis!AH53)*100/ABS(analysis!AH53)","v":-3.832427030745062},{"$f":"(analysis!AR53-analysis!AH53)*100/ABS(analysis!AH53)","v":-9.74718700115504},-10.635212126717963,null,{"$f":"(analysis!BE52-analysis!BD52)","v":-0.5},{"$f":"analysis!BF52-analysis!BD52","v":-0.5},{"$f":"analysis!BG52-analysis!BD52","v":-0.5},{"$f":"analysis!BH52-analysis!BD52","v":-0.5},{"$f":"analysis!BI52-analysis!BD52","v":-0.5},{"$f":"analysis!BJ52-analysis!BD52","v":-0.5},{"$f":"analysis!BK52-analysis!BD52","v":-0.5},{"$f":"analysis!BL52-analysis!BD52","v":2},{"$f":"analysis!BM52-analysis!BD52","v":-0.5},{"$f":"analysis!BN52-analysis!BD52","v":-0.5},-0.25,null,{"$f":"(analysis!CA52-analysis!BZ52)","v":1.5},{"$f":"analysis!CB52-analysis!BZ52","v":1.5},{"$f":"analysis!CC52-analysis!BZ52","v":-1},{"$f":"analysis!CD52-analysis!BZ52","v":4},{"$f":"analysis!CE52-analysis!BZ52","v":-1},{"$f":"analysis!CF52-analysis!BZ52","v":-1},{"$f":"analysis!CG52-analysis!BZ52","v":-1},{"$f":"analysis!CH52-analysis!BZ52","v":-1},{"$f":"analysis!CI52-analysis!BZ52","v":1.5},{"$f":"analysis!CJ52-analysis!BZ52","v":-1},0.25,null,{"$f":"analysis!ED53","v":"M"},{"$f":"analysis!EE53","v":24},{"$f":"analysis!EF53","v":"F"},1]
[{"$f":"analysis!A54","v":"LB101"},{"$f":"(analysis!M54-analysis!L54)*100/ABS(analysis!L54)","v":-4.979322795306162},{"$f":"((analysis!N54-analysis!L54)*100)/ABS(analysis!L54)","v":-14.289312929025757},{"$f":"((analysis!O54-analysis!L54)*100)/ABS(analysis!L54)","v":1.145118290404515},{"$f":"((analysis!P54-analysis!L54)*100)/ABS(analysis!L54)","v":-5.493628901903988},{"$f":"((analysis!Q54-analysis!L54)*100)/ABS(analysis!L54)","v":-10.405777022062686},{"$f":"((analysis!R54-analysis!L54)*100)/ABS(analysis!L54)","v":-8.773642336839018},{"$f":"((analysis!S54-analysis!L54)*100)/ABS(analysis!L54)","v":-13.176732371895794},{"$f":"((analysis!T54-analysis!L54)*100)/ABS(analysis!L54)","v":-18.671410878098957},{"$f":"((analysis!U54-analysis!L54)*100)/ABS(analysis!L54)","v":-8.264584251737093},{"$f":"((analysis!V54-analysis!L54)*100)/ABS(analysis!L54)","v":-15.071268131914271},-9.798056132837921,null,{"$f":"(analysis!AI54-analysis!AH54)*100/ABS(analysis!AH54)","v":0.9291710325059483},{"$f":"(analysis!AJ54-analysis!AH54)*100/ABS(analysis!AH54)","v":-6.80589177536099},{"$f":"(analysis!AK54-analysis!AH54)*100/ABS(analysis!AH54)","v":8.899085883585663},{"$f":"(analysis!AL54-analysis!AH54)*100/ABS(analysis!AH54)","v":-16.681721284821318},{"$f":"(analysis!AM54-analysis!AH54)*100/ABS(analysis!AH54)","v":-1.8679770206308384},{"$f":"(analysis!AN54-analysis!AH54)*100/ABS(analysis!AH54)","v":9.29351687923789},{"$f":"(analysis!AO54-analysis!AH54)*100/ABS(analysis!AH54)","v":11.551709602437658},{"$f":"(analysis!AP54-analysis!AH54)*100/ABS(analysis!AH54)","v":1.4831809805976175},{"$f":"(analysis!AQ54-analysis!AH54)*100/ABS(analysis!AH54)","v":2.8079873782081632},{"$f":"(analysis!AR54-analysis!AH54)*100/ABS(analysis!AH54)","v":15.863352241933756},2.547241391769355,null,{"$f":"(analysis!BE53-analysis!BD53)","v":0},{"$f":"analysis!BF53-analysis!BD53","v":0},{"$f":"analysis!BG53-analysis!BD53","v":0},{"$f":"analysis!BH53-analysis!BD53","v":0},{"$f":"analysis!BI53-analysis!BD53","v":0},{"$f":"analysis!BJ53-analysis!BD53","v":0},{"$f":"analysis!BK53-analysis!BD53","v":0},{"$f":"analysis!BL53-analysis!BD53","v":0},{"$f":"analysis!BM53-analysis!BD53","v":0},{"$f":"analysis!BN53-analysis!BD53","v":0},0,null,{"$f":"(analysis!CA53-analysis!BZ53)","v":-1.5},{"$f":"analysis!CB53-analysis!BZ53","v":3.5},{"$f":"analysis!CC53-analysis!BZ53","v":8.5},{"$f":"analysis!CD53-analysis!BZ53","v":-1.5},{"$f":"analysis!CE53-analysis!BZ53","v":-1.5},{"$f":"analysis!CF53-analysis!BZ53","v":1},{"$f":"analysis!CG53-analysis!BZ53","v":-1.5},{"$f":"analysis!CH53-analysis!BZ53","v":1},{"$f":"analysis!CI53-analysis!BZ53","v":-1.5},{"$f":"analysis!CJ53-analysis!BZ53","v":-1.5},0.5,null,{"$f":"analysis!ED54","v":"M"},{"$f":"analysis!EE54","v":24},{"$f":"analysis!EF54","v":"F"},1]
[{"$f":"analysis!A55","v":"LT101"},{"$f":"(analysis!M55-analysis!L55)*100/ABS(analysis!L55)","v":-37.383928453828226},{"$f":"((analysis!N55-analysis!L55)*100)/ABS(analysis!L55)","v":-32.63350148615484},{"$f":"((analysis!O55-analysis!L55)*100)/ABS(analysis!L55)","v":-34.38527631064807},{"$f":"((analysis!P55-analysis!L55)*100)/ABS(analysis!L55)","v":-39.41668971633542},{"$f":"((analysis!Q55-analysis!L55)*100)/ABS(analysis!L55)","v":-43.28464365212123},{"$f":"((analysis!R55-analysis!L55)*100)/ABS(analysis!L55)","v":-36.29071559343019},{"$f":"((analysis!S55-analysis!L55)*100)/ABS(analysis!L55)","v":-39.79865565551063},{"$f":"((analysis!T55-analysis!L55)*100)/ABS(analysis!L55)","v":-35.23701645087787},{"$f":"((analysis!U55-analysis!L55)*100)/ABS(analysis!L55)","v":-40.9138205813785},{"$f":"((analysis!V55-analysis!L55)*100)/ABS(analysis!L55)","v":-42.36265690238795},-38.17069048026729,null,{"$f":"(analysis!AI55-analysis!AH55)*100/ABS(analysis!AH55)","v":-15.59525259109108},{"$f":"(analysis!AJ55-analysis!AH55)*100/ABS(analysis!AH55)","v":-20.702226869990614},{"$f":"(analysis!AK55-analysis!AH55)*100/ABS(analysis!AH55)","v":-19.2267195748247},{"$f":"(analysis!AL55-analysis!AH55)*100/ABS(analysis!AH55)","v":-23.703380057731017},{"$f":"(analysis!AM55-analysis!AH55)*100/ABS(analysis!AH55)","v":-17.031365274007428},{"$f":"(analysis!AN55-analysis!AH55)*100/ABS(analysis!AH55)","v":-17.539913904865596},{"$f":"(analysis!AO55-analysis!AH55)*100/ABS(analysis!AH55)","v":-8.865936553186309},{"$f":"(analysis!AP55-analysis!AH55)*100/ABS(analysis!AH55)","v":-13.081160063890898},{"$f":"(analysis!AQ55-analysis!AH55)*100/ABS(analysis!AH55)","v":-11.842020442222429},{"$f":"(analysis!AR55-analysis!AH55)*100/ABS(analysis!AH55)","v":-17.80135087706731},-16.538932620887742,null,{"$f":"(analysis!BE54-analysis!BD54)","v":0},{"$f":"analysis!BF54-analysis!BD54","v":0},{"$f":"analysis!BG54-analysis!BD54","v":0},{"$f":"analysis!BH54-analysis!BD54","v":0},{"$f":"analysis!BI54-analysis!BD54","v":0},{"$f":"analysis!BJ54-analysis!BD54","v":0},{"$f":"analysis!BK54-analysis!BD54","v":0},{"$f":"analysis!BL54-analysis!BD54","v":0},{"$f":"analysis!BM54-analysis!BD54","v":0},{"$f":"analysis!BN54-analysis!BD54","v":0},0,null,{"$f":"(analysis!CA54-analysis!BZ54)","v":2.75},{"$f":"analysis!CB54-analysis!BZ54","v":-2.25},{"$f":"analysis!CC54-analysis!BZ54","v":-2.25},{"$f":"analysis!CD54-analysis!BZ54","v":-2.25},{"$f":"analysis!CE54-analysis!BZ54","v":-2.25},{"$f":"analysis!CF54-analysis!BZ54","v":-2.25},{"$f":"analysis!CG54-analysis!BZ54","v":-2.25},{"$f":"analysis!CH54-analysis!BZ54","v":2.75},{"$f":"analysis!CI54-analysis!BZ54","v":-2.25},{"$f":"analysis!CJ54-analysis!BZ54","v":-2.25},-1.25,null,{"$f":"analysis!ED55","v":"F"},{"$f":"analysis!EE55","v":22},{"$f":"analysis!EF55","v":"F"},1]
[{"$f":"analysis!A56","v":"MD101"},{"$f":"(analysis!M56-analysis!L56)*100/ABS(analysis!L56)","v":-17.081041049513342},{"$f":"((analysis!N56-analysis!L56)*100)/ABS(analysis!L56)","v":-17.157083157003818},{"$f":"((analysis!O56-analysis!L56)*100)/ABS(analysis!L56)","v":-21.80887642826916},{"$f":"((analysis!P56-analysis!L56)*100)/ABS(analysis!L56)","v":-18.932501057977152},{"$f":"((analysis!Q56-analysis!L56)*100)/ABS(analysis!L56)","v":-21.494789462547608},{"$f":"((analysis!R56-analysis!L56)*100)/ABS(analysis!L56)","v":-7.503041684299623},{"$f":"((analysis!S56-analysis!L56)*100)/ABS(analysis!L56)","v":-14.383199322894628},{"$f":"((analysis!T56-analysis!L56)*100)/ABS(analysis!L56)","v":-19.144096487515874},{"$f":"((analysis!U56-analysis!L56)*100)/ABS(analysis!L56)","v":-25.46550994498519},{"$f":"((analysis!V56-analysis!L56)*100)/ABS(analysis!L56)","v":-24.354633939906904},-18.732477253491332,null,{"$f":"(analysis!AI56-analysis!AH56)*100/ABS(analysis!AH56)","v":-10.259590140535279},{"$f":"(analysis!AJ56-analysis!AH56)*100/ABS(analysis!AH56)","v":-19.00151158491784},{"$f":"(analysis!AK56-analysis!AH56)*100/ABS(analysis!AH56)","v":-20.63009223943878},{"$f":"(analysis!AL56-analysis!AH56)*100/ABS(analysis!AH56)","v":-15.049395600024328},{"$f":"(analysis!AM56-analysis!AH56)*100/ABS(analysis!AH56)","v":-7.67398436000991},{"$f":"(analysis!AN56-analysis!AH56)*100/ABS(analysis!AH56)","v":-16.923667301563526},{"$f":"(analysis!AO56-analysis!AH56)*100/ABS(analysis!AH56)","v":-19.560751206226033},{"$f":"(analysis!AP56-analysis!AH56)*100/ABS(analysis!AH56)","v":-17.838573962364805},{"$f":"(analysis!AQ56-analysis!AH56)*100/ABS(analysis!AH56)","v":-21.71581267578608},{"$f":"(analysis!AR56-analysis!AH56)*100/ABS(analysis!AH56)","v":-21.949804149136792},-17.060318322000334,null,{"$f":"(analysis!BE55-analysis!BD55)","v":0},{"$f":"analysis!BF55-analysis!BD55","v":0},{"$f":"analysis!BG55-analysis!BD55","v":0},{"$f":"analysis!BH55-analysis!BD55","v":0},{"$f":"analysis!BI55-analysis!BD55","v":0},{"$f":"analysis!BJ55-analysis!BD55","v":0},{"$f":"analysis!BK55-analysis!BD55","v":0},{"$f":"analysis!BL55-analysis!BD55","v":0},{"$f":"analysis!BM55-analysis!BD55","v":0},{"$f":"analysis!BN55-analysis!BD55","v":0},0,null,{"$f":"(analysis!CA55-analysis!BZ55)","v":6},{"$f":"analysis!CB55-analysis!BZ55","v":1},{"$f":"analysis!CC55-analysis!BZ55","v":1},{"$f":"analysis!CD55-analysis!BZ55","v":-1.5},{"$f":"analysis!CE55-analysis!BZ55","v":-1.5},{"$f":"analysis!CF55-analysis!BZ55","v":3.5},{"$f":"analysis!CG55-analysis!BZ55","v":3.5},{"$f":"analysis!CH55-analysis!BZ55","v":6},{"$f":"analysis!CI55-analysis!BZ55","v":1},{"$f":"analysis!CJ55-analysis!BZ55","v":1},2,null,{"$f":"analysis!ED56","v":"M "},{"$f":"analysis!EE56","v":29},{"$f":"analysis!EF56","v":"F"},2]
[{"$f":"analysis!A57","v":"MK101"},{"$f":"(analysis!M57-analysis!L57)*100/ABS(analysis!L57)","v":-2.471617143788355},{"$f":"((analysis!N57-analysis!L57)*100)/ABS(analysis!L57)","v":-7.088923895920472},{"$f":"((analysis!O57-analysis!L57)*100)/ABS(analysis!L57)","v":-2.884458688684876},{"$f":"((analysis!P57-analysis!L57)*100)/ABS(analysis!L57)","v":-13.52056059536096},{"$f":"((analysis!Q57-analysis!L57)*100)/ABS(analysis!L57)","v":-6.132869791949578},{"$f":"((analysis!R57-analysis!L57)*100)/ABS(analysis!L57)","v":-12.298332337443638},{"$f":"((analysis!S57-analysis!L57)*100)/ABS(analysis!L57)","v":-7.1758379053723615},{"$f":"((analysis!T57-analysis!L57)*100)/ABS(analysis!L57)","v":-14.818838611548697},{"$f":"((analysis!U57-analysis!L57)*100)/ABS(analysis!L57)","v":-5.4321255907436585},{"$f":"((analysis!V57-analysis!L57)*100)/ABS(analysis!L57)","v":-5.4321255907436585},-7.725569015155625,null,{"$f":"(analysis!AI57-analysis!AH57)*100/ABS(analysis!AH57)","v":-4.321403821248601},{"$f":"(analysis!AJ57-analysis!AH57)*100/ABS(analysis!AH57)","v":6.841935271447886},{"$f":"(analysis!AK57-analysis!AH57)*100/ABS(analysis!AH57)","v":-2.643767187936067},{"$f":"(analysis!AL57-analysis!AH57)*100/ABS(analysis!AH57)","v":2.0567511547470816},{"$f":"(analysis!AM57-analysis!AH57)*100/ABS(analysis!AH57)","v":-9.586360657382706},{"$f":"(analysis!AN57-analysis!AH57)*100/ABS(analysis!AH57)","v":-2.944801051109905},{"$f":"(analysis!AO57-analysis!AH57)*100/ABS(analysis!AH57)","v":-5.7513146713243275},{"$f":"(analysis!AP57-analysis!AH57)*100/ABS(analysis!AH57)","v":-14.957933653390862},{"$f":"(analysis!AQ57-analysis!AH57)*100/ABS(analysis!AH57)","v":-10.041047221551521},{"$f":"(analysis!AR57-analysis!AH57)*100/ABS(analysis!AH57)","v":-10.041047221551521},-5.138898905930055,null,{"$f":"(analysis!BE56-analysis!BD56)","v":-1},{"$f":"analysis!BF56-analysis!BD56","v":-1},{"$f":"analysis!BG56-analysis!BD56","v":-1},{"$f":"analysis!BH56-analysis!BD56","v":-1},{"$f":"analysis!BI56-analysis!BD56","v":-1},{"$f":"analysis!BJ56-analysis!BD56","v":-1},{"$f":"analysis!BK56-analysis!BD56","v":-1},{"$f":"analysis!BL56-analysis!BD56","v":-1},{"$f":"analysis!BM56-analysis!BD56","v":-1},{"$f":"analysis!BN56-analysis!BD56","v":-1},-1,null,{"$f":"(analysis!CA56-analysis!BZ56)","v":-0.5},{"$f":"analysis!CB56-analysis!BZ56","v":-0.5},{"$f":"analysis!CC56-analysis!BZ56","v":-0.5},{"$f":"analysis!CD56-analysis!BZ56","v":-0.5},{"$f":"analysis!CE56-analysis!BZ56","v":2},{"$f":"analysis!CF56-analysis!BZ56","v":-0.5},{"$f":"analysis!CG56-analysis!BZ56","v":-0.5},{"$f":"analysis!CH56-analysis!BZ56","v":-0.5},{"$f":"analysis!CI56-analysis!BZ56","v":-0.5},{"$f":"analysis!CJ56-analysis!BZ56","v":2},0,null,{"$f":"analysis!ED57","v":"F"},{"$f":"analysis!EE57","v":31},{"$f":"analysis!EF57","v":"F"},2]
[{"$f":"analysis!A58","v":"MT101"},{"$f":"(analysis!M58-analysis!L58)*100/ABS(analysis!L58)","v":-14.18971882269647},{"$f":"((analysis!N58-analysis!L58)*100)/ABS(analysis!L58)","v":-23.44429553959745},{"$f":"((analysis!O58-analysis!L58)*100)/ABS(analysis!L58)","v":-27.303529887731365},{"$f":"((analysis!P58-analysis!L58)*100)/ABS(analysis!L58)","v":-33.85253363001922},{"$f":"((analysis!Q58-analysis!L58)*100)/ABS(analysis!L58)","v":-30.973121270355016},{"$f":"((analysis!R58-analysis!L58)*100)/ABS(analysis!L58)","v":-28.542530595731765},{"$f":"((analysis!S58-analysis!L58)*100)/ABS(analysis!L58)","v":-31.34924648528371},{"$f":"((analysis!T58-analysis!L58)*100)/ABS(analysis!L58)","v":-33.729265702437544},{"$f":"((analysis!U58-analysis!L58)*100)/ABS(analysis!L58)","v":-33.34997977141701},{"$f":"((analysis!V58-analysis!L58)*100)/ABS(analysis!L58)","v":-31.956103974916562},{"$f":"AVERAGE(B58:K58)","v":-28.869032568018618},null,{"$f":"(analysis!AI58-analysis!AH58)*100/ABS(analysis!AH58)","v":-11.345903488348512},{"$f":"(analysis!AJ58-analysis!AH58)*100/ABS(analysis!AH58)","v":-22.294290080054292},{"$f":"(analysis!AK58-analysis!AH58)*100/ABS(analysis!AH58)","v":-3.8536813080074888},{"$f":"(analysis!AL58-analysis!AH58)*100/ABS(analysis!AH58)","v":-26.21436917750827},{"$f":"(analysis!AM58-analysis!AH58)*100/ABS(analysis!AH58)","v":-22.758204766143525},{"$f":"(analysis!AN58-analysis!AH58)*100/ABS(analysis!AH58)","v":-30.273622680789025},{"$f":"(analysis!AO58-analysis!AH58)*100/ABS(analysis!AH58)","v":-23.19602425114023},{"$f":"(analysis!AP58-analysis!AH58)*100/ABS(analysis!AH58)","v":-23.44827786170125},{"$f":"(analysis!AQ58-analysis!AH58)*100/ABS(analysis!AH58)","v":-20.838757752449343},{"$f":"(analysis!AR58-analysis!AH58)*100/ABS(analysis!AH58)","v":-24.96179952506736},{"$f":"AVERAGE(N58:W58)","v":-20.91849308912093},null,{"$f":"(analysis!BE57-analysis!BD57)","v":0},{"$f":"analysis!BF57-analysis!BD57","v":0},{"$f":"analysis!BG57-analysis!BD57","v":0},{"$f":"analysis!BH57-analysis!BD57","v":0},{"$f":"analysis!BI57-analysis!BD57","v":0},{"$f":"analysis!BJ57-analysis!BD57","v":0},{"$f":"analysis!BK57-analysis!BD57","v":0},{"$f":"analysis!BL57-analysis!BD57","v":0},{"$f":"analysis!BM57-analysis!BD57","v":0},{"$f":"analysis!BN57-analysis!BD57","v":0},{"$f":"SUM(Z58:AI58)/10","v":0},null,{"$f":"(analysis!CA57-analysis!BZ57)","v":-2.5},{"$f":"analysis!CB57-analysis!BZ57","v":-2.5},{"$f":"analysis!CC57-analysis!BZ57","v":-2.5},{"$f":"analysis!CD57-analysis!BZ57","v":-2.5},{"$f":"analysis!CE57-analysis!BZ57","v":0},{"$f":"analysis!CF57-analysis!BZ57","v":-2.5},{"$f":"analysis!CG57-analysis!BZ57","v":-2.5},{"$f":"analysis!CH57-analysis!BZ57","v":0},{"$f":"analysis!CI57-analysis!BZ57","v":0},{"$f":"analysis!CJ57-analysis!BZ57","v":-2.5},{"$f":"SUM(AL58:AU58)/10","v":-1.75},null,{"$f":"analysis!ED58","v":"F"},{"$f":"analysis!EE58","v":22},{"$f":"analysis!EF58","v":"F"},1]
[{"$f":"analysis!A59","v":"NV101"},{"$f":"(analysis!M59-analysis!L59)*100/ABS(analysis!L59)","v":-3.6507339104252727},{"$f":"((analysis!N59-analysis!L59)*100)/ABS(analysis!L59)","v":-6.017267138832791},{"$f":"((analysis!O59-analysis!L59)*100)/ABS(analysis!L59)","v":-7.893386252437794},{"$f":"((analysis!P59-analysis!L59)*100)/ABS(analysis!L59)","v":-6.6160285580684315},{"$f":"((analysis!Q59-analysis!L59)*100)/ABS(analysis!L59)","v":-10.10024976904915},{"$f":"((analysis!R59-analysis!L59)*100)/ABS(analysis!L59)","v":-11.588599582577743},{"$f":"((analysis!S59-analysis!L59)*100)/ABS(analysis!L59)","v":-6.450656356565256},{"$f":"((analysis!T59-analysis!L59)*100)/ABS(analysis!L59)","v":-8.800082115851765},{"$f":"((analysis!U59-analysis!L59)*100)/ABS(analysis!L59)","v":-12.404055610679606},{"$f":"((analysis!V59-analysis!L59)*100)/ABS(analysis!L59)","v":-13.236619107902499},-8.675767840239029,null,{"$f":"(analysis!AI59-analysis!AH59)*100/ABS(analysis!AH59)","v":-7.351135475709123},{"$f":"(analysis!AJ59-analysis!AH59)*100/ABS(analysis!AH59)","v":-3.684042979812379},{"$f":"(analysis!AK59-analysis!AH59)*100/ABS(analysis!AH59)","v":-9.740740281378026},{"$f":"(analysis!AL59-analysis!AH59)*100/ABS(analysis!AH59)","v":-15.731289353028966},{"$f":"(analysis!AM59-analysis!AH59)*100/ABS(analysis!AH59)","v":-6.945977567481528},{"$f":"(analysis!AN59-analysis!AH59)*100/ABS(analysis!AH59)","v":15.759402350742729},{"$f":"(analysis!AO59-analysis!AH59)*100/ABS(analysis!AH59)","v":-4.3124511640021295},{"$f":"(analysis!AP59-analysis!AH59)*100/ABS(analysis!AH59)","v":-16.124044468147552},{"$f":"(analysis!AQ59-analysis!AH59)*100/ABS(analysis!AH59)","v":-12.19235905259197},{"$f":"(analysis!AR59-analysis!AH59)*100/ABS(analysis!AH59)","v":-17.51315729635646},-7.78357952877654,null,{"$f":"(analysis!BE57-analysis!BD57)","v":0},{"$f":"analysis!BF57-analysis!BD57","v":0},{"$f":"analysis!BG57-analysis!BD57","v":0},{"$f":"analysis!BH57-analysis!BD57","v":0},{"$f":"analysis!BI57-analysis!BD57","v":0},{"$f":"analysis!BJ57-analysis!BD57","v":0},{"$f":"analysis!BK57-analysis!BD57","v":0},{"$f":"analysis!BL57-analysis!BD57","v":0},{"$f":"analysis!BM57-analysis!BD57","v":0},{"$f":"analysis!BN57-analysis!BD57","v":0},0,null,{"$f":"(analysis!CA57-analysis!BZ57)","v":-2.5},{"$f":"analysis!CB57-analysis!BZ57","v":-2.5},{"$f":"analysis!CC57-analysis!BZ57","v":-2.5},{"$f":"analysis!CD57-analysis!BZ57","v":-2.5},{"$f":"analysis!CE57-analysis!BZ57","v":0},{"$f":"analysis!CF57-analysis!BZ57","v":-2.5},{"$f":"analysis!CG57-analysis!BZ57","v":-2.5},{"$f":"analysis!CH57-analysis!BZ57","v":0},{"$f":"analysis!CI57-analysis!BZ57","v":0},{"$f":"analysis!CJ57-analysis!BZ57","v":-2.5},-1.75,null,{"$f":"analysis!ED59","v":"F"},{"$f":"analysis!EE59","v":24},{"$f":"analysis!EF59","v":"F"},1]
[{"$f":"analysis!A60","v":"OA101"},{"$f":"(analysis!M60-analysis!L60)*100/ABS(analysis!L60)","v":-0.8146767471570256},{"$f":"((analysis!N60-analysis!L60)*100)/ABS(analysis!L60)","v":-6.259816959517488},{"$f":"((analysis!O60-analysis!L60)*100)/ABS(analysis!L60)","v":-6.804330980753531},{"$f":"((analysis!P60-analysis!L60)*100)/ABS(analysis!L60)","v":-2.5372259104902923},{"$f":"((analysis!Q60-analysis!L60)*100)/ABS(analysis!L60)","v":-0.8670338645835582},{"$f":"((analysis!R60-analysis!L60)*100)/ABS(analysis!L60)","v":-10.024293702485934},{"$f":"((analysis!S60-analysis!L60)*100)/ABS(analysis!L60)","v":-2.8670757502775066},{"$f":"((analysis!T60-analysis!L60)*100)/ABS(analysis!L60)","v":-6.301702653458719},{"$f":"((analysis!U60-analysis!L60)*100)/ABS(analysis!L60)","v":-4.71004628369182},{"$f":"((analysis!V60-analysis!L60)*100)/ABS(analysis!L60)","v":-13.050535089740114},-5.423673794215599,null,{"$f":"(analysis!AI60-analysis!AH60)*100/ABS(analysis!AH60)","v":-2.9579398888142574},{"$f":"(analysis!AJ60-analysis!AH60)*100/ABS(analysis!AH60)","v":-18.784930121300274},{"$f":"(analysis!AK60-analysis!AH60)*100/ABS(analysis!AH60)","v":-26.46494252449262},{"$f":"(analysis!AL60-analysis!AH60)*100/ABS(analysis!AH60)","v":-20.781991745970814},{"$f":"(analysis!AM60-analysis!AH60)*100/ABS(analysis!AH60)","v":-21.5055112994559},{"$f":"(analysis!AN60-analysis!AH60)*100/ABS(analysis!AH60)","v":-25.44795458069089},{"$f":"(analysis!AO60-analysis!AH60)*100/ABS(analysis!AH60)","v":-15.466337883631494},{"$f":"(analysis!AP60-analysis!AH60)*100/ABS(analysis!AH60)","v":-26.642130986570606},{"$f":"(analysis!AQ60-analysis!AH60)*100/ABS(analysis!AH60)","v":-19.61365532414416},{"$f":"(analysis!AR60-analysis!AH60)*100/ABS(analysis!AH60)","v":-37.11655309378438},-21.47819474488554,null,{"$f":"(analysis!BE59-analysis!BD59)","v":0},{"$f":"analysis!BF59-analysis!BD59","v":0},{"$f":"analysis!BG59-analysis!BD59","v":0},{"$f":"analysis!BH59-analysis!BD59","v":0},{"$f":"analysis!BI59-analysis!BD59","v":0},{"$f":"analysis!BJ59-analysis!BD59","v":0},{"$f":"analysis!BK59-analysis!BD59","v":0},{"$f":"analysis!BL59-analysis!BD59","v":0},{"$f":"analysis!BM59-analysis!BD59","v":0},{"$f":"analysis!BN59-analysis!BD59","v":0},0,null,{"$f":"(analysis!CA59-analysis!BZ59)","v":-0.5},{"$f":"analysis!CB59-analysis!BZ59","v":-0.5},{"$f":"analysis!CC59-analysis!BZ59","v":-0.5},{"$f":"analysis!CD59-analysis!BZ59","v":-0.5},{"$f":"analysis!CE59-analysis!BZ59","v":2},{"$f":"analysis!CF59-analysis!BZ59","v":2},{"$f":"analysis!CG59-analysis!BZ59","v":-0.5},{"$f":"analysis!CH59-analysis!BZ59","v":-0.5},{"$f":"analysis!CI59-analysis!BZ59","v":-0.5},{"$f":"analysis!CJ59-analysis!BZ59","v":-0.5},0,null,{"$f":"analysis!ED60","v":"M"},{"$f":"analysis!EE60","v":25},{"$f":"analysis!EF60","v":"F"},1]
[{"$f":"analysis!A61","v":"OB101"},{"$f":"(analysis!M61-analysis!L61)*100/ABS(analysis!L61)","v":7.9868182902087215},{"$f":"((analysis!N61-analysis!L61)*100)/ABS(analysis!L61)","v":-2.6773882076080024},{"$f":"((analysis!O61-analysis!L61)*100)/ABS(analysis!L61)","v":-12.778674714337633},{"$f":"((analysis!P61-analysis!L61)*100)/ABS(analysis!L61)","v":-24.228623699713452},{"$f":"((analysis!Q61-analysis!L61)*100)/ABS(analysis!L61)","v":-18.564241289399497},{"$f":"((analysis!R61-analysis!L61)*100)/ABS(analysis!L61)","v":-20.90974125226242},{"$f":"((analysis!S61-analysis!L61)*100)/ABS(analysis!L61)","v":-4.862612339675292},{"$f":"((analysis!T61-analysis!L61)*100)/ABS(analysis!L61)","v":-22.227130398070425},{"$f":"((analysis!U61-analysis!L61)*100)/ABS(analysis!L61)","v":-19.09588794764842},{"$f":"((analysis!V61-analysis!L61)*100)/ABS(analysis!L61)","v":-23.634430375788174},-14.099191193429458,null,{"$f":"(analysis!AI61-analysis!AH61)*100/ABS(analysis!AH61)","v":-6.653337113355918},{"$f":"(analysis!AJ61-analysis!AH61)*100/ABS(analysis!AH61)","v":2.6574553484832535},{"$f":"(analysis!AK61-analysis!AH61)*100/ABS(analysis!AH61)","v":17.957594115101678},{"$f":"(analysis!AL61-analysis!AH61)*100/ABS(analysis!AH61)","v":-9.371969143078836},{"$f":"(analysis!AM61-analysis!AH61)*100/ABS(analysis!AH61)","v":-1.0459720377803423},{"$f":"(analysis!AN61-analysis!AH61)*100/ABS(analysis!AH61)","v":-4.552440352735794},{"$f":"(analysis!AO61-analysis!AH61)*100/ABS(analysis!AH61)","v":20.1092227577254},{"$f":"(analysis!AP61-analysis!AH61)*100/ABS(analysis!AH61)","v":26.602903654187607},{"$f":"(analysis!AQ61-analysis!AH61)*100/ABS(analysis!AH61)","v":8.8646503230427},{"$f":"(analysis!AR61-analysis!AH61)*100/ABS(analysis!AH61)","v":-6.58171563288024},4.798639191870951,null,{"$f":"(analysis!BE60-analysis!BD60)","v":0},{"$f":"analysis!BF60-analysis!BD60","v":0},{"$f":"analysis!BG60-analysis!BD60","v":0},{"$f":"analysis!BH60-analysis!BD60","v":0},{"$f":"analysis!BI60-analysis!BD60","v":0},{"$f":"analysis!BJ60-analysis!BD60","v":0},{"$f":"analysis!BK60-analysis!BD60","v":0},{"$f":"analysis!BL60-analysis!BD60","v":0},{"$f":"analysis!BM60-analysis!BD60","v":0},{"$f":"analysis!BN60-analysis!BD60","v":0},0,null,{"$f":"(analysis!CA60-analysis!BZ60)","v":-1.5},{"$f":"analysis!CB60-analysis!BZ60","v":-1.5},{"$f":"analysis!CC60-analysis!BZ60","v":-1.5},{"$f":"analysis!CD60-analysis!BZ60","v":-1.5},{"$f":"analysis!CE60-analysis!BZ60","v":-1.5},{"$f":"analysis!CF60-analysis!BZ60","v":-1.5},{"$f":"analysis!CG60-analysis!BZ60","v":-1.5},{"$f":"analysis!CH60-analysis!BZ60","v":1},{"$f":"analysis!CI60-analysis!BZ60","v":-1.5},{"$f":"analysis!CJ60-analysis!BZ60","v":-1.5},-1.25,null,{"$f":"analysis!ED61","v":"F"},{"$f":"analysis!EE61","v":30.26},{"$f":"analysis!EF61","v":"F"},2]
[{"$f":"analysis!A62","v":"PM101"},{"$f":"(analysis!M62-analysis!L62)*100/ABS(analysis!L62)","v":-7.585807538429148},{"$f":"((analysis!N62-analysis!L62)*100)/ABS(analysis!L62)","v":-0.28163823962940554},{"$f":"((analysis!O62-analysis!L62)*100)/ABS(analysis!L62)","v":-7.3554958938723995},{"$f":"((analysis!P62-analysis!L62)*100)/ABS(analysis!L62)","v":-7.546325542219418},{"$f":"((analysis!Q62-analysis!L62)*100)/ABS(analysis!L62)","v":-11.968309117709},{"$f":"((analysis!R62-analysis!L62)*100)/ABS(analysis!L62)","v":-10.836491893030114},{"$f":"((analysis!S62-analysis!L62)*100)/ABS(analysis!L62)","v":-2.3281217098336584},{"$f":"((analysis!T62-analysis!L62)*100)/ABS(analysis!L62)","v":-10.112655295851765},{"$f":"((analysis!U62-analysis!L62)*100)/ABS(analysis!L62)","v":-14.32406822488946},{"$f":"((analysis!V62-analysis!L62)*100)/ABS(analysis!L62)","v":-13.705516950937042},-8.604443040640142,null,{"$f":"(analysis!AI62-analysis!AH62)*100/ABS(analysis!AH62)","v":-12.958588617406077},{"$f":"(analysis!AJ62-analysis!AH62)*100/ABS(analysis!AH62)","v":-11.006126817745637},{"$f":"(analysis!AK62-analysis!AH62)*100/ABS(analysis!AH62)","v":-4.746438325828602},{"$f":"(analysis!AL62-analysis!AH62)*100/ABS(analysis!AH62)","v":-4.96050786151916},{"$f":"(analysis!AM62-analysis!AH62)*100/ABS(analysis!AH62)","v":-1.3434708791614407},{"$f":"(analysis!AN62-analysis!AH62)*100/ABS(analysis!AH62)","v":3.3365320735218127},{"$f":"(analysis!AO62-analysis!AH62)*100/ABS(analysis!AH62)","v":-6.492212297925741},{"$f":"(analysis!AP62-analysis!AH62)*100/ABS(analysis!AH62)","v":-11.86609581457149},{"$f":"(analysis!AQ62-analysis!AH62)*100/ABS(analysis!AH62)","v":-12.238872074998163},{"$f":"(analysis!AR62-analysis!AH62)*100/ABS(analysis!AH62)","v":-14.036318003986125},-7.631209861962063,null,{"$f":"(analysis!BE61-analysis!BD61)","v":0},{"$f":"analysis!BF61-analysis!BD61","v":0},{"$f":"analysis!BG61-analysis!BD61","v":0},{"$f":"analysis!BH61-analysis!BD61","v":0},{"$f":"analysis!BI61-analysis!BD61","v":0},{"$f":"analysis!BJ61-analysis!BD61","v":0},{"$f":"analysis!BK61-analysis!BD61","v":0},{"$f":"analysis!BL61-analysis!BD61","v":0},{"$f":"analysis!BM61-analysis!BD61","v":0},{"$f":"analysis!BN61-analysis!BD61","v":0},0,null,{"$f":"(analysis!CA61-analysis!BZ61)","v":0},{"$f":"analysis!CB61-analysis!BZ61","v":0},{"$f":"analysis!CC61-analysis!BZ61","v":0},{"$f":"analysis!CD61-analysis!BZ61","v":0},{"$f":"analysis!CE61-analysis!BZ61","v":0},{"$f":"analysis!CF61-analysis!BZ61","v":0},{"$f":"analysis!CG61-analysis!BZ61","v":5},{"$f":"analysis!CH61-analysis!BZ61","v":0},{"$f":"analysis!CI61-analysis!BZ61","v":0},{"$f":"analysis!CJ61-analysis!BZ61","v":0},0.5,null,{"$f":"analysis!ED62","v":"M"},{"$f":"analysis!EE62","v":23},{"$f":"analysis!EF62","v":"T"},1]
[{"$f":"analysis!A63","v":"RB101"},{"$f":"(analysis!M63-analysis!L63)*100/ABS(analysis!L63)","v":-14.71126392407609},{"$f":"((analysis!N63-analysis!L63)*100)/ABS(analysis!L63)","v":-8.196605943620048},{"$f":"((analysis!O63-analysis!L63)*100)/ABS(analysis!L63)","v":-9.081312582941246},{"$f":"((analysis!P63-analysis!L63)*100)/ABS(analysis!L63)","v":-14.872119676679942},{"$f":"((analysis!Q63-analysis!L63)*100)/ABS(analysis!L63)","v":-8.231793139502146},{"$f":"((analysis!R63-analysis!L63)*100)/ABS(analysis!L63)","v":-16.882816584228088},{"$f":"((analysis!S63-analysis!L63)*100)/ABS(analysis!L63)","v":-11.494148871999036},{"$f":"((analysis!T63-analysis!L63)*100)/ABS(analysis!L63)","v":-11.453934933848076},{"$f":"((analysis!U63-analysis!L63)*100)/ABS(analysis!L63)","v":-11.37350705754614},{"$f":"((analysis!V63-analysis!L63)*100)/ABS(analysis!L63)","v":7.929183254916158},-9.836831945952465,null,{"$f":"(analysis!AI63-analysis!AH63)*100/ABS(analysis!AH63)","v":-11.97800549862534},{"$f":"(analysis!AJ63-analysis!AH63)*100/ABS(analysis!AH63)","v":-3.628092976755802},{"$f":"(analysis!AK63-analysis!AH63)*100/ABS(analysis!AH63)","v":-17.52661834541364},{"$f":"(analysis!AL63-analysis!AH63)*100/ABS(analysis!AH63)","v":-19.240189952511866},{"$f":"(analysis!AM63-analysis!AH63)*100/ABS(analysis!AH63)","v":-12.489877530617342},{"$f":"(analysis!AN63-analysis!AH63)*100/ABS(analysis!AH63)","v":-11.896025993501613},{"$f":"(analysis!AO63-analysis!AH63)*100/ABS(analysis!AH63)","v":-16.15096225943513},{"$f":"(analysis!AP63-analysis!AH63)*100/ABS(analysis!AH63)","v":-16.038990252436886},{"$f":"(analysis!AQ63-analysis!AH63)*100/ABS(analysis!AH63)","v":-5.1477130717320545},{"$f":"(analysis!AR63-analysis!AH63)*100/ABS(analysis!AH63)","v":-5.419645088727811},-11.951612096975749,null,{"$f":"(analysis!BE62-analysis!BD62)","v":-0.25},{"$f":"analysis!BF62-analysis!BD62","v":-0.25},{"$f":"analysis!BG62-analysis!BD62","v":-0.25},{"$f":"analysis!BH62-analysis!BD62","v":-0.25},{"$f":"analysis!BI62-analysis!BD62","v":-0.25},{"$f":"analysis!BJ62-analysis!BD62","v":-0.25},{"$f":"analysis!BK62-analysis!BD62","v":-0.25},{"$f":"analysis!BL62-analysis!BD62","v":-0.25},{"$f":"analysis!BM62-analysis!BD62","v":-0.25},{"$f":"analysis!BN62-analysis!BD62","v":-0.25},-0.25,null,{"$f":"(analysis!CA62-analysis!BZ62)","v":-0.5},{"$f":"analysis!CB62-analysis!BZ62","v":-3},{"$f":"analysis!CC62-analysis!BZ62","v":-0.5},{"$f":"analysis!CD62-analysis!BZ62","v":-0.5},{"$f":"analysis!CE62-analysis!BZ62","v":-0.5},{"$f":"analysis!CF62-analysis!BZ62","v":-0.5},{"$f":"analysis!CG62-analysis!BZ62","v":-3},{"$f":"analysis!CH62-analysis!BZ62","v":-3},{"$f":"analysis!CI62-analysis!BZ62","v":-3},{"$f":"analysis!CJ62-analysis!BZ62","v":-3},-1.75,null,{"$f":"analysis!ED63","v":"F"},{"$f":"analysis!EE63","v":28.3},{"$f":"analysis!EF63","v":"T"},2]
[{"$f":"analysis!A64","v":"RK101"},{"$f":"(analysis!M64-analysis!L64)*100/ABS(analysis!L64)","v":-5.501094333376235},{"$f":"((analysis!N64-analysis!L64)*100)/ABS(analysis!L64)","v":-4.765408030015988},{"$f":"((analysis!O64-analysis!L64)*100)/ABS(analysis!L64)","v":-9.216310165345483},{"$f":"((analysis!P64-analysis!L64)*100)/ABS(analysis!L64)","v":-11.685457320998308},{"$f":"((analysis!Q64-analysis!L64)*100)/ABS(analysis!L64)","v":-8.301300325541169},{"$f":"((analysis!R64-analysis!L64)*100)/ABS(analysis!L64)","v":-7.818506188961021},{"$f":"((analysis!S64-analysis!L64)*100)/ABS(analysis!L64)","v":-5.574662963712252},{"$f":"((analysis!T64-analysis!L64)*100)/ABS(analysis!L64)","v":-10.287653344613846},{"$f":"((analysis!U64-analysis!L64)*100)/ABS(analysis!L64)","v":-0.2777215795184832},{"$f":"((analysis!V64-analysis!L64)*100)/ABS(analysis!L64)","v":-12.269408324290515},-7.56975225763733,null,{"$f":"(analysis!AI64-analysis!AH64)*100/ABS(analysis!AH64)","v":-25.33456192005069},{"$f":"(analysis!AJ64-analysis!AH64)*100/ABS(analysis!AH64)","v":-16.520891973153464},{"$f":"(analysis!AK64-analysis!AH64)*100/ABS(analysis!AH64)","v":-9.221359172047732},{"$f":"(analysis!AL64-analysis!AH64)*100/ABS(analysis!AH64)","v":-4.78452940569518},{"$f":"(analysis!AM64-analysis!AH64)*100/ABS(analysis!AH64)","v":-4.822922740612234},{"$f":"(analysis!AN64-analysis!AH64)*100/ABS(analysis!AH64)","v":-10.817082154537987},{"$f":"(analysis!AO64-analysis!AH64)*100/ABS(analysis!AH64)","v":3.58761718965586},{"$f":"(analysis!AP64-analysis!AH64)*100/ABS(analysis!AH64)","v":-12.139252625744172},{"$f":"(analysis!AQ64-analysis!AH64)*100/ABS(analysis!AH64)","v":-10.200389212432725},{"$f":"(analysis!AR64-analysis!AH64)*100/ABS(analysis!AH64)","v":3.7603871967826294},-8.649298481783571,null,{"$f":"(analysis!BE63-analysis!BD63)","v":0},{"$f":"analysis!BF63-analysis!BD63","v":0},{"$f":"analysis!BG63-analysis!BD63","v":0},{"$f":"analysis!BH63-analysis!BD63","v":0},{"$f":"analysis!BI63-analysis!BD63","v":0},{"$f":"analysis!BJ63-analysis!BD63","v":0},{"$f":"analysis!BK63-analysis!BD63","v":0},{"$f":"analysis!BL63-analysis!BD63","v":0},{"$f":"analysis!BM63-analysis!BD63","v":0},{"$f":"analysis!BN63-analysis!BD63","v":0},0,null,{"$f":"(analysis!CA63-analysis!BZ63)","v":-3},{"$f":"analysis!CB63-analysis!BZ63","v":-0.5},{"$f":"analysis!CC63-analysis!BZ63","v":-0.5},{"$f":"analysis!CD63-analysis!BZ63","v":-3},{"$f":"analysis!CE63-analysis!BZ63","v":-3},{"$f":"analysis!CF63-analysis!BZ63","v":-3},{"$f":"analysis!CG63-analysis!BZ63","v":-0.5},{"$f":"analysis!CH63-analysis!BZ63","v":-0.5},{"$f":"analysis!CI63-analysis!BZ63","v":-3},{"$f":"analysis!CJ63-analysis!BZ63","v":-3},-2,null,{"$f":"analysis!ED64","v":"F"},{"$f":"analysis!EE64","v":21},{"$f":"analysis!EF64","v":"T"},1]
[{"$f":"analysis!A65","v":"RT101"},{"$f":"(analysis!M65-analysis!L65)*100/ABS(analysis!L65)","v":-16.696208532829893},{"$f":"((analysis!N65-analysis!L65)*100)/ABS(analysis!L65)","v":-21.992388876312827},{"$f":"((analysis!O65-analysis!L65)*100)/ABS(analysis!L65)","v":-26.16099534021551},{"$f":"((analysis!P65-analysis!L65)*100)/ABS(analysis!L65)","v":-26.80593343042996},{"$f":"((analysis!Q65-analysis!L65)*100)/ABS(analysis!L65)","v":-27.630258274214},{"$f":"((analysis!R65-analysis!L65)*100)/ABS(analysis!L65)","v":-27.284298106615523},{"$f":"((analysis!S65-analysis!L65)*100)/ABS(analysis!L65)","v":-22.7013936642307},{"$f":"((analysis!T65-analysis!L65)*100)/ABS(analysis!L65)","v":-21.87706882044666},{"$f":"((analysis!U65-analysis!L65)*100)/ABS(analysis!L65)","v":-21.309010767476316},{"$f":"((analysis!V65-analysis!L65)*100)/ABS(analysis!L65)","v":-30.44919297316459},-24.2906748785936,null,{"$f":"(analysis!AI65-analysis!AH65)*100/ABS(analysis!AH65)","v":-16.168821475299946},{"$f":"(analysis!AJ65-analysis!AH65)*100/ABS(analysis!AH65)","v":-3.4507184484206976},{"$f":"(analysis!AK65-analysis!AH65)*100/ABS(analysis!AH65)","v":-11.333307965425483},{"$f":"(analysis!AL65-analysis!AH65)*100/ABS(analysis!AH65)","v":-17.313304394404618},{"$f":"(analysis!AM65-analysis!AH65)*100/ABS(analysis!AH65)","v":-13.194922125401373},{"$f":"(analysis!AN65-analysis!AH65)*100/ABS(analysis!AH65)","v":-9.588776457020412},{"$f":"(analysis!AO65-analysis!AH65)*100/ABS(analysis!AH65)","v":2.9390672610562647},{"$f":"(analysis!AP65-analysis!AH65)*100/ABS(analysis!AH65)","v":-7.364206077175026},{"$f":"(analysis!AQ65-analysis!AH65)*100/ABS(analysis!AH65)","v":-10.405427951726814},{"$f":"(analysis!AR65-analysis!AH65)*100/ABS(analysis!AH65)","v":-10.150773184560302},-9.603119081837841,null,{"$f":"(analysis!BE64-analysis!BD64)","v":0},{"$f":"analysis!BF64-analysis!BD64","v":0},{"$f":"analysis!BG64-analysis!BD64","v":0},{"$f":"analysis!BH64-analysis!BD64","v":0},{"$f":"analysis!BI64-analysis!BD64","v":0},{"$f":"analysis!BJ64-analysis!BD64","v":0},{"$f":"analysis!BK64-analysis!BD64","v":0},{"$f":"analysis!BL64-analysis!BD64","v":0},{"$f":"analysis!BM64-analysis!BD64","v":0},{"$f":"analysis!BN64-analysis!BD64","v":0},0,null,{"$f":"(analysis!CA64-analysis!BZ64)","v":-3.75},{"$f":"analysis!CB64-analysis!BZ64","v":-1.25},{"$f":"analysis!CC64-analysis!BZ64","v":-3.75},{"$f":"analysis!CD64-analysis!BZ64","v":1.25},{"$f":"analysis!CE64-analysis!BZ64","v":-3.75},{"$f":"analysis!CF64-analysis!BZ64","v":1.25},{"$f":"analysis!CG64-analysis!BZ64","v":1.25},{"$f":"analysis!CH64-analysis!BZ64","v":-3.75},{"$f":"analysis!CI64-analysis!BZ64","v":-3.75},{"$f":"analysis!CJ64-analysis!BZ64","v":1.25},-1.5,null,{"$f":"analysis!ED65","v":"F"},{"$f":"analysis!EE65","v":23},{"$f":"analysis!EF65","v":"F"},1]
[{"$f":"analysis!A66","v":"SAV101"},{"$f":"(analysis!M66-analysis!L66)*100/ABS(analysis!L66)","v":-11.217008797653959},{"$f":"((analysis!N66-analysis!L66)*100)/ABS(analysis!L66)","v":-15.142628632364705},{"$f":"((analysis!O66-analysis!L66)*100)/ABS(analysis!L66)","v":-0.4265529192215413},{"$f":"((analysis!P66-analysis!L66)*100)/ABS(analysis!L66)","v":-16.702212743268465},{"$f":"((analysis!Q66-analysis!L66)*100)/ABS(analysis!L66)","v":-19.33484404158891},{"$f":"((analysis!R66-analysis!L66)*100)/ABS(analysis!L66)","v":-21.567581978139156},{"$f":"((analysis!S66-analysis!L66)*100)/ABS(analysis!L66)","v":-19.228205811783525},{"$f":"((analysis!T66-analysis!L66)*100)/ABS(analysis!L66)","v":-19.561450279925346},{"$f":"((analysis!U66-analysis!L66)*100)/ABS(analysis!L66)","v":-14.34284190882431},{"$f":"((analysis!V66-analysis!L66)*100)/ABS(analysis!L66)","v":-19.468141828845635},{"$f":"AVERAGE(B66:K66)","v":-15.699146894161554},null,{"$f":"(analysis!AI66-analysis!AH66)*100/ABS(analysis!AH66)","v":-16.997244344850557},{"$f":"(analysis!AJ66-analysis!AH66)*100/ABS(analysis!AH66)","v":-0.6416403382154513},{"$f":"(analysis!AK66-analysis!AH66)*100/ABS(analysis!AH66)","v":-17.744198487922564},{"$f":"(analysis!AL66-analysis!AH66)*100/ABS(analysis!AH66)","v":-6.778777081293514},{"$f":"(analysis!AM66-analysis!AH66)*100/ABS(analysis!AH66)","v":-4.352858445460575},{"$f":"(analysis!AN66-analysis!AH66)*100/ABS(analysis!AH66)","v":-6.263984361068208},{"$f":"(analysis!AO66-analysis!AH66)*100/ABS(analysis!AH66)","v":0.9935835966178369},{"$f":"(analysis!AP66-analysis!AH66)*100/ABS(analysis!AH66)","v":17.61163095081878},{"$f":"(analysis!AQ66-analysis!AH66)*100/ABS(analysis!AH66)","v":-13.979145847843428},{"$f":"(analysis!AR66-analysis!AH66)*100/ABS(analysis!AH66)","v":12.658853930089117},-3.5493780429128563,null,{"$f":"(analysis!BE65-analysis!BD65)","v":0},{"$f":"analysis!BF65-analysis!BD65","v":0},{"$f":"analysis!BG65-analysis!BD65","v":0},{"$f":"analysis!BH65-analysis!BD65","v":0},{"$f":"analysis!BI65-analysis!BD65","v":0},{"$f":"analysis!BJ65-analysis!BD65","v":0},{"$f":"analysis!BK65-analysis!BD65","v":0},{"$f":"analysis!BL65-analysis!BD65","v":0},{"$f":"analysis!BM65-analysis!BD65","v":0},{"$f":"analysis!BN65-analysis!BD65","v":0},0,null,{"$f":"(analysis!CA65-analysis!BZ65)","v":0},{"$f":"analysis!CB65-analysis!BZ65","v":0},{"$f":"analysis!CC65-analysis!BZ65","v":0},{"$f":"analysis!CD65-analysis!BZ65","v":0},{"$f":"analysis!CE65-analysis!BZ65","v":0},{"$f":"analysis!CF65-analysis!BZ65","v":0},{"$f":"analysis!CG65-analysis!BZ65","v":2.5},{"$f":"analysis!CH65-analysis!BZ65","v":0},{"$f":"analysis!CI65-analysis!BZ65","v":0},{"$f":"analysis!CJ65-analysis!BZ65","v":0},0.25,null,{"$f":"analysis!ED66","v":"M"},{"$f":"analysis!EE66","v":20},{"$f":"analysis!EF66","v":"F"},1]
[{"$f":"analysis!A67","v":"SGJ101"},{"$f":"(analysis!M67-analysis!L67)*100/ABS(analysis!L67)","v":-13.468005659020784},{"$f":"((analysis!N67-analysis!L67)*100)/ABS(analysis!L67)","v":-9.517514360151807},{"$f":"((analysis!O67-analysis!L67)*100)/ABS(analysis!L67)","v":-6.672542152747158},{"$f":"((analysis!P67-analysis!L67)*100)/ABS(analysis!L67)","v":-6.78850569380984},{"$f":"((analysis!Q67-analysis!L67)*100)/ABS(analysis!L67)","v":-12.779955315382153},{"$f":"((analysis!R67-analysis!L67)*100)/ABS(analysis!L67)","v":-10.19783380105293},{"$f":"((analysis!S67-analysis!L67)*100)/ABS(analysis!L67)","v":-14.844106346298032},{"$f":"((analysis!T67-analysis!L67)*100)/ABS(analysis!L67)","v":-5.250056049044821},{"$f":"((analysis!U67-analysis!L67)*100)/ABS(analysis!L67)","v":-16.800024738888737},{"$f":"((analysis!V67-analysis!L67)*100)/ABS(analysis!L67)","v":-14.217903224559509},-11.053644734095576,null,{"$f":"(analysis!AI67-analysis!AH67)*100/ABS(analysis!AH67)","v":-10.926557316623652},{"$f":"(analysis!AJ67-analysis!AH67)*100/ABS(analysis!AH67)","v":-5.386103943973458},{"$f":"(analysis!AK67-analysis!AH67)*100/ABS(analysis!AH67)","v":11.04327927263792},{"$f":"(analysis!AL67-analysis!AH67)*100/ABS(analysis!AH67)","v":-3.9846725641970653},{"$f":"(analysis!AM67-analysis!AH67)*100/ABS(analysis!AH67)","v":-5.7892554367858455},{"$f":"(analysis!AN67-analysis!AH67)*100/ABS(analysis!AH67)","v":6.370561494041045},{"$f":"(analysis!AO67-analysis!AH67)*100/ABS(analysis!AH67)","v":-0.7556210836712114},{"$f":"(analysis!AP67-analysis!AH67)*100/ABS(analysis!AH67)","v":-10.653950116721953},{"$f":"(analysis!AQ67-analysis!AH67)*100/ABS(analysis!AH67)","v":-4.84856862022361},{"$f":"(analysis!AR67-analysis!AH67)*100/ABS(analysis!AH67)","v":-11.656069541712734},{"$f":"AVERAGE(N67:W67)","v":-3.6586957857230566},null,{"$f":"(analysis!BE66-analysis!BD66)","v":-0.75},{"$f":"analysis!BF66-analysis!BD66","v":-0.75},{"$f":"analysis!BG66-analysis!BD66","v":1.75},{"$f":"analysis!BH66-analysis!BD66","v":-0.75},{"$f":"analysis!BI66-analysis!BD66","v":-0.75},{"$f":"analysis!BJ66-analysis!BD66","v":-0.75},{"$f":"analysis!BK66-analysis!BD66","v":-0.75},{"$f":"analysis!BL66-analysis!BD66","v":-0.75},{"$f":"analysis!BM66-analysis!BD66","v":-0.75},{"$f":"analysis!BN66-analysis!BD66","v":-0.75},{"$f":"SUM(Z67:AI67)/10","v":-0.5},null,{"$f":"(analysis!CA66-analysis!BZ66)","v":-2.5},{"$f":"analysis!CB66-analysis!BZ66","v":2.5},{"$f":"analysis!CC66-analysis!BZ66","v":-2.5},{"$f":"analysis!CD66-analysis!BZ66","v":-2.5},{"$f":"analysis!CE66-analysis!BZ66","v":-2.5},{"$f":"analysis!CF66-analysis!BZ66","v":-2.5},{"$f":"analysis!CG66-analysis!BZ66","v":-2.5},{"$f":"analysis!CH66-analysis!BZ66","v":0},{"$f":"analysis!CI66-analysis!BZ66","v":-2.5},{"$f":"analysis!CJ66-analysis!BZ66","v":0},{"$f":"SUM(AL67:AU67)/10","v":-1.5},null,{"$f":"analysis!ED67","v":"F"},{"$f":"analysis!EE67","v":26},{"$f":"analysis!EF67","v":"F"},2]
[{"$f":"analysis!A68","v":"SK101"},{"$f":"(analysis!M68-analysis!L68)*100/ABS(analysis!L68)","v":-9.336825932549178},{"$f":"((analysis!N68-analysis!L68)*100)/ABS(analysis!L68)","v":-0.09822935294562496},{"$f":"((analysis!O68-analysis!L68)*100)/ABS(analysis!L68)","v":-20.514822557489367},{"$f":"((analysis!P68-analysis!L68)*100)/ABS(analysis!L68)","v":-31.16389189733774},{"$f":"((analysis!Q68-analysis!L68)*100)/ABS(analysis!L68)","v":-23.643049643603767},{"$f":"((analysis!R68-analysis!L68)*100)/ABS(analysis!L68)","v":-27.849280910762417},{"$f":"((analysis!S68-analysis!L68)*100)/ABS(analysis!L68)","v":-23.985593028234646},{"$f":"((analysis!T68-analysis!L68)*100)/ABS(analysis!L68)","v":-20.610533209077406},{"$f":"((analysis!U68-analysis!L68)*100)/ABS(analysis!L68)","v":-29.1136689922676},{"$f":"((analysis!V68-analysis!L68)*100)/ABS(analysis!L68)","v":-32.75067375261316},-21.906656927688093,null,{"$f":"(analysis!AI68-analysis!AH68)*100/ABS(analysis!AH68)","v":-3.83012745939955},{"$f":"(analysis!AJ68-analysis!AH68)*100/ABS(analysis!AH68)","v":-14.85221393550461},{"$f":"(analysis!AK68-analysis!AH68)*100/ABS(analysis!AH68)","v":-25.84468820461189},{"$f":"(analysis!AL68-analysis!AH68)*100/ABS(analysis!AH68)","v":-18.598158120724737},{"$f":"(analysis!AM68-analysis!AH68)*100/ABS(analysis!AH68)","v":-20.192986983319862},{"$f":"(analysis!AN68-analysis!AH68)*100/ABS(analysis!AH68)","v":1.2927843512177042},{"$f":"(analysis!AO68-analysis!AH68)*100/ABS(analysis!AH68)","v":-24.6178967718464},{"$f":"(analysis!AP68-analysis!AH68)*100/ABS(analysis!AH68)","v":-17.773246640072085},{"$f":"(analysis!AQ68-analysis!AH68)*100/ABS(analysis!AH68)","v":-18.818134515565443},{"$f":"(analysis!AR68-analysis!AH68)*100/ABS(analysis!AH68)","v":-24.110258937598623},-16.734492721742548,null,{"$f":"(analysis!BE67-analysis!BD67)","v":-0.75},{"$f":"analysis!BF67-analysis!BD67","v":-0.75},{"$f":"analysis!BG67-analysis!BD67","v":-0.75},{"$f":"analysis!BH67-analysis!BD67","v":-0.75},{"$f":"analysis!BI67-analysis!BD67","v":-0.75},{"$f":"analysis!BJ67-analysis!BD67","v":-0.75},{"$f":"analysis!BK67-analysis!BD67","v":-0.75},{"$f":"analysis!BL67-analysis!BD67","v":-0.75},{"$f":"analysis!BM67-analysis!BD67","v":-0.75},{"$f":"analysis!BN67-analysis!BD67","v":-0.75},-0.75,null,{"$f":"(analysis!CA67-analysis!BZ67)","v":-1.75},{"$f":"analysis!CB67-analysis!BZ67","v":0.75},{"$f":"analysis!CC67-analysis!BZ67","v":0.75},{"$f":"analysis!CD67-analysis!BZ67","v":-1.75},{"$f":"analysis!CE67-analysis!BZ67","v":-1.75},{"$f":"analysis!CF67-analysis!BZ67","v":0.75},{"$f":"analysis!CG67-analysis!BZ67","v":3.25},{"$f":"analysis!CH67-analysis!BZ67","v":-1.75},{"$f":"analysis!CI67-analysis!BZ67","v":-1.75},{"$f":"analysis!CJ67-analysis!BZ67","v":-1.75},-0.5,null,{"$f":"analysis!ED68","v":"M"},{"$f":"analysis!EE68","v":23},{"$f":"analysis!EF68","v":"F"},1]
[{"$f":"analysis!A69","v":"SN101"},{"$f":"(analysis!M69-analysis!L69)*100/ABS(analysis!L69)","v":-9.968506093386285},{"$f":"((analysis!N69-analysis!L69)*100)/ABS(analysis!L69)","v":-3.896185972045202},{"$f":"((analysis!O69-analysis!L69)*100)/ABS(analysis!L69)","v":2.081336437080647},{"$f":"((analysis!P69-analysis!L69)*100)/ABS(analysis!L69)","v":-0.4466025553250051},{"$f":"((analysis!Q69-analysis!L69)*100)/ABS(analysis!L69)","v":0.2749133654241099},{"$f":"((analysis!R69-analysis!L69)*100)/ABS(analysis!L69)","v":-0.8679257207259378},{"$f":"((analysis!S69-analysis!L69)*100)/ABS(analysis!L69)","v":17.24897039151456},{"$f":"((analysis!T69-analysis!L69)*100)/ABS(analysis!L69)","v":15.774339312611257},{"$f":"((analysis!U69-analysis!L69)*100)/ABS(analysis!L69)","v":1.6600132716797145},{"$f":"((analysis!V69-analysis!L69)*100)/ABS(analysis!L69)","v":20.40889413202161},4.226924656884947,null,{"$f":"(analysis!AI69-analysis!AH69)*100/ABS(analysis!AH69)","v":-11.189573679094398},{"$f":"(analysis!AJ69-analysis!AH69)*100/ABS(analysis!AH69)","v":-16.147630779042444},{"$f":"(analysis!AK69-analysis!AH69)*100/ABS(analysis!AH69)","v":-4.791417006547308},{"$f":"(analysis!AL69-analysis!AH69)*100/ABS(analysis!AH69)","v":2.015625080362698},{"$f":"(analysis!AM69-analysis!AH69)*100/ABS(analysis!AH69)","v":-5.861205260478018},{"$f":"(analysis!AN69-analysis!AH69)*100/ABS(analysis!AH69)","v":16.871795135549373},{"$f":"(analysis!AO69-analysis!AH69)*100/ABS(analysis!AH69)","v":22.28245495831426},{"$f":"(analysis!AP69-analysis!AH69)*100/ABS(analysis!AH69)","v":12.281477747889989},{"$f":"(analysis!AQ69-analysis!AH69)*100/ABS(analysis!AH69)","v":18.99079879237364},{"$f":"(analysis!AR69-analysis!AH69)*100/ABS(analysis!AH69)","v":24.072292998544462},5.852461798787226,null,{"$f":"(analysis!BE68-analysis!BD68)","v":3.5},{"$f":"analysis!BF68-analysis!BD68","v":3.5},{"$f":"analysis!BG68-analysis!BD68","v":-1.5},{"$f":"analysis!BH68-analysis!BD68","v":-1.5},{"$f":"analysis!BI68-analysis!BD68","v":-1.5},{"$f":"analysis!BJ68-analysis!BD68","v":1},{"$f":"analysis!BK68-analysis!BD68","v":-1.5},{"$f":"analysis!BL68-analysis!BD68","v":3.5},{"$f":"analysis!BM68-analysis!BD68","v":1},{"$f":"analysis!BN68-analysis!BD68","v":1},0.75,null,{"$f":"(analysis!CA68-analysis!BZ68)","v":3.25},{"$f":"analysis!CB68-analysis!BZ68","v":0.75},{"$f":"analysis!CC68-analysis!BZ68","v":-4.25},{"$f":"analysis!CD68-analysis!BZ68","v":0.75},{"$f":"analysis!CE68-analysis!BZ68","v":5.75},{"$f":"analysis!CF68-analysis!BZ68","v":13.25},{"$f":"analysis!CG68-analysis!BZ68","v":0.75},{"$f":"analysis!CH68-analysis!BZ68","v":0.75},{"$f":"analysis!CI68-analysis!BZ68","v":5.75},{"$f":"analysis!CJ68-analysis!BZ68","v":0.75},2.75,null,{"$f":"analysis!ED69","v":"F"},{"$f":"analysis!EE69","v":20},{"$f":"analysis!EF69","v":"T"},1]
[{"$f":"analysis!A70","v":"SR101"},{"$f":"(analysis!M70-analysis!L70)*100/ABS(analysis!L70)","v":0.8610170421048329},{"$f":"((analysis!N70-analysis!L70)*100)/ABS(analysis!L70)","v":-0.4620425846963766},{"$f":"((analysis!O70-analysis!L70)*100)/ABS(analysis!L70)","v":-7.262431961830061},{"$f":"((analysis!P70-analysis!L70)*100)/ABS(analysis!L70)","v":-11.814305496524385},{"$f":"((analysis!Q70-analysis!L70)*100)/ABS(analysis!L70)","v":-9.058502543290777},{"$f":"((analysis!R70-analysis!L70)*100)/ABS(analysis!L70)","v":-11.485254397630818},{"$f":"((analysis!S70-analysis!L70)*100)/ABS(analysis!L70)","v":-14.501556137488514},{"$f":"((analysis!T70-analysis!L70)*100)/ABS(analysis!L70)","v":-18.498155942799947},{"$f":"((analysis!U70-analysis!L70)*100)/ABS(analysis!L70)","v":-10.169050002056569},{"$f":"((analysis!V70-analysis!L70)*100)/ABS(analysis!L70)","v":-17.517857877346195},-9.99081399015588,null,{"$f":"(analysis!AI70-analysis!AH70)*100/ABS(analysis!AH70)","v":-15.067949385291193},{"$f":"(analysis!AJ70-analysis!AH70)*100/ABS(analysis!AH70)","v":-10.102345367870385},{"$f":"(analysis!AK70-analysis!AH70)*100/ABS(analysis!AH70)","v":-9.88514700210085},{"$f":"(analysis!AL70-analysis!AH70)*100/ABS(analysis!AH70)","v":-15.393746933945499},{"$f":"(analysis!AM70-analysis!AH70)*100/ABS(analysis!AH70)","v":-11.233274789635907},{"$f":"(analysis!AN70-analysis!AH70)*100/ABS(analysis!AH70)","v":-20.61025251182422},{"$f":"(analysis!AO70-analysis!AH70)*100/ABS(analysis!AH70)","v":-5.237850934514711},{"$f":"(analysis!AP70-analysis!AH70)*100/ABS(analysis!AH70)","v":-15.03799099001264},{"$f":"(analysis!AQ70-analysis!AH70)*100/ABS(analysis!AH70)","v":-11.978489872190016},{"$f":"(analysis!AR70-analysis!AH70)*100/ABS(analysis!AH70)","v":-14.199155922213047},-12.874620370959846,null,{"$f":"(analysis!BE69-analysis!BD69)","v":-0.25},{"$f":"analysis!BF69-analysis!BD69","v":-0.25},{"$f":"analysis!BG69-analysis!BD69","v":-0.25},{"$f":"analysis!BH69-analysis!BD69","v":-0.25},{"$f":"analysis!BI69-analysis!BD69","v":-0.25},{"$f":"analysis!BJ69-analysis!BD69","v":-0.25},{"$f":"analysis!BK69-analysis!BD69","v":-0.25},{"$f":"analysis!BL69-analysis!BD69","v":-0.25},{"$f":"analysis!BM69-analysis!BD69","v":-0.25},{"$f":"analysis!BN69-analysis!BD69","v":-0.25},-0.25,null,{"$f":"(analysis!CA69-analysis!BZ69)","v":4},{"$f":"analysis!CB69-analysis!BZ69","v":1.5},{"$f":"analysis!CC69-analysis!BZ69","v":-1},{"$f":"analysis!CD69-analysis!BZ69","v":-1},{"$f":"analysis!CE69-analysis!BZ69","v":-1},{"$f":"analysis!CF69-analysis!BZ69","v":1.5},{"$f":"analysis!CG69-analysis!BZ69","v":1.5},{"$f":"analysis!CH69-analysis!BZ69","v":1.5},{"$f":"analysis!CI69-analysis!BZ69","v":-1},{"$f":"analysis!CJ69-analysis!BZ69","v":-1},0.5,null,{"$f":"analysis!ED70","v":"F"},{"$f":"analysis!EE70","v":23},{"$f":"analysis!EF70","v":"F"},1]
[{"$f":"analysis!A71","v":"TN101"},{"$f":"(analysis!M71-analysis!L71)*100/ABS(analysis!L71)","v":-2.9898095989495026},{"$f":"((analysis!N71-analysis!L71)*100)/ABS(analysis!L71)","v":-0.3856573001781912},{"$f":"((analysis!O71-analysis!L71)*100)/ABS(analysis!L71)","v":-4.617404785681558},{"$f":"((analysis!P71-analysis!L71)*100)/ABS(analysis!L71)","v":1.1591788092624191},{"$f":"((analysis!Q71-analysis!L71)*100)/ABS(analysis!L71)","v":-3.7401585663920773},{"$f":"((analysis!R71-analysis!L71)*100)/ABS(analysis!L71)","v":-5.422926471318448},{"$f":"((analysis!S71-analysis!L71)*100)/ABS(analysis!L71)","v":-7.177418909897408},{"$f":"((analysis!T71-analysis!L71)*100)/ABS(analysis!L71)","v":-9.472603986780593},{"$f":"((analysis!U71-analysis!L71)*100)/ABS(analysis!L71)","v":1.385386953859081},{"$f":"((analysis!V71-analysis!L71)*100)/ABS(analysis!L71)","v":-7.359488879938629},-3.8620902736014906,null,{"$f":"(analysis!AI71-analysis!AH71)*100/ABS(analysis!AH71)","v":-8.969696969696976},{"$f":"(analysis!AJ71-analysis!AH71)*100/ABS(analysis!AH71)","v":6.016260162601616},{"$f":"(analysis!AK71-analysis!AH71)*100/ABS(analysis!AH71)","v":-4.641537324464154},{"$f":"(analysis!AL71-analysis!AH71)*100/ABS(analysis!AH71)","v":-10.104951958610503},{"$f":"(analysis!AM71-analysis!AH71)*100/ABS(analysis!AH71)","v":-13.439763488543985},{"$f":"(analysis!AN71-analysis!AH71)*100/ABS(analysis!AH71)","v":-15.994087213599418},{"$f":"(analysis!AO71-analysis!AH71)*100/ABS(analysis!AH71)","v":-5.702882483370294},{"$f":"(analysis!AP71-analysis!AH71)*100/ABS(analysis!AH71)","v":-18.663710273466375},{"$f":"(analysis!AQ71-analysis!AH71)*100/ABS(analysis!AH71)","v":-12.257206208425732},{"$f":"(analysis!AR71-analysis!AH71)*100/ABS(analysis!AH71)","v":-4.4759793052476065},-8.823355506282343,null,{"$f":"(analysis!BE70-analysis!BD70)","v":0},{"$f":"analysis!BF70-analysis!BD70","v":0},{"$f":"analysis!BG70-analysis!BD70","v":0},{"$f":"analysis!BH70-analysis!BD70","v":0},{"$f":"analysis!BI70-analysis!BD70","v":0},{"$f":"analysis!BJ70-analysis!BD70","v":0},{"$f":"analysis!BK70-analysis!BD70","v":0},{"$f":"analysis!BL70-analysis!BD70","v":0},{"$f":"analysis!BM70-analysis!BD70","v":0},{"$f":"analysis!BN70-analysis!BD70","v":0},0,null,{"$f":"(analysis!CA70-analysis!BZ70)","v":1},{"$f":"analysis!CB70-analysis!BZ70","v":-1.5},{"$f":"analysis!CC70-analysis!BZ70","v":1},{"$f":"analysis!CD70-analysis!BZ70","v":-1.5},{"$f":"analysis!CE70-analysis!BZ70","v":-1.5},{"$f":"analysis!CF70-analysis!BZ70","v":-1.5},{"$f":"analysis!CG70-analysis!BZ70","v":1},{"$f":"analysis!CH70-analysis!BZ70","v":1},{"$f":"analysis!CI70-analysis!BZ70","v":1},{"$f":"analysis!CJ70-analysis!BZ70","v":-1.5},-0.25,null,{"$f":"analysis!ED71","v":"F"},{"$f":"analysis!EE71","v":21},{"$f":"analysis!EF71","v":"F"},1]
[{"$f":"analysis!A72","v":"TN102"},{"$f":"(analysis!M72-analysis!L72)*100/ABS(analysis!L72)","v":-7.957395332369494},{"$f":"((analysis!N72-analysis!L72)*100)/ABS(analysis!L72)","v":-3.71463133980466},{"$f":"((analysis!O72-analysis!L72)*100)/ABS(analysis!L72)","v":-7.721358392588423},{"$f":"((analysis!P72-analysis!L72)*100)/ABS(analysis!L72)","v":3.4667925530345634},{"$f":"((analysis!Q72-analysis!L72)*100)/ABS(analysis!L72)","v":-1.3483610184993766},{"$f":"((analysis!R72-analysis!L72)*100)/ABS(analysis!L72)","v":-4.8299058802702435},{"$f":"((analysis!S72-analysis!L72)*100)/ABS(analysis!L72)","v":2.1921930782167687},{"$f":"((analysis!T72-analysis!L72)*100)/ABS(analysis!L72)","v":1.9797598324137922},{"$f":"((analysis!U72-analysis!L72)*100)/ABS(analysis!L72)","v":2.8412946626147235},{"$f":"((analysis!V72-analysis!L72)*100)/ABS(analysis!L72)","v":1.2126397781253018},-1.3878972059127048,null,{"$f":"(analysis!AI72-analysis!AH72)*100/ABS(analysis!AH72)","v":-5.2057833537331595},{"$f":"(analysis!AJ72-analysis!AH72)*100/ABS(analysis!AH72)","v":-4.815636474908189},{"$f":"(analysis!AK72-analysis!AH72)*100/ABS(analysis!AH72)","v":7.955936352509187},{"$f":"(analysis!AL72-analysis!AH72)*100/ABS(analysis!AH72)","v":-8.208384332925327},{"$f":"(analysis!AM72-analysis!AH72)*100/ABS(analysis!AH72)","v":0.7802937576499412},{"$f":"(analysis!AN72-analysis!AH72)*100/ABS(analysis!AH72)","v":-11.46343329253366},{"$f":"(analysis!AO72-analysis!AH72)*100/ABS(analysis!AH72)","v":-11.861230110159116},{"$f":"(analysis!AP72-analysis!AH72)*100/ABS(analysis!AH72)","v":-7.634638922888612},{"$f":"(analysis!AQ72-analysis!AH72)*100/ABS(analysis!AH72)","v":-13.567166462668288},{"$f":"(analysis!AR72-analysis!AH72)*100/ABS(analysis!AH72)","v":4.176866585067328},-4.98431762545899,null,{"$f":"(analysis!BE71-analysis!BD71)","v":0},{"$f":"analysis!BF71-analysis!BD71","v":0},{"$f":"analysis!BG71-analysis!BD71","v":0},{"$f":"analysis!BH71-analysis!BD71","v":0},{"$f":"analysis!BI71-analysis!BD71","v":0},{"$f":"analysis!BJ71-analysis!BD71","v":0},{"$f":"analysis!BK71-analysis!BD71","v":0},{"$f":"analysis!BL71-analysis!BD71","v":0},{"$f":"analysis!BM71-analysis!BD71","v":0},{"$f":"analysis!BN71-analysis!BD71","v":0},0,null,{"$f":"(analysis!CA71-analysis!BZ71)","v":-3},{"$f":"analysis!CB71-analysis!BZ71","v":7},{"$f":"analysis!CC71-analysis!BZ71","v":-0.5},{"$f":"analysis!CD71-analysis!BZ71","v":-3},{"$f":"analysis!CE71-analysis!BZ71","v":-3},{"$f":"analysis!CF71-analysis!BZ71","v":-3},{"$f":"analysis!CG71-analysis!BZ71","v":-3},{"$f":"analysis!CH71-analysis!BZ71","v":-3},{"$f":"analysis!CI71-analysis!BZ71","v":-3},{"$f":"analysis!CJ71-analysis!BZ71","v":2},-1.25,null,{"$f":"analysis!ED72","v":"F"},{"$f":"analysis!EE72","v":22},{"$f":"analysis!EF72","v":"F"},1]
[{"$f":"analysis!A73","v":"YS101"},{"$f":"(analysis!M73-analysis!L73)*100/ABS(analysis!L73)","v":9.108120059698185},{"$f":"((analysis!N73-analysis!L73)*100)/ABS(analysis!L73)","v":5.902106019567731},{"$f":"((analysis!O73-analysis!L73)*100)/ABS(analysis!L73)","v":1.265822784810122},{"$f":"((analysis!P73-analysis!L73)*100)/ABS(analysis!L73)","v":-7.916920015477317},{"$f":"((analysis!Q73-analysis!L73)*100)/ABS(analysis!L73)","v":-6.859764523796368},{"$f":"((analysis!R73-analysis!L73)*100)/ABS(analysis!L73)","v":-4.489801558786142},{"$f":"((analysis!S73-analysis!L73)*100)/ABS(analysis!L73)","v":-3.985407108506995},{"$f":"((analysis!T73-analysis!L73)*100)/ABS(analysis!L73)","v":5.9573821237079185},{"$f":"((analysis!U73-analysis!L73)*100)/ABS(analysis!L73)","v":-7.4125255651981705},{"$f":"((analysis!V73-analysis!L73)*100)/ABS(analysis!L73)","v":-7.30888286993534},-1.5739870653916375,null,{"$f":"(analysis!AI73-analysis!AH73)*100/ABS(analysis!AH73)","v":-19.39953810623557},{"$f":"(analysis!AJ73-analysis!AH73)*100/ABS(analysis!AH73)","v":-11.141100197556975},{"$f":"(analysis!AK73-analysis!AH73)*100/ABS(analysis!AH73)","v":-14.260274353766103},{"$f":"(analysis!AL73-analysis!AH73)*100/ABS(analysis!AH73)","v":-21.11355352124433},{"$f":"(analysis!AM73-analysis!AH73)*100/ABS(analysis!AH73)","v":-17.46570577923704},{"$f":"(analysis!AN73-analysis!AH73)*100/ABS(analysis!AH73)","v":-20.8019143548791},{"$f":"(analysis!AO73-analysis!AH73)*100/ABS(analysis!AH73)","v":-10.784941150282418},{"$f":"(analysis!AP73-analysis!AH73)*100/ABS(analysis!AH73)","v":-24.76418375580845},{"$f":"(analysis!AQ73-analysis!AH73)*100/ABS(analysis!AH73)","v":-12.810595731656415},{"$f":"(analysis!AR73-analysis!AH73)*100/ABS(analysis!AH73)","v":-19.39953810623557},-17.194134505690197,null,{"$f":"(analysis!BE72-analysis!BD72)","v":0},{"$f":"analysis!BF72-analysis!BD72","v":0},{"$f":"analysis!BG72-analysis!BD72","v":0},{"$f":"analysis!BH72-analysis!BD72","v":0},{"$f":"analysis!BI72-analysis!BD72","v":0},{"$f":"analysis!BJ72-analysis!BD72","v":0},{"$f":"analysis!BK72-analysis!BD72","v":0},{"$f":"analysis!BL72-analysis!BD72","v":0},{"$f":"analysis!BM72-analysis!BD72","v":0},{"$f":"analysis!BN72-analysis!BD72","v":0},0,null,{"$f":"(analysis!CA72-analysis!BZ72)","v":5.25},{"$f":"analysis!CB72-analysis!BZ72","v":2.75},{"$f":"analysis!CC72-analysis!BZ72","v":2.75},{"$f":"analysis!CD72-analysis!BZ72","v":0.25},{"$f":"analysis!CE72-analysis!BZ72","v":2.75},{"$f":"analysis!CF72-analysis!BZ72","v":2.75},{"$f":"analysis!CG72-analysis!BZ72","v":0.25},{"$f":"analysis!CH72-analysis!BZ72","v":0.25},{"$f":"analysis!CI72-analysis!BZ72","v":-2.25},{"$f":"analysis!CJ72-analysis!BZ72","v":2.75},1.75,null,{"$f":"analysis!ED73","v":"F"},{"$f":"analysis!EE73","v":22},{"$f":"analysis!EF73","v":"F"},1]
[{"$f":"analysis!A74","v":"ZP101"},{"$f":"(analysis!M74-analysis!L74)*100/ABS(analysis!L74)","v":-9.859102568868735},{"$f":"((analysis!N74-analysis!L74)*100)/ABS(analysis!L74)","v":-15.361165842596385},{"$f":"((analysis!O74-analysis!L74)*100)/ABS(analysis!L74)","v":-8.193613145470094},{"$f":"((analysis!P74-analysis!L74)*100)/ABS(analysis!L74)","v":-9.41298933045838},{"$f":"((analysis!Q74-analysis!L74)*100)/ABS(analysis!L74)","v":-11.197442284099782},{"$f":"((analysis!R74-analysis!L74)*100)/ABS(analysis!L74)","v":-9.234544035094247},{"$f":"((analysis!S74-analysis!L74)*100)/ABS(analysis!L74)","v":-14.43919848321499},{"$f":"((analysis!T74-analysis!L74)*100)/ABS(analysis!L74)","v":-5.63589724525076},{"$f":"((analysis!U74-analysis!L74)*100)/ABS(analysis!L74)","v":-22.617941187404735},{"$f":"((analysis!V74-analysis!L74)*100)/ABS(analysis!L74)","v":-28.120004461132382},-13.40718985835905,null,{"$f":"(analysis!AI74-analysis!AH74)*100/ABS(analysis!AH74)","v":-18.475558684850686},{"$f":"(analysis!AJ74-analysis!AH74)*100/ABS(analysis!AH74)","v":-13.109781531448856},{"$f":"(analysis!AK74-analysis!AH74)*100/ABS(analysis!AH74)","v":-16.560163108947304},{"$f":"(analysis!AL74-analysis!AH74)*100/ABS(analysis!AH74)","v":-8.891906953152894},{"$f":"(analysis!AM74-analysis!AH74)*100/ABS(analysis!AH74)","v":-11.988574365066391},{"$f":"(analysis!AN74-analysis!AH74)*100/ABS(analysis!AH74)","v":-14.818287689745958},{"$f":"(analysis!AO74-analysis!AH74)*100/ABS(analysis!AH74)","v":-3.312566529963925},{"$f":"(analysis!AP74-analysis!AH74)*100/ABS(analysis!AH74)","v":-15.085241776979887},{"$f":"(analysis!AQ74-analysis!AH74)*100/ABS(analysis!AH74)","v":-20.05058779953083},{"$f":"(analysis!AR74-analysis!AH74)*100/ABS(analysis!AH74)","v":-9.746160032301445},-13.203882847198818,null,{"$f":"(analysis!BE73-analysis!BD73)","v":0},{"$f":"analysis!BF73-analysis!BD73","v":0},{"$f":"analysis!BG73-analysis!BD73","v":0},{"$f":"analysis!BH73-analysis!BD73","v":0},{"$f":"analysis!BI73-analysis!BD73","v":0},{"$f":"analysis!BJ73-analysis!BD73","v":0},{"$f":"analysis!BK73-analysis!BD73","v":0},{"$f":"analysis!BL73-analysis!BD73","v":0},{"$f":"analysis!BM73-analysis!BD73","v":0},{"$f":"analysis!BN73-analysis!BD73","v":0},0,null,{"$f":"(analysis!CA73-analysis!BZ73)","v":-0.75},{"$f":"analysis!CB73-analysis!BZ73","v":-0.75},{"$f":"analysis!CC73-analysis!BZ73","v":1.75},{"$f":"analysis!CD73-analysis!BZ73","v":-0.75},{"$f":"analysis!CE73-analysis!BZ73","v":1.75},{"$f":"analysis!CF73-analysis!BZ73","v":1.75},{"$f":"analysis!CG73-analysis!BZ73","v":1.75},{"$f":"analysis!CH73-analysis!BZ73","v":-0.75},{"$f":"analysis!CI73-analysis!BZ73","v":-0.75},{"$f":"analysis!CJ73-analysis!BZ73","v":-0.75},0.25,null,{"$f":"analysis!ED74","v":"F"},{"$f":"analysis!EE74","v":19},{"$f":"analysis!EF74","v":"F"},1]

{"sheet":"females","index":11,"n_rows":52,"n_cols":58,"rows_kept":52}
["ID (reds lack HR data)","%change-c-1","%change-c-2","%change-c-3","%change-c-4","%change-c-5","%change-c-6","%change-c-7","%change-c-8","%change-c-9","%change-c-10","%change-c-avg","congruent","%change-i-1","%change-i-2","%change-i-3","%change-i-4","%change-i-5","%change-i-6","%change-i-7","%change-i-8","%change-i-9","%change-i-10","%change-i-avg","incongruent","diff-err-c-1","diff-err-c-2","diff-err-c-3","diff-err-c-4","diff-err-c-5","diff-err-c-6","diff-err-c-7","diff-err-c-8","diff-err-c-9","diff-err-c-10","avg-change-err-c","avg-err-c","diff-err-i-1","diff-err-i-2","diff-err-i-3","diff-err-i-4","diff-err-i-5","diff-err-i-6","diff-err-i-7","diff-err-i-8","diff-err-i-9","diff-err-i-10","avg-change-err-i","avg-err-i","Gender","BMI","ADD","Incongruent"]
["AA102",-2.039900000000003,-2.8479000000000028,-2.1959000000000017,-4.177900000000005,-1.8279000000000032,-2.779900000000005,-2.1489000000000047,-1.5709000000000017,-3.291900000000002,-2.8129000000000026,-2.569400000000003,{"$f":"AVERAGE($L$2:INDEX(L:L,MATCH(9.99999999999999E+307,L:L)))","v":-2.1197411764705882},-8.203400000000006,-1.867400000000007,-1.8514000000000053,-2.050400000000007,-3.588400000000007,-6.099400000000006,-3.6344000000000065,-5.875400000000006,-0.13740000000000663,2.21459999999999,-3.109300000000007,{"$f":"AVERAGE($X$2:INDEX(X:X,MATCH(9.99999999999999E+307,X:X)))","v":-3.475264705882353},0.9,0.9,-0.1,0.9,-0.1,0.9,0.9,0.9,-0.1,0.9,{"$f":"AVERAGE(Z2:AI2)*2.5","v":1.5000000000000002},{"$f":"AVERAGE($AJ$2:INDEX(AJ:AJ,MATCH(9.99999999999999E+307,AJ:AJ)))","v":0.02941176470588235},0.8999999999999999,-1.1,0.8999999999999999,-0.10000000000000009,-0.10000000000000009,-2.1,-2.1,-2.1,-1.1,0.8999999999999999,{"$f":"AVERAGE(AL2:AU2)*2.5","v":-1.5},{"$f":"AVERAGE($AV$2:INDEX(AV:AV,MATCH(9.99999999999999E+307,AV:AV)))","v":-0.1323529411764706},"F",21,"F","Dependent Variable:   VAR00005 "]
["CN101",-0.9543000000000035,-0.3533000000000026,-1.6173000000000037,-3.3453000000000035,-2.514300000000002,-3.025300000000003,-2.1293000000000024,-2.5053000000000036,-3.522300000000003,-2.825300000000002,-2.2792000000000026,"stdev",-6.959999999999997,-3.103999999999992,-7.023999999999997,-5.487999999999996,-5.7919999999999945,-6.631999999999994,-8.607999999999997,-6.167999999999996,-6.351999999999997,-8.959999999999997,-6.508799999999996,"stdev",0,0,0,0,0,0,0,0,0,0,{"$f":"AVERAGE(Z3:AI3)*2.5","v":0},"stdev",-0.6000000000000001,0.3999999999999999,-1.6,0.3999999999999999,0.3999999999999999,0.3999999999999999,-1.6,-1.6,-1.6,-1.6,{"$f":"AVERAGE(AL3:AU3)*2.5","v":-1.75},"stdev","F",32,"T","VAR00015","VAR00007","Mean","Std. Error","95% Confidence Interval"]
["FA102",0.04680000000000106,1.8818000000000001,-0.27119999999999855,0.8298000000000005,-0.20319999999999894,-0.5381999999999998,1.9528000000000016,-0.3581999999999983,0.655800000000001,1.7158000000000015,0.571200000000001,{"$f":"STDEV($L$2:INDEX(L:L,MATCH(9.99999999999999E+307,L:L)))","v":2.2854165740342802},-1.3236999999999988,-1.8176999999999985,0.47630000000000194,1.5702999999999996,0.1363000000000021,-1.4426999999999985,-1.6496999999999993,7.5383,1.3573000000000022,1.5962999999999994,0.644100000000001,{"$f":"STDEV($X$2:INDEX(X:X,MATCH(9.99999999999999E+307,X:X)))","v":2.762932845931911},-0.1,0.9,-0.1,0.9,-0.1,-0.1,-0.1,-0.1,1.9,0.9,0.9999999999999999,{"$f":"STDEV($AJ$2:INDEX(AJ:AJ,MATCH(9.99999999999999E+307,AJ:AJ)))","v":0.3925782050226726},0,-1,2,3,2,2,-1,5,1,3,4,{"$f":"STDEV($AV$2:INDEX(AV:AV,MATCH(9.99999999999999E+307,AV:AV)))","v":1.3175288812550472},"F",21,"F",{"$nulls":4},"Lower Bound","Upper Bound"]
["JH102",-1.6064999999999987,-1.9085,-2.2264999999999997,-1.2584999999999997,-2.3765,-2.0924999999999994,-2.0554999999999986,-1.6914999999999996,-2.4274999999999984,-1.4565000000000001,-1.9099999999999995,"n",-1.0425000000000004,-5.6525,-4.984500000000001,-3.730500000000003,-0.9905000000000008,0.16249999999999787,-3.146500000000003,0.1454999999999984,-0.9555000000000007,-4.080500000000001,-2.427500000000001,"n",-0.1,-0.1,-0.1,-0.1,-0.1,-0.1,-0.1,-0.1,-0.1,-0.1,-0.24999999999999997,"n",-0.4,-0.4,-0.4,-0.4,-0.4,-0.4,-0.4,0.6,-0.4,0.6,-0.4999999999999999,"n","F",19,"F","Female","Exercise",-9.203,0.9,-10.99,-7.417]
["JR101",-1.394400000000001,-0.6723999999999997,-2.157399999999999,-2.234400000000001,-1.522400000000001,-1.0733999999999995,-2.516400000000001,-1.0084000000000017,-2.2444000000000024,-1.958400000000001,-1.6782000000000008,{"$f":"COUNT($L$2:INDEX(L:L,MATCH(9.99999999999999E+307,L:L)))","v":51},-4.328300000000006,-3.9573000000000036,1.4527,-0.5973000000000042,2.2956999999999965,-3.7073000000000036,-2.9893,-4.7093000000000025,-5.092300000000002,-5.543300000000002,-2.7176000000000027,{"$f":"COUNT($X$2:INDEX(X:X,MATCH(9.99999999999999E+307,X:X)))","v":51},0.9,0.9,-0.1,-0.1,0.9,-0.1,-0.1,-0.1,-0.1,-0.1,0.4999999999999999,{"$f":"COUNT($AJ$2:INDEX(AJ:AJ,MATCH(9.99999999999999E+307,AJ:AJ)))","v":51},0.5,1.5,1.5,-0.5,-0.5,-0.5,-0.5,-0.5,-0.5,0.5,0.25,{"$f":"COUNT($AV$2:INDEX(AV:AV,MATCH(9.99999999999999E+307,AV:AV)))","v":51},"F",27,"F",null,"NonExercise",-6.178,1.475,-9.105,-3.251]
["MR101",0.7879000000000005,-1.5320999999999998,-1.653100000000002,-1.6611000000000011,-2.5411,-2.5901000000000014,-2.1981,-3.020100000000001,-2.9261000000000017,-3.3161000000000005,-2.0650000000000004,"se",-5.402300000000004,-7.627300000000002,-3.4913000000000025,-0.6433000000000035,-4.6433000000000035,-3.2753000000000014,-3.7253000000000043,-5.068300000000004,-6.163300000000003,-6.9323000000000015,-4.697200000000002,"se",0,0,0,0,0,0,0,0,0,0,0,"se",0.7,-0.3,1.7,1.7,1.7,1.7,1.7,-0.3,-0.3,0.7,2.2499999999999996,"se","F",22,"F"]
["RS101",-8.411999999999995,-9.364999999999995,-11.238999999999994,-12.287999999999997,-9.646999999999995,-9.617999999999995,-11.752999999999997,-10.605999999999995,-9.601999999999997,-8.347999999999995,-10.087799999999998,"se",2.0245999999999995,-9.3874,-8.9134,-6.692399999999999,-8.9374,-5.9974000000000025,-6.5564,-7.397400000000001,-6.7104,-4.004400000000004,-6.257200000000001,"se",0,0,0,0,0,0,0,0,0,0,0,"se",1.4,0.4,0.4,0.4,-0.6,0.4,-0.6,-0.6,0.4,2.4,0.9999999999999998,null,"F",25,"F"]
["SN102",0.061599999999998545,-1.6364000000000019,-1.4193999999999996,-3.1244000000000014,-1.708400000000001,-1.8764000000000003,0.0686,0.10060000000000002,-1.6274000000000015,-1.6354000000000006,-1.2797000000000007,{"$f":"M4/SQRT(M6)","v":0.3200223312327728},2.0245999999999995,-9.3874,-8.9134,-6.692399999999999,-8.9374,-5.9974000000000025,-6.5564,-7.397400000000001,-6.7104,-4.004400000000004,-6.257200000000001,{"$f":"Y4/SQRT(Y6)","v":0.38688798376652844},0,0,0,0,0,0,0,0,0,0,0,{"$f":"AK4/SQRT(AK6)","v":0.05497194419167132},1.4,0.4,0.4,0.4,-0.6,0.4,-0.6,-0.6,0.4,2.4,0.9999999999999998,{"$f":"AW4/SQRT(AW6)","v":0.1844909452553147},"F",25,"F","Male","Exercise",-10.099,1.371,-12.82,-7.379]
["TB101",0.44620000000000104,0.026199999999999335,-2.0097999999999985,-1.8817999999999984,-1.7147999999999985,-1.8747999999999987,-2.0337999999999994,-1.162799999999999,-2.7787999999999986,-2.386799999999999,-1.537099999999999,"change ex- nonex",-2.351800000000001,1.4962000000000018,1.4322000000000017,-2.471799999999998,-1.0648000000000017,-3.1128,0.11220000000000141,-1.0797999999999988,1.9202000000000012,-1.3277999999999999,-0.6447999999999994,"change ex- nonex",-0.2,0.8,0.8,-0.2,-0.2,-0.2,0.8,-0.2,0.8,0.8,0.75,"change ex- nonex",2.2,0.19999999999999996,0.19999999999999996,-0.8,1.2,-0.8,0.19999999999999996,0.19999999999999996,1.2,-0.8,0.7500000000000002,"change ex- nonex","F",31,"F",null,"NonExercise",-8.568,1.939,-12.415,-4.721]
["SW101",0.085700000000001,1.1727000000000007,0.04370000000000118,0.4347000000000012,0.32470000000000176,0.43670000000000186,0.9957000000000011,0.21270000000000167,0.6117000000000008,1.322700000000001,0.5641000000000013,{"$f":"AVERAGE($L$2:INDEX(L:L,MATCH(9.99999999999999E+307,L:L)))-'females-nonex'!M2","v":-0.17332260504201713},-8.791100000000007,-7.079100000000004,-5.438100000000006,-5.791100000000007,-5.663100000000007,-5.639100000000006,-4.837100000000007,-5.775100000000002,-8.583100000000002,-8.640100000000004,-6.623700000000005,{"$f":"AVERAGE($X$2:INDEX(X:X,MATCH(9.99999999999999E+307,X:X)))-'females-nonex'!Y2","v":-0.3774332773109257},0,0,0,0,0,0,0,0,0,0,0,{"$f":"AVERAGE($AJ$2:INDEX(AJ:AJ,MATCH(9.99999999999999E+307,AJ:AJ)))-'females-nonex'!AK2","v":0.02441176470588234},-1.1,-0.10000000000000009,-0.10000000000000009,-1.1,-1.1,-0.10000000000000009,-1.1,0.8999999999999999,-1.1,-1.1,-1.5000000000000004,{"$f":"AVERAGE($AV$2:INDEX(AV:AV,MATCH(9.99999999999999E+307,AV:AV)))-'females-nonex'!AW2","v":-0.06906722689075634},"F",28,"F","Congruent"]
["AI101",-1.7362000000000002,-4.246199999999998,-4.254199999999997,-4.372199999999999,-3.668199999999999,-5.222199999999999,-4.406199999999998,-6.062199999999999,-6.557199999999998,-6.013199999999999,-4.653799999999999,"se of ex and non ex",-0.3783999999999992,-3.124399999999998,-2.0993999999999993,-2.9954,-1.8833999999999982,-2.9483999999999995,-2.124399999999998,-0.8443999999999967,-1.6923999999999992,-2.1793999999999976,-2.0269999999999984,"se of ex and non ex",0,0,0,0,0,0,0,0,0,0,0,"se of ex and non ex",-0.3,0.7,1.7,0.7,1.7,-0.3,-0.3,-0.3,-0.3,0.7,1.0000000000000002,"se of ex and non ex","F",20,"T","Dependent Variable:   VAR00008 "]
["AK101",-1.4898999999999987,-3.0889000000000006,-3.1778999999999993,-3.0558999999999994,-3.642899999999999,-5.1129,-4.0579,-4.4649,-4.4338999999999995,-5.3369,-3.7861999999999996,{"$f":"SQRT(((M4*M4)/M6)+(('females-nonex'!M4*'females-nonex'!M4)/'females-nonex'!M6))","v":0.4067401589248914},-3.8750999999999998,-6.591100000000001,-6.466100000000001,-1.5771000000000015,-4.147100000000002,0.3569000000000031,-2.795099999999998,-3.251100000000001,-4.906099999999999,-5.459099999999999,-3.8710999999999998,{"$f":"SQRT(((Y4*Y4)/Y6)+(('females-nonex'!Y4*'females-nonex'!Y4)/'females-nonex'!Y6))","v":0.4917360980168509},0,0,0,0,0,0,0,0,0,0,0,{"$f":"SQRT(((AK4*AK4)/AK6)+(('females-nonex'!AK4*'females-nonex'!AK4)/'females-nonex'!AK6))","v":0.057504339112298714},-0.2,-0.2,-0.2,-0.2,-0.2,-0.2,-0.2,-0.2,-0.2,-0.2,-0.49999999999999994,{"$f":"SQRT(((AW4*AW4)/AW6)+(('females-nonex'!AW4*'females-nonex'!AW4)/'females-nonex'!AW6))","v":0.19569852283270908},"F",19,"F","VAR00015","VAR00007","Mean","Std. Error","95% Confidence Interval"]
["AMP101",-3.3124000000000002,-3.1693999999999996,-2.203400000000002,-2.673400000000001,-4.071400000000001,-3.775400000000001,-3.041400000000003,-3.3933999999999997,-3.4664,-2.993400000000001,-3.210000000000001,"p-value ttest after exercise",-2.6395000000000017,2.296499999999998,-4.7225,-5.9765000000000015,-3.968499999999999,-4.224499999999999,-1.0545000000000009,-1.3374999999999986,-2.8805000000000014,-4.4955,-2.9003000000000005,"p-value ttest after exercise",0,0,0,0,0,0,0,0,0,0,0,"p-value ttest after exercise",0,1,0,0,0,0,1,0,0,0,0.5,"p-value ttest after exercise","F",21.97,"F",{"$nulls":4},"Lower Bound","Upper Bound"]
["AP101",-3.669599999999999,0.08040000000000092,-1.7896,1.112400000000001,0.436399999999999,-2.3785999999999987,-0.21359999999999957,-0.8016000000000005,0.34639999999999915,3.6494,-0.3227999999999998,{"$f":"TDIST(ABS(M2)/M9, (M6-1),2)","v":2.3282618588759583E-8},3.044699999999999,-6.798299999999998,-2.2182999999999993,-5.642299999999999,-3.7882999999999996,-6.927299999999995,-3.412299999999995,-7.564299999999996,-4.0623000000000005,-7.972299999999997,-4.534099999999998,{"$f":"TDIST(ABS(Y2)/Y9, (Y6-1),2)","v":5.228486761762157e-12},0,0,0,0,0,0,0,0,0,0,0,{"$f":"TDIST(ABS(AK2)/AK9, (AK6-1),2)","v":0.5949991621536987},3.7,-0.3,1.7,-0.3,-0.3,-0.3,-0.3,0.7,0.7,0.7,1.5000000000000004,{"$f":"TDIST(ABS(AW2)/AW9, (AW6-1),2)","v":0.4764685394783381},"F",22,"F","Female","Exercise",-10.161,1.171,-12.484,-7.838]
["AP102",-1.7439999999999998,-1.2950000000000017,-1.3999999999999986,-2.3919999999999995,-1.9170000000000016,-1.5919999999999987,-1.4170000000000016,-1.7040000000000006,1.3679999999999986,0.4089999999999989,-1.1684000000000005,"p-value ttest change with exercise vs change with nonex",1.257799999999996,-2.2682000000000038,-4.447200000000006,-4.484200000000005,-0.6982000000000035,0.7697999999999965,0.9597999999999942,-1.4122000000000057,-2.5102000000000046,0.14179999999999637,-1.2691000000000046,"p-value ttest change with exercise vs change with nonex",-0.2,-0.2,-0.2,-0.2,-0.2,-0.2,-0.2,-0.2,-0.2,-0.2,-0.49999999999999994,"p-value ttest change with exercise vs change with nonex",-0.1,-0.1,-0.1,-0.1,-0.1,-0.1,-0.1,-0.1,-0.1,-0.1,-0.24999999999999997,"p-value ttest change with exercise vs change with nonex","F",26,"F",null,"NonExercise",-8.017,1.918,-11.822,-4.211]
["AS102",-0.1685000000000052,-2.0815000000000037,-1.2935000000000052,-0.8375000000000021,-1.6105000000000018,-1.425500000000003,-3.329500000000003,-4.260500000000004,-2.659500000000003,-4.300500000000003,-2.1967000000000034,{"$f":"TTEST(L2:L52,'females-nonex'!L2:L20,2,3)","v":0.17185453972285936},-3.5245000000000033,-2.9395000000000024,-5.5794999999999995,-3.3644999999999996,-6.1785,-0.5065000000000026,-2.2515,-5.2515,-5.1465,-4.147500000000001,-3.8890000000000007,{"$f":"TTEST(X2:X52,'females-nonex'!X2:X20,2,3)","v":0.00791774952043683},-0.1,-0.1,-0.1,-0.1,-0.1,-0.1,1.9,-0.1,-0.1,-0.1,0.24999999999999992,{"$f":"TTEST(AJ2:AJ52,'females-nonex'!AJ2:AJ20,2,3)","v":0.46907900841383166},1.5,0.5,-0.5,-0.5,-0.5,1.5,-0.5,-0.5,-0.5,-0.5,0,{"$f":"TTEST(AV2:AV52,'females-nonex'!AV2:AV20,2,3)","v":0.8589088867779368},"F",22,"F"]
["BH101",-3.137600000000001,-2.093600000000002,-1.7646000000000015,-1.1986000000000008,-3.7066000000000017,-2.574600000000002,-2.8866000000000014,-2.798600000000002,-3.861600000000001,-3.896600000000001,-2.791900000000001,"p-value female vs male",-6.191700000000001,-3.1936999999999998,-4.104700000000001,-2.992700000000003,-4.148700000000002,-3.8277,-3.5427,-3.6357,-3.692700000000002,-3.7947000000000024,-3.9125000000000014,"p-value female vs male",1,0,0,0,0,0,0,0,0,0,0.25,"p-value female vs male",-0.6,0.4,1.4,-0.6,0.4,0.4,1.4,-0.6,-0.6,2.4,0.9999999999999999,"p-value female vs male","F",19,"F"]
["CC101",-2.0967000000000002,-2.7447000000000017,-2.3507000000000016,-2.5927000000000007,-2.508700000000001,-2.1477000000000004,-2.066700000000001,-2.3087000000000018,-0.49370000000000047,-3.518700000000001,-2.2829000000000006,{"$f":"TTEST(L2:L52,males!L2:L23,2,3)","v":0.15562116305223214},-7.575800000000001,-8.582799999999999,-9.0458,-3.599800000000002,-6.837800000000001,-8.5488,-8.837800000000001,-9.358800000000002,-9.462800000000001,-12.023800000000001,-8.3874,{"$f":"TTEST(X2:X52,males!X2:X23,2,3)","v":0.935311023703648},0,0,0,0,0,0,0,0,0,0,0,{"$f":"TTEST(AJ2:AJ52,males!AJ2:AJ23,2,3)","v":0.4647395182225801},0,-2,0,-2,-1,-2,-2,0,-2,-1,-3,{"$f":"TTEST(AV2:AV52,males!AV2:AV23,2,3)","v":0.3503909973263253},"F",21,"T","Male","Exercise",-14.292,1.782,-17.829,-10.755]
["DE101",-2.3866999999999976,-0.7396999999999991,-1.6786999999999992,-0.5946999999999996,-1.7766999999999982,-0.24769999999999825,-2.0427,-2.5626999999999995,-2.7407000000000004,-2.1327,-1.6902999999999992,null,-0.8170999999999964,0.14290000000000447,-3.625099999999996,-5.106099999999998,-6.166099999999997,-2.098099999999995,-4.121099999999998,-5.339099999999995,-2.9780999999999977,-2.4080999999999975,-3.2515999999999963,null,0,0,0,0,0,0,0,0,0,0,0,null,1.6,0.6,-0.4,-0.4,-0.4,-0.4,-0.4,-0.4,-0.4,0.6,0,null,"F",25,"T",null,"NonExercise",-8.717,2.521,-13.719,-3.716]
["DI101",-4.084799999999998,-2.7907999999999973,-2.965799999999998,-4.277799999999999,-2.996799999999997,-2.2277999999999984,-2.9647999999999968,-2.091799999999999,-2.9567999999999977,0.7782000000000018,-2.657899999999998,null,-7.964599999999997,-6.287599999999998,-6.136599999999994,-6.2405999999999935,-8.351599999999998,-6.083599999999997,-6.743599999999997,-7.685599999999997,-6.116599999999998,-4.805599999999998,-6.641599999999997,null,0,0,0,0,0,0,0,0,0,0,0,null,-1.1,0.8999999999999999,-0.10000000000000009,-1.1,-1.1,0.8999999999999999,-0.10000000000000009,-1.1,-1.1,0.8999999999999999,-0.7500000000000002,null,"F",23,"F"]
["DJ101",-1.6068000000000016,1.5451999999999977,0.25619999999999976,-1.1108000000000011,-1.0948000000000029,2.336199999999998,-0.7667999999999999,-0.3998000000000026,-0.038800000000001944,0.7362000000000002,-0.014400000000001434,null,-3.4695999999999927,-7.060599999999994,-3.684599999999989,-4.060599999999994,1.626400000000011,-3.877599999999994,-2.069599999999994,-7.268599999999992,-1.7005999999999872,-4.20559999999999,-3.5770999999999917,null,0,0,0,0,0,0,0,0,0,1,0.25,null,-0.10000000000000009,-1.1,-1.1,-0.10000000000000009,-0.10000000000000009,-0.10000000000000009,0.8999999999999999,-1.1,-1.1,-1.1,-1.2500000000000002,null,"F",23,"T"]
["DS101",0.6668000000000003,-0.23719999999999963,-0.029200000000001225,0.03479999999999883,-0.9972000000000012,-1.5852000000000004,-0.3412000000000006,-1.5732,-1.5031999999999996,-1.5172000000000008,-0.7082000000000004,null,0.806599999999996,5.107599999999998,2.5505999999999958,2.087599999999995,-1.9784000000000006,-2.1704000000000008,-1.794400000000003,0.5475999999999956,-0.5924000000000049,1.0545999999999935,0.5618999999999964,null,-0.2,-0.2,-0.2,-0.2,-0.2,2.8,-0.2,-0.2,-0.2,-0.2,0.25,null,-0.3,0.7,-0.3,-0.3,-0.3,-0.3,-0.3,-0.3,0.7,0.7,0,null,"F",28,"T"]
["DST102",-2.3280999999999974,-1.8720999999999979,-1.423099999999998,-2.553099999999997,-2.439099999999998,-1.9280999999999988,-2.7680999999999987,-2.9290999999999983,-1.8480999999999987,-2.8160999999999987,-2.2904999999999984,null,-7.153199999999998,-7.545199999999998,-0.8151999999999973,-4.577199999999998,-4.9132,-1.5761999999999965,-4.377199999999998,-3.4091999999999985,-1.7121999999999993,-3.4171999999999976,-3.949599999999998,null,0,0,0,0,0,0,0,0,0,0,0,null,-0.3,-0.3,1.7,1.7,-0.3,-0.3,-0.3,0.7,0.7,-0.3,0.75,null,"F",18,"F"]
["DZ101",-1.3687000000000022,-1.7437000000000022,-1.2077000000000027,1.3032999999999966,3.9762999999999984,4.751299999999997,3.5112999999999985,3.5192999999999977,5.103299999999997,5.031299999999998,2.2875999999999976,null,-2.1100000000000065,-3.896000000000008,0.44899999999999096,-1.4080000000000084,0.9849999999999923,2.776999999999994,1.5609999999999928,-2.718000000000007,-1.9760000000000062,-0.8960000000000079,-0.7232000000000074,null,0,0,0,0,0,0,0,0,0,0,0,null,0.7,-0.3,0.7,-0.3,1.7,-0.3,-0.3,0.7,-0.3,-0.3,0.5000000000000001,null,"F",25.6,"F"]
["EF101",-0.9801999999999964,-2.5891999999999964,-1.370199999999997,-1.9011999999999958,-0.9231999999999978,-0.08219999999999672,-0.26519999999999655,-1.633199999999995,-1.1641999999999975,-3.133199999999997,-1.4041999999999966,null,-1.1101999999999919,-1.760199999999994,-1.4241999999999955,2.9048000000000087,-0.6561999999999912,-0.9191999999999965,-1.9201999999999941,-2.175199999999993,-0.23219999999999175,-5.604199999999995,-1.2896999999999934,null,0,0,0,0,0,0,0,0,0,0,0,null,1.5,0.5,-0.5,-0.5,-0.5,-0.5,-0.5,0.5,-0.5,-0.5,-0.25,null,"F",21,"F"]
["EJ101",-3.2192000000000007,-2.3622000000000014,-3.6982000000000035,-4.154200000000003,-3.9542,-4.923200000000001,-2.4912000000000027,-3.282200000000003,-2.8342000000000027,-3.2982000000000014,-3.421700000000002,null,-6.55650000000001,-7.744500000000013,-2.7265000000000086,-4.398500000000013,-4.75950000000001,-5.109500000000011,-5.926500000000011,-5.369500000000013,-3.383500000000012,-7.278500000000012,-5.325300000000011,null,-0.1,-0.1,-0.1,-0.1,-0.1,-0.1,-0.1,-0.1,-0.1,-0.1,-0.24999999999999997,null,0.7,-0.3,0.7,0.7,0.7,-0.3,-0.3,-0.3,-0.3,-0.3,0.25,null,"F",29,"F"]
["ER101",-0.786999999999999,-0.5,0.16500000000000092,-0.0600000000000005,-0.03599999999999959,-0.3550000000000004,0.1490000000000009,-0.4989999999999988,0.06799999999999962,0.005000000000000782,-0.1849999999999996,null,-2.1237000000000066,-1.6347000000000058,-0.7547000000000033,-0.37070000000000647,-4.274700000000006,0.3482999999999947,-1.179700000000004,4.204299999999996,-0.8677000000000064,-2.6517000000000053,-0.9305000000000053,null,0,0,0,0,0,0,0,1,0,0,0.25,null,-0.2,-0.2,1.8,0.8,-0.2,-0.2,-0.2,0.8,1.8,-0.2,1,null,"F",27,"F"]
["HR101",1.9023000000000003,-0.7387000000000015,-0.31569999999999965,-4.226700000000001,-3.8747000000000007,-3.0357000000000003,-3.7226999999999997,-3.0756999999999994,-3.1556999999999995,1.9963000000000015,-1.8247,null,-6.065199999999997,1.7408000000000001,-3.472200000000001,-3.863199999999999,-5.785199999999996,-4.745199999999997,-0.6411999999999978,-2.4161999999999964,-6.2012,-5.281199999999998,-3.6729999999999983,null,0,0,0,0,0,0,0,0,0,0,0,null,0.5,-0.5,-0.5,0.5,-0.5,-0.5,-0.5,0.5,-0.5,-0.5,-0.5,null,"F",25,"F"]
["IG101",-3.355699999999999,-2.3366999999999987,-1.8566999999999982,-1.8246999999999982,-2.3606999999999996,-2.4906999999999986,-2.0806999999999984,-3.4506999999999994,-2.608699999999999,-1.2166999999999994,-2.358199999999999,null,-8.418799999999994,-8.578799999999994,-5.9687999999999946,-9.337799999999994,-8.705799999999996,-7.114799999999995,-9.416799999999995,-11.055799999999994,-4.413799999999995,-5.0667999999999935,-7.807799999999995,null,0,0,0,0,0,0,0,0,0,0,0,null,-0.7,-0.7,0.30000000000000004,-0.7,0.30000000000000004,-0.7,-0.7,-0.7,-0.7,-0.7,-1.25,null,"F",19.53,"F"]
["IH101",-1.2464999999999975,-1.0944999999999965,-0.6934999999999967,-1.7014999999999976,-2.5894999999999975,0.6265000000000036,-2.5894999999999975,-2.3174999999999972,-2.3974999999999973,-1.5894999999999975,-1.5592999999999972,null,-1.6281000000000034,-8.283100000000005,1.6198999999999941,-3.451100000000004,-5.548100000000005,-6.161100000000005,-0.5241000000000042,-6.868100000000005,-3.356100000000005,-1.6111000000000004,-3.581100000000004,null,0,0,0,0,0,0,0,0,0,0,0,null,1.6,-0.3999999999999999,1.6,-1.4,-0.3999999999999999,-1.4,-0.3999999999999999,-1.4,-1.4,-0.3999999999999999,-0.9999999999999998,null,"F",33,"T"]
["IOD101",-0.20039999999999836,-2.0333999999999968,-0.6423999999999985,-2.066399999999998,-1.5063999999999957,-3.994399999999999,-1.0523999999999987,-2.747399999999999,-2.842399999999998,-3.4263999999999974,-2.051199999999998,null,-5.4072,-6.0242,-4.7592,-4.215199999999999,-2.7912,-7.2392,-5.655200000000001,0.7528000000000006,1.9127999999999972,-0.39920000000000044,-3.3825000000000003,null,0,0,0,0,0,0,0,0,0,0,0,null,-1.3,-1.3,-1.3,-0.30000000000000004,0.7,-1.3,-0.30000000000000004,1.7,1.7,0.7,-0.2499999999999999,null,"F",21,"F"]
["JB101",-1.7490999999999985,-1.3650999999999982,1.017900000000001,-1.3581000000000003,-2.046099999999999,-0.4850999999999992,0.07489999999999952,-1.9741,-1.9490999999999996,-2.0770999999999997,-1.1910999999999994,null,-3.098399999999998,-1.7003999999999948,1.2916000000000025,1.867600000000003,-1.980399999999996,-1.2283999999999935,1.0276000000000067,0.195600000000006,4.452600000000004,4.6766000000000005,0.550400000000004,null,0,0,0,0,0,0,0,0,0,0,0,null,-0.8,-0.8,-0.8,1.2,-0.8,2.2,1.2,0.19999999999999996,0.19999999999999996,1.2,0.7499999999999998,null,"F",19,"F"]
["JC102",0.49409999999999954,-0.8739000000000008,-2.113900000000001,-1.2969000000000008,-1.2429000000000006,-1.2109000000000005,-2.246900000000002,0.2940999999999985,-1.5459000000000014,-0.34690000000000154,-1.009000000000001,null,-3.4322999999999944,-1.7532999999999959,-3.2802999999999933,-3.360299999999995,-2.016299999999994,-3.9612999999999943,-5.160299999999996,-5.888299999999994,-5.120299999999993,-0.28829999999999245,-3.4260999999999937,null,-0.4,-0.4,-0.4,-0.4,-0.4,-0.4,-0.4,-0.4,-0.4,-0.4,-0.9999999999999999,null,0.4,1.4,-0.6,-0.6,0.4,-0.6,-0.6,-0.6,-0.6,1.4,0,null,"F",24,"F"]
["JM101",-2.281200000000002,-2.5542000000000016,-2.811200000000003,-1.8512000000000022,-1.4872000000000014,-3.162200000000002,-0.6822000000000017,-2.066200000000002,-2.066200000000002,-2.4742000000000033,-2.143600000000002,null,-1.0425000000000004,-5.6525,-4.984500000000001,-3.730500000000003,-0.9905000000000008,0.16249999999999787,-3.146500000000003,0.1454999999999984,-0.9555000000000007,-4.080500000000001,-2.427500000000001,null,-0.1,-0.1,-0.1,-0.1,-0.1,-0.1,-0.1,-0.1,-0.1,-0.1,-0.24999999999999997,null,-0.4,-0.4,-0.4,-0.4,-0.4,-0.4,-0.4,0.6,-0.4,0.6,-0.4999999999999999,null,"F",25,"F"]
["JP101",-1.0299999999999994,-1.302999999999999,-2.134999999999998,-1.2619999999999987,-2.677999999999999,-2.4319999999999986,-2.1499999999999986,-2.804999999999998,-2.8019999999999996,-3.0409999999999986,-2.1637999999999984,null,-7.080500000000001,-10.444500000000005,-7.560500000000005,-1.407500000000006,-5.087500000000006,2.6084999999999994,-9.616500000000002,-1.7125000000000057,-0.4475000000000051,-12.343500000000006,-5.309200000000004,null,0,0,0,0,0,0,0,0,0,0,0,null,-0.3,-0.3,-0.3,-0.3,-0.3,-0.3,-0.3,0.7,-0.3,-0.3,-0.5,null,"F",37,"F"]
["KM101",-1.7011000000000003,-0.9330999999999996,-0.013100000000001444,1.9709000000000003,-2.9731000000000005,-0.8301000000000016,0.9378999999999991,0.7308999999999983,-0.4620999999999995,-1.8771000000000004,-0.5150000000000006,null,5.481999999999992,-0.03800000000000381,2.7469999999999963,0.41099999999999426,-2.9640000000000057,-2.845000000000006,0.6029999999999944,-3.5260000000000034,-1.5900000000000034,1.112999999999996,-0.0607000000000049,null,0,0,0,0,0,0,0,0,0,0,0,null,1.7,-0.3,-0.3,-0.3,-0.3,0.7,0.7,-0.3,0.7,1.7,1,null,"F",17,"T"]
["LT101",-8.5149,-7.432900000000002,-7.831900000000001,-8.977900000000002,-9.858900000000002,-8.265900000000002,-9.064900000000002,-8.025900000000002,-9.318900000000001,-9.648900000000001,-8.694100000000002,null,0.30860000000000554,-2.2603999999999935,2.955600000000004,-5.540399999999995,-0.6203999999999965,3.0866000000000042,3.8366000000000042,0.49260000000000304,0.9326000000000079,5.268600000000006,0.8460000000000051,null,0,0,0,0,0,0,0,0,0,0,0,null,1.1,-0.9,-0.9,-0.9,-0.9,-0.9,-0.9,1.1,-0.9,-0.9,-1.25,null,"F",22,"F"]
["MK101",-0.4549999999999983,-1.3049999999999997,-0.5309999999999988,-2.488999999999999,-1.1289999999999978,-2.2639999999999993,-1.320999999999998,-2.7279999999999998,-1,-1,-1.422199999999999,null,-4.384599999999999,-8.120599999999996,-8.816599999999994,-6.431599999999996,-3.279599999999995,-7.232599999999998,-8.359599999999993,-7.623599999999996,-9.280599999999993,-9.380599999999994,-7.290999999999995,null,-0.4,-0.4,-0.4,-0.4,-0.4,-0.4,-0.4,-0.4,-0.4,-0.4,-0.9999999999999999,null,-0.2,-0.2,-0.2,-0.2,0.8,-0.2,-0.2,-0.2,-0.2,0.8,0,null,"F",31,"F"]
["MT101",-4.4894,-7.417400000000001,-8.6384,-10.7104,-9.799400000000002,-9.0304,-9.918400000000002,-10.671400000000002,-10.551400000000001,-10.110400000000002,-9.133700000000001,null,-1.3780999999999999,2.1819000000000024,-0.8430999999999997,0.655899999999999,-3.057100000000002,-0.9390999999999998,-1.8340999999999994,-4.770099999999999,-3.2021000000000015,-3.2021000000000015,-1.6388000000000003,null,0,0,0,0,0,0,0,0,0,0,0,null,-1,-1,-1,-1,0,-1,-1,0,0,-1,-1.75,null,"F",22,"F"]
["NV101",-0.6401999999999965,-1.0551999999999957,-1.3841999999999963,-1.1601999999999961,-1.7711999999999968,-2.032199999999998,-1.1311999999999962,-1.543199999999997,-2.1751999999999967,-2.3211999999999975,-1.5213999999999968,null,-1.3780999999999999,2.1819000000000024,-0.8430999999999997,0.655899999999999,-3.057100000000002,-0.9390999999999998,-1.8340999999999994,-4.770099999999999,-3.2021000000000015,-3.2021000000000015,-1.6388000000000003,null,0,0,0,0,0,0,0,0,0,0,0,null,-1,-1,-1,-1,0,-1,-1,0,0,-1,-1.75,null,"F",24,"F"]
["OB101",2.0431000000000026,-0.6848999999999954,-3.268899999999995,-6.197899999999997,-4.7488999999999955,-5.348899999999997,-1.2438999999999965,-5.685899999999997,-4.884899999999995,-6.045899999999996,-3.6066999999999965,null,-1.6026000000000096,-10.177600000000005,-14.338600000000007,-11.259600000000006,-11.651600000000009,-13.787600000000005,-8.37960000000001,-14.43460000000001,-10.62660000000001,-20.109600000000007,-11.636800000000008,null,0,0,0,0,0,0,0,0,0,0,0,null,-0.6,-0.6,-0.6,-0.6,-0.6,-0.6,-0.6,0.4,-0.6,-0.6,-1.25,null,"F",30.26,"F"]
["RB101",-2.9266000000000005,-1.6305999999999976,-1.8065999999999995,-2.9586000000000006,-1.637599999999999,-3.358599999999999,-2.2866,-2.278600000000001,-2.262599999999999,1.5774000000000008,-1.9568999999999996,null,-3.511000000000003,-2.982000000000003,-1.2860000000000014,-1.3440000000000012,-0.36400000000000077,0.9039999999999999,-1.7590000000000003,-3.215,-3.3160000000000025,-3.803000000000001,-2.0676000000000014,null,-0.1,-0.1,-0.1,-0.1,-0.1,-0.1,-0.1,-0.1,-0.1,-0.1,-0.24999999999999997,null,-0.19999999999999996,-1.2,-0.19999999999999996,-0.19999999999999996,-0.19999999999999996,-0.19999999999999996,-1.2,-1.2,-1.2,-1.2,-1.75,null,"F",28.3,"T"]
["RK101",-1.196399999999997,-1.0363999999999969,-2.004399999999997,-2.541399999999996,-1.8053999999999952,-1.7003999999999984,-1.2123999999999953,-2.2373999999999974,-0.06039999999999779,-2.6683999999999983,-1.646299999999997,null,-5.990499999999997,-1.8144999999999953,-8.765499999999996,-9.622499999999995,-6.2464999999999975,-5.949499999999993,-8.077499999999993,-8.021499999999996,-2.5744999999999933,-2.710499999999996,-5.977299999999995,null,0,0,0,0,0,0,0,0,0,0,0,null,-1.2,-0.19999999999999996,-0.19999999999999996,-1.2,-1.2,-1.2,-0.19999999999999996,-0.19999999999999996,-1.2,-1.2,-2,null,"F",21,"T"]
["RT101",-3.909099999999995,-5.149099999999997,-6.125099999999996,-6.276099999999996,-6.469099999999997,-6.388099999999998,-5.3150999999999975,-5.122099999999996,-4.989099999999997,-7.1290999999999976,-5.687199999999997,null,-10.557900000000004,-6.884900000000002,-3.8429,-1.9939000000000036,-2.009900000000002,-4.5079000000000065,1.4950999999999937,-5.058900000000001,-4.2509000000000015,1.5670999999999964,-3.604500000000003,null,0,0,0,0,0,0,0,0,0,0,0,null,-1.5,-0.5,-1.5,0.5,-1.5,0.5,0.5,-1.5,-1.5,0.5,-1.5,null,"F",23,"F"]
["SGJ101",-1.742099999999997,-1.231099999999996,-0.8630999999999975,-0.8780999999999963,-1.6530999999999967,-1.319099999999997,-1.9200999999999961,-0.6790999999999965,-2.1730999999999963,-1.8390999999999966,-1.4297999999999966,null,-5.0517,-0.19069999999999965,-5.273700000000002,-2.0147000000000013,-1.2937000000000012,-1.861699999999999,0.29529999999999745,5.2342999999999975,-4.154700000000002,3.762299999999996,-1.0549000000000013,null,-0.3,-0.3,0.7,-0.3,-0.3,-0.3,-0.3,-0.3,-0.3,-0.3,-0.5,null,-1,1,-1,-1,-1,-1,-1,0,-1,0,-1.5,null,"F",26,"F"]
["SN101",-1.8928000000000011,-0.7397999999999989,0.3951999999999991,-0.08480000000000132,0.052199999999999136,-0.1647999999999996,3.2752000000000017,2.9952000000000005,0.3152000000000008,3.8751999999999995,0.8026,null,-1.8108000000000004,-7.021799999999999,-12.218800000000002,-8.7928,-9.546799999999998,0.6112000000000037,-11.638799999999996,-8.4028,-8.896799999999999,-11.398800000000001,-7.911699999999999,null,1.4,1.4,-0.6,-0.6,-0.6,0.4,-0.6,1.4,0.4,0.4,0.7499999999999998,null,1.3,0.30000000000000004,-1.7,0.30000000000000004,2.3,5.3,0.30000000000000004,0.30000000000000004,2.3,0.30000000000000004,2.75,null,"F",20,"T"]
["SR101",0.12560000000000038,-0.06739999999999924,-1.0593999999999983,-1.723399999999998,-1.3213999999999988,-1.675399999999998,-2.1153999999999993,-2.6983999999999995,-1.4833999999999996,-2.555399999999999,-1.457399999999999,null,-4.351200000000006,-6.279200000000003,-1.863199999999999,0.7837999999999994,-2.279200000000003,6.5608,8.6648,4.775799999999997,7.3847999999999985,9.360799999999998,2.275799999999998,null,-0.1,-0.1,-0.1,-0.1,-0.1,-0.1,-0.1,-0.1,-0.1,-0.1,-0.24999999999999997,null,1.6,0.6,-0.4,-0.4,-0.4,0.6,0.6,0.6,-0.4,-0.4,0.5000000000000002,null,"F",23,"F"]
["TN101",-0.5418999999999983,-0.06989999999999696,-0.8368999999999964,0.21010000000000417,-0.6778999999999975,-0.9828999999999972,-1.300899999999995,-1.7168999999999954,0.25110000000000454,-1.3338999999999963,-0.6999999999999964,null,-4.023700000000005,-2.6977000000000046,-2.639700000000005,-4.110700000000005,-2.9997000000000043,-5.503700000000006,-1.3987000000000052,-4.015700000000006,-3.198700000000006,-3.791700000000006,-3.438000000000005,null,0,0,0,0,0,0,0,0,0,0,0,null,0.4,-0.6,0.4,-0.6,-0.6,-0.6,0.4,0.4,0.4,-0.6,-0.24999999999999992,null,"F",21,"F"]
["TN102",-1.348499999999996,-0.6294999999999966,-1.3084999999999969,0.5875000000000021,-0.22849999999999682,-0.8184999999999967,0.3715000000000046,0.33550000000000324,0.48150000000000404,0.20550000000000423,-0.23519999999999647,null,-3.0340000000000025,2.0349999999999966,-1.5700000000000003,-3.418000000000003,-4.546000000000003,-5.410000000000004,-1.929000000000002,-6.313000000000002,-4.146000000000004,-1.514000000000003,-2.984500000000003,null,0,0,0,0,0,0,0,0,0,0,0,null,-1.2,2.8,-0.19999999999999996,-1.2,-1.2,-1.2,-1.2,-1.2,-1.2,0.8,-1.2500000000000002,null,"F",22,"F"]
["YS101",1.3181999999999992,0.8541999999999987,0.18319999999999936,-1.1458000000000013,-0.9928000000000008,-0.6498000000000008,-0.5768000000000004,0.8621999999999996,-1.0728000000000009,-1.057800000000002,-0.22780000000000095,null,-1.360999999999997,-1.2589999999999968,2.080000000000002,-2.1459999999999972,0.20400000000000063,-2.997,-3.100999999999999,-1.9959999999999987,-3.546999999999997,1.0920000000000023,-1.3030999999999981,null,0,0,0,0,0,0,0,0,0,0,0,null,2.1,1.1,1.1,0.09999999999999998,1.1,1.1,0.09999999999999998,0.09999999999999998,-0.9,1.1,1.7499999999999996,null,"F",22,"F"]
["ZP101",-2.652000000000001,-4.1320000000000014,-2.2040000000000006,-2.532,-3.0120000000000005,-2.4840000000000018,-3.8840000000000003,-1.5160000000000018,-6.084,-7.564,-3.6064000000000007,null,-6.972000000000001,-4.004000000000001,-5.125,-7.588000000000001,-6.277000000000001,-7.475999999999999,-3.8759999999999977,-8.899999999999999,-4.603999999999999,-6.972000000000001,-6.1794,null,0,0,0,0,0,0,0,0,0,0,0,null,-0.3,-0.3,0.7,-0.3,0.7,0.7,0.7,-0.3,-0.3,-0.3,0.24999999999999994,null,"F",19,"F"]

{"sheet":"males","index":12,"n_rows":23,"n_cols":52,"rows_kept":23}
["ID (reds lack HR data)","%change-c-1","%change-c-2","%change-c-3","%change-c-4","%change-c-5","%change-c-6","%change-c-7","%change-c-8","%change-c-9","%change-c-10","%change-c-avg","congruent","%change-i-1","%change-i-2","%change-i-3","%change-i-4","%change-i-5","%change-i-6","%change-i-7","%change-i-8","%change-i-9","%change-i-10","%change-i-avg","incongruent","diff-err-c-1","diff-err-c-2","diff-err-c-3","diff-err-c-4","diff-err-c-5","diff-err-c-6","diff-err-c-7","diff-err-c-8","diff-err-c-9","diff-err-c-10","avg-change-err-c","avg-err-c","diff-err-i-1","diff-err-i-2","diff-err-i-3","diff-err-i-4","diff-err-i-5","diff-err-i-6","diff-err-i-7","diff-err-i-8","diff-err-i-9","diff-err-i-10","avg-change-err-i","avg-err-i","Gender","BMI","ADD"]
["CJ101",-3.3857,-2.4426999999999985,-0.40970000000000084,-1.6906999999999996,-2.906699999999999,-1.2746999999999993,-1.2746999999999993,-3.6506999999999987,-3.3076999999999988,-3.4906999999999986,-2.383399999999999,{"$f":"AVERAGE($L$2:INDEX(L:L,MATCH(9.99999999999999E+307,L:L)))","v":-2.946818181818182},-8.105999999999998,-4.5269999999999975,2.2880000000000003,1.9660000000000046,0.2870000000000026,-4.959999999999997,2.4229999999999983,-0.1609999999999978,-1.0169999999999995,-1.5769999999999982,-1.3383999999999983,{"$f":"AVERAGE($X$2:INDEX(X:X,MATCH(9.99999999999999E+307,X:X)))","v":-3.576331818181819},0,0,0,0,0,0,1,0,0,0,0.1,{"$f":"AVERAGE($AJ$2:INDEX(AJ:AJ,MATCH(9.99999999999999E+307,AJ:AJ)))","v":-0.01363636363636363},-0.5,-0.5,1.5,0.5,1.5,-0.5,0.5,0.5,0.5,-0.5,0.3,{"$f":"AVERAGE($AV$2:INDEX(AV:AV,MATCH(9.99999999999999E+307,AV:AV)))","v":0.05000000000000002},"M",26.78,"F"]
["DD101",0.5299999999999994,-0.8209999999999997,-1.0649999999999995,-1.9290000000000003,-1.3130000000000006,-1.783999999999999,-0.4689999999999994,-0.6349999999999998,-1.472999999999999,-1.6479999999999997,-1.0606999999999998,"stdev",-8.575300000000006,-8.590300000000006,-9.294300000000007,-7.853300000000004,-8.919300000000007,-6.414300000000004,-5.282300000000006,-10.006300000000003,-10.040300000000009,-6.732300000000009,-8.170800000000005,"stdev",0,0,0,0,0,0,0,0,0,0,0,"stdev",-0.10000000000000009,-1.1,-1.1,-0.10000000000000009,-0.10000000000000009,-1.1,-1.1,-0.10000000000000009,-0.10000000000000009,-0.10000000000000009,-0.5,"stdev","M",23,"T"]
["JF101",-1.8835999999999977,-1.5715999999999983,-0.714599999999999,-1.1785999999999994,-0.6575999999999986,-0.7485999999999979,-0.8665999999999983,-0.9945999999999984,0.27640000000000065,-1.1645999999999983,-0.9503999999999986,{"$f":"STDEV($L$2:INDEX(L:L,MATCH(9.99999999999999E+307,L:L)))","v":2.222250070287268},-7.018299999999996,-3.985299999999995,-5.633299999999998,-1.9242999999999952,-3.5162999999999975,-2.969299999999997,-3.4502999999999986,-3.5782999999999987,-3.9762999999999984,-3.3372999999999955,-3.9388999999999967,{"$f":"STDEV($X$2:INDEX(X:X,MATCH(9.99999999999999E+307,X:X)))","v":5.491617885155379},0,0,0,0,0,0,0,0,1,0,0.1,{"$f":"STDEV($AJ$2:INDEX(AJ:AJ,MATCH(9.99999999999999E+307,AJ:AJ)))","v":0.09408939288152438},-0.4,0.6,-0.4,1.6,-0.4,0.6,0.6,-0.4,-0.4,0.6,0.2,{"$f":"STDEV($AV$2:INDEX(AV:AV,MATCH(9.99999999999999E+307,AV:AV)))","v":0.27731707827820834},"M",30,"T"]
["AA101",-1.5685000000000002,-2.0395000000000003,-2.576500000000001,-2.384500000000001,-1.8955000000000002,-4.0075,-2.4235000000000007,-3.0555000000000003,-3.1275000000000013,-2.7125000000000004,-2.5791000000000013,"n",-4.796399999999998,-2.2683999999999997,-5.724399999999999,-3.6354000000000006,-2.9883999999999986,-3.6433999999999997,-2.7643999999999984,-4.659399999999998,-3.883399999999998,-2.180399999999999,-3.654399999999999,"n",0,0,0,0,0,0,0,0,0,0,0,"n",-0.7,-0.7,-0.7,-0.7,1.3,-0.7,-0.7,1.3,1.3,-0.7,-0.09999999999999994,"n","M",26,"F"]
["DP101",-2.2117999999999967,-2.492799999999999,0.027200000000000557,-4.204799999999999,-1.5427999999999962,3.8572000000000024,-4.123799999999999,-2.861799999999999,-1.1067999999999962,-4.726799999999997,-1.9386999999999979,{"$f":"COUNT($L$2:INDEX(L:L,MATCH(9.99999999999999E+307,L:L)))","v":22},-1.0238000000000014,-3.230800000000002,-1.3278000000000034,3.1522000000000006,-1.0488,-3.7118000000000038,-0.4397999999999982,-1.8318000000000012,-35.4318,3.336199999999998,-4.155800000000001,{"$f":"COUNT($X$2:INDEX(X:X,MATCH(9.99999999999999E+307,X:X)))","v":22},-0.3,-0.3,-0.3,-0.3,-0.3,0.7,-0.3,-0.3,-0.3,-0.3,-0.2,{"$f":"COUNT($AJ$2:INDEX(AJ:AJ,MATCH(9.99999999999999E+307,AJ:AJ)))","v":22},-0.9,-0.9,1.1,0.09999999999999998,-0.9,0.09999999999999998,0.09999999999999998,-0.9,1.1,-0.9,-0.19999999999999996,{"$f":"COUNT($AV$2:INDEX(AV:AV,MATCH(9.99999999999999E+307,AV:AV)))","v":22},"M",25,"F"]
["DT101",-7.192299999999996,-7.960299999999997,-10.936299999999997,-10.720299999999996,-12.168299999999997,-9.896299999999997,-11.817299999999996,-10.855299999999996,-9.632299999999997,-7.871299999999998,-9.904999999999998,"se",-2.9343000000000004,-2.581299999999999,-0.16529999999999845,-0.15729999999999933,-2.5333000000000006,-1.9492999999999974,-3.429299999999998,-2.6843000000000004,-3.2133000000000003,-2.621299999999998,-2.226899999999999,"se",0,0,0,0,0,0,0,0,0,0,0,"se",1.1,1.1,1.1,0.09999999999999998,-0.9,0.09999999999999998,-0.9,1.1,-0.9,-0.9,0.10000000000000009,"se","M",22,"F"]
["DY101",-3.310399999999998,-3.3493999999999957,-3.629399999999997,-4.950399999999998,-5.212399999999999,-5.348399999999998,-3.9423999999999957,-4.7823999999999955,-6.605399999999998,-7.174399999999997,-4.830499999999997,"se",-19.247,-38.248000000000005,-33.192,-37.912,-26.168000000000006,-18.072000000000003,-33.576,-27.823999999999998,-15.616,-13.680000000000007,-26.353500000000004,"se",0,0,0,0,0,0,1,0,0,0,0.1,"se",-0.5,-0.5,-1.5,-2.5,-1.5,-1.5,-2.5,-0.5,1.5,11.5,0.2,null,"M",25,"T"]
["EC101",-5.084900000000001,-7.3408999999999995,-5.0609,-7.3729,-7.036899999999999,-5.876899999999999,-5.602899999999998,-6.228899999999999,-6.668899999999999,-7.9779,-6.425199999999999,{"$f":"M4/SQRT(M6)","v":0.47378530690655113},-1.279200000000003,-0.9032000000000018,-2.6472000000000016,2.2407999999999966,1.1767999999999965,0.9037999999999968,2.472799999999996,2.5127999999999986,-0.10320000000000462,2.0487999999999964,0.642299999999997,{"$f":"Y4/SQRT(Y6)","v":1.1708168670664092},-0.1,-0.1,-0.1,-0.1,-0.1,-0.1,-0.1,-0.1,-0.1,-0.1,-0.09999999999999999,{"$f":"AK4/SQRT(AK6)","v":0.02005992596380547},-0.5,1.5,1.5,-0.5,-0.5,-0.5,-0.5,-0.5,-0.5,0.5,0,{"$f":"AW4/SQRT(AW6)","v":0.05912419974655891},"M",20,"F"]
["FA101",-1.729499999999998,-3.426499999999997,-1.753499999999999,-0.4734999999999978,-1.4504999999999981,-2.3215000000000003,-0.729499999999998,-0.8004999999999995,-1.0254999999999974,-1.6574999999999989,-1.5367999999999984,"change ex- nonex",-2.4239000000000033,-3.9829000000000008,-1.2159000000000013,-1.9679000000000038,-0.17590000000000217,-0.5279000000000025,-2.8079000000000036,0.48809999999999576,0.04809999999999803,-0.255900000000004,-1.2822000000000027,"change ex- nonex",0,0,0,0,0,0,0,0,0,0,0,"change ex- nonex",-0.6,-0.6,-0.6,1.4,-0.6,0.4,-0.6,0.4,-0.6,-0.6,-0.19999999999999996,"change ex- nonex","M",23,"F"]
["GH101",-1.3744999999999976,-1.827499999999997,-2.4064999999999976,-2.516499999999997,-3.2064999999999984,-2.790499999999998,-2.3904999999999976,-3.8154999999999983,-3.2464999999999975,-3.4134999999999973,-2.6987999999999976,{"$f":"AVERAGE($L$2:INDEX(L:L,MATCH(9.99999999999999E+307,L:L)))-'males-nonex'!M2","v":-0.485157575757575},-6.769399999999997,-7.706399999999995,-3.7933999999999983,-2.6494,-0.2744,2.462600000000002,3.5746000000000038,-0.7053999999999974,-1.8263999999999996,-3.882399999999997,-2.156999999999998,{"$f":"AVERAGE($X$2:INDEX(X:X,MATCH(9.99999999999999E+307,X:X)))-'males-nonex'!Y2","v":-0.10428636363636334},0,0,0,0,0,0,0,0,0,0,0,{"$f":"AVERAGE($AJ$2:INDEX(AJ:AJ,MATCH(9.99999999999999E+307,AJ:AJ)))-'males-nonex'!AK2","v":-0.019696969696969692},-0.7,-0.7,-0.7,1.3,1.3,-0.7,1.3,1.3,1.3,-0.7,0.3,{"$f":"AVERAGE($AV$2:INDEX(AV:AV,MATCH(9.99999999999999E+307,AV:AV)))-'males-nonex'!AW2","v":-0.011818181818181832},"M",20,"F"]
["GS101",-1.1723,-0.4842999999999993,-0.805299999999999,0.16469999999999985,-1.4612999999999996,-0.4853000000000005,-0.7073,-1.2933000000000003,-1.228299999999999,-0.5243000000000002,-0.7996999999999999,"se of ex and non ex",-2.7923999999999936,5.424600000000005,-4.08039999999999,-6.969399999999993,-3.2963999999999913,-2.6873999999999896,-8.64439999999999,3.67260000000001,-6.729399999999991,-1.456399999999995,-2.755899999999992,"se of ex and non ex",0,0,0,0,0,0,0,0,0,0,0,"se of ex and non ex",-0.1,-0.1,-0.1,-0.1,-0.1,-0.1,-0.1,-0.1,-0.1,-0.1,-0.09999999999999999,"se of ex and non ex","M",25,"F"]
["IF101",-0.9670000000000023,-1.4540000000000006,-1.379999999999999,-1.7090000000000014,-2.843,-2.0549999999999997,-1.1660000000000004,-2.1340000000000003,-0.48600000000000065,-1.3820000000000014,-1.5576000000000005,{"$f":"SQRT(((M4*M4)/M6)+(('males-nonex'!M4*'males-nonex'!M4)/'males-nonex'!M6))","v":0.5911743539871415},1.755500000000005,-2.4044999999999987,-3.540499999999998,-1.4924999999999962,-2.6844999999999963,-1.6124999999999972,-2.731499999999997,-1.1404999999999994,1.4284999999999997,-3.1404999999999994,-1.5562999999999978,{"$f":"SQRT(((Y4*Y4)/Y6)+(('males-nonex'!Y4*'males-nonex'!Y4)/'males-nonex'!Y6))","v":1.4275899458729064},0,0,0,0,0,0,0,0,0,0,0,{"$f":"SQRT(((AK4*AK4)/AK6)+(('males-nonex'!AK4*'males-nonex'!AK4)/'males-nonex'!AK6))","v":0.02581480781969796},2.4,0.4,0.4,1.4,-0.6,-0.6,0.4,0.4,-0.6,-0.6,0.29999999999999993,{"$f":"SQRT(((AW4*AW4)/AW6)+(('males-nonex'!AW4*'males-nonex'!AW4)/'males-nonex'!AW6))","v":0.08693578634521937},"M",16,"T"]
["JD101",-3.2691999999999943,-4.116199999999996,-3.0921999999999947,-4.1961999999999975,-1.7701999999999956,-3.572199999999995,-3.9081999999999972,-3.907199999999996,-5.651199999999996,-4.819199999999995,-3.8301999999999956,"p-value ttest after exercise",-3.144300000000001,-1.6163000000000025,-0.8083000000000027,-2.287300000000002,-1.288300000000003,-2.383300000000002,-3.344300000000004,-2.9203000000000046,-3.7363000000000035,1.1366999999999976,-2.039200000000003,"p-value ttest after exercise",0,0,0,0,0,0,1,0,0,0,0.1,"p-value ttest after exercise",-0.2,-0.2,-0.2,-0.2,-0.2,-0.2,-0.2,-0.2,-0.2,0.8,-0.09999999999999998,"p-value ttest after exercise","M",29,"F"]
["JG101",-3.0424000000000007,-2.6594000000000015,-2.9064000000000014,-2.9154000000000018,-2.8114000000000026,-3.7714,-4.171400000000002,-4.067400000000003,-3.8194000000000017,-3.9074000000000026,-3.407200000000002,{"$f":"TDIST(ABS(M2)/M9, (M6-1),2)","v":3.6039981241946136E-6},-3.6259999999999977,-4.683,-2.186,-2.213000000000001,-4.035000000000004,-4.011000000000003,-2.618000000000002,-4.042000000000002,-4.873999999999999,-2.2830000000000013,-3.4571000000000014,{"$f":"TDIST(ABS(Y2)/Y9, (Y6-1),2)","v":0.006020388780397377},0,0,0,0,0,0,0,0,0,0,0,{"$f":"TDIST(ABS(AK2)/AK9, (AK6-1),2)","v":0.5040681754288873},-0.5,-0.5,-0.5,1.5,0.5,1.5,0.5,-0.5,-1.5,0.5,0.1,{"$f":"TDIST(ABS(AW2)/AW9, (AW6-1),2)","v":0.4072657704473329},"M",28,"T"]
["JS102",-1.7512999999999987,1.5927000000000007,-0.18029999999999902,-0.07529999999999859,-0.7863000000000007,-2.0503,0.5976999999999997,0.6857000000000006,-4.2273,-4.0512999999999995,-1.0245999999999995,"p-value ttest change with exercise vs change with nonex",-3.960000000000001,-5.559000000000001,-3.6400000000000006,-4.018000000000001,-6.327000000000002,-4.368000000000002,-5.536000000000001,-5.388000000000002,-4.255000000000003,0.9929999999999986,-4.205800000000001,"p-value ttest change with exercise vs change with nonex",0,0,0,0,0,0,0,0,0,0,0,"p-value ttest change with exercise vs change with nonex",-0.5,-0.5,-0.5,-0.5,-0.5,-0.5,-0.5,-0.5,-0.5,0.5,-0.4,"p-value ttest change with exercise vs change with nonex","M",20,"F"]
["KP101",-2.889300000000002,-3.8373000000000026,-3.2413000000000025,-3.0333000000000006,-3.2173000000000016,-3.984300000000001,-3.6173,-4.392300000000002,-2.3613,-2.6403000000000034,-3.3214000000000015,{"$f":"TTEST(L2:L23,'males-nonex'!L2:L12,2,3)","v":0.01818614468627713},-2.7816000000000045,-3.3256000000000014,-2.0046000000000035,4.9313999999999965,-0.9416000000000011,8.683399999999999,-0.1566000000000045,3.2023999999999972,1.0753999999999948,-4.932600000000001,0.37499999999999717,{"$f":"TTEST(X2:X23,'males-nonex'!X2:X12,2,3)","v":0.8268783818028598},-0.2,-0.2,-0.2,-0.2,-0.2,-0.2,-0.2,0.8,-0.2,-0.2,-0.09999999999999998,{"$f":"TTEST(AJ2:AJ23,'males-nonex'!AJ2:AJ12,2,3)","v":0.0764748904813644},0.6,0.6,-0.4,1.6,-0.4,-0.4,-0.4,-0.4,0.6,-0.4,0.1,{"$f":"TTEST(AV2:AV23,'males-nonex'!AV2:AV12,2,3)","v":0.8346985952675843},"M",24,"F"]
["LB101",-0.9487999999999985,-2.7227999999999994,0.2181999999999995,-1.046800000000001,-1.982800000000001,-1.671800000000001,-2.5107999999999997,-3.5578000000000003,-1.5747999999999998,-2.8718000000000004,-1.8670000000000002,null,-6.980199999999996,-6.109199999999998,5.827800000000003,-5.116199999999999,-5.965199999999996,-1.8441999999999972,-4.682199999999998,-3.724199999999996,-1.181199999999997,-3.0041999999999973,-3.2778999999999967,null,0,0,0,0,0,0,0,0,0,0,0,null,-0.6,1.4,3.4,-0.6,-0.6,0.4,-0.6,0.4,-0.6,-0.6,0.19999999999999996,null,"M",24,"F"]
["MD101",-5.166400000000003,-5.189400000000003,-6.596400000000003,-5.726400000000002,-6.5014,-2.269400000000001,-4.3504000000000005,-5.790400000000002,-7.702400000000001,-7.366400000000002,-5.665900000000001,null,-4.354599999999998,-5.7806,-5.368600000000001,-6.618600000000001,-4.755599999999998,-4.897600000000001,-2.4756,-3.6525999999999996,-3.3065999999999995,-4.9705999999999975,-4.618099999999999,null,0,0,0,0,0,0,0,0,0,0,0,null,2.4,0.4,0.4,-0.6,-0.6,1.4,1.4,2.4,0.4,0.4,0.8,null,"M ",29,"F"]
["OA101",-0.1556000000000033,-1.1956000000000024,-1.2996000000000016,-0.4846000000000039,-0.1656000000000013,-1.9146000000000036,-0.5476000000000028,-1.2036000000000016,-0.8996000000000031,-2.492600000000003,-1.0359000000000027,null,-1.7780999999999985,-0.891099999999998,-2.356099999999998,-3.8050999999999995,-1.6800999999999995,3.8119000000000014,-1.043099999999999,-3.9000999999999983,-2.949099999999998,-4.236099999999997,-1.8826999999999985,null,0,0,0,0,0,0,0,0,0,0,0,null,-0.2,-0.2,-0.2,-0.2,0.8,0.8,-0.2,-0.2,-0.2,-0.2,0,null,"M",25,"F"]
["PM101",-1.152800000000001,-0.042800000000001504,-1.1178000000000008,-1.1468000000000007,-1.8188000000000013,-1.6468000000000007,-0.35380000000000145,-1.5368000000000013,-2.176800000000002,-2.0828000000000007,-1.3076000000000012,null,-2.2295000000000016,0.8904999999999959,6.017499999999998,-3.140500000000003,-0.3505000000000038,-1.525500000000001,6.738499999999995,8.914499999999997,2.970499999999994,-2.2055000000000042,1.6079999999999965,null,0,0,0,0,0,0,0,0,0,0,0,null,0,0,0,0,0,0,2,0,0,0,0.2,null,"M",23,"T"]
["SAV101",-1.6829999999999998,-2.2720000000000002,-0.06400000000000006,-2.5060000000000002,-2.901,-3.235999999999999,-2.885,-2.9349999999999987,-2.1519999999999992,-2.9209999999999994,-2.3555,null,-5.523899999999998,-1.1788999999999987,-3.8718999999999966,-5.914899999999999,-4.507899999999999,-3.2758999999999965,1.004100000000001,-2.5158999999999985,-3.5548999999999964,-3.4678999999999967,-3.280799999999998,null,0,0,0,0,0,0,0,0,0,0,0,null,0,0,0,0,0,0,1,0,0,0,0.1,null,"M",20,"F"]
["SK101",-1.8535000000000004,-0.01950000000000074,-4.072500000000002,-6.186500000000002,-4.693500000000002,-5.528500000000001,-4.761500000000002,-4.091500000000002,-5.779500000000002,-6.501500000000002,-4.348800000000001,null,-2.845799999999997,-1.4027999999999992,2.8762000000000008,-1.0377999999999972,-1.5077999999999996,1.659200000000002,-0.19679999999999964,-2.774799999999999,-1.2627999999999986,-3.0357999999999983,-0.9528999999999985,null,-0.3,-0.3,-0.3,-0.3,-0.3,-0.3,-0.3,-0.3,-0.3,-0.3,-0.29999999999999993,null,-0.7,0.30000000000000004,0.30000000000000004,-0.7,-0.7,0.30000000000000004,1.3,-0.7,-0.7,-0.7,-0.19999999999999996,null,"M",23,"F"]

{"sheet":"ADD","index":13,"n_rows":19,"n_cols":52,"rows_kept":19}
["ID (reds lack HR data)","%change-c-1","%change-c-2","%change-c-3","%change-c-4","%change-c-5","%change-c-6","%change-c-7","%change-c-8","%change-c-9","%change-c-10","%change-c-avg","congruent","%change-i-1","%change-i-2","%change-i-3","%change-i-4","%change-i-5","%change-i-6","%change-i-7","%change-i-8","%change-i-9","%change-i-10","%change-i-avg","incongruent","diff-err-c-1","diff-err-c-2","diff-err-c-3","diff-err-c-4","diff-err-c-5","diff-err-c-6","diff-err-c-7","diff-err-c-8","diff-err-c-9","diff-err-c-10","avg-change-err-c","avg-err-c","diff-err-i-1","diff-err-i-2","diff-err-i-3","diff-err-i-4","diff-err-i-5","diff-err-i-6","diff-err-i-7","diff-err-i-8","diff-err-i-9","diff-err-i-10","avg-change-err-i","avg-err-i","Gender","BMI","ADD"]
["CN101",-0.9543000000000035,-0.3533000000000026,-1.6173000000000037,-3.3453000000000035,-2.514300000000002,-3.025300000000003,-2.1293000000000024,-2.5053000000000036,-3.522300000000003,-2.825300000000002,-2.2792000000000026,{"$f":"AVERAGE($L$2:INDEX(L:L,MATCH(9.99999999999999E+307,L:L)))","v":-1.7422176470588235},-6.959999999999997,-3.103999999999992,-7.023999999999997,-5.487999999999996,-5.7919999999999945,-6.631999999999994,-8.607999999999997,-6.167999999999996,-6.351999999999997,-8.959999999999997,-6.508799999999996,{"$f":"AVERAGE($X$2:INDEX(X:X,MATCH(9.99999999999999E+307,X:X)))","v":-4.979823529411766},0,0,0,0,0,0,0,0,0,0,0,{"$f":"AVERAGE($AJ$2:INDEX(AJ:AJ,MATCH(9.99999999999999E+307,AJ:AJ)))","v":0.03529411764705882},-0.6000000000000001,0.3999999999999999,-1.6,0.3999999999999999,0.3999999999999999,0.3999999999999999,-1.6,-1.6,-1.6,-1.6,-0.7,{"$f":"AVERAGE($AV$2:INDEX(AV:AV,MATCH(9.99999999999999E+307,AV:AV)))","v":-0.11176470588235293},"F",32,"T"]
["DD101",0.5299999999999994,-0.8209999999999997,-1.0649999999999995,-1.9290000000000003,-1.3130000000000006,-1.783999999999999,-0.4689999999999994,-0.6349999999999998,-1.472999999999999,-1.6479999999999997,-1.0606999999999998,"stdev",-8.575300000000006,-8.590300000000006,-9.294300000000007,-7.853300000000004,-8.919300000000007,-6.414300000000004,-5.282300000000006,-10.006300000000003,-10.040300000000009,-6.732300000000009,-8.170800000000005,"stdev",0,0,0,0,0,0,0,0,0,0,0,"stdev",-0.10000000000000009,-1.1,-1.1,-0.10000000000000009,-0.10000000000000009,-1.1,-1.1,-0.10000000000000009,-0.10000000000000009,-0.10000000000000009,-0.5,"stdev","M",23,"T"]
["JF101",-1.8835999999999977,-1.5715999999999983,-0.714599999999999,-1.1785999999999994,-0.6575999999999986,-0.7485999999999979,-0.8665999999999983,-0.9945999999999984,0.27640000000000065,-1.1645999999999983,-0.9503999999999986,{"$f":"STDEV($L$2:INDEX(L:L,MATCH(9.99999999999999E+307,L:L)))","v":1.4750046691601069},-7.018299999999996,-3.985299999999995,-5.633299999999998,-1.9242999999999952,-3.5162999999999975,-2.969299999999997,-3.4502999999999986,-3.5782999999999987,-3.9762999999999984,-3.3372999999999955,-3.9388999999999967,{"$f":"STDEV($X$2:INDEX(X:X,MATCH(9.99999999999999E+307,X:X)))","v":6.2654719948429864},0,0,0,0,0,0,0,0,1,0,0.1,{"$f":"STDEV($AJ$2:INDEX(AJ:AJ,MATCH(9.99999999999999E+307,AJ:AJ)))","v":0.08617697249402123},-0.4,0.6,-0.4,1.6,-0.4,0.6,0.6,-0.4,-0.4,0.6,0.2,{"$f":"STDEV($AV$2:INDEX(AV:AV,MATCH(9.99999999999999E+307,AV:AV)))","v":0.5732389913260181},"M",30,"T"]
["AI101",-1.7362000000000002,-4.246199999999998,-4.254199999999997,-4.372199999999999,-3.668199999999999,-5.222199999999999,-4.406199999999998,-6.062199999999999,-6.557199999999998,-6.013199999999999,-4.653799999999999,"n",-0.3783999999999992,-3.124399999999998,-2.0993999999999993,-2.9954,-1.8833999999999982,-2.9483999999999995,-2.124399999999998,-0.8443999999999967,-1.6923999999999992,-2.1793999999999976,-2.0269999999999984,"n",0,0,0,0,0,0,0,0,0,0,0,"n",-0.3,0.7,1.7,0.7,1.7,-0.3,-0.3,-0.3,-0.3,0.7,0.4000000000000001,"n","F",20,"T"]
["CC101",-2.0967000000000002,-2.7447000000000017,-2.3507000000000016,-2.5927000000000007,-2.508700000000001,-2.1477000000000004,-2.066700000000001,-2.3087000000000018,-0.49370000000000047,-3.518700000000001,-2.2829000000000006,{"$f":"COUNT($L$2:INDEX(L:L,MATCH(9.99999999999999E+307,L:L)))","v":17},-7.575800000000001,-8.582799999999999,-9.0458,-3.599800000000002,-6.837800000000001,-8.5488,-8.837800000000001,-9.358800000000002,-9.462800000000001,-12.023800000000001,-8.3874,{"$f":"COUNT($X$2:INDEX(X:X,MATCH(9.99999999999999E+307,X:X)))","v":17},0,0,0,0,0,0,0,0,0,0,0,{"$f":"COUNT($AJ$2:INDEX(AJ:AJ,MATCH(9.99999999999999E+307,AJ:AJ)))","v":17},0,-2,0,-2,-1,-2,-2,0,-2,-1,-1.2,{"$f":"COUNT($AV$2:INDEX(AV:AV,MATCH(9.99999999999999E+307,AV:AV)))","v":17},"F",21,"T"]
["DE101",-2.3866999999999976,-0.7396999999999991,-1.6786999999999992,-0.5946999999999996,-1.7766999999999982,-0.24769999999999825,-2.0427,-2.5626999999999995,-2.7407000000000004,-2.1327,-1.6902999999999992,"se",-0.8170999999999964,0.14290000000000447,-3.625099999999996,-5.106099999999998,-6.166099999999997,-2.098099999999995,-4.121099999999998,-5.339099999999995,-2.9780999999999977,-2.4080999999999975,-3.2515999999999963,"se",0,0,0,0,0,0,0,0,0,0,0,"se",1.6,0.6,-0.4,-0.4,-0.4,-0.4,-0.4,-0.4,-0.4,0.6,0,"se","F",25,"T"]
["DJ101",-1.6068000000000016,1.5451999999999977,0.25619999999999976,-1.1108000000000011,-1.0948000000000029,2.336199999999998,-0.7667999999999999,-0.3998000000000026,-0.038800000000001944,0.7362000000000002,-0.014400000000001434,"se",-3.4695999999999927,-7.060599999999994,-3.684599999999989,-4.060599999999994,1.626400000000011,-3.877599999999994,-2.069599999999994,-7.268599999999992,-1.7005999999999872,-4.20559999999999,-3.5770999999999917,"se",0,0,0,0,0,0,0,0,0,1,0.1,"se",-0.10000000000000009,-1.1,-1.1,-0.10000000000000009,-0.10000000000000009,-0.10000000000000009,0.8999999999999999,-1.1,-1.1,-1.1,-0.5000000000000001,null,"F",23,"T"]
["DS101",0.6668000000000003,-0.23719999999999963,-0.029200000000001225,0.03479999999999883,-0.9972000000000012,-1.5852000000000004,-0.3412000000000006,-1.5732,-1.5031999999999996,-1.5172000000000008,-0.7082000000000004,{"$f":"M4/SQRT(M6)","v":0.35774117936625605},0.806599999999996,5.107599999999998,2.5505999999999958,2.087599999999995,-1.9784000000000006,-2.1704000000000008,-1.794400000000003,0.5475999999999956,-0.5924000000000049,1.0545999999999935,0.5618999999999964,{"$f":"Y4/SQRT(Y6)","v":1.5196001664168837},-0.2,-0.2,-0.2,-0.2,-0.2,2.8,-0.2,-0.2,-0.2,-0.2,0.1,{"$f":"AK4/SQRT(AK6)","v":0.020900985887576315},-0.3,0.7,-0.3,-0.3,-0.3,-0.3,-0.3,-0.3,0.7,0.7,0,{"$f":"AW4/SQRT(AW6)","v":0.13903087705645284},"F",28,"T"]
["DY101",-3.310399999999998,-3.3493999999999957,-3.629399999999997,-4.950399999999998,-5.212399999999999,-5.348399999999998,-3.9423999999999957,-4.7823999999999955,-6.605399999999998,-7.174399999999997,-4.830499999999997,"change ex- nonex",-19.247,-38.248000000000005,-33.192,-37.912,-26.168000000000006,-18.072000000000003,-33.576,-27.823999999999998,-15.616,-13.680000000000007,-26.353500000000004,"change ex- nonex",0,0,0,0,0,0,1,0,0,0,0.1,"change ex- nonex",-0.5,-0.5,-1.5,-2.5,-1.5,-1.5,-2.5,-0.5,1.5,11.5,0.2,"change ex- nonex","M",25,"T"]
["IF101",-0.9670000000000023,-1.4540000000000006,-1.379999999999999,-1.7090000000000014,-2.843,-2.0549999999999997,-1.1660000000000004,-2.1340000000000003,-0.48600000000000065,-1.3820000000000014,-1.5576000000000005,{"$f":"AVERAGE($L$2:INDEX(L:L,MATCH(9.99999999999999E+307,L:L)))-'ADD-nonex'!M2","v":-0.045091560102302086},1.755500000000005,-2.4044999999999987,-3.540499999999998,-1.4924999999999962,-2.6844999999999963,-1.6124999999999972,-2.731499999999997,-1.1404999999999994,1.4284999999999997,-3.1404999999999994,-1.5562999999999978,{"$f":"AVERAGE($X$2:INDEX(X:X,MATCH(9.99999999999999E+307,X:X)))-'ADD-nonex'!Y2","v":-0.4302322250639392},0,0,0,0,0,0,0,0,0,0,0,{"$f":"AVERAGE($AJ$2:INDEX(AJ:AJ,MATCH(9.99999999999999E+307,AJ:AJ)))-'ADD-nonex'!AK2","v":0.002685421994884918},2.4,0.4,0.4,1.4,-0.6,-0.6,0.4,0.4,-0.6,-0.6,0.29999999999999993,{"$f":"AVERAGE($AV$2:INDEX(AV:AV,MATCH(9.99999999999999E+307,AV:AV)))-'ADD-nonex'!AW2","v":-0.0913299232736573},"M",16,"T"]
["IH101",-1.2464999999999975,-1.0944999999999965,-0.6934999999999967,-1.7014999999999976,-2.5894999999999975,0.6265000000000036,-2.5894999999999975,-2.3174999999999972,-2.3974999999999973,-1.5894999999999975,-1.5592999999999972,"se of ex and non ex",-1.6281000000000034,-8.283100000000005,1.6198999999999941,-3.451100000000004,-5.548100000000005,-6.161100000000005,-0.5241000000000042,-6.868100000000005,-3.356100000000005,-1.6111000000000004,-3.581100000000004,"se of ex and non ex",0,0,0,0,0,0,0,0,0,0,0,"se of ex and non ex",1.6,-0.3999999999999999,1.6,-1.4,-0.3999999999999999,-1.4,-0.3999999999999999,-1.4,-1.4,-0.3999999999999999,-0.3999999999999999,"se of ex and non ex","F",33,"T"]
["JG101",-3.0424000000000007,-2.6594000000000015,-2.9064000000000014,-2.9154000000000018,-2.8114000000000026,-3.7714,-4.171400000000002,-4.067400000000003,-3.8194000000000017,-3.9074000000000026,-3.407200000000002,{"$f":"SQRT(((M4*M4)/M6)+(('ADD-nonex'!M4*'ADD-nonex'!M4)/'ADD-nonex'!M6))","v":0.45580581209540133},-3.6259999999999977,-4.683,-2.186,-2.213000000000001,-4.035000000000004,-4.011000000000003,-2.618000000000002,-4.042000000000002,-4.873999999999999,-2.2830000000000013,-3.4571000000000014,{"$f":"SQRT(((Y4*Y4)/Y6)+(('ADD-nonex'!Y4*'ADD-nonex'!Y4)/'ADD-nonex'!Y6))","v":1.8940936420206673},0,0,0,0,0,0,0,0,0,0,0,{"$f":"SQRT(((AK4*AK4)/AK6)+(('ADD-nonex'!AK4*'ADD-nonex'!AK4)/'ADD-nonex'!AK6))","v":0.02790760415533701},-0.5,-0.5,-0.5,1.5,0.5,1.5,0.5,-0.5,-1.5,0.5,0.1,{"$f":"SQRT(((AW4*AW4)/AW6)+(('ADD-nonex'!AW4*'ADD-nonex'!AW4)/'ADD-nonex'!AW6))","v":0.18137957027890614},"M",28,"T"]
["KM101",-1.7011000000000003,-0.9330999999999996,-0.013100000000001444,1.9709000000000003,-2.9731000000000005,-0.8301000000000016,0.9378999999999991,0.7308999999999983,-0.4620999999999995,-1.8771000000000004,-0.5150000000000006,"p-value ttest after exercise",5.481999999999992,-0.03800000000000381,2.7469999999999963,0.41099999999999426,-2.9640000000000057,-2.845000000000006,0.6029999999999944,-3.5260000000000034,-1.5900000000000034,1.112999999999996,-0.0607000000000049,"p-value ttest after exercise",0,0,0,0,0,0,0,0,0,0,0,"p-value ttest after exercise",1.7,-0.3,-0.3,-0.3,-0.3,0.7,0.7,-0.3,0.7,1.7,0.4,"p-value ttest after exercise","F",17,"T"]
["PM101",-1.152800000000001,-0.042800000000001504,-1.1178000000000008,-1.1468000000000007,-1.8188000000000013,-1.6468000000000007,-0.35380000000000145,-1.5368000000000013,-2.176800000000002,-2.0828000000000007,-1.3076000000000012,{"$f":"TDIST(ABS(M2)/M9, (M6-1),2)","v":1.7024263686167573E-4},-2.2295000000000016,0.8904999999999959,6.017499999999998,-3.140500000000003,-0.3505000000000038,-1.525500000000001,6.738499999999995,8.914499999999997,2.970499999999994,-2.2055000000000042,1.6079999999999965,{"$f":"TDIST(ABS(Y2)/Y9, (Y6-1),2)","v":0.004742992628715825},0,0,0,0,0,0,0,0,0,0,0,{"$f":"TDIST(ABS(AK2)/AK9, (AK6-1),2)","v":0.11068010529448032},0,0,0,0,0,0,2,0,0,0,0.2,{"$f":"TDIST(ABS(AW2)/AW9, (AW6-1),2)","v":0.43324580459080386},"M",23,"T"]
["RB101",-2.9266000000000005,-1.6305999999999976,-1.8065999999999995,-2.9586000000000006,-1.637599999999999,-3.358599999999999,-2.2866,-2.278600000000001,-2.262599999999999,1.5774000000000008,-1.9568999999999996,"p-value ttest change with exercise vs change with nonex",-3.511000000000003,-2.982000000000003,-1.2860000000000014,-1.3440000000000012,-0.36400000000000077,0.9039999999999999,-1.7590000000000003,-3.215,-3.3160000000000025,-3.803000000000001,-2.0676000000000014,"p-value ttest change with exercise vs change with nonex",-0.1,-0.1,-0.1,-0.1,-0.1,-0.1,-0.1,-0.1,-0.1,-0.1,-0.09999999999999999,"p-value ttest change with exercise vs change with nonex",-0.19999999999999996,-1.2,-0.19999999999999996,-0.19999999999999996,-0.19999999999999996,-0.19999999999999996,-1.2,-1.2,-1.2,-1.2,-0.7,"p-value ttest change with exercise vs change with nonex","F",28.3,"T"]
["RK101",-1.196399999999997,-1.0363999999999969,-2.004399999999997,-2.541399999999996,-1.8053999999999952,-1.7003999999999984,-1.2123999999999953,-2.2373999999999974,-0.06039999999999779,-2.6683999999999983,-1.646299999999997,{"$f":"TTEST(L2:L18,'ADD-nonex'!L2:L7,2,3)","v":0.7608620698252979},-5.990499999999997,-1.8144999999999953,-8.765499999999996,-9.622499999999995,-6.2464999999999975,-5.949499999999993,-8.077499999999993,-8.021499999999996,-2.5744999999999933,-2.710499999999996,-5.977299999999995,{"$f":"TTEST(X2:X18,'ADD-nonex'!X2:X7,2,3)","v":0.3133060419329372},0,0,0,0,0,0,0,0,0,0,0,{"$f":"TTEST(AJ2:AJ18,'ADD-nonex'!AJ2:AJ7,2,3)","v":0.833125042614403},-1.2,-0.19999999999999996,-0.19999999999999996,-1.2,-1.2,-1.2,-0.19999999999999996,-0.19999999999999996,-1.2,-1.2,-0.8,{"$f":"TTEST(AV2:AV18,'ADD-nonex'!AV2:AV7,2,3)","v":0.16317331513203076},"F",21,"T"]
["SN101",-1.8928000000000011,-0.7397999999999989,0.3951999999999991,-0.08480000000000132,0.052199999999999136,-0.1647999999999996,3.2752000000000017,2.9952000000000005,0.3152000000000008,3.8751999999999995,0.8026,"ADD vs non-ADD",-1.8108000000000004,-7.021799999999999,-12.218800000000002,-8.7928,-9.546799999999998,0.6112000000000037,-11.638799999999996,-8.4028,-8.896799999999999,-11.398800000000001,-7.911699999999999,"ADD vs non-ADD",1.4,1.4,-0.6,-0.6,-0.6,0.4,-0.6,1.4,0.4,0.4,0.29999999999999993,"ADD vs non-ADD",1.3,0.30000000000000004,-1.7,0.30000000000000004,2.3,5.3,0.30000000000000004,0.30000000000000004,2.3,0.30000000000000004,1.1,"ADD vs non-ADD","F",20,"T"]
[{"$nulls":12},{"$f":"TTEST(L2:L18,'non-ADD'!L2:L57,2,3)","v":0.09932990448862729},{"$nulls":11},{"$f":"TTEST(X2:X18,'non-ADD'!X2:X57,2,3)","v":0.23294795180928776},{"$nulls":11},{"$f":"TTEST(AJ2:AJ18,'non-ADD'!AJ2:AJ57,2,3)","v":0.17085465194946983},{"$nulls":11},{"$f":"TTEST(AV2:AV18,'non-ADD'!AV2:AV57,2,3)","v":0.444814202632947}]

{"sheet":"non-ADD","index":14,"n_rows":57,"n_cols":52,"rows_kept":57}
["ID (reds lack HR data)","%change-c-1","%change-c-2","%change-c-3","%change-c-4","%change-c-5","%change-c-6","%change-c-7","%change-c-8","%change-c-9","%change-c-10","%change-c-avg","congruent","%change-i-1","%change-i-2","%change-i-3","%change-i-4","%change-i-5","%change-i-6","%change-i-7","%change-i-8","%change-i-9","%change-i-10","%change-i-avg","incongruent","diff-err-c-1","diff-err-c-2","diff-err-c-3","diff-err-c-4","diff-err-c-5","diff-err-c-6","diff-err-c-7","diff-err-c-8","diff-err-c-9","diff-err-c-10","avg-change-err-c","avg-err-c","diff-err-i-1","diff-err-i-2","diff-err-i-3","diff-err-i-4","diff-err-i-5","diff-err-i-6","diff-err-i-7","diff-err-i-8","diff-err-i-9","diff-err-i-10","avg-change-err-i","avg-err-i","Gender","BMI","ADD"]
["AA102",-2.039900000000003,-2.8479000000000028,-2.1959000000000017,-4.177900000000005,-1.8279000000000032,-2.779900000000005,-2.1489000000000047,-1.5709000000000017,-3.291900000000002,-2.8129000000000026,-2.569400000000003,{"$f":"AVERAGE($L$2:INDEX(L:L,MATCH(9.99999999999999E+307,L:L)))","v":-2.5592696428571426},-8.203400000000006,-1.867400000000007,-1.8514000000000053,-2.050400000000007,-3.588400000000007,-6.099400000000006,-3.6344000000000065,-5.875400000000006,-0.13740000000000663,2.21459999999999,-3.109300000000007,{"$f":"AVERAGE($X$2:INDEX(X:X,MATCH(9.99999999999999E+307,X:X)))","v":-3.058228571428572},0.9,0.9,-0.1,0.9,-0.1,0.9,0.9,0.9,-0.1,0.9,0.6000000000000001,{"$f":"AVERAGE($AJ$2:INDEX(AJ:AJ,MATCH(9.99999999999999E+307,AJ:AJ)))","v":-0.005357142857142854},0.8999999999999999,-1.1,0.8999999999999999,-0.10000000000000009,-0.10000000000000009,-2.1,-2.1,-2.1,-1.1,0.8999999999999999,-0.6,{"$f":"AVERAGE($AV$2:INDEX(AV:AV,MATCH(9.99999999999999E+307,AV:AV)))","v":0.00535714285714283},"F",21,"F"]
["CJ101",-3.3857,-2.4426999999999985,-0.40970000000000084,-1.6906999999999996,-2.906699999999999,-1.2746999999999993,-1.2746999999999993,-3.6506999999999987,-3.3076999999999988,-3.4906999999999986,-2.383399999999999,"stdev",-8.105999999999998,-4.5269999999999975,2.2880000000000003,1.9660000000000046,0.2870000000000026,-4.959999999999997,2.4229999999999983,-0.1609999999999978,-1.0169999999999995,-1.5769999999999982,-1.3383999999999983,"stdev",0,0,0,0,0,0,1,0,0,0,0.1,"stdev",-0.5,-0.5,1.5,0.5,1.5,-0.5,0.5,0.5,0.5,-0.5,0.3,"stdev","M",26.78,"F"]
["FA102",0.04680000000000106,1.8818000000000001,-0.27119999999999855,0.8298000000000005,-0.20319999999999894,-0.5381999999999998,1.9528000000000016,-0.3581999999999983,0.655800000000001,1.7158000000000015,0.571200000000001,{"$f":"STDEV($L$2:INDEX(L:L,MATCH(9.99999999999999E+307,L:L)))","v":2.456384945396543},-1.3236999999999988,-1.8176999999999985,0.47630000000000194,1.5702999999999996,0.1363000000000021,-1.4426999999999985,-1.6496999999999993,7.5383,1.3573000000000022,1.5962999999999994,0.644100000000001,{"$f":"STDEV($X$2:INDEX(X:X,MATCH(9.99999999999999E+307,X:X)))","v":2.4823349299117026},-0.1,0.9,-0.1,0.9,-0.1,-0.1,-0.1,-0.1,1.9,0.9,0.39999999999999997,{"$f":"STDEV($AJ$2:INDEX(AJ:AJ,MATCH(9.99999999999999E+307,AJ:AJ)))","v":0.153053339314517},0,-1,2,3,2,2,-1,5,1,3,1.6,{"$f":"STDEV($AV$2:INDEX(AV:AV,MATCH(9.99999999999999E+307,AV:AV)))","v":0.4312432946966007},"F",21,"F"]
["JH102",-1.6064999999999987,-1.9085,-2.2264999999999997,-1.2584999999999997,-2.3765,-2.0924999999999994,-2.0554999999999986,-1.6914999999999996,-2.4274999999999984,-1.4565000000000001,-1.9099999999999995,"n",-1.0425000000000004,-5.6525,-4.984500000000001,-3.730500000000003,-0.9905000000000008,0.16249999999999787,-3.146500000000003,0.1454999999999984,-0.9555000000000007,-4.080500000000001,-2.427500000000001,"n",-0.1,-0.1,-0.1,-0.1,-0.1,-0.1,-0.1,-0.1,-0.1,-0.1,-0.09999999999999999,"n",-0.4,-0.4,-0.4,-0.4,-0.4,-0.4,-0.4,0.6,-0.4,0.6,-0.19999999999999996,"n","F",19,"F"]
["JR101",-1.394400000000001,-0.6723999999999997,-2.157399999999999,-2.234400000000001,-1.522400000000001,-1.0733999999999995,-2.516400000000001,-1.0084000000000017,-2.2444000000000024,-1.958400000000001,-1.6782000000000008,{"$f":"COUNT($L$2:INDEX(L:L,MATCH(9.99999999999999E+307,L:L)))","v":56},-4.328300000000006,-3.9573000000000036,1.4527,-0.5973000000000042,2.2956999999999965,-3.7073000000000036,-2.9893,-4.7093000000000025,-5.092300000000002,-5.543300000000002,-2.7176000000000027,{"$f":"COUNT($X$2:INDEX(X:X,MATCH(9.99999999999999E+307,X:X)))","v":56},0.9,0.9,-0.1,-0.1,0.9,-0.1,-0.1,-0.1,-0.1,-0.1,0.19999999999999996,{"$f":"COUNT($AJ$2:INDEX(AJ:AJ,MATCH(9.99999999999999E+307,AJ:AJ)))","v":56},0.5,1.5,1.5,-0.5,-0.5,-0.5,-0.5,-0.5,-0.5,0.5,0.1,{"$f":"COUNT($AV$2:INDEX(AV:AV,MATCH(9.99999999999999E+307,AV:AV)))","v":56},"F",27,"F"]
["MR101",0.7879000000000005,-1.5320999999999998,-1.653100000000002,-1.6611000000000011,-2.5411,-2.5901000000000014,-2.1981,-3.020100000000001,-2.9261000000000017,-3.3161000000000005,-2.0650000000000004,"se",-5.402300000000004,-7.627300000000002,-3.4913000000000025,-0.6433000000000035,-4.6433000000000035,-3.2753000000000014,-3.7253000000000043,-5.068300000000004,-6.163300000000003,-6.9323000000000015,-4.697200000000002,"se",0,0,0,0,0,0,0,0,0,0,0,"se",0.7,-0.3,1.7,1.7,1.7,1.7,1.7,-0.3,-0.3,0.7,0.8999999999999998,"se","F",22,"F"]
["RS101",-8.411999999999995,-9.364999999999995,-11.238999999999994,-12.287999999999997,-9.646999999999995,-9.617999999999995,-11.752999999999997,-10.605999999999995,-9.601999999999997,-8.347999999999995,-10.087799999999998,"se",2.0245999999999995,-9.3874,-8.9134,-6.692399999999999,-8.9374,-5.9974000000000025,-6.5564,-7.397400000000001,-6.7104,-4.004400000000004,-6.257200000000001,"se",0,0,0,0,0,0,0,0,0,0,0,"se",1.4,0.4,0.4,0.4,-0.6,0.4,-0.6,-0.6,0.4,2.4,0.3999999999999999,null,"F",25,"F"]
["SN102",0.061599999999998545,-1.6364000000000019,-1.4193999999999996,-3.1244000000000014,-1.708400000000001,-1.8764000000000003,0.0686,0.10060000000000002,-1.6274000000000015,-1.6354000000000006,-1.2797000000000007,{"$f":"M4/SQRT(M6)","v":0.32824824556083143},2.0245999999999995,-9.3874,-8.9134,-6.692399999999999,-8.9374,-5.9974000000000025,-6.5564,-7.397400000000001,-6.7104,-4.004400000000004,-6.257200000000001,{"$f":"Y4/SQRT(Y6)","v":0.3317159581053963},0,0,0,0,0,0,0,0,0,0,0,{"$f":"AK4/SQRT(AK6)","v":0.02045261277202075},1.4,0.4,0.4,0.4,-0.6,0.4,-0.6,-0.6,0.4,2.4,0.3999999999999999,{"$f":"AW4/SQRT(AW6)","v":0.05762730925350956},"F",25,"F"]
["TB101",0.44620000000000104,0.026199999999999335,-2.0097999999999985,-1.8817999999999984,-1.7147999999999985,-1.8747999999999987,-2.0337999999999994,-1.162799999999999,-2.7787999999999986,-2.386799999999999,-1.537099999999999,"change ex- nonex",-2.351800000000001,1.4962000000000018,1.4322000000000017,-2.471799999999998,-1.0648000000000017,-3.1128,0.11220000000000141,-1.0797999999999988,1.9202000000000012,-1.3277999999999999,-0.6447999999999994,"change ex- nonex",-0.2,0.8,0.8,-0.2,-0.2,-0.2,0.8,-0.2,0.8,0.8,0.3,"change ex- nonex",2.2,0.19999999999999996,0.19999999999999996,-0.8,1.2,-0.8,0.19999999999999996,0.19999999999999996,1.2,-0.8,0.3000000000000001,"change ex- nonex","F",31,"F"]
["SW101",0.085700000000001,1.1727000000000007,0.04370000000000118,0.4347000000000012,0.32470000000000176,0.43670000000000186,0.9957000000000011,0.21270000000000167,0.6117000000000008,1.322700000000001,0.5641000000000013,{"$f":"AVERAGE($L$2:INDEX(L:L,MATCH(9.99999999999999E+307,L:L)))-'non-ADD-nonex'!M2","v":-0.3286421428571429},-8.791100000000007,-7.079100000000004,-5.438100000000006,-5.791100000000007,-5.663100000000007,-5.639100000000006,-4.837100000000007,-5.775100000000002,-8.583100000000002,-8.640100000000004,-6.623700000000005,{"$f":"AVERAGE($X$2:INDEX(X:X,MATCH(9.99999999999999E+307,X:X)))-'non-ADD-nonex'!Y2","v":-0.22341482142857272},0,0,0,0,0,0,0,0,0,0,0,{"$f":"AVERAGE($AJ$2:INDEX(AJ:AJ,MATCH(9.99999999999999E+307,AJ:AJ)))-'non-ADD-nonex'!AK2","v":-2.8571428571428584E-3},-1.1,-0.10000000000000009,-0.10000000000000009,-1.1,-1.1,-0.10000000000000009,-1.1,0.8999999999999999,-1.1,-1.1,-0.6000000000000002,{"$f":"AVERAGE($AV$2:INDEX(AV:AV,MATCH(9.99999999999999E+307,AV:AV)))-'non-ADD-nonex'!AW2","v":0.029357142857142825},"F",28,"F"]
["AA101",-1.5685000000000002,-2.0395000000000003,-2.576500000000001,-2.384500000000001,-1.8955000000000002,-4.0075,-2.4235000000000007,-3.0555000000000003,-3.1275000000000013,-2.7125000000000004,-2.5791000000000013,"se of ex and non ex",-4.796399999999998,-2.2683999999999997,-5.724399999999999,-3.6354000000000006,-2.9883999999999986,-3.6433999999999997,-2.7643999999999984,-4.659399999999998,-3.883399999999998,-2.180399999999999,-3.654399999999999,"se of ex and non ex",0,0,0,0,0,0,0,0,0,0,0,"se of ex and non ex",-0.7,-0.7,-0.7,-0.7,1.3,-0.7,-0.7,1.3,1.3,-0.7,-0.09999999999999994,"se of ex and non ex","M",26,"F"]
["AK101",-1.4898999999999987,-3.0889000000000006,-3.1778999999999993,-3.0558999999999994,-3.642899999999999,-5.1129,-4.0579,-4.4649,-4.4338999999999995,-5.3369,-3.7861999999999996,{"$f":"SQRT(((M4*M4)/M6)+(('non-ADD-nonex'!M4*'non-ADD-nonex'!M4)/'non-ADD-nonex'!M6))","v":0.41297753082564836},-3.8750999999999998,-6.591100000000001,-6.466100000000001,-1.5771000000000015,-4.147100000000002,0.3569000000000031,-2.795099999999998,-3.251100000000001,-4.906099999999999,-5.459099999999999,-3.8710999999999998,{"$f":"SQRT(((Y4*Y4)/Y6)+(('non-ADD-nonex'!Y4*'non-ADD-nonex'!Y4)/'non-ADD-nonex'!Y6))","v":0.4263245420105015},0,0,0,0,0,0,0,0,0,0,0,{"$f":"SQRT(((AK4*AK4)/AK6)+(('non-ADD-nonex'!AK4*'non-ADD-nonex'!AK4)/'non-ADD-nonex'!AK6))","v":0.025480245554272505},-0.2,-0.2,-0.2,-0.2,-0.2,-0.2,-0.2,-0.2,-0.2,-0.2,-0.19999999999999998,{"$f":"SQRT(((AW4*AW4)/AW6)+(('non-ADD-nonex'!AW4*'non-ADD-nonex'!AW4)/'non-ADD-nonex'!AW6))","v":0.07889997352618401},"F",19,"F"]
["AMP101",-3.3124000000000002,-3.1693999999999996,-2.203400000000002,-2.673400000000001,-4.071400000000001,-3.775400000000001,-3.041400000000003,-3.3933999999999997,-3.4664,-2.993400000000001,-3.210000000000001,"p-value ttest after exercise",-2.6395000000000017,2.296499999999998,-4.7225,-5.9765000000000015,-3.968499999999999,-4.224499999999999,-1.0545000000000009,-1.3374999999999986,-2.8805000000000014,-4.4955,-2.9003000000000005,"p-value ttest after exercise",0,0,0,0,0,0,0,0,0,0,0,"p-value ttest after exercise",0,1,0,0,0,0,1,0,0,0,0.2,"p-value ttest after exercise","F",21.97,"F"]
["AP101",-3.669599999999999,0.08040000000000092,-1.7896,1.112400000000001,0.436399999999999,-2.3785999999999987,-0.21359999999999957,-0.8016000000000005,0.34639999999999915,3.6494,-0.3227999999999998,{"$f":"TDIST(ABS(M2)/M9, (M6-1),2)","v":1.8713168109996218E-10},3.044699999999999,-6.798299999999998,-2.2182999999999993,-5.642299999999999,-3.7882999999999996,-6.927299999999995,-3.412299999999995,-7.564299999999996,-4.0623000000000005,-7.972299999999997,-4.534099999999998,{"$f":"TDIST(ABS(Y2)/Y9, (Y6-1),2)","v":9.440362893893829e-13},0,0,0,0,0,0,0,0,0,0,0,{"$f":"TDIST(ABS(AK2)/AK9, (AK6-1),2)","v":0.7943542865775128},3.7,-0.3,1.7,-0.3,-0.3,-0.3,-0.3,0.7,0.7,0.7,0.6000000000000002,{"$f":"TDIST(ABS(AW2)/AW9, (AW6-1),2)","v":0.9262716528092989},"F",22,"F"]
["AP102",-1.7439999999999998,-1.2950000000000017,-1.3999999999999986,-2.3919999999999995,-1.9170000000000016,-1.5919999999999987,-1.4170000000000016,-1.7040000000000006,1.3679999999999986,0.4089999999999989,-1.1684000000000005,"p-value ttest change with exercise vs change with nonex",1.257799999999996,-2.2682000000000038,-4.447200000000006,-4.484200000000005,-0.6982000000000035,0.7697999999999965,0.9597999999999942,-1.4122000000000057,-2.5102000000000046,0.14179999999999637,-1.2691000000000046,"p-value ttest change with exercise vs change with nonex",-0.2,-0.2,-0.2,-0.2,-0.2,-0.2,-0.2,-0.2,-0.2,-0.2,-0.19999999999999998,"p-value ttest change with exercise vs change with nonex",-0.1,-0.1,-0.1,-0.1,-0.1,-0.1,-0.1,-0.1,-0.1,-0.1,-0.09999999999999999,"p-value ttest change with exercise vs change with nonex","F",26,"F"]
["AS102",-0.1685000000000052,-2.0815000000000037,-1.2935000000000052,-0.8375000000000021,-1.6105000000000018,-1.425500000000003,-3.329500000000003,-4.260500000000004,-2.659500000000003,-4.300500000000003,-2.1967000000000034,{"$f":"TTEST(L2:L57,'non-ADD-nonex'!L2:L25,2,3)","v":0.013989731224353413},-3.5245000000000033,-2.9395000000000024,-5.5794999999999995,-3.3644999999999996,-6.1785,-0.5065000000000026,-2.2515,-5.2515,-5.1465,-4.147500000000001,-3.8890000000000007,{"$f":"TTEST(X2:X57,'non-ADD-nonex'!X2:X25,2,3)","v":0.18021934099844827},-0.1,-0.1,-0.1,-0.1,-0.1,-0.1,1.9,-0.1,-0.1,-0.1,0.09999999999999996,{"$f":"TTEST(AJ2:AJ57,'non-ADD-nonex'!AJ2:AJ25,2,3)","v":0.7246852908621991},1.5,0.5,-0.5,-0.5,-0.5,1.5,-0.5,-0.5,-0.5,-0.5,0,{"$f":"TTEST(AV2:AV57,'non-ADD-nonex'!AV2:AV25,2,3)","v":0.46769443331537375},"F",22,"F"]
["BH101",-3.137600000000001,-2.093600000000002,-1.7646000000000015,-1.1986000000000008,-3.7066000000000017,-2.574600000000002,-2.8866000000000014,-2.798600000000002,-3.861600000000001,-3.896600000000001,-2.791900000000001,null,-6.191700000000001,-3.1936999999999998,-4.104700000000001,-2.992700000000003,-4.148700000000002,-3.8277,-3.5427,-3.6357,-3.692700000000002,-3.7947000000000024,-3.9125000000000014,null,1,0,0,0,0,0,0,0,0,0,0.1,null,-0.6,0.4,1.4,-0.6,0.4,0.4,1.4,-0.6,-0.6,2.4,0.39999999999999997,null,"F",19,"F"]
["DI101",-4.084799999999998,-2.7907999999999973,-2.965799999999998,-4.277799999999999,-2.996799999999997,-2.2277999999999984,-2.9647999999999968,-2.091799999999999,-2.9567999999999977,0.7782000000000018,-2.657899999999998,null,-7.964599999999997,-6.287599999999998,-6.136599999999994,-6.2405999999999935,-8.351599999999998,-6.083599999999997,-6.743599999999997,-7.685599999999997,-6.116599999999998,-4.805599999999998,-6.641599999999997,null,0,0,0,0,0,0,0,0,0,0,0,null,-1.1,0.8999999999999999,-0.10000000000000009,-1.1,-1.1,0.8999999999999999,-0.10000000000000009,-1.1,-1.1,0.8999999999999999,-0.3000000000000001,null,"F",23,"F"]
["DP101",-2.2117999999999967,-2.492799999999999,0.027200000000000557,-4.204799999999999,-1.5427999999999962,3.8572000000000024,-4.123799999999999,-2.861799999999999,-1.1067999999999962,-4.726799999999997,-1.9386999999999979,null,-1.0238000000000014,-3.230800000000002,-1.3278000000000034,3.1522000000000006,-1.0488,-3.7118000000000038,-0.4397999999999982,-1.8318000000000012,-35.4318,3.336199999999998,-4.155800000000001,null,-0.3,-0.3,-0.3,-0.3,-0.3,0.7,-0.3,-0.3,-0.3,-0.3,-0.2,null,-0.9,-0.9,1.1,0.09999999999999998,-0.9,0.09999999999999998,0.09999999999999998,-0.9,1.1,-0.9,-0.19999999999999996,null,"M",25,"F"]
["DST102",-2.3280999999999974,-1.8720999999999979,-1.423099999999998,-2.553099999999997,-2.439099999999998,-1.9280999999999988,-2.7680999999999987,-2.9290999999999983,-1.8480999999999987,-2.8160999999999987,-2.2904999999999984,null,-7.153199999999998,-7.545199999999998,-0.8151999999999973,-4.577199999999998,-4.9132,-1.5761999999999965,-4.377199999999998,-3.4091999999999985,-1.7121999999999993,-3.4171999999999976,-3.949599999999998,null,0,0,0,0,0,0,0,0,0,0,0,null,-0.3,-0.3,1.7,1.7,-0.3,-0.3,-0.3,0.7,0.7,-0.3,0.3,null,"F",18,"F"]
["DT101",-7.192299999999996,-7.960299999999997,-10.936299999999997,-10.720299999999996,-12.168299999999997,-9.896299999999997,-11.817299999999996,-10.855299999999996,-9.632299999999997,-7.871299999999998,-9.904999999999998,null,-2.9343000000000004,-2.581299999999999,-0.16529999999999845,-0.15729999999999933,-2.5333000000000006,-1.9492999999999974,-3.429299999999998,-2.6843000000000004,-3.2133000000000003,-2.621299999999998,-2.226899999999999,null,0,0,0,0,0,0,0,0,0,0,0,null,1.1,1.1,1.1,0.09999999999999998,-0.9,0.09999999999999998,-0.9,1.1,-0.9,-0.9,0.10000000000000009,null,"M",22,"F"]
["DZ101",-1.3687000000000022,-1.7437000000000022,-1.2077000000000027,1.3032999999999966,3.9762999999999984,4.751299999999997,3.5112999999999985,3.5192999999999977,5.103299999999997,5.031299999999998,2.2875999999999976,null,-2.1100000000000065,-3.896000000000008,0.44899999999999096,-1.4080000000000084,0.9849999999999923,2.776999999999994,1.5609999999999928,-2.718000000000007,-1.9760000000000062,-0.8960000000000079,-0.7232000000000074,null,0,0,0,0,0,0,0,0,0,0,0,null,0.7,-0.3,0.7,-0.3,1.7,-0.3,-0.3,0.7,-0.3,-0.3,0.20000000000000004,null,"F",25.6,"F"]
["EC101",-5.084900000000001,-7.3408999999999995,-5.0609,-7.3729,-7.036899999999999,-5.876899999999999,-5.602899999999998,-6.228899999999999,-6.668899999999999,-7.9779,-6.425199999999999,null,-1.279200000000003,-0.9032000000000018,-2.6472000000000016,2.2407999999999966,1.1767999999999965,0.9037999999999968,2.472799999999996,2.5127999999999986,-0.10320000000000462,2.0487999999999964,0.642299999999997,null,-0.1,-0.1,-0.1,-0.1,-0.1,-0.1,-0.1,-0.1,-0.1,-0.1,-0.09999999999999999,null,-0.5,1.5,1.5,-0.5,-0.5,-0.5,-0.5,-0.5,-0.5,0.5,0,null,"M",20,"F"]
["EF101",-0.9801999999999964,-2.5891999999999964,-1.370199999999997,-1.9011999999999958,-0.9231999999999978,-0.08219999999999672,-0.26519999999999655,-1.633199999999995,-1.1641999999999975,-3.133199999999997,-1.4041999999999966,null,-1.1101999999999919,-1.760199999999994,-1.4241999999999955,2.9048000000000087,-0.6561999999999912,-0.9191999999999965,-1.9201999999999941,-2.175199999999993,-0.23219999999999175,-5.604199999999995,-1.2896999999999934,null,0,0,0,0,0,0,0,0,0,0,0,null,1.5,0.5,-0.5,-0.5,-0.5,-0.5,-0.5,0.5,-0.5,-0.5,-0.1,null,"F",21,"F"]
["EJ101",-3.2192000000000007,-2.3622000000000014,-3.6982000000000035,-4.154200000000003,-3.9542,-4.923200000000001,-2.4912000000000027,-3.282200000000003,-2.8342000000000027,-3.2982000000000014,-3.421700000000002,null,-6.55650000000001,-7.744500000000013,-2.7265000000000086,-4.398500000000013,-4.75950000000001,-5.109500000000011,-5.926500000000011,-5.369500000000013,-3.383500000000012,-7.278500000000012,-5.325300000000011,null,-0.1,-0.1,-0.1,-0.1,-0.1,-0.1,-0.1,-0.1,-0.1,-0.1,-0.09999999999999999,null,0.7,-0.3,0.7,0.7,0.7,-0.3,-0.3,-0.3,-0.3,-0.3,0.1,null,"F",29,"F"]
["ER101",-0.786999999999999,-0.5,0.16500000000000092,-0.0600000000000005,-0.03599999999999959,-0.3550000000000004,0.1490000000000009,-0.4989999999999988,0.06799999999999962,0.005000000000000782,-0.1849999999999996,null,-2.1237000000000066,-1.6347000000000058,-0.7547000000000033,-0.37070000000000647,-4.274700000000006,0.3482999999999947,-1.179700000000004,4.204299999999996,-0.8677000000000064,-2.6517000000000053,-0.9305000000000053,null,0,0,0,0,0,0,0,1,0,0,0.1,null,-0.2,-0.2,1.8,0.8,-0.2,-0.2,-0.2,0.8,1.8,-0.2,0.4,null,"F",27,"F"]
["FA101",-1.729499999999998,-3.426499999999997,-1.753499999999999,-0.4734999999999978,-1.4504999999999981,-2.3215000000000003,-0.729499999999998,-0.8004999999999995,-1.0254999999999974,-1.6574999999999989,-1.5367999999999984,null,-2.4239000000000033,-3.9829000000000008,-1.2159000000000013,-1.9679000000000038,-0.17590000000000217,-0.5279000000000025,-2.8079000000000036,0.48809999999999576,0.04809999999999803,-0.255900000000004,-1.2822000000000027,null,0,0,0,0,0,0,0,0,0,0,0,null,-0.6,-0.6,-0.6,1.4,-0.6,0.4,-0.6,0.4,-0.6,-0.6,-0.19999999999999996,null,"M",23,"F"]
["GH101",-1.3744999999999976,-1.827499999999997,-2.4064999999999976,-2.516499999999997,-3.2064999999999984,-2.790499999999998,-2.3904999999999976,-3.8154999999999983,-3.2464999999999975,-3.4134999999999973,-2.6987999999999976,null,-6.769399999999997,-7.706399999999995,-3.7933999999999983,-2.6494,-0.2744,2.462600000000002,3.5746000000000038,-0.7053999999999974,-1.8263999999999996,-3.882399999999997,-2.156999999999998,null,0,0,0,0,0,0,0,0,0,0,0,null,-0.7,-0.7,-0.7,1.3,1.3,-0.7,1.3,1.3,1.3,-0.7,0.3,null,"M",20,"F"]
["GS101",-1.1723,-0.4842999999999993,-0.805299999999999,0.16469999999999985,-1.4612999999999996,-0.4853000000000005,-0.7073,-1.2933000000000003,-1.228299999999999,-0.5243000000000002,-0.7996999999999999,null,-2.7923999999999936,5.424600000000005,-4.08039999999999,-6.969399999999993,-3.2963999999999913,-2.6873999999999896,-8.64439999999999,3.67260000000001,-6.729399999999991,-1.456399999999995,-2.755899999999992,null,0,0,0,0,0,0,0,0,0,0,0,null,-0.1,-0.1,-0.1,-0.1,-0.1,-0.1,-0.1,-0.1,-0.1,-0.1,-0.09999999999999999,null,"M",25,"F"]
["HR101",1.9023000000000003,-0.7387000000000015,-0.31569999999999965,-4.226700000000001,-3.8747000000000007,-3.0357000000000003,-3.7226999999999997,-3.0756999999999994,-3.1556999999999995,1.9963000000000015,-1.8247,null,-6.065199999999997,1.7408000000000001,-3.472200000000001,-3.863199999999999,-5.785199999999996,-4.745199999999997,-0.6411999999999978,-2.4161999999999964,-6.2012,-5.281199999999998,-3.6729999999999983,null,0,0,0,0,0,0,0,0,0,0,0,null,0.5,-0.5,-0.5,0.5,-0.5,-0.5,-0.5,0.5,-0.5,-0.5,-0.2,null,"F",25,"F"]
["IG101",-3.355699999999999,-2.3366999999999987,-1.8566999999999982,-1.8246999999999982,-2.3606999999999996,-2.4906999999999986,-2.0806999999999984,-3.4506999999999994,-2.608699999999999,-1.2166999999999994,-2.358199999999999,null,-8.418799999999994,-8.578799999999994,-5.9687999999999946,-9.337799999999994,-8.705799999999996,-7.114799999999995,-9.416799999999995,-11.055799999999994,-4.413799999999995,-5.0667999999999935,-7.807799999999995,null,0,0,0,0,0,0,0,0,0,0,0,null,-0.7,-0.7,0.30000000000000004,-0.7,0.30000000000000004,-0.7,-0.7,-0.7,-0.7,-0.7,-0.5,null,"F",19.53,"F"]
["IOD101",-0.20039999999999836,-2.0333999999999968,-0.6423999999999985,-2.066399999999998,-1.5063999999999957,-3.994399999999999,-1.0523999999999987,-2.747399999999999,-2.842399999999998,-3.4263999999999974,-2.051199999999998,null,-5.4072,-6.0242,-4.7592,-4.215199999999999,-2.7912,-7.2392,-5.655200000000001,0.7528000000000006,1.9127999999999972,-0.39920000000000044,-3.3825000000000003,null,0,0,0,0,0,0,0,0,0,0,0,null,-1.3,-1.3,-1.3,-0.30000000000000004,0.7,-1.3,-0.30000000000000004,1.7,1.7,0.7,-0.09999999999999995,null,"F",21,"F"]
["JB101",-1.7490999999999985,-1.3650999999999982,1.017900000000001,-1.3581000000000003,-2.046099999999999,-0.4850999999999992,0.07489999999999952,-1.9741,-1.9490999999999996,-2.0770999999999997,-1.1910999999999994,null,-3.098399999999998,-1.7003999999999948,1.2916000000000025,1.867600000000003,-1.980399999999996,-1.2283999999999935,1.0276000000000067,0.195600000000006,4.452600000000004,4.6766000000000005,0.550400000000004,null,0,0,0,0,0,0,0,0,0,0,0,null,-0.8,-0.8,-0.8,1.2,-0.8,2.2,1.2,0.19999999999999996,0.19999999999999996,1.2,0.29999999999999993,null,"F",19,"F"]
["JC102",0.49409999999999954,-0.8739000000000008,-2.113900000000001,-1.2969000000000008,-1.2429000000000006,-1.2109000000000005,-2.246900000000002,0.2940999999999985,-1.5459000000000014,-0.34690000000000154,-1.009000000000001,null,-3.4322999999999944,-1.7532999999999959,-3.2802999999999933,-3.360299999999995,-2.016299999999994,-3.9612999999999943,-5.160299999999996,-5.888299999999994,-5.120299999999993,-0.28829999999999245,-3.4260999999999937,null,-0.4,-0.4,-0.4,-0.4,-0.4,-0.4,-0.4,-0.4,-0.4,-0.4,-0.39999999999999997,null,0.4,1.4,-0.6,-0.6,0.4,-0.6,-0.6,-0.6,-0.6,1.4,0,null,"F",24,"F"]
["JD101",-3.2691999999999943,-4.116199999999996,-3.0921999999999947,-4.1961999999999975,-1.7701999999999956,-3.572199999999995,-3.9081999999999972,-3.907199999999996,-5.651199999999996,-4.819199999999995,-3.8301999999999956,null,-3.144300000000001,-1.6163000000000025,-0.8083000000000027,-2.287300000000002,-1.288300000000003,-2.383300000000002,-3.344300000000004,-2.9203000000000046,-3.7363000000000035,1.1366999999999976,-2.039200000000003,null,0,0,0,0,0,0,1,0,0,0,0.1,null,-0.2,-0.2,-0.2,-0.2,-0.2,-0.2,-0.2,-0.2,-0.2,0.8,-0.09999999999999998,null,"M",29,"F"]
["JM101",-2.281200000000002,-2.5542000000000016,-2.811200000000003,-1.8512000000000022,-1.4872000000000014,-3.162200000000002,-0.6822000000000017,-2.066200000000002,-2.066200000000002,-2.4742000000000033,-2.143600000000002,null,-1.0425000000000004,-5.6525,-4.984500000000001,-3.730500000000003,-0.9905000000000008,0.16249999999999787,-3.146500000000003,0.1454999999999984,-0.9555000000000007,-4.080500000000001,-2.427500000000001,null,-0.1,-0.1,-0.1,-0.1,-0.1,-0.1,-0.1,-0.1,-0.1,-0.1,-0.09999999999999999,null,-0.4,-0.4,-0.4,-0.4,-0.4,-0.4,-0.4,0.6,-0.4,0.6,-0.19999999999999996,null,"F",25,"F"]
["JP101",-1.0299999999999994,-1.302999999999999,-2.134999999999998,-1.2619999999999987,-2.677999999999999,-2.4319999999999986,-2.1499999999999986,-2.804999999999998,-2.8019999999999996,-3.0409999999999986,-2.1637999999999984,null,-7.080500000000001,-10.444500000000005,-7.560500000000005,-1.407500000000006,-5.087500000000006,2.6084999999999994,-9.616500000000002,-1.7125000000000057,-0.4475000000000051,-12.343500000000006,-5.309200000000004,null,0,0,0,0,0,0,0,0,0,0,0,null,-0.3,-0.3,-0.3,-0.3,-0.3,-0.3,-0.3,0.7,-0.3,-0.3,-0.2,null,"F",37,"F"]
["JS102",-1.7512999999999987,1.5927000000000007,-0.18029999999999902,-0.07529999999999859,-0.7863000000000007,-2.0503,0.5976999999999997,0.6857000000000006,-4.2273,-4.0512999999999995,-1.0245999999999995,null,-3.960000000000001,-5.559000000000001,-3.6400000000000006,-4.018000000000001,-6.327000000000002,-4.368000000000002,-5.536000000000001,-5.388000000000002,-4.255000000000003,0.9929999999999986,-4.205800000000001,null,0,0,0,0,0,0,0,0,0,0,0,null,-0.5,-0.5,-0.5,-0.5,-0.5,-0.5,-0.5,-0.5,-0.5,0.5,-0.4,null,"M",20,"F"]
["KP101",-2.889300000000002,-3.8373000000000026,-3.2413000000000025,-3.0333000000000006,-3.2173000000000016,-3.984300000000001,-3.6173,-4.392300000000002,-2.3613,-2.6403000000000034,-3.3214000000000015,null,-2.7816000000000045,-3.3256000000000014,-2.0046000000000035,4.9313999999999965,-0.9416000000000011,8.683399999999999,-0.1566000000000045,3.2023999999999972,1.0753999999999948,-4.932600000000001,0.37499999999999717,null,-0.2,-0.2,-0.2,-0.2,-0.2,-0.2,-0.2,0.8,-0.2,-0.2,-0.09999999999999998,null,0.6,0.6,-0.4,1.6,-0.4,-0.4,-0.4,-0.4,0.6,-0.4,0.1,null,"M",24,"F"]
["LB101",-0.9487999999999985,-2.7227999999999994,0.2181999999999995,-1.046800000000001,-1.982800000000001,-1.671800000000001,-2.5107999999999997,-3.5578000000000003,-1.5747999999999998,-2.8718000000000004,-1.8670000000000002,null,-6.980199999999996,-6.109199999999998,5.827800000000003,-5.116199999999999,-5.965199999999996,-1.8441999999999972,-4.682199999999998,-3.724199999999996,-1.181199999999997,-3.0041999999999973,-3.2778999999999967,null,0,0,0,0,0,0,0,0,0,0,0,null,-0.6,1.4,3.4,-0.6,-0.6,0.4,-0.6,0.4,-0.6,-0.6,0.19999999999999996,null,"M",24,"F"]
["LT101",-8.5149,-7.432900000000002,-7.831900000000001,-8.977900000000002,-9.858900000000002,-8.265900000000002,-9.064900000000002,-8.025900000000002,-9.318900000000001,-9.648900000000001,-8.694100000000002,null,0.30860000000000554,-2.2603999999999935,2.955600000000004,-5.540399999999995,-0.6203999999999965,3.0866000000000042,3.8366000000000042,0.49260000000000304,0.9326000000000079,5.268600000000006,0.8460000000000051,null,0,0,0,0,0,0,0,0,0,0,0,null,1.1,-0.9,-0.9,-0.9,-0.9,-0.9,-0.9,1.1,-0.9,-0.9,-0.5,null,"F",22,"F"]
["MD101",-5.166400000000003,-5.189400000000003,-6.596400000000003,-5.726400000000002,-6.5014,-2.269400000000001,-4.3504000000000005,-5.790400000000002,-7.702400000000001,-7.366400000000002,-5.665900000000001,null,-4.354599999999998,-5.7806,-5.368600000000001,-6.618600000000001,-4.755599999999998,-4.897600000000001,-2.4756,-3.6525999999999996,-3.3065999999999995,-4.9705999999999975,-4.618099999999999,null,0,0,0,0,0,0,0,0,0,0,0,null,2.4,0.4,0.4,-0.6,-0.6,1.4,1.4,2.4,0.4,0.4,0.8,null,"M ",29,"F"]
["MK101",-0.4549999999999983,-1.3049999999999997,-0.5309999999999988,-2.488999999999999,-1.1289999999999978,-2.2639999999999993,-1.320999999999998,-2.7279999999999998,-1,-1,-1.422199999999999,null,-4.384599999999999,-8.120599999999996,-8.816599999999994,-6.431599999999996,-3.279599999999995,-7.232599999999998,-8.359599999999993,-7.623599999999996,-9.280599999999993,-9.380599999999994,-7.290999999999995,null,-0.4,-0.4,-0.4,-0.4,-0.4,-0.4,-0.4,-0.4,-0.4,-0.4,-0.39999999999999997,null,-0.2,-0.2,-0.2,-0.2,0.8,-0.2,-0.2,-0.2,-0.2,0.8,0,null,"F",31,"F"]
["MT101",-4.4894,-7.417400000000001,-8.6384,-10.7104,-9.799400000000002,-9.0304,-9.918400000000002,-10.671400000000002,-10.551400000000001,-10.110400000000002,-9.133700000000001,null,-1.3780999999999999,2.1819000000000024,-0.8430999999999997,0.655899999999999,-3.057100000000002,-0.9390999999999998,-1.8340999999999994,-4.770099999999999,-3.2021000000000015,-3.2021000000000015,-1.6388000000000003,null,0,0,0,0,0,0,0,0,0,0,0,null,-1,-1,-1,-1,0,-1,-1,0,0,-1,-0.7,null,"F",22,"F"]
["NV101",-0.6401999999999965,-1.0551999999999957,-1.3841999999999963,-1.1601999999999961,-1.7711999999999968,-2.032199999999998,-1.1311999999999962,-1.543199999999997,-2.1751999999999967,-2.3211999999999975,-1.5213999999999968,null,-1.3780999999999999,2.1819000000000024,-0.8430999999999997,0.655899999999999,-3.057100000000002,-0.9390999999999998,-1.8340999999999994,-4.770099999999999,-3.2021000000000015,-3.2021000000000015,-1.6388000000000003,null,0,0,0,0,0,0,0,0,0,0,0,null,-1,-1,-1,-1,0,-1,-1,0,0,-1,-0.7,null,"F",24,"F"]
["OA101",-0.1556000000000033,-1.1956000000000024,-1.2996000000000016,-0.4846000000000039,-0.1656000000000013,-1.9146000000000036,-0.5476000000000028,-1.2036000000000016,-0.8996000000000031,-2.492600000000003,-1.0359000000000027,null,-1.7780999999999985,-0.891099999999998,-2.356099999999998,-3.8050999999999995,-1.6800999999999995,3.8119000000000014,-1.043099999999999,-3.9000999999999983,-2.949099999999998,-4.236099999999997,-1.8826999999999985,null,0,0,0,0,0,0,0,0,0,0,0,null,-0.2,-0.2,-0.2,-0.2,0.8,0.8,-0.2,-0.2,-0.2,-0.2,0,null,"M",25,"F"]
["OB101",2.0431000000000026,-0.6848999999999954,-3.268899999999995,-6.197899999999997,-4.7488999999999955,-5.348899999999997,-1.2438999999999965,-5.685899999999997,-4.884899999999995,-6.045899999999996,-3.6066999999999965,null,-1.6026000000000096,-10.177600000000005,-14.338600000000007,-11.259600000000006,-11.651600000000009,-13.787600000000005,-8.37960000000001,-14.43460000000001,-10.62660000000001,-20.109600000000007,-11.636800000000008,null,0,0,0,0,0,0,0,0,0,0,0,null,-0.6,-0.6,-0.6,-0.6,-0.6,-0.6,-0.6,0.4,-0.6,-0.6,-0.5,null,"F",30.26,"F"]
["RT101",-3.909099999999995,-5.149099999999997,-6.125099999999996,-6.276099999999996,-6.469099999999997,-6.388099999999998,-5.3150999999999975,-5.122099999999996,-4.989099999999997,-7.1290999999999976,-5.687199999999997,null,-10.557900000000004,-6.884900000000002,-3.8429,-1.9939000000000036,-2.009900000000002,-4.5079000000000065,1.4950999999999937,-5.058900000000001,-4.2509000000000015,1.5670999999999964,-3.604500000000003,null,0,0,0,0,0,0,0,0,0,0,0,null,-1.5,-0.5,-1.5,0.5,-1.5,0.5,0.5,-1.5,-1.5,0.5,-0.6,null,"F",23,"F"]
["SAV101",-1.6829999999999998,-2.2720000000000002,-0.06400000000000006,-2.5060000000000002,-2.901,-3.235999999999999,-2.885,-2.9349999999999987,-2.1519999999999992,-2.9209999999999994,-2.3555,null,-5.523899999999998,-1.1788999999999987,-3.8718999999999966,-5.914899999999999,-4.507899999999999,-3.2758999999999965,1.004100000000001,-2.5158999999999985,-3.5548999999999964,-3.4678999999999967,-3.280799999999998,null,0,0,0,0,0,0,0,0,0,0,0,null,0,0,0,0,0,0,1,0,0,0,0.1,null,"M",20,"F"]
["SGJ101",-1.742099999999997,-1.231099999999996,-0.8630999999999975,-0.8780999999999963,-1.6530999999999967,-1.319099999999997,-1.9200999999999961,-0.6790999999999965,-2.1730999999999963,-1.8390999999999966,-1.4297999999999966,null,-5.0517,-0.19069999999999965,-5.273700000000002,-2.0147000000000013,-1.2937000000000012,-1.861699999999999,0.29529999999999745,5.2342999999999975,-4.154700000000002,3.762299999999996,-1.0549000000000013,null,-0.3,-0.3,0.7,-0.3,-0.3,-0.3,-0.3,-0.3,-0.3,-0.3,-0.2,null,-1,1,-1,-1,-1,-1,-1,0,-1,0,-0.6,null,"F",26,"F"]
["SK101",-1.8535000000000004,-0.01950000000000074,-4.072500000000002,-6.186500000000002,-4.693500000000002,-5.528500000000001,-4.761500000000002,-4.091500000000002,-5.779500000000002,-6.501500000000002,-4.348800000000001,null,-2.845799999999997,-1.4027999999999992,2.8762000000000008,-1.0377999999999972,-1.5077999999999996,1.659200000000002,-0.19679999999999964,-2.774799999999999,-1.2627999999999986,-3.0357999999999983,-0.9528999999999985,null,-0.3,-0.3,-0.3,-0.3,-0.3,-0.3,-0.3,-0.3,-0.3,-0.3,-0.29999999999999993,null,-0.7,0.30000000000000004,0.30000000000000004,-0.7,-0.7,0.30000000000000004,1.3,-0.7,-0.7,-0.7,-0.19999999999999996,null,"M",23,"F"]
["SR101",0.12560000000000038,-0.06739999999999924,-1.0593999999999983,-1.723399999999998,-1.3213999999999988,-1.675399999999998,-2.1153999999999993,-2.6983999999999995,-1.4833999999999996,-2.555399999999999,-1.457399999999999,null,-4.351200000000006,-6.279200000000003,-1.863199999999999,0.7837999999999994,-2.279200000000003,6.5608,8.6648,4.775799999999997,7.3847999999999985,9.360799999999998,2.275799999999998,null,-0.1,-0.1,-0.1,-0.1,-0.1,-0.1,-0.1,-0.1,-0.1,-0.1,-0.09999999999999999,null,1.6,0.6,-0.4,-0.4,-0.4,0.6,0.6,0.6,-0.4,-0.4,0.2000000000000001,null,"F",23,"F"]
["TN101",-0.5418999999999983,-0.06989999999999696,-0.8368999999999964,0.21010000000000417,-0.6778999999999975,-0.9828999999999972,-1.300899999999995,-1.7168999999999954,0.25110000000000454,-1.3338999999999963,-0.6999999999999964,null,-4.023700000000005,-2.6977000000000046,-2.639700000000005,-4.110700000000005,-2.9997000000000043,-5.503700000000006,-1.3987000000000052,-4.015700000000006,-3.198700000000006,-3.791700000000006,-3.438000000000005,null,0,0,0,0,0,0,0,0,0,0,0,null,0.4,-0.6,0.4,-0.6,-0.6,-0.6,0.4,0.4,0.4,-0.6,-0.09999999999999996,null,"F",21,"F"]
["TN102",-1.348499999999996,-0.6294999999999966,-1.3084999999999969,0.5875000000000021,-0.22849999999999682,-0.8184999999999967,0.3715000000000046,0.33550000000000324,0.48150000000000404,0.20550000000000423,-0.23519999999999647,null,-3.0340000000000025,2.0349999999999966,-1.5700000000000003,-3.418000000000003,-4.546000000000003,-5.410000000000004,-1.929000000000002,-6.313000000000002,-4.146000000000004,-1.514000000000003,-2.984500000000003,null,0,0,0,0,0,0,0,0,0,0,0,null,-1.2,2.8,-0.19999999999999996,-1.2,-1.2,-1.2,-1.2,-1.2,-1.2,0.8,-0.5000000000000001,null,"F",22,"F"]
["YS101",1.3181999999999992,0.8541999999999987,0.18319999999999936,-1.1458000000000013,-0.9928000000000008,-0.6498000000000008,-0.5768000000000004,0.8621999999999996,-1.0728000000000009,-1.057800000000002,-0.22780000000000095,null,-1.360999999999997,-1.2589999999999968,2.080000000000002,-2.1459999999999972,0.20400000000000063,-2.997,-3.100999999999999,-1.9959999999999987,-3.546999999999997,1.0920000000000023,-1.3030999999999981,null,0,0,0,0,0,0,0,0,0,0,0,null,2.1,1.1,1.1,0.09999999999999998,1.1,1.1,0.09999999999999998,0.09999999999999998,-0.9,1.1,0.6999999999999998,null,"F",22,"F"]
["ZP101",-2.652000000000001,-4.1320000000000014,-2.2040000000000006,-2.532,-3.0120000000000005,-2.4840000000000018,-3.8840000000000003,-1.5160000000000018,-6.084,-7.564,-3.6064000000000007,null,-6.972000000000001,-4.004000000000001,-5.125,-7.588000000000001,-6.277000000000001,-7.475999999999999,-3.8759999999999977,-8.899999999999999,-4.603999999999999,-6.972000000000001,-6.1794,null,0,0,0,0,0,0,0,0,0,0,0,null,-0.3,-0.3,0.7,-0.3,0.7,0.7,0.7,-0.3,-0.3,-0.3,0.09999999999999998,null,"F",19,"F"]

{"sheet":"high BMI","index":15,"n_rows":22,"n_cols":52,"rows_kept":22}
["ID (reds lack HR data)","%change-c-1","%change-c-2","%change-c-3","%change-c-4","%change-c-5","%change-c-6","%change-c-7","%change-c-8","%change-c-9","%change-c-10","%change-c-avg","congruent","%change-i-1","%change-i-2","%change-i-3","%change-i-4","%change-i-5","%change-i-6","%change-i-7","%change-i-8","%change-i-9","%change-i-10","%change-i-avg","incongruent","diff-err-c-1","diff-err-c-2","diff-err-c-3","diff-err-c-4","diff-err-c-5","diff-err-c-6","diff-err-c-7","diff-err-c-8","diff-err-c-9","diff-err-c-10","avg-change-err-c","avg-err-c","diff-err-i-1","diff-err-i-2","diff-err-i-3","diff-err-i-4","diff-err-i-5","diff-err-i-6","diff-err-i-7","diff-err-i-8","diff-err-i-9","diff-err-i-10","avg-change-err-i","avg-err-i","Gender","BMI","ADD"]
["CJ101",-3.3857,-2.4426999999999985,-0.40970000000000084,-1.6906999999999996,-2.906699999999999,-1.2746999999999993,-1.2746999999999993,-3.6506999999999987,-3.3076999999999988,-3.4906999999999986,-2.383399999999999,{"$f":"AVERAGE($L$2:INDEX(L:L,MATCH(9.99999999999999E+307,L:L)))","v":-1.8609999999999995},-8.105999999999998,-4.5269999999999975,2.2880000000000003,1.9660000000000046,0.2870000000000026,-4.959999999999997,2.4229999999999983,-0.1609999999999978,-1.0169999999999995,-1.5769999999999982,-1.3383999999999983,{"$f":"AVERAGE($X$2:INDEX(X:X,MATCH(9.99999999999999E+307,X:X)))","v":-3.5318000000000027},0,0,0,0,0,0,1,0,0,0,0.1,{"$f":"AVERAGE($AJ$2:INDEX(AJ:AJ,MATCH(9.99999999999999E+307,AJ:AJ)))","v":0},-0.5,-0.5,1.5,0.5,1.5,-0.5,0.5,0.5,0.5,-0.5,0.3,{"$f":"AVERAGE($AV$2:INDEX(AV:AV,MATCH(9.99999999999999E+307,AV:AV)))","v":-0.07142857142857141},"M",26.78,"F"]
["CN101",-0.9543000000000035,-0.3533000000000026,-1.6173000000000037,-3.3453000000000035,-2.514300000000002,-3.025300000000003,-2.1293000000000024,-2.5053000000000036,-3.522300000000003,-2.825300000000002,-2.2792000000000026,"stdev",-6.959999999999997,-3.103999999999992,-7.023999999999997,-5.487999999999996,-5.7919999999999945,-6.631999999999994,-8.607999999999997,-6.167999999999996,-6.351999999999997,-8.959999999999997,-6.508799999999996,"stdev",0,0,0,0,0,0,0,0,0,0,0,"stdev",-0.6000000000000001,0.3999999999999999,-1.6,0.3999999999999999,0.3999999999999999,0.3999999999999999,-1.6,-1.6,-1.6,-1.6,-0.7,"stdev","F",32,"T"]
["JF101",-1.8835999999999977,-1.5715999999999983,-0.714599999999999,-1.1785999999999994,-0.6575999999999986,-0.7485999999999979,-0.8665999999999983,-0.9945999999999984,0.27640000000000065,-1.1645999999999983,-0.9503999999999986,{"$f":"STDEV($L$2:INDEX(L:L,MATCH(9.99999999999999E+307,L:L)))","v":1.6798806070670615},-7.018299999999996,-3.985299999999995,-5.633299999999998,-1.9242999999999952,-3.5162999999999975,-2.969299999999997,-3.4502999999999986,-3.5782999999999987,-3.9762999999999984,-3.3372999999999955,-3.9388999999999967,{"$f":"STDEV($X$2:INDEX(X:X,MATCH(9.99999999999999E+307,X:X)))","v":2.8882368976591923},0,0,0,0,0,0,0,0,1,0,0.1,{"$f":"STDEV($AJ$2:INDEX(AJ:AJ,MATCH(9.99999999999999E+307,AJ:AJ)))","v":0.14832396974191325},-0.4,0.6,-0.4,1.6,-0.4,0.6,0.6,-0.4,-0.4,0.6,0.2,{"$f":"STDEV($AV$2:INDEX(AV:AV,MATCH(9.99999999999999E+307,AV:AV)))","v":0.3976717957598416},"M",30,"T"]
["JR101",-1.394400000000001,-0.6723999999999997,-2.157399999999999,-2.234400000000001,-1.522400000000001,-1.0733999999999995,-2.516400000000001,-1.0084000000000017,-2.2444000000000024,-1.958400000000001,-1.6782000000000008,"n",-4.328300000000006,-3.9573000000000036,1.4527,-0.5973000000000042,2.2956999999999965,-3.7073000000000036,-2.9893,-4.7093000000000025,-5.092300000000002,-5.543300000000002,-2.7176000000000027,"n",0.9,0.9,-0.1,-0.1,0.9,-0.1,-0.1,-0.1,-0.1,-0.1,0.19999999999999996,"n",0.5,1.5,1.5,-0.5,-0.5,-0.5,-0.5,-0.5,-0.5,0.5,0.1,"n","F",27,"F"]
["SW101",0.085700000000001,1.1727000000000007,0.04370000000000118,0.4347000000000012,0.32470000000000176,0.43670000000000186,0.9957000000000011,0.21270000000000167,0.6117000000000008,1.322700000000001,0.5641000000000013,{"$f":"COUNT($L$2:INDEX(L:L,MATCH(9.99999999999999E+307,L:L)))","v":21},-8.791100000000007,-7.079100000000004,-5.438100000000006,-5.791100000000007,-5.663100000000007,-5.639100000000006,-4.837100000000007,-5.775100000000002,-8.583100000000002,-8.640100000000004,-6.623700000000005,{"$f":"COUNT($X$2:INDEX(X:X,MATCH(9.99999999999999E+307,X:X)))","v":21},0,0,0,0,0,0,0,0,0,0,0,{"$f":"COUNT($AJ$2:INDEX(AJ:AJ,MATCH(9.99999999999999E+307,AJ:AJ)))","v":21},-1.1,-0.10000000000000009,-0.10000000000000009,-1.1,-1.1,-0.10000000000000009,-1.1,0.8999999999999999,-1.1,-1.1,-0.6000000000000002,{"$f":"COUNT($AV$2:INDEX(AV:AV,MATCH(9.99999999999999E+307,AV:AV)))","v":21},"F",28,"F"]
["TB101",0.44620000000000104,0.026199999999999335,-2.0097999999999985,-1.8817999999999984,-1.7147999999999985,-1.8747999999999987,-2.0337999999999994,-1.162799999999999,-2.7787999999999986,-2.386799999999999,-1.537099999999999,"se",-2.351800000000001,1.4962000000000018,1.4322000000000017,-2.471799999999998,-1.0648000000000017,-3.1128,0.11220000000000141,-1.0797999999999988,1.9202000000000012,-1.3277999999999999,-0.6447999999999994,"se",-0.2,0.8,0.8,-0.2,-0.2,-0.2,0.8,-0.2,0.8,0.8,0.3,"se",2.2,0.19999999999999996,0.19999999999999996,-0.8,1.2,-0.8,0.19999999999999996,0.19999999999999996,1.2,-0.8,0.3000000000000001,"se","F",31,"F"]
["AA101",-1.5685000000000002,-2.0395000000000003,-2.576500000000001,-2.384500000000001,-1.8955000000000002,-4.0075,-2.4235000000000007,-3.0555000000000003,-3.1275000000000013,-2.7125000000000004,-2.5791000000000013,"se",-4.796399999999998,-2.2683999999999997,-5.724399999999999,-3.6354000000000006,-2.9883999999999986,-3.6433999999999997,-2.7643999999999984,-4.659399999999998,-3.883399999999998,-2.180399999999999,-3.654399999999999,"se",0,0,0,0,0,0,0,0,0,0,0,"se",-0.7,-0.7,-0.7,-0.7,1.3,-0.7,-0.7,1.3,1.3,-0.7,-0.09999999999999994,null,"M",26,"F"]
["AP102",-1.7439999999999998,-1.2950000000000017,-1.3999999999999986,-2.3919999999999995,-1.9170000000000016,-1.5919999999999987,-1.4170000000000016,-1.7040000000000006,1.3679999999999986,0.4089999999999989,-1.1684000000000005,{"$f":"M4/SQRT(M6)","v":0.3665800019225323},1.257799999999996,-2.2682000000000038,-4.447200000000006,-4.484200000000005,-0.6982000000000035,0.7697999999999965,0.9597999999999942,-1.4122000000000057,-2.5102000000000046,0.14179999999999637,-1.2691000000000046,{"$f":"Y4/SQRT(Y6)","v":0.6302649623089368},-0.2,-0.2,-0.2,-0.2,-0.2,-0.2,-0.2,-0.2,-0.2,-0.2,-0.19999999999999998,{"$f":"AK4/SQRT(AK6)","v":0.03236694374850748},-0.1,-0.1,-0.1,-0.1,-0.1,-0.1,-0.1,-0.1,-0.1,-0.1,-0.09999999999999999,{"$f":"AW4/SQRT(AW6)","v":0.08677910027707109},"F",26,"F"]
["DS101",0.6668000000000003,-0.23719999999999963,-0.029200000000001225,0.03479999999999883,-0.9972000000000012,-1.5852000000000004,-0.3412000000000006,-1.5732,-1.5031999999999996,-1.5172000000000008,-0.7082000000000004,"change ex- nonex",0.806599999999996,5.107599999999998,2.5505999999999958,2.087599999999995,-1.9784000000000006,-2.1704000000000008,-1.794400000000003,0.5475999999999956,-0.5924000000000049,1.0545999999999935,0.5618999999999964,"change ex- nonex",-0.2,-0.2,-0.2,-0.2,-0.2,2.8,-0.2,-0.2,-0.2,-0.2,0.1,"change ex- nonex",-0.3,0.7,-0.3,-0.3,-0.3,-0.3,-0.3,-0.3,0.7,0.7,0,"change ex- nonex","F",28,"T"]
["DZ101",-1.3687000000000022,-1.7437000000000022,-1.2077000000000027,1.3032999999999966,3.9762999999999984,4.751299999999997,3.5112999999999985,3.5192999999999977,5.103299999999997,5.031299999999998,2.2875999999999976,{"$f":"AVERAGE($L$2:INDEX(L:L,MATCH(9.99999999999999E+307,L:L)))-'high BMI-nonex'!M2","v":-0.24676176470588174},-2.1100000000000065,-3.896000000000008,0.44899999999999096,-1.4080000000000084,0.9849999999999923,2.776999999999994,1.5609999999999928,-2.718000000000007,-1.9760000000000062,-0.8960000000000079,-0.7232000000000074,{"$f":"AVERAGE($X$2:INDEX(X:X,MATCH(9.99999999999999E+307,X:X)))-'high BMI-nonex'!Y2","v":-0.5699205882352958},0,0,0,0,0,0,0,0,0,0,0,{"$f":"AVERAGE($AJ$2:INDEX(AJ:AJ,MATCH(9.99999999999999E+307,AJ:AJ)))-'high BMI-nonex'!AK2","v":-0.002941176470588235},0.7,-0.3,0.7,-0.3,1.7,-0.3,-0.3,0.7,-0.3,-0.3,0.20000000000000004,{"$f":"AVERAGE($AV$2:INDEX(AV:AV,MATCH(9.99999999999999E+307,AV:AV)))-'high BMI-nonex'!AW2","v":-0.04348739495798319},"F",25.6,"F"]
["EJ101",-3.2192000000000007,-2.3622000000000014,-3.6982000000000035,-4.154200000000003,-3.9542,-4.923200000000001,-2.4912000000000027,-3.282200000000003,-2.8342000000000027,-3.2982000000000014,-3.421700000000002,"se of ex and non ex",-6.55650000000001,-7.744500000000013,-2.7265000000000086,-4.398500000000013,-4.75950000000001,-5.109500000000011,-5.926500000000011,-5.369500000000013,-3.383500000000012,-7.278500000000012,-5.325300000000011,"se of ex and non ex",-0.1,-0.1,-0.1,-0.1,-0.1,-0.1,-0.1,-0.1,-0.1,-0.1,-0.09999999999999999,"se of ex and non ex",0.7,-0.3,0.7,0.7,0.7,-0.3,-0.3,-0.3,-0.3,-0.3,0.1,"se of ex and non ex","F",29,"F"]
["ER101",-0.786999999999999,-0.5,0.16500000000000092,-0.0600000000000005,-0.03599999999999959,-0.3550000000000004,0.1490000000000009,-0.4989999999999988,0.06799999999999962,0.005000000000000782,-0.1849999999999996,{"$f":"SQRT(((M4*M4)/M6)+(('high BMI-nonex'!M4*'high BMI-nonex'!M4)/'high BMI-nonex'!M6))","v":0.44380346475897137},-2.1237000000000066,-1.6347000000000058,-0.7547000000000033,-0.37070000000000647,-4.274700000000006,0.3482999999999947,-1.179700000000004,4.204299999999996,-0.8677000000000064,-2.6517000000000053,-0.9305000000000053,{"$f":"SQRT(((Y4*Y4)/Y6)+(('high BMI-nonex'!Y4*'high BMI-nonex'!Y4)/'high BMI-nonex'!Y6))","v":0.7759302411936057},0,0,0,0,0,0,0,1,0,0,0.1,{"$f":"SQRT(((AK4*AK4)/AK6)+(('high BMI-nonex'!AK4*'high BMI-nonex'!AK4)/'high BMI-nonex'!AK6))","v":0.039663630859970454},-0.2,-0.2,1.8,0.8,-0.2,-0.2,-0.2,0.8,1.8,-0.2,0.4,{"$f":"SQRT(((AW4*AW4)/AW6)+(('high BMI-nonex'!AW4*'high BMI-nonex'!AW4)/'high BMI-nonex'!AW6))","v":0.12503494278491425},"F",27,"F"]
["IH101",-1.2464999999999975,-1.0944999999999965,-0.6934999999999967,-1.7014999999999976,-2.5894999999999975,0.6265000000000036,-2.5894999999999975,-2.3174999999999972,-2.3974999999999973,-1.5894999999999975,-1.5592999999999972,"p-value ttest after exercise",-1.6281000000000034,-8.283100000000005,1.6198999999999941,-3.451100000000004,-5.548100000000005,-6.161100000000005,-0.5241000000000042,-6.868100000000005,-3.356100000000005,-1.6111000000000004,-3.581100000000004,"p-value ttest after exercise",0,0,0,0,0,0,0,0,0,0,0,"p-value ttest after exercise",1.6,-0.3999999999999999,1.6,-1.4,-0.3999999999999999,-1.4,-0.3999999999999999,-1.4,-1.4,-0.3999999999999999,-0.3999999999999999,"p-value ttest after exercise","F",33,"T"]
["JD101",-3.2691999999999943,-4.116199999999996,-3.0921999999999947,-4.1961999999999975,-1.7701999999999956,-3.572199999999995,-3.9081999999999972,-3.907199999999996,-5.651199999999996,-4.819199999999995,-3.8301999999999956,{"$f":"TDIST(ABS(M2)/M9, (M6-1),2)","v":5.7641193745032813E-5},-3.144300000000001,-1.6163000000000025,-0.8083000000000027,-2.287300000000002,-1.288300000000003,-2.383300000000002,-3.344300000000004,-2.9203000000000046,-3.7363000000000035,1.1366999999999976,-2.039200000000003,{"$f":"TDIST(ABS(Y2)/Y9, (Y6-1),2)","v":1.7447918269522908E-5},0,0,0,0,0,0,1,0,0,0,0.1,{"$f":"TDIST(ABS(AK2)/AK9, (AK6-1),2)","v":1},-0.2,-0.2,-0.2,-0.2,-0.2,-0.2,-0.2,-0.2,-0.2,0.8,-0.09999999999999998,{"$f":"TDIST(ABS(AW2)/AW9, (AW6-1),2)","v":0.4201532780940884},"M",29,"F"]
["JG101",-3.0424000000000007,-2.6594000000000015,-2.9064000000000014,-2.9154000000000018,-2.8114000000000026,-3.7714,-4.171400000000002,-4.067400000000003,-3.8194000000000017,-3.9074000000000026,-3.407200000000002,"p-value ttest change with exercise vs change with nonex",-3.6259999999999977,-4.683,-2.186,-2.213000000000001,-4.035000000000004,-4.011000000000003,-2.618000000000002,-4.042000000000002,-4.873999999999999,-2.2830000000000013,-3.4571000000000014,"p-value ttest change with exercise vs change with nonex",0,0,0,0,0,0,0,0,0,0,0,"p-value ttest change with exercise vs change with nonex",-0.5,-0.5,-0.5,1.5,0.5,1.5,0.5,-0.5,-1.5,0.5,0.1,"p-value ttest change with exercise vs change with nonex","M",28,"T"]
["JP101",-1.0299999999999994,-1.302999999999999,-2.134999999999998,-1.2619999999999987,-2.677999999999999,-2.4319999999999986,-2.1499999999999986,-2.804999999999998,-2.8019999999999996,-3.0409999999999986,-2.1637999999999984,{"$f":"TTEST(L2:L22,'high BMI-nonex'!L2:L14,2,3)","v":0.1600407028518308},-7.080500000000001,-10.444500000000005,-7.560500000000005,-1.407500000000006,-5.087500000000006,2.6084999999999994,-9.616500000000002,-1.7125000000000057,-0.4475000000000051,-12.343500000000006,-5.309200000000004,{"$f":"TTEST(X2:X22,'high BMI-nonex'!X2:X14,2,3)","v":0.08157214877671609},0,0,0,0,0,0,0,0,0,0,0,{"$f":"TTEST(AJ2:AJ22,'high BMI-nonex'!AJ2:AJ14,2,3)","v":0.8647061988026857},-0.3,-0.3,-0.3,-0.3,-0.3,-0.3,-0.3,0.7,-0.3,-0.3,-0.2,{"$f":"TTEST(AV2:AV22,'high BMI-nonex'!AV2:AV14,2,3)","v":0.5983063292345252},"F",37,"F"]
["MD101",-5.166400000000003,-5.189400000000003,-6.596400000000003,-5.726400000000002,-6.5014,-2.269400000000001,-4.3504000000000005,-5.790400000000002,-7.702400000000001,-7.366400000000002,-5.665900000000001,"high BMI vs normal BMI",-4.354599999999998,-5.7806,-5.368600000000001,-6.618600000000001,-4.755599999999998,-4.897600000000001,-2.4756,-3.6525999999999996,-3.3065999999999995,-4.9705999999999975,-4.618099999999999,"high BMI vs normal BMI",0,0,0,0,0,0,0,0,0,0,0,"high BMI vs normal BMI",2.4,0.4,0.4,-0.6,-0.6,1.4,1.4,2.4,0.4,0.4,0.8,"high BMI vs normal BMI","M ",29,"F"]
["MK101",-0.4549999999999983,-1.3049999999999997,-0.5309999999999988,-2.488999999999999,-1.1289999999999978,-2.2639999999999993,-1.320999999999998,-2.7279999999999998,-1,-1,-1.422199999999999,{"$f":"TTEST(L2:L22,'normal BMI'!L2:L53,2,3)","v":0.16098586812142718},-4.384599999999999,-8.120599999999996,-8.816599999999994,-6.431599999999996,-3.279599999999995,-7.232599999999998,-8.359599999999993,-7.623599999999996,-9.280599999999993,-9.380599999999994,-7.290999999999995,{"$f":"TTEST(X2:X22,'normal BMI'!X2:X53,2,3)","v":0.9656842659562479},-0.4,-0.4,-0.4,-0.4,-0.4,-0.4,-0.4,-0.4,-0.4,-0.4,-0.39999999999999997,{"$f":"TTEST(AJ2:AJ22,'normal BMI'!AJ2:AJ53,2,3)","v":0.8792099340451094},-0.2,-0.2,-0.2,-0.2,0.8,-0.2,-0.2,-0.2,-0.2,0.8,0,{"$f":"TTEST(AV2:AV22,'normal BMI'!AV2:AV53,2,3)","v":0.5325971394962283},"F",31,"F"]
["OB101",2.0431000000000026,-0.6848999999999954,-3.268899999999995,-6.197899999999997,-4.7488999999999955,-5.348899999999997,-1.2438999999999965,-5.685899999999997,-4.884899999999995,-6.045899999999996,-3.6066999999999965,null,-1.6026000000000096,-10.177600000000005,-14.338600000000007,-11.259600000000006,-11.651600000000009,-13.787600000000005,-8.37960000000001,-14.43460000000001,-10.62660000000001,-20.109600000000007,-11.636800000000008,null,0,0,0,0,0,0,0,0,0,0,0,null,-0.6,-0.6,-0.6,-0.6,-0.6,-0.6,-0.6,0.4,-0.6,-0.6,-0.5,null,"F",30.26,"F"]
["RB101",-2.9266000000000005,-1.6305999999999976,-1.8065999999999995,-2.9586000000000006,-1.637599999999999,-3.358599999999999,-2.2866,-2.278600000000001,-2.262599999999999,1.5774000000000008,-1.9568999999999996,null,-3.511000000000003,-2.982000000000003,-1.2860000000000014,-1.3440000000000012,-0.36400000000000077,0.9039999999999999,-1.7590000000000003,-3.215,-3.3160000000000025,-3.803000000000001,-2.0676000000000014,null,-0.1,-0.1,-0.1,-0.1,-0.1,-0.1,-0.1,-0.1,-0.1,-0.1,-0.09999999999999999,null,-0.19999999999999996,-1.2,-0.19999999999999996,-0.19999999999999996,-0.19999999999999996,-0.19999999999999996,-1.2,-1.2,-1.2,-1.2,-0.7,null,"F",28.3,"T"]
["SGJ101",-1.742099999999997,-1.231099999999996,-0.8630999999999975,-0.8780999999999963,-1.6530999999999967,-1.319099999999997,-1.9200999999999961,-0.6790999999999965,-2.1730999999999963,-1.8390999999999966,-1.4297999999999966,null,-5.0517,-0.19069999999999965,-5.273700000000002,-2.0147000000000013,-1.2937000000000012,-1.861699999999999,0.29529999999999745,5.2342999999999975,-4.154700000000002,3.762299999999996,-1.0549000000000013,null,-0.3,-0.3,0.7,-0.3,-0.3,-0.3,-0.3,-0.3,-0.3,-0.3,-0.2,null,-1,1,-1,-1,-1,-1,-1,0,-1,0,-0.6,null,"F",26,"F"]

{"sheet":"normal BMI","index":16,"n_rows":53,"n_cols":52,"rows_kept":53}
["ID (reds lack HR data)","%change-c-1","%change-c-2","%change-c-3","%change-c-4","%change-c-5","%change-c-6","%change-c-7","%change-c-8","%change-c-9","%change-c-10","%change-c-avg","congruent","%change-i-1","%change-i-2","%change-i-3","%change-i-4","%change-i-5","%change-i-6","%change-i-7","%change-i-8","%change-i-9","%change-i-10","%change-i-avg","incongruent","diff-err-c-1","diff-err-c-2","diff-err-c-3","diff-err-c-4","diff-err-c-5","diff-err-c-6","diff-err-c-7","diff-err-c-8","diff-err-c-9","diff-err-c-10","avg-change-err-c","avg-err-c","diff-err-i-1","diff-err-i-2","diff-err-i-3","diff-err-i-4","diff-err-i-5","diff-err-i-6","diff-err-i-7","diff-err-i-8","diff-err-i-9","diff-err-i-10","avg-change-err-i","avg-err-i","Gender","BMI","ADD"]
["AA102",-2.039900000000003,-2.8479000000000028,-2.1959000000000017,-4.177900000000005,-1.8279000000000032,-2.779900000000005,-2.1489000000000047,-1.5709000000000017,-3.291900000000002,-2.8129000000000026,-2.569400000000003,{"$f":"AVERAGE($L$2:INDEX(L:L,MATCH(9.99999999999999E+307,L:L)))","v":-2.57415},-8.203400000000006,-1.867400000000007,-1.8514000000000053,-2.050400000000007,-3.588400000000007,-6.099400000000006,-3.6344000000000065,-5.875400000000006,-0.13740000000000663,2.21459999999999,-3.109300000000007,{"$f":"AVERAGE($X$2:INDEX(X:X,MATCH(9.99999999999999E+307,X:X)))","v":-3.495192307692307},0.9,0.9,-0.1,0.9,-0.1,0.9,0.9,0.9,-0.1,0.9,0.6000000000000001,{"$f":"AVERAGE($AJ$2:INDEX(AJ:AJ,MATCH(9.99999999999999E+307,AJ:AJ)))","v":5.7692307692307765E-3},0.8999999999999999,-1.1,0.8999999999999999,-0.10000000000000009,-0.10000000000000009,-2.1,-2.1,-2.1,-1.1,0.8999999999999999,-0.6,{"$f":"AVERAGE($AV$2:INDEX(AV:AV,MATCH(9.99999999999999E+307,AV:AV)))","v":-1.9230769230769397E-3},"F",21,"F"]
["DD101",0.5299999999999994,-0.8209999999999997,-1.0649999999999995,-1.9290000000000003,-1.3130000000000006,-1.783999999999999,-0.4689999999999994,-0.6349999999999998,-1.472999999999999,-1.6479999999999997,-1.0606999999999998,"stdev",-8.575300000000006,-8.590300000000006,-9.294300000000007,-7.853300000000004,-8.919300000000007,-6.414300000000004,-5.282300000000006,-10.006300000000003,-10.040300000000009,-6.732300000000009,-8.170800000000005,"stdev",0,0,0,0,0,0,0,0,0,0,0,"stdev",-0.10000000000000009,-1.1,-1.1,-0.10000000000000009,-0.10000000000000009,-1.1,-1.1,-0.10000000000000009,-0.10000000000000009,-0.10000000000000009,-0.5,"stdev","M",23,"T"]
["FA102",0.04680000000000106,1.8818000000000001,-0.27119999999999855,0.8298000000000005,-0.20319999999999894,-0.5381999999999998,1.9528000000000016,-0.3581999999999983,0.655800000000001,1.7158000000000015,0.571200000000001,{"$f":"STDEV($L$2:INDEX(L:L,MATCH(9.99999999999999E+307,L:L)))","v":2.4707257852862656},-1.3236999999999988,-1.8176999999999985,0.47630000000000194,1.5702999999999996,0.1363000000000021,-1.4426999999999985,-1.6496999999999993,7.5383,1.3573000000000022,1.5962999999999994,0.644100000000001,{"$f":"STDEV($X$2:INDEX(X:X,MATCH(9.99999999999999E+307,X:X)))","v":4.078407524130081},-0.1,0.9,-0.1,0.9,-0.1,-0.1,-0.1,-0.1,1.9,0.9,0.39999999999999997,{"$f":"STDEV($AJ$2:INDEX(AJ:AJ,MATCH(9.99999999999999E+307,AJ:AJ)))","v":0.1392042673710064},0,-1,2,3,2,2,-1,5,1,3,1.6,{"$f":"STDEV($AV$2:INDEX(AV:AV,MATCH(9.99999999999999E+307,AV:AV)))","v":0.4936817998032878},"F",21,"F"]
["JH102",-1.6064999999999987,-1.9085,-2.2264999999999997,-1.2584999999999997,-2.3765,-2.0924999999999994,-2.0554999999999986,-1.6914999999999996,-2.4274999999999984,-1.4565000000000001,-1.9099999999999995,"n",-1.0425000000000004,-5.6525,-4.984500000000001,-3.730500000000003,-0.9905000000000008,0.16249999999999787,-3.146500000000003,0.1454999999999984,-0.9555000000000007,-4.080500000000001,-2.427500000000001,"n",-0.1,-0.1,-0.1,-0.1,-0.1,-0.1,-0.1,-0.1,-0.1,-0.1,-0.09999999999999999,"n",-0.4,-0.4,-0.4,-0.4,-0.4,-0.4,-0.4,0.6,-0.4,0.6,-0.19999999999999996,"n","F",19,"F"]
["MR101",0.7879000000000005,-1.5320999999999998,-1.653100000000002,-1.6611000000000011,-2.5411,-2.5901000000000014,-2.1981,-3.020100000000001,-2.9261000000000017,-3.3161000000000005,-2.0650000000000004,{"$f":"COUNT($L$2:INDEX(L:L,MATCH(9.99999999999999E+307,L:L)))","v":52},-5.402300000000004,-7.627300000000002,-3.4913000000000025,-0.6433000000000035,-4.6433000000000035,-3.2753000000000014,-3.7253000000000043,-5.068300000000004,-6.163300000000003,-6.9323000000000015,-4.697200000000002,{"$f":"COUNT($X$2:INDEX(X:X,MATCH(9.99999999999999E+307,X:X)))","v":52},0,0,0,0,0,0,0,0,0,0,0,{"$f":"COUNT($AJ$2:INDEX(AJ:AJ,MATCH(9.99999999999999E+307,AJ:AJ)))","v":52},0.7,-0.3,1.7,1.7,1.7,1.7,1.7,-0.3,-0.3,0.7,0.8999999999999998,{"$f":"COUNT($AV$2:INDEX(AV:AV,MATCH(9.99999999999999E+307,AV:AV)))","v":52},"F",22,"F"]
["RS101",-8.411999999999995,-9.364999999999995,-11.238999999999994,-12.287999999999997,-9.646999999999995,-9.617999999999995,-11.752999999999997,-10.605999999999995,-9.601999999999997,-8.347999999999995,-10.087799999999998,"se",2.0245999999999995,-9.3874,-8.9134,-6.692399999999999,-8.9374,-5.9974000000000025,-6.5564,-7.397400000000001,-6.7104,-4.004400000000004,-6.257200000000001,"se",0,0,0,0,0,0,0,0,0,0,0,"se",1.4,0.4,0.4,0.4,-0.6,0.4,-0.6,-0.6,0.4,2.4,0.3999999999999999,"se","F",25,"F"]
["SN102",0.061599999999998545,-1.6364000000000019,-1.4193999999999996,-3.1244000000000014,-1.708400000000001,-1.8764000000000003,0.0686,0.10060000000000002,-1.6274000000000015,-1.6354000000000006,-1.2797000000000007,"se",2.0245999999999995,-9.3874,-8.9134,-6.692399999999999,-8.9374,-5.9974000000000025,-6.5564,-7.397400000000001,-6.7104,-4.004400000000004,-6.257200000000001,"se",0,0,0,0,0,0,0,0,0,0,0,"se",1.4,0.4,0.4,0.4,-0.6,0.4,-0.6,-0.6,0.4,2.4,0.3999999999999999,"se","F",25,"F"]
["AI101",-1.7362000000000002,-4.246199999999998,-4.254199999999997,-4.372199999999999,-3.668199999999999,-5.222199999999999,-4.406199999999998,-6.062199999999999,-6.557199999999998,-6.013199999999999,-4.653799999999999,{"$f":"M4/SQRT(M6)","v":0.34262801947925625},-0.3783999999999992,-3.124399999999998,-2.0993999999999993,-2.9954,-1.8833999999999982,-2.9483999999999995,-2.124399999999998,-0.8443999999999967,-1.6923999999999992,-2.1793999999999976,-2.0269999999999984,{"$f":"Y4/SQRT(Y6)","v":0.5655733634803517},0,0,0,0,0,0,0,0,0,0,0,{"$f":"AK4/SQRT(AK6)","v":0.01930415860652163},-0.3,0.7,1.7,0.7,1.7,-0.3,-0.3,-0.3,-0.3,0.7,0.4000000000000001,{"$f":"AW4/SQRT(AW6)","v":0.06846134780592701},"F",20,"T"]
["AK101",-1.4898999999999987,-3.0889000000000006,-3.1778999999999993,-3.0558999999999994,-3.642899999999999,-5.1129,-4.0579,-4.4649,-4.4338999999999995,-5.3369,-3.7861999999999996,"change ex- nonex",-3.8750999999999998,-6.591100000000001,-6.466100000000001,-1.5771000000000015,-4.147100000000002,0.3569000000000031,-2.795099999999998,-3.251100000000001,-4.906099999999999,-5.459099999999999,-3.8710999999999998,"change ex- nonex",0,0,0,0,0,0,0,0,0,0,0,"change ex- nonex",-0.2,-0.2,-0.2,-0.2,-0.2,-0.2,-0.2,-0.2,-0.2,-0.2,-0.19999999999999998,"change ex- nonex","F",19,"F"]
["AMP101",-3.3124000000000002,-3.1693999999999996,-2.203400000000002,-2.673400000000001,-4.071400000000001,-3.775400000000001,-3.041400000000003,-3.3933999999999997,-3.4664,-2.993400000000001,-3.210000000000001,{"$f":"AVERAGE($L$2:INDEX(L:L,MATCH(9.99999999999999E+307,L:L)))-'normal BMI-nonex'!M2","v":-0.21762826086956544},-2.6395000000000017,2.296499999999998,-4.7225,-5.9765000000000015,-3.968499999999999,-4.224499999999999,-1.0545000000000009,-1.3374999999999986,-2.8805000000000014,-4.4955,-2.9003000000000005,{"$f":"AVERAGE($X$2:INDEX(X:X,MATCH(9.99999999999999E+307,X:X)))-'normal BMI-nonex'!Y2","v":-0.15139810479375804},0,0,0,0,0,0,0,0,0,0,0,{"$f":"AVERAGE($AJ$2:INDEX(AJ:AJ,MATCH(9.99999999999999E+307,AJ:AJ)))-'normal BMI-nonex'!AK2","v":-7.525083612040101E-4},0,1,0,0,0,0,1,0,0,0,0.2,{"$f":"AVERAGE($AV$2:INDEX(AV:AV,MATCH(9.99999999999999E+307,AV:AV)))-'normal BMI-nonex'!AW2","v":0.01894648829431437},"F",21.97,"F"]
["AP101",-3.669599999999999,0.08040000000000092,-1.7896,1.112400000000001,0.436399999999999,-2.3785999999999987,-0.21359999999999957,-0.8016000000000005,0.34639999999999915,3.6494,-0.3227999999999998,"se of ex and non ex",3.044699999999999,-6.798299999999998,-2.2182999999999993,-5.642299999999999,-3.7882999999999996,-6.927299999999995,-3.412299999999995,-7.564299999999996,-4.0623000000000005,-7.972299999999997,-4.534099999999998,"se of ex and non ex",0,0,0,0,0,0,0,0,0,0,0,"se of ex and non ex",3.7,-0.3,1.7,-0.3,-0.3,-0.3,-0.3,0.7,0.7,0.7,0.6000000000000002,"se of ex and non ex","F",22,"F"]
["AS102",-0.1685000000000052,-2.0815000000000037,-1.2935000000000052,-0.8375000000000021,-1.6105000000000018,-1.425500000000003,-3.329500000000003,-4.260500000000004,-2.659500000000003,-4.300500000000003,-2.1967000000000034,{"$f":"SQRT(((M4*M4)/M6)+(('normal BMI-nonex'!M4*'normal BMI-nonex'!M4)/'normal BMI-nonex'!M6))","v":0.4404956853779398},-3.5245000000000033,-2.9395000000000024,-5.5794999999999995,-3.3644999999999996,-6.1785,-0.5065000000000026,-2.2515,-5.2515,-5.1465,-4.147500000000001,-3.8890000000000007,{"$f":"SQRT(((Y4*Y4)/Y6)+(('normal BMI-nonex'!Y4*'normal BMI-nonex'!Y4)/'normal BMI-nonex'!Y6))","v":0.718224860191902},-0.1,-0.1,-0.1,-0.1,-0.1,-0.1,1.9,-0.1,-0.1,-0.1,0.09999999999999996,{"$f":"SQRT(((AK4*AK4)/AK6)+(('normal BMI-nonex'!AK4*'normal BMI-nonex'!AK4)/'normal BMI-nonex'!AK6))","v":0.024485505345557684},1.5,0.5,-0.5,-0.5,-0.5,1.5,-0.5,-0.5,-0.5,-0.5,0,{"$f":"SQRT(((AW4*AW4)/AW6)+(('normal BMI-nonex'!AW4*'normal BMI-nonex'!AW4)/'normal BMI-nonex'!AW6))","v":0.09013540781214589},"F",22,"F"]
["BH101",-3.137600000000001,-2.093600000000002,-1.7646000000000015,-1.1986000000000008,-3.7066000000000017,-2.574600000000002,-2.8866000000000014,-2.798600000000002,-3.861600000000001,-3.896600000000001,-2.791900000000001,"p-value ttest after exercise",-6.191700000000001,-3.1936999999999998,-4.104700000000001,-2.992700000000003,-4.148700000000002,-3.8277,-3.5427,-3.6357,-3.692700000000002,-3.7947000000000024,-3.9125000000000014,"p-value ttest after exercise",1,0,0,0,0,0,0,0,0,0,0.1,"p-value ttest after exercise",-0.6,0.4,1.4,-0.6,0.4,0.4,1.4,-0.6,-0.6,2.4,0.39999999999999997,"p-value ttest after exercise","F",19,"F"]
["CC101",-2.0967000000000002,-2.7447000000000017,-2.3507000000000016,-2.5927000000000007,-2.508700000000001,-2.1477000000000004,-2.066700000000001,-2.3087000000000018,-0.49370000000000047,-3.518700000000001,-2.2829000000000006,{"$f":"TDIST(ABS(M2)/M9, (M6-1),2)","v":8.443501718072409e-10},-7.575800000000001,-8.582799999999999,-9.0458,-3.599800000000002,-6.837800000000001,-8.5488,-8.837800000000001,-9.358800000000002,-9.462800000000001,-12.023800000000001,-8.3874,{"$f":"TDIST(ABS(Y2)/Y9, (Y6-1),2)","v":1.0707165814915652E-7},0,0,0,0,0,0,0,0,0,0,0,{"$f":"TDIST(ABS(AK2)/AK9, (AK6-1),2)","v":0.7662616907446115},0,-2,0,-2,-1,-2,-2,0,-2,-1,-1.2,{"$f":"TDIST(ABS(AW2)/AW9, (AW6-1),2)","v":0.977700029668185},"F",21,"T"]
["DE101",-2.3866999999999976,-0.7396999999999991,-1.6786999999999992,-0.5946999999999996,-1.7766999999999982,-0.24769999999999825,-2.0427,-2.5626999999999995,-2.7407000000000004,-2.1327,-1.6902999999999992,"p-value ttest change with exercise vs change with nonex",-0.8170999999999964,0.14290000000000447,-3.625099999999996,-5.106099999999998,-6.166099999999997,-2.098099999999995,-4.121099999999998,-5.339099999999995,-2.9780999999999977,-2.4080999999999975,-3.2515999999999963,"p-value ttest change with exercise vs change with nonex",0,0,0,0,0,0,0,0,0,0,0,"p-value ttest change with exercise vs change with nonex",1.6,0.6,-0.4,-0.4,-0.4,-0.4,-0.4,-0.4,-0.4,0.6,0,"p-value ttest change with exercise vs change with nonex","F",25,"T"]
["DI101",-4.084799999999998,-2.7907999999999973,-2.965799999999998,-4.277799999999999,-2.996799999999997,-2.2277999999999984,-2.9647999999999968,-2.091799999999999,-2.9567999999999977,0.7782000000000018,-2.657899999999998,{"$f":"TTEST(L2:L53,'normal BMI-nonex'!L2:L18,2,3)","v":0.08907594627687902},-7.964599999999997,-6.287599999999998,-6.136599999999994,-6.2405999999999935,-8.351599999999998,-6.083599999999997,-6.743599999999997,-7.685599999999997,-6.116599999999998,-4.805599999999998,-6.641599999999997,{"$f":"TTEST(X2:X53,'normal BMI-nonex'!X2:X18,2,3)","v":0.416664725024121},0,0,0,0,0,0,0,0,0,0,0,{"$f":"TTEST(AJ2:AJ53,'normal BMI-nonex'!AJ2:AJ18,2,3)","v":0.9052681510259457},-1.1,0.8999999999999999,-0.10000000000000009,-1.1,-1.1,0.8999999999999999,-0.10000000000000009,-1.1,-1.1,0.8999999999999999,-0.3000000000000001,{"$f":"TTEST(AV2:AV53,'normal BMI-nonex'!AV2:AV18,2,3)","v":0.5711401013299902},"F",23,"F"]
["DJ101",-1.6068000000000016,1.5451999999999977,0.25619999999999976,-1.1108000000000011,-1.0948000000000029,2.336199999999998,-0.7667999999999999,-0.3998000000000026,-0.038800000000001944,0.7362000000000002,-0.014400000000001434,null,-3.4695999999999927,-7.060599999999994,-3.684599999999989,-4.060599999999994,1.626400000000011,-3.877599999999994,-2.069599999999994,-7.268599999999992,-1.7005999999999872,-4.20559999999999,-3.5770999999999917,null,0,0,0,0,0,0,0,0,0,1,0.1,null,-0.10000000000000009,-1.1,-1.1,-0.10000000000000009,-0.10000000000000009,-0.10000000000000009,0.8999999999999999,-1.1,-1.1,-1.1,-0.5000000000000001,null,"F",23,"T"]
["DP101",-2.2117999999999967,-2.492799999999999,0.027200000000000557,-4.204799999999999,-1.5427999999999962,3.8572000000000024,-4.123799999999999,-2.861799999999999,-1.1067999999999962,-4.726799999999997,-1.9386999999999979,null,-1.0238000000000014,-3.230800000000002,-1.3278000000000034,3.1522000000000006,-1.0488,-3.7118000000000038,-0.4397999999999982,-1.8318000000000012,-35.4318,3.336199999999998,-4.155800000000001,null,-0.3,-0.3,-0.3,-0.3,-0.3,0.7,-0.3,-0.3,-0.3,-0.3,-0.2,null,-0.9,-0.9,1.1,0.09999999999999998,-0.9,0.09999999999999998,0.09999999999999998,-0.9,1.1,-0.9,-0.19999999999999996,null,"M",25,"F"]
["DST102",-2.3280999999999974,-1.8720999999999979,-1.423099999999998,-2.553099999999997,-2.439099999999998,-1.9280999999999988,-2.7680999999999987,-2.9290999999999983,-1.8480999999999987,-2.8160999999999987,-2.2904999999999984,null,-7.153199999999998,-7.545199999999998,-0.8151999999999973,-4.577199999999998,-4.9132,-1.5761999999999965,-4.377199999999998,-3.4091999999999985,-1.7121999999999993,-3.4171999999999976,-3.949599999999998,null,0,0,0,0,0,0,0,0,0,0,0,null,-0.3,-0.3,1.7,1.7,-0.3,-0.3,-0.3,0.7,0.7,-0.3,0.3,null,"F",18,"F"]
["DT101",-7.192299999999996,-7.960299999999997,-10.936299999999997,-10.720299999999996,-12.168299999999997,-9.896299999999997,-11.817299999999996,-10.855299999999996,-9.632299999999997,-7.871299999999998,-9.904999999999998,null,-2.9343000000000004,-2.581299999999999,-0.16529999999999845,-0.15729999999999933,-2.5333000000000006,-1.9492999999999974,-3.429299999999998,-2.6843000000000004,-3.2133000000000003,-2.621299999999998,-2.226899999999999,null,0,0,0,0,0,0,0,0,0,0,0,null,1.1,1.1,1.1,0.09999999999999998,-0.9,0.09999999999999998,-0.9,1.1,-0.9,-0.9,0.10000000000000009,null,"M",22,"F"]
["DY101",-3.310399999999998,-3.3493999999999957,-3.629399999999997,-4.950399999999998,-5.212399999999999,-5.348399999999998,-3.9423999999999957,-4.7823999999999955,-6.605399999999998,-7.174399999999997,-4.830499999999997,null,-19.247,-38.248000000000005,-33.192,-37.912,-26.168000000000006,-18.072000000000003,-33.576,-27.823999999999998,-15.616,-13.680000000000007,-26.353500000000004,null,0,0,0,0,0,0,1,0,0,0,0.1,null,-0.5,-0.5,-1.5,-2.5,-1.5,-1.5,-2.5,-0.5,1.5,11.5,0.2,null,"M",25,"T"]
["EC101",-5.084900000000001,-7.3408999999999995,-5.0609,-7.3729,-7.036899999999999,-5.876899999999999,-5.602899999999998,-6.228899999999999,-6.668899999999999,-7.9779,-6.425199999999999,null,-1.279200000000003,-0.9032000000000018,-2.6472000000000016,2.2407999999999966,1.1767999999999965,0.9037999999999968,2.472799999999996,2.5127999999999986,-0.10320000000000462,2.0487999999999964,0.642299999999997,null,-0.1,-0.1,-0.1,-0.1,-0.1,-0.1,-0.1,-0.1,-0.1,-0.1,-0.09999999999999999,null,-0.5,1.5,1.5,-0.5,-0.5,-0.5,-0.5,-0.5,-0.5,0.5,0,null,"M",20,"F"]
["EF101",-0.9801999999999964,-2.5891999999999964,-1.370199999999997,-1.9011999999999958,-0.9231999999999978,-0.08219999999999672,-0.26519999999999655,-1.633199999999995,-1.1641999999999975,-3.133199999999997,-1.4041999999999966,null,-1.1101999999999919,-1.760199999999994,-1.4241999999999955,2.9048000000000087,-0.6561999999999912,-0.9191999999999965,-1.9201999999999941,-2.175199999999993,-0.23219999999999175,-5.604199999999995,-1.2896999999999934,null,0,0,0,0,0,0,0,0,0,0,0,null,1.5,0.5,-0.5,-0.5,-0.5,-0.5,-0.5,0.5,-0.5,-0.5,-0.1,null,"F",21,"F"]
["FA101",-1.729499999999998,-3.426499999999997,-1.753499999999999,-0.4734999999999978,-1.4504999999999981,-2.3215000000000003,-0.729499999999998,-0.8004999999999995,-1.0254999999999974,-1.6574999999999989,-1.5367999999999984,null,-2.4239000000000033,-3.9829000000000008,-1.2159000000000013,-1.9679000000000038,-0.17590000000000217,-0.5279000000000025,-2.8079000000000036,0.48809999999999576,0.04809999999999803,-0.255900000000004,-1.2822000000000027,null,0,0,0,0,0,0,0,0,0,0,0,null,-0.6,-0.6,-0.6,1.4,-0.6,0.4,-0.6,0.4,-0.6,-0.6,-0.19999999999999996,null,"M",23,"F"]
["GH101",-1.3744999999999976,-1.827499999999997,-2.4064999999999976,-2.516499999999997,-3.2064999999999984,-2.790499999999998,-2.3904999999999976,-3.8154999999999983,-3.2464999999999975,-3.4134999999999973,-2.6987999999999976,null,-6.769399999999997,-7.706399999999995,-3.7933999999999983,-2.6494,-0.2744,2.462600000000002,3.5746000000000038,-0.7053999999999974,-1.8263999999999996,-3.882399999999997,-2.156999999999998,null,0,0,0,0,0,0,0,0,0,0,0,null,-0.7,-0.7,-0.7,1.3,1.3,-0.7,1.3,1.3,1.3,-0.7,0.3,null,"M",20,"F"]
["GS101",-1.1723,-0.4842999999999993,-0.805299999999999,0.16469999999999985,-1.4612999999999996,-0.4853000000000005,-0.7073,-1.2933000000000003,-1.228299999999999,-0.5243000000000002,-0.7996999999999999,null,-2.7923999999999936,5.424600000000005,-4.08039999999999,-6.969399999999993,-3.2963999999999913,-2.6873999999999896,-8.64439999999999,3.67260000000001,-6.729399999999991,-1.456399999999995,-2.755899999999992,null,0,0,0,0,0,0,0,0,0,0,0,null,-0.1,-0.1,-0.1,-0.1,-0.1,-0.1,-0.1,-0.1,-0.1,-0.1,-0.09999999999999999,null,"M",25,"F"]
["HR101",1.9023000000000003,-0.7387000000000015,-0.31569999999999965,-4.226700000000001,-3.8747000000000007,-3.0357000000000003,-3.7226999999999997,-3.0756999999999994,-3.1556999999999995,1.9963000000000015,-1.8247,null,-6.065199999999997,1.7408000000000001,-3.472200000000001,-3.863199999999999,-5.785199999999996,-4.745199999999997,-0.6411999999999978,-2.4161999999999964,-6.2012,-5.281199999999998,-3.6729999999999983,null,0,0,0,0,0,0,0,0,0,0,0,null,0.5,-0.5,-0.5,0.5,-0.5,-0.5,-0.5,0.5,-0.5,-0.5,-0.2,null,"F",25,"F"]
["IF101",-0.9670000000000023,-1.4540000000000006,-1.379999999999999,-1.7090000000000014,-2.843,-2.0549999999999997,-1.1660000000000004,-2.1340000000000003,-0.48600000000000065,-1.3820000000000014,-1.5576000000000005,null,1.755500000000005,-2.4044999999999987,-3.540499999999998,-1.4924999999999962,-2.6844999999999963,-1.6124999999999972,-2.731499999999997,-1.1404999999999994,1.4284999999999997,-3.1404999999999994,-1.5562999999999978,null,0,0,0,0,0,0,0,0,0,0,0,null,2.4,0.4,0.4,1.4,-0.6,-0.6,0.4,0.4,-0.6,-0.6,0.29999999999999993,null,"M",16,"T"]
["IG101",-3.355699999999999,-2.3366999999999987,-1.8566999999999982,-1.8246999999999982,-2.3606999999999996,-2.4906999999999986,-2.0806999999999984,-3.4506999999999994,-2.608699999999999,-1.2166999999999994,-2.358199999999999,null,-8.418799999999994,-8.578799999999994,-5.9687999999999946,-9.337799999999994,-8.705799999999996,-7.114799999999995,-9.416799999999995,-11.055799999999994,-4.413799999999995,-5.0667999999999935,-7.807799999999995,null,0,0,0,0,0,0,0,0,0,0,0,null,-0.7,-0.7,0.30000000000000004,-0.7,0.30000000000000004,-0.7,-0.7,-0.7,-0.7,-0.7,-0.5,null,"F",19.53,"F"]
["IOD101",-0.20039999999999836,-2.0333999999999968,-0.6423999999999985,-2.066399999999998,-1.5063999999999957,-3.994399999999999,-1.0523999999999987,-2.747399999999999,-2.842399999999998,-3.4263999999999974,-2.051199999999998,null,-5.4072,-6.0242,-4.7592,-4.215199999999999,-2.7912,-7.2392,-5.655200000000001,0.7528000000000006,1.9127999999999972,-0.39920000000000044,-3.3825000000000003,null,0,0,0,0,0,0,0,0,0,0,0,null,-1.3,-1.3,-1.3,-0.30000000000000004,0.7,-1.3,-0.30000000000000004,1.7,1.7,0.7,-0.09999999999999995,null,"F",21,"F"]
["JB101",-1.7490999999999985,-1.3650999999999982,1.017900000000001,-1.3581000000000003,-2.046099999999999,-0.4850999999999992,0.07489999999999952,-1.9741,-1.9490999999999996,-2.0770999999999997,-1.1910999999999994,null,-3.098399999999998,-1.7003999999999948,1.2916000000000025,1.867600000000003,-1.980399999999996,-1.2283999999999935,1.0276000000000067,0.195600000000006,4.452600000000004,4.6766000000000005,0.550400000000004,null,0,0,0,0,0,0,0,0,0,0,0,null,-0.8,-0.8,-0.8,1.2,-0.8,2.2,1.2,0.19999999999999996,0.19999999999999996,1.2,0.29999999999999993,null,"F",19,"F"]
["JC102",0.49409999999999954,-0.8739000000000008,-2.113900000000001,-1.2969000000000008,-1.2429000000000006,-1.2109000000000005,-2.246900000000002,0.2940999999999985,-1.5459000000000014,-0.34690000000000154,-1.009000000000001,null,-3.4322999999999944,-1.7532999999999959,-3.2802999999999933,-3.360299999999995,-2.016299999999994,-3.9612999999999943,-5.160299999999996,-5.888299999999994,-5.120299999999993,-0.28829999999999245,-3.4260999999999937,null,-0.4,-0.4,-0.4,-0.4,-0.4,-0.4,-0.4,-0.4,-0.4,-0.4,-0.39999999999999997,null,0.4,1.4,-0.6,-0.6,0.4,-0.6,-0.6,-0.6,-0.6,1.4,0,null,"F",24,"F"]
["JM101",-2.281200000000002,-2.5542000000000016,-2.811200000000003,-1.8512000000000022,-1.4872000000000014,-3.162200000000002,-0.6822000000000017,-2.066200000000002,-2.066200000000002,-2.4742000000000033,-2.143600000000002,null,-1.0425000000000004,-5.6525,-4.984500000000001,-3.730500000000003,-0.9905000000000008,0.16249999999999787,-3.146500000000003,0.1454999999999984,-0.9555000000000007,-4.080500000000001,-2.427500000000001,null,-0.1,-0.1,-0.1,-0.1,-0.1,-0.1,-0.1,-0.1,-0.1,-0.1,-0.09999999999999999,null,-0.4,-0.4,-0.4,-0.4,-0.4,-0.4,-0.4,0.6,-0.4,0.6,-0.19999999999999996,null,"F",25,"F"]
["JS102",-1.7512999999999987,1.5927000000000007,-0.18029999999999902,-0.07529999999999859,-0.7863000000000007,-2.0503,0.5976999999999997,0.6857000000000006,-4.2273,-4.0512999999999995,-1.0245999999999995,null,-3.960000000000001,-5.559000000000001,-3.6400000000000006,-4.018000000000001,-6.327000000000002,-4.368000000000002,-5.536000000000001,-5.388000000000002,-4.255000000000003,0.9929999999999986,-4.205800000000001,null,0,0,0,0,0,0,0,0,0,0,0,null,-0.5,-0.5,-0.5,-0.5,-0.5,-0.5,-0.5,-0.5,-0.5,0.5,-0.4,null,"M",20,"F"]
["KM101",-1.7011000000000003,-0.9330999999999996,-0.013100000000001444,1.9709000000000003,-2.9731000000000005,-0.8301000000000016,0.9378999999999991,0.7308999999999983,-0.4620999999999995,-1.8771000000000004,-0.5150000000000006,null,5.481999999999992,-0.03800000000000381,2.7469999999999963,0.41099999999999426,-2.9640000000000057,-2.845000000000006,0.6029999999999944,-3.5260000000000034,-1.5900000000000034,1.112999999999996,-0.0607000000000049,null,0,0,0,0,0,0,0,0,0,0,0,null,1.7,-0.3,-0.3,-0.3,-0.3,0.7,0.7,-0.3,0.7,1.7,0.4,null,"F",17,"T"]
["KP101",-2.889300000000002,-3.8373000000000026,-3.2413000000000025,-3.0333000000000006,-3.2173000000000016,-3.984300000000001,-3.6173,-4.392300000000002,-2.3613,-2.6403000000000034,-3.3214000000000015,null,-2.7816000000000045,-3.3256000000000014,-2.0046000000000035,4.9313999999999965,-0.9416000000000011,8.683399999999999,-0.1566000000000045,3.2023999999999972,1.0753999999999948,-4.932600000000001,0.37499999999999717,null,-0.2,-0.2,-0.2,-0.2,-0.2,-0.2,-0.2,0.8,-0.2,-0.2,-0.09999999999999998,null,0.6,0.6,-0.4,1.6,-0.4,-0.4,-0.4,-0.4,0.6,-0.4,0.1,null,"M",24,"F"]
["LB101",-0.9487999999999985,-2.7227999999999994,0.2181999999999995,-1.046800000000001,-1.982800000000001,-1.671800000000001,-2.5107999999999997,-3.5578000000000003,-1.5747999999999998,-2.8718000000000004,-1.8670000000000002,null,-6.980199999999996,-6.109199999999998,5.827800000000003,-5.116199999999999,-5.965199999999996,-1.8441999999999972,-4.682199999999998,-3.724199999999996,-1.181199999999997,-3.0041999999999973,-3.2778999999999967,null,0,0,0,0,0,0,0,0,0,0,0,null,-0.6,1.4,3.4,-0.6,-0.6,0.4,-0.6,0.4,-0.6,-0.6,0.19999999999999996,null,"M",24,"F"]
["LT101",-8.5149,-7.432900000000002,-7.831900000000001,-8.977900000000002,-9.858900000000002,-8.265900000000002,-9.064900000000002,-8.025900000000002,-9.318900000000001,-9.648900000000001,-8.694100000000002,null,0.30860000000000554,-2.2603999999999935,2.955600000000004,-5.540399999999995,-0.6203999999999965,3.0866000000000042,3.8366000000000042,0.49260000000000304,0.9326000000000079,5.268600000000006,0.8460000000000051,null,0,0,0,0,0,0,0,0,0,0,0,null,1.1,-0.9,-0.9,-0.9,-0.9,-0.9,-0.9,1.1,-0.9,-0.9,-0.5,null,"F",22,"F"]
["MT101",-4.4894,-7.417400000000001,-8.6384,-10.7104,-9.799400000000002,-9.0304,-9.918400000000002,-10.671400000000002,-10.551400000000001,-10.110400000000002,-9.133700000000001,null,-1.3780999999999999,2.1819000000000024,-0.8430999999999997,0.655899999999999,-3.057100000000002,-0.9390999999999998,-1.8340999999999994,-4.770099999999999,-3.2021000000000015,-3.2021000000000015,-1.6388000000000003,null,0,0,0,0,0,0,0,0,0,0,0,null,-1,-1,-1,-1,0,-1,-1,0,0,-1,-0.7,null,"F",22,"F"]
["NV101",-0.6401999999999965,-1.0551999999999957,-1.3841999999999963,-1.1601999999999961,-1.7711999999999968,-2.032199999999998,-1.1311999999999962,-1.543199999999997,-2.1751999999999967,-2.3211999999999975,-1.5213999999999968,null,-1.3780999999999999,2.1819000000000024,-0.8430999999999997,0.655899999999999,-3.057100000000002,-0.9390999999999998,-1.8340999999999994,-4.770099999999999,-3.2021000000000015,-3.2021000000000015,-1.6388000000000003,null,0,0,0,0,0,0,0,0,0,0,0,null,-1,-1,-1,-1,0,-1,-1,0,0,-1,-0.7,null,"F",24,"F"]
["OA101",-0.1556000000000033,-1.1956000000000024,-1.2996000000000016,-0.4846000000000039,-0.1656000000000013,-1.9146000000000036,-0.5476000000000028,-1.2036000000000016,-0.8996000000000031,-2.492600000000003,-1.0359000000000027,null,-1.7780999999999985,-0.891099999999998,-2.356099999999998,-3.8050999999999995,-1.6800999999999995,3.8119000000000014,-1.043099999999999,-3.9000999999999983,-2.949099999999998,-4.236099999999997,-1.8826999999999985,null,0,0,0,0,0,0,0,0,0,0,0,null,-0.2,-0.2,-0.2,-0.2,0.8,0.8,-0.2,-0.2,-0.2,-0.2,0,null,"M",25,"F"]
["PM101",-1.152800000000001,-0.042800000000001504,-1.1178000000000008,-1.1468000000000007,-1.8188000000000013,-1.6468000000000007,-0.35380000000000145,-1.5368000000000013,-2.176800000000002,-2.0828000000000007,-1.3076000000000012,null,-2.2295000000000016,0.8904999999999959,6.017499999999998,-3.140500000000003,-0.3505000000000038,-1.525500000000001,6.738499999999995,8.914499999999997,2.970499999999994,-2.2055000000000042,1.6079999999999965,null,0,0,0,0,0,0,0,0,0,0,0,null,0,0,0,0,0,0,2,0,0,0,0.2,null,"M",23,"T"]
["RK101",-1.196399999999997,-1.0363999999999969,-2.004399999999997,-2.541399999999996,-1.8053999999999952,-1.7003999999999984,-1.2123999999999953,-2.2373999999999974,-0.06039999999999779,-2.6683999999999983,-1.646299999999997,null,-5.990499999999997,-1.8144999999999953,-8.765499999999996,-9.622499999999995,-6.2464999999999975,-5.949499999999993,-8.077499999999993,-8.021499999999996,-2.5744999999999933,-2.710499999999996,-5.977299999999995,null,0,0,0,0,0,0,0,0,0,0,0,null,-1.2,-0.19999999999999996,-0.19999999999999996,-1.2,-1.2,-1.2,-0.19999999999999996,-0.19999999999999996,-1.2,-1.2,-0.8,null,"F",21,"T"]
["RT101",-3.909099999999995,-5.149099999999997,-6.125099999999996,-6.276099999999996,-6.469099999999997,-6.388099999999998,-5.3150999999999975,-5.122099999999996,-4.989099999999997,-7.1290999999999976,-5.687199999999997,null,-10.557900000000004,-6.884900000000002,-3.8429,-1.9939000000000036,-2.009900000000002,-4.5079000000000065,1.4950999999999937,-5.058900000000001,-4.2509000000000015,1.5670999999999964,-3.604500000000003,null,0,0,0,0,0,0,0,0,0,0,0,null,-1.5,-0.5,-1.5,0.5,-1.5,0.5,0.5,-1.5,-1.5,0.5,-0.6,null,"F",23,"F"]
["SAV101",-1.6829999999999998,-2.2720000000000002,-0.06400000000000006,-2.5060000000000002,-2.901,-3.235999999999999,-2.885,-2.9349999999999987,-2.1519999999999992,-2.9209999999999994,-2.3555,null,-5.523899999999998,-1.1788999999999987,-3.8718999999999966,-5.914899999999999,-4.507899999999999,-3.2758999999999965,1.004100000000001,-2.5158999999999985,-3.5548999999999964,-3.4678999999999967,-3.280799999999998,null,0,0,0,0,0,0,0,0,0,0,0,null,0,0,0,0,0,0,1,0,0,0,0.1,null,"M",20,"F"]
["SK101",-1.8535000000000004,-0.01950000000000074,-4.072500000000002,-6.186500000000002,-4.693500000000002,-5.528500000000001,-4.761500000000002,-4.091500000000002,-5.779500000000002,-6.501500000000002,-4.348800000000001,null,-2.845799999999997,-1.4027999999999992,2.8762000000000008,-1.0377999999999972,-1.5077999999999996,1.659200000000002,-0.19679999999999964,-2.774799999999999,-1.2627999999999986,-3.0357999999999983,-0.9528999999999985,null,-0.3,-0.3,-0.3,-0.3,-0.3,-0.3,-0.3,-0.3,-0.3,-0.3,-0.29999999999999993,null,-0.7,0.30000000000000004,0.30000000000000004,-0.7,-0.7,0.30000000000000004,1.3,-0.7,-0.7,-0.7,-0.19999999999999996,null,"M",23,"F"]
["SN101",-1.8928000000000011,-0.7397999999999989,0.3951999999999991,-0.08480000000000132,0.052199999999999136,-0.1647999999999996,3.2752000000000017,2.9952000000000005,0.3152000000000008,3.8751999999999995,0.8026,null,-1.8108000000000004,-7.021799999999999,-12.218800000000002,-8.7928,-9.546799999999998,0.6112000000000037,-11.638799999999996,-8.4028,-8.896799999999999,-11.398800000000001,-7.911699999999999,null,1.4,1.4,-0.6,-0.6,-0.6,0.4,-0.6,1.4,0.4,0.4,0.29999999999999993,null,1.3,0.30000000000000004,-1.7,0.30000000000000004,2.3,5.3,0.30000000000000004,0.30000000000000004,2.3,0.30000000000000004,1.1,null,"F",20,"T"]
["SR101",0.12560000000000038,-0.06739999999999924,-1.0593999999999983,-1.723399999999998,-1.3213999999999988,-1.675399999999998,-2.1153999999999993,-2.6983999999999995,-1.4833999999999996,-2.555399999999999,-1.457399999999999,null,-4.351200000000006,-6.279200000000003,-1.863199999999999,0.7837999999999994,-2.279200000000003,6.5608,8.6648,4.775799999999997,7.3847999999999985,9.360799999999998,2.275799999999998,null,-0.1,-0.1,-0.1,-0.1,-0.1,-0.1,-0.1,-0.1,-0.1,-0.1,-0.09999999999999999,null,1.6,0.6,-0.4,-0.4,-0.4,0.6,0.6,0.6,-0.4,-0.4,0.2000000000000001,null,"F",23,"F"]
["TN101",-0.5418999999999983,-0.06989999999999696,-0.8368999999999964,0.21010000000000417,-0.6778999999999975,-0.9828999999999972,-1.300899999999995,-1.7168999999999954,0.25110000000000454,-1.3338999999999963,-0.6999999999999964,null,-4.023700000000005,-2.6977000000000046,-2.639700000000005,-4.110700000000005,-2.9997000000000043,-5.503700000000006,-1.3987000000000052,-4.015700000000006,-3.198700000000006,-3.791700000000006,-3.438000000000005,null,0,0,0,0,0,0,0,0,0,0,0,null,0.4,-0.6,0.4,-0.6,-0.6,-0.6,0.4,0.4,0.4,-0.6,-0.09999999999999996,null,"F",21,"F"]
["TN102",-1.348499999999996,-0.6294999999999966,-1.3084999999999969,0.5875000000000021,-0.22849999999999682,-0.8184999999999967,0.3715000000000046,0.33550000000000324,0.48150000000000404,0.20550000000000423,-0.23519999999999647,null,-3.0340000000000025,2.0349999999999966,-1.5700000000000003,-3.418000000000003,-4.546000000000003,-5.410000000000004,-1.929000000000002,-6.313000000000002,-4.146000000000004,-1.514000000000003,-2.984500000000003,null,0,0,0,0,0,0,0,0,0,0,0,null,-1.2,2.8,-0.19999999999999996,-1.2,-1.2,-1.2,-1.2,-1.2,-1.2,0.8,-0.5000000000000001,null,"F",22,"F"]
["YS101",1.3181999999999992,0.8541999999999987,0.18319999999999936,-1.1458000000000013,-0.9928000000000008,-0.6498000000000008,-0.5768000000000004,0.8621999999999996,-1.0728000000000009,-1.057800000000002,-0.22780000000000095,null,-1.360999999999997,-1.2589999999999968,2.080000000000002,-2.1459999999999972,0.20400000000000063,-2.997,-3.100999999999999,-1.9959999999999987,-3.546999999999997,1.0920000000000023,-1.3030999999999981,null,0,0,0,0,0,0,0,0,0,0,0,null,2.1,1.1,1.1,0.09999999999999998,1.1,1.1,0.09999999999999998,0.09999999999999998,-0.9,1.1,0.6999999999999998,null,"F",22,"F"]
["ZP101",-2.652000000000001,-4.1320000000000014,-2.2040000000000006,-2.532,-3.0120000000000005,-2.4840000000000018,-3.8840000000000003,-1.5160000000000018,-6.084,-7.564,-3.6064000000000007,null,-6.972000000000001,-4.004000000000001,-5.125,-7.588000000000001,-6.277000000000001,-7.475999999999999,-3.8759999999999977,-8.899999999999999,-4.603999999999999,-6.972000000000001,-6.1794,null,0,0,0,0,0,0,0,0,0,0,0,null,-0.3,-0.3,0.7,-0.3,0.7,0.7,0.7,-0.3,-0.3,-0.3,0.09999999999999998,null,"F",19,"F"]

{"sheet":"PlotArray1nonex","index":17,"n_rows":74,"n_cols":69,"rows_kept":74,"merged":[[0,53,0,63],[1,59,2,59],[1,60,2,60],[1,61,2,61],[1,62,1,63],[3,53,18,53],[3,54,10,54],[3,55,6,55],[3,56,4,56],[3,68,4,68],[5,56,6,56],[7,55,10,55],[7,56,8,56],[9,56,10,56],[11,54,18,54],[11,55,14,55],[11,56,12,56],[13,56,14,56],[15,55,18,55],[15,56,16,56],[17,56,18,56],[19,53,34,53],[19,54,26,54],[19,55,22,55],[19,56,20,56],[21,56,22,56],[23,55,26,55],[23,56,24,56],[25,56,26,56],[27,54,34,54],[27,55,30,55],[27,56,28,56],[29,56,30,56],[31,55,34,55],[31,56,32,56],[33,56,34,56],[35,53,35,63],[36,53,36,63],[37,53,37,63]]}
["ID (reds lack HR data)","%change-c-1","%change-c-2","%change-c-3","%change-c-4","%change-c-5","%change-c-6","%change-c-7","%change-c-8","%change-c-9","%change-c-10","%change-c-avg","congruent","%change-i-1","%change-i-2","%change-i-3","%change-i-4","%change-i-5","%change-i-6","%change-i-7","%change-i-8","%change-i-9","%change-i-10","%change-i-avg","incongruent","diff-err-c-1","diff-err-c-2","diff-err-c-3","diff-err-c-4","diff-err-c-5","diff-err-c-6","diff-err-c-7","diff-err-c-8","diff-err-c-9","diff-err-c-10","avg-change-err-c","avg-err-c","diff-err-i-1","diff-err-i-2","diff-err-i-3","diff-err-i-4","diff-err-i-5","diff-err-i-6","diff-err-i-7","diff-err-i-8","diff-err-i-9","diff-err-i-10","avg-change-err-i","avg-change-err-i","avg-err-i","Gender","BMI","ADD","Pairwise Comparisons accuracy",{"$nulls":12},"Mean (Exercise-Rest)","S.E."]
[{"$f":"analysisnonex!A2","v":"AA102-nonexercise"},{"$f":"(analysisnonex!M2-analysisnonex!L2)*100/ABS(analysisnonex!L2)","v":0.20335148383737722},{"$f":"((analysisnonex!N2-analysisnonex!L2)*100)/ABS(analysisnonex!L2)","v":-4.483159534401413},{"$f":"((analysisnonex!O2-analysisnonex!L2)*100)/ABS(analysisnonex!L2)","v":-5.731100207840472},{"$f":"((analysisnonex!P2-analysisnonex!L2)*100)/ABS(analysisnonex!L2)","v":6.438565855804497},{"$f":"((analysisnonex!Q2-analysisnonex!L2)*100)/ABS(analysisnonex!L2)","v":15.843010858879472},{"$f":"((analysisnonex!R2-analysisnonex!L2)*100)/ABS(analysisnonex!L2)","v":16.9383256945598},{"$f":"((analysisnonex!S2-analysisnonex!L2)*100)/ABS(analysisnonex!L2)","v":11.174455821553464},{"$f":"((analysisnonex!T2-analysisnonex!L2)*100)/ABS(analysisnonex!L2)","v":-3.769409293117908},{"$f":"((analysisnonex!U2-analysisnonex!L2)*100)/ABS(analysisnonex!L2)","v":5.989666332984699},{"$f":"((analysisnonex!V2-analysisnonex!L2)*100)/ABS(analysisnonex!L2)","v":3.74067972365746},{"$f":"AVERAGE(B2:K2)","v":4.634438673591697},{"$f":"AVERAGE($L$2:INDEX(L:L,MATCH(9.99999999999999E+307,L:L)))","v":-8.273529870635542},{"$f":"(analysisnonex!AI2-analysisnonex!AH2)*100/ABS(analysisnonex!AH2)","v":-16.328473651838607},{"$f":"(analysisnonex!AJ2-analysisnonex!AH2)*100/ABS(analysisnonex!AH2)","v":0.1463240642702356},{"$f":"(analysisnonex!AK2-analysisnonex!AH2)*100/ABS(analysisnonex!AH2)","v":0.6659008759784139},{"$f":"(analysisnonex!AL2-analysisnonex!AH2)*100/ABS(analysisnonex!AH2)","v":-5.9032351379968135},{"$f":"(analysisnonex!AM2-analysisnonex!AH2)*100/ABS(analysisnonex!AH2)","v":-10.295765589410754},{"$f":"(analysisnonex!AN2-analysisnonex!AH2)*100/ABS(analysisnonex!AH2)","v":-5.2516577308817025},{"$f":"(analysisnonex!AO2-analysisnonex!AH2)*100/ABS(analysisnonex!AH2)","v":-0.3676357008248745},{"$f":"(analysisnonex!AP2-analysisnonex!AH2)*100/ABS(analysisnonex!AH2)","v":-5.526893014921704},{"$f":"(analysisnonex!AQ2-analysisnonex!AH2)*100/ABS(analysisnonex!AH2)","v":1.9297363639171983},{"$f":"(analysisnonex!AR2-analysisnonex!AH2)*100/ABS(analysisnonex!AH2)","v":4.99383529134215},{"$f":"AVERAGE(N2:W2)","v":-3.593786423036646},{"$f":"AVERAGE($X$2:INDEX(X:X,MATCH(9.99999999999999E+307,X:X)))","v":-7.054100745076543},{"$f":"(analysisnonex!BE2-analysisnonex!BD2)","v":-2.5},{"$f":"analysisnonex!BF2-analysisnonex!BD2","v":0},{"$f":"analysisnonex!BG2-analysisnonex!BD2","v":-2.5},{"$f":"analysisnonex!BH2-analysisnonex!BD2","v":-2.5},{"$f":"analysisnonex!BI2-analysisnonex!BD2","v":0},{"$f":"analysisnonex!BJ2-analysisnonex!BD2","v":0},{"$f":"analysisnonex!BK2-analysisnonex!BD2","v":-2.5},{"$f":"analysisnonex!BL2-analysisnonex!BD2","v":-2.5},{"$f":"analysisnonex!BM2-analysisnonex!BD2","v":0},{"$f":"analysisnonex!BN2-analysisnonex!BD2","v":0},{"$f":"SUM(Z2:AI2)/10","v":-1.25},{"$f":"AVERAGE($AJ$2:INDEX(AJ:AJ,MATCH(9.99999999999999E+307,AJ:AJ)))","v":-0.0125},{"$f":"(analysisnonex!BY2-analysisnonex!BX2)","v":-5},{"$f":"analysisnonex!BZ2-analysisnonex!BX2","v":13.75},{"$f":"analysisnonex!CA2-analysisnonex!BX2","v":2.5},{"$f":"analysisnonex!CB2-analysisnonex!BX2","v":5},{"$f":"analysisnonex!CC2-analysisnonex!BX2","v":0},{"$f":"analysisnonex!CD2-analysisnonex!BX2","v":-5},{"$f":"analysisnonex!CE2-analysisnonex!BX2","v":-5},{"$f":"analysisnonex!CF2-analysisnonex!BX2","v":0},{"$f":"analysisnonex!CG2-analysisnonex!BX2","v":2.5},{"$f":"analysisnonex!CH2-analysisnonex!BX2","v":-5},{"$f":"SUM(AL2:AU2)/10","v":0.375},-1.5,{"$f":"AVERAGE($AV$2:INDEX(AV:AV,MATCH(9.99999999999999E+307,AV:AV)))","v":0.43333333333333335},{"$f":"analysisnonex!ED2","v":"F"},{"$f":"analysisnonex!EE2","v":21},{"$f":"analysisnonex!EF2","v":"F"},"Dependent Variable","gender","bmi","adhd","exercise","rest","Mean Difference (Exercise-Rest)","Std. Error","Sig.b","95% Confidence Interval for Differenceb"]
[{"$f":"analysisnonex!A3","v":"CJ101-nonexercise"},{"$f":"(analysisnonex!M3-analysisnonex!L3)*100/ABS(analysisnonex!L3)","v":-6.0332323977709414},{"$f":"((analysisnonex!N3-analysisnonex!L3)*100)/ABS(analysisnonex!L3)","v":-10.42011247105524},{"$f":"((analysisnonex!O3-analysisnonex!L3)*100)/ABS(analysisnonex!L3)","v":-15.550013995267047},{"$f":"((analysisnonex!P3-analysisnonex!L3)*100)/ABS(analysisnonex!L3)","v":-19.63154278734828},{"$f":"((analysisnonex!Q3-analysisnonex!L3)*100)/ABS(analysisnonex!L3)","v":-22.435685386396603},{"$f":"((analysisnonex!R3-analysisnonex!L3)*100)/ABS(analysisnonex!L3)","v":-17.63658108348812},{"$f":"((analysisnonex!S3-analysisnonex!L3)*100)/ABS(analysisnonex!L3)","v":-21.097228937123084},{"$f":"((analysisnonex!T3-analysisnonex!L3)*100)/ABS(analysisnonex!L3)","v":-23.702893203389394},{"$f":"((analysisnonex!U3-analysisnonex!L3)*100)/ABS(analysisnonex!L3)","v":-17.97246749281153},{"$f":"((analysisnonex!V3-analysisnonex!L3)*100)/ABS(analysisnonex!L3)","v":-22.88862312018118},-17.736838087483143,"stdev",{"$f":"(analysisnonex!AI3-analysisnonex!AH3)*100/ABS(analysisnonex!AH3)","v":-0.5504565586032203},{"$f":"(analysisnonex!AJ3-analysisnonex!AH3)*100/ABS(analysisnonex!AH3)","v":-5.764070733520859},{"$f":"(analysisnonex!AK3-analysisnonex!AH3)*100/ABS(analysisnonex!AH3)","v":-7.788974998750979},{"$f":"(analysisnonex!AL3-analysisnonex!AH3)*100/ABS(analysisnonex!AH3)","v":-11.497870764673221},{"$f":"(analysisnonex!AM3-analysisnonex!AH3)*100/ABS(analysisnonex!AH3)","v":-6.472346390880008},{"$f":"(analysisnonex!AN3-analysisnonex!AH3)*100/ABS(analysisnonex!AH3)","v":-7.0101656659701685},{"$f":"(analysisnonex!AO3-analysisnonex!AH3)*100/ABS(analysisnonex!AH3)","v":-10.79841181674177},{"$f":"(analysisnonex!AP3-analysisnonex!AH3)*100/ABS(analysisnonex!AH3)","v":-11.05115748700272},{"$f":"(analysisnonex!AQ3-analysisnonex!AH3)*100/ABS(analysisnonex!AH3)","v":-14.818831315776338},{"$f":"(analysisnonex!AR3-analysisnonex!AH3)*100/ABS(analysisnonex!AH3)","v":-11.924011720345744},{"$f":"AVERAGE(N3:W3)","v":-8.767629745226504},"stdev",{"$f":"(analysisnonex!BE3-analysisnonex!BD3)","v":-0.25},{"$f":"analysisnonex!BF3-analysisnonex!BD3","v":-0.25},{"$f":"analysisnonex!BG3-analysisnonex!BD3","v":-0.25},{"$f":"analysisnonex!BH3-analysisnonex!BD3","v":-0.25},{"$f":"analysisnonex!BI3-analysisnonex!BD3","v":-0.25},{"$f":"analysisnonex!BJ3-analysisnonex!BD3","v":-0.25},{"$f":"analysisnonex!BK3-analysisnonex!BD3","v":-0.25},{"$f":"analysisnonex!BL3-analysisnonex!BD3","v":-0.25},{"$f":"analysisnonex!BM3-analysisnonex!BD3","v":-0.25},{"$f":"analysisnonex!BN3-analysisnonex!BD3","v":-0.25},{"$f":"SUM(Z3:AI3)/20","v":-0.125},"stdev",{"$f":"(analysisnonex!BY3-analysisnonex!BX3)","v":0},{"$f":"analysisnonex!BZ3-analysisnonex!BX3","v":3.75},{"$f":"analysisnonex!CA3-analysisnonex!BX3","v":-2.5},{"$f":"analysisnonex!CB3-analysisnonex!BX3","v":-2.5},{"$f":"analysisnonex!CC3-analysisnonex!BX3","v":0},{"$f":"analysisnonex!CD3-analysisnonex!BX3","v":0},{"$f":"analysisnonex!CE3-analysisnonex!BX3","v":0},{"$f":"analysisnonex!CF3-analysisnonex!BX3","v":-2.5},{"$f":"analysisnonex!CG3-analysisnonex!BX3","v":0},{"$f":"analysisnonex!CH3-analysisnonex!BX3","v":0},{"$f":"SUM(AL3:AU3)/10","v":-0.375},0.75,"stdev",{"$f":"analysisnonex!ED3","v":"M"},{"$f":"analysisnonex!EE3","v":25},{"$f":"analysisnonex!EF3","v":"F"},{"$nulls":9},"Lower Bound","Upper Bound","% change in Incongruent Mistakes Rate","High-BMI ADHD Females",7.5,2.06]
[{"$f":"analysisnonex!A4","v":"CN101-nonexercise"},{"$f":"(analysisnonex!M4-analysisnonex!L4)*100/ABS(analysisnonex!L4)","v":-6.941990716994998},{"$f":"((analysisnonex!N4-analysisnonex!L4)*100)/ABS(analysisnonex!L4)","v":2.429665089948883},{"$f":"((analysisnonex!O4-analysisnonex!L4)*100)/ABS(analysisnonex!L4)","v":-8.195766291167223},{"$f":"((analysisnonex!P4-analysisnonex!L4)*100)/ABS(analysisnonex!L4)","v":-14.787586355375723},{"$f":"((analysisnonex!Q4-analysisnonex!L4)*100)/ABS(analysisnonex!L4)","v":-6.378424928604451},{"$f":"((analysisnonex!R4-analysisnonex!L4)*100)/ABS(analysisnonex!L4)","v":-13.723776777290203},{"$f":"((analysisnonex!S4-analysisnonex!L4)*100)/ABS(analysisnonex!L4)","v":-7.391576907733521},{"$f":"((analysisnonex!T4-analysisnonex!L4)*100)/ABS(analysisnonex!L4)","v":-18.384275881283926},{"$f":"((analysisnonex!U4-analysisnonex!L4)*100)/ABS(analysisnonex!L4)","v":-17.162161306459478},{"$f":"((analysisnonex!V4-analysisnonex!L4)*100)/ABS(analysisnonex!L4)","v":-15.908385732287263},-10.644427980724789,{"$f":"STDEV($L$2:INDEX(L:L,MATCH(9.99999999999999E+307,L:L)))","v":6.245285729240414},{"$f":"(analysisnonex!AI4-analysisnonex!AH4)*100/ABS(analysisnonex!AH4)","v":-10.920703458822459},{"$f":"(analysisnonex!AJ4-analysisnonex!AH4)*100/ABS(analysisnonex!AH4)","v":-10.648023208743743},{"$f":"(analysisnonex!AK4-analysisnonex!AH4)*100/ABS(analysisnonex!AH4)","v":8.515494984932317},{"$f":"(analysisnonex!AL4-analysisnonex!AH4)*100/ABS(analysisnonex!AH4)","v":-16.857823955381626},{"$f":"(analysisnonex!AM4-analysisnonex!AH4)*100/ABS(analysisnonex!AH4)","v":-1.7873206494849894},{"$f":"(analysisnonex!AN4-analysisnonex!AH4)*100/ABS(analysisnonex!AH4)","v":-14.201299869563243},{"$f":"(analysisnonex!AO4-analysisnonex!AH4)*100/ABS(analysisnonex!AH4)","v":-11.772477848243582},{"$f":"(analysisnonex!AP4-analysisnonex!AH4)*100/ABS(analysisnonex!AH4)","v":-6.760221292673039},{"$f":"(analysisnonex!AQ4-analysisnonex!AH4)*100/ABS(analysisnonex!AH4)","v":1.647888274187034},{"$f":"(analysisnonex!AR4-analysisnonex!AH4)*100/ABS(analysisnonex!AH4)","v":-4.511312013673342},-6.729579903746668,{"$f":"STDEV($X$2:INDEX(X:X,MATCH(9.99999999999999E+307,X:X)))","v":5.1896468662571404},{"$f":"(analysisnonex!BE4-analysisnonex!BD4)","v":-1},{"$f":"analysisnonex!BF4-analysisnonex!BD4","v":1.5},{"$f":"analysisnonex!BG4-analysisnonex!BD4","v":-1},{"$f":"analysisnonex!BH4-analysisnonex!BD4","v":-1},{"$f":"analysisnonex!BI4-analysisnonex!BD4","v":-1},{"$f":"analysisnonex!BJ4-analysisnonex!BD4","v":-1},{"$f":"analysisnonex!BK4-analysisnonex!BD4","v":-1},{"$f":"analysisnonex!BL4-analysisnonex!BD4","v":-1},{"$f":"analysisnonex!BM4-analysisnonex!BD4","v":-1},{"$f":"analysisnonex!BN4-analysisnonex!BD4","v":-1},-0.375,{"$f":"STDEV($AJ$2:INDEX(AJ:AJ,MATCH(9.99999999999999E+307,AJ:AJ)))","v":0.31716347900379877},{"$f":"(analysisnonex!BY4-analysisnonex!BX4)","v":10},{"$f":"analysisnonex!BZ4-analysisnonex!BX4","v":12.5},{"$f":"analysisnonex!CA4-analysisnonex!BX4","v":2.5},{"$f":"analysisnonex!CB4-analysisnonex!BX4","v":10},{"$f":"analysisnonex!CC4-analysisnonex!BX4","v":7.5},{"$f":"analysisnonex!CD4-analysisnonex!BX4","v":-2.5},{"$f":"analysisnonex!CE4-analysisnonex!BX4","v":5},{"$f":"analysisnonex!CF4-analysisnonex!BX4","v":2.5},{"$f":"analysisnonex!CG4-analysisnonex!BX4","v":2.5},{"$f":"analysisnonex!CH4-analysisnonex!BX4","v":7.5},5.75,-1.75,{"$f":"STDEV($AV$2:INDEX(AV:AV,MATCH(9.99999999999999E+307,AV:AV)))","v":2.8146750848602995},{"$f":"analysisnonex!ED4","v":"F"},{"$f":"analysisnonex!EE4","v":32},{"$f":"analysisnonex!EF4","v":"T"},"avg-change-err-c","Female","normal-BMI","non-ADHD","1.00","2.00",{"v":0.13214285714285715,"d":".132"},{"v":0.12954314857280988,"d":".130"},{"v":0.3105243198597754,"d":".311"},{"v":-0.12533817778352832,"d":"-.125"},{"v":0.38962389206924264,"d":".390"}," Congruent ","Normal-BMI non-ADHD Females",-6.64,3.15,"%change in RT"]
[{"$f":"analysisnonex!A5","v":"DD101-nonexercise"},{"$f":"(analysisnonex!M5-analysisnonex!L5)*100/ABS(analysisnonex!L5)","v":-6.365788734466755},{"$f":"((analysisnonex!N5-analysisnonex!L5)*100)/ABS(analysisnonex!L5)","v":-6.198584785778301},{"$f":"((analysisnonex!O5-analysisnonex!L5)*100)/ABS(analysisnonex!L5)","v":-8.398988750518336},{"$f":"((analysisnonex!P5-analysisnonex!L5)*100)/ABS(analysisnonex!L5)","v":-5.048221618801758},{"$f":"((analysisnonex!Q5-analysisnonex!L5)*100)/ABS(analysisnonex!L5)","v":-7.435894006072852},{"$f":"((analysisnonex!R5-analysisnonex!L5)*100)/ABS(analysisnonex!L5)","v":1.813828435372332},{"$f":"((analysisnonex!S5-analysisnonex!L5)*100)/ABS(analysisnonex!L5)","v":-10.485694030150215},{"$f":"((analysisnonex!T5-analysisnonex!L5)*100)/ABS(analysisnonex!L5)","v":3.639695555050228},{"$f":"((analysisnonex!U5-analysisnonex!L5)*100)/ABS(analysisnonex!L5)","v":-10.806725611632045},{"$f":"((analysisnonex!V5-analysisnonex!L5)*100)/ABS(analysisnonex!L5)","v":-9.68311507644565},-5.896948862344336,"n",{"$f":"(analysisnonex!AI5-analysisnonex!AH5)*100/ABS(analysisnonex!AH5)","v":-19.204296159800563},{"$f":"(analysisnonex!AJ5-analysisnonex!AH5)*100/ABS(analysisnonex!AH5)","v":-1.1449671166575182},{"$f":"(analysisnonex!AK5-analysisnonex!AH5)*100/ABS(analysisnonex!AH5)","v":2.660593478942175},{"$f":"(analysisnonex!AL5-analysisnonex!AH5)*100/ABS(analysisnonex!AH5)","v":-2.3773560897216806},{"$f":"(analysisnonex!AM5-analysisnonex!AH5)*100/ABS(analysisnonex!AH5)","v":-7.328119440405855},{"$f":"(analysisnonex!AN5-analysisnonex!AH5)*100/ABS(analysisnonex!AH5)","v":-22.80720770820422},{"$f":"(analysisnonex!AO5-analysisnonex!AH5)*100/ABS(analysisnonex!AH5)","v":-4.839777651580306},{"$f":"(analysisnonex!AP5-analysisnonex!AH5)*100/ABS(analysisnonex!AH5)","v":-7.780545220192319},{"$f":"(analysisnonex!AQ5-analysisnonex!AH5)*100/ABS(analysisnonex!AH5)","v":-15.870012418145091},{"$f":"(analysisnonex!AR5-analysisnonex!AH5)*100/ABS(analysisnonex!AH5)","v":-7.688646233673207},-8.638033455943859,"n",{"$f":"(analysisnonex!BE5-analysisnonex!BD5)","v":0},{"$f":"analysisnonex!BF5-analysisnonex!BD5","v":0},{"$f":"analysisnonex!BG5-analysisnonex!BD5","v":0},{"$f":"analysisnonex!BH5-analysisnonex!BD5","v":0},{"$f":"analysisnonex!BI5-analysisnonex!BD5","v":0},{"$f":"analysisnonex!BJ5-analysisnonex!BD5","v":0},{"$f":"analysisnonex!BK5-analysisnonex!BD5","v":0},{"$f":"analysisnonex!BL5-analysisnonex!BD5","v":0},{"$f":"analysisnonex!BM5-analysisnonex!BD5","v":0},{"$f":"analysisnonex!BN5-analysisnonex!BD5","v":0},0,"n",{"$f":"(analysisnonex!BY5-analysisnonex!BX5)","v":0},{"$f":"analysisnonex!BZ5-analysisnonex!BX5","v":5.625},{"$f":"analysisnonex!CA5-analysisnonex!BX5","v":-2.5},{"$f":"analysisnonex!CB5-analysisnonex!BX5","v":2.5},{"$f":"analysisnonex!CC5-analysisnonex!BX5","v":-2.5},{"$f":"analysisnonex!CD5-analysisnonex!BX5","v":-2.5},{"$f":"analysisnonex!CE5-analysisnonex!BX5","v":2.5},{"$f":"analysisnonex!CF5-analysisnonex!BX5","v":-2.5},{"$f":"analysisnonex!CG5-analysisnonex!BX5","v":-2.5},{"$f":"analysisnonex!CH5-analysisnonex!BX5","v":2.5},0.0625,-1.25,"n",{"$f":"analysisnonex!ED5","v":"M"},{"$f":"analysisnonex!EE5","v":22},{"$f":"analysisnonex!EF5","v":"T"},{"$nulls":4},"2.00","1.00",{"v":-0.13214285714285715,"d":"-.132"},{"v":0.12954314857280988,"d":".130"},{"v":0.3105243198597754,"d":".311"},{"v":-0.38962389206924264,"d":"-.390"},{"v":0.12533817778352832,"d":".125"}," Incongruent ","Normal-BMI non-ADHD Females",-6,2.34]
[{"$f":"analysisnonex!A6","v":"FA102-nonexercise"},{"$f":"(analysisnonex!M6-analysisnonex!L6)*100/ABS(analysisnonex!L6)","v":2.318463981521574},{"$f":"((analysisnonex!N6-analysisnonex!L6)*100)/ABS(analysisnonex!L6)","v":0.6149848419228925},{"$f":"((analysisnonex!O6-analysisnonex!L6)*100)/ABS(analysisnonex!L6)","v":-0.5861123141331108},{"$f":"((analysisnonex!P6-analysisnonex!L6)*100)/ABS(analysisnonex!L6)","v":-13.982965208604021},{"$f":"((analysisnonex!Q6-analysisnonex!L6)*100)/ABS(analysisnonex!L6)","v":-12.135123430056318},{"$f":"((analysisnonex!R6-analysisnonex!L6)*100)/ABS(analysisnonex!L6)","v":-4.143207737837454},{"$f":"((analysisnonex!S6-analysisnonex!L6)*100)/ABS(analysisnonex!L6)","v":-8.86097877869209},{"$f":"((analysisnonex!T6-analysisnonex!L6)*100)/ABS(analysisnonex!L6)","v":-0.17034791395988044},{"$f":"((analysisnonex!U6-analysisnonex!L6)*100)/ABS(analysisnonex!L6)","v":-8.491410422982549},{"$f":"((analysisnonex!V6-analysisnonex!L6)*100)/ABS(analysisnonex!L6)","v":-6.314421827631022},-5.175111881045198,{"$f":"COUNT($L$2:INDEX(L:L,MATCH(9.99999999999999E+307,L:L)))","v":30},{"$f":"(analysisnonex!AI6-analysisnonex!AH6)*100/ABS(analysisnonex!AH6)","v":-8.902736980810943},{"$f":"(analysisnonex!AJ6-analysisnonex!AH6)*100/ABS(analysisnonex!AH6)","v":-4.9990391742388836},{"$f":"(analysisnonex!AK6-analysisnonex!AH6)*100/ABS(analysisnonex!AH6)","v":-11.560106514398656},{"$f":"(analysisnonex!AL6-analysisnonex!AH6)*100/ABS(analysisnonex!AH6)","v":0.2333433991270235},{"$f":"(analysisnonex!AM6-analysisnonex!AH6)*100/ABS(analysisnonex!AH6)","v":-18.01685562906635},{"$f":"(analysisnonex!AN6-analysisnonex!AH6)*100/ABS(analysisnonex!AH6)","v":-7.716803469953606},{"$f":"(analysisnonex!AO6-analysisnonex!AH6)*100/ABS(analysisnonex!AH6)","v":1.4851621050319925},{"$f":"(analysisnonex!AP6-analysisnonex!AH6)*100/ABS(analysisnonex!AH6)","v":-11.494221319351025},{"$f":"(analysisnonex!AQ6-analysisnonex!AH6)*100/ABS(analysisnonex!AH6)","v":-20.34479918741593},{"$f":"(analysisnonex!AR6-analysisnonex!AH6)*100/ABS(analysisnonex!AH6)","v":4.293518543937189},-7.702253822713919,{"$f":"COUNT($X$2:INDEX(X:X,MATCH(9.99999999999999E+307,X:X)))","v":30},{"$f":"(analysisnonex!BE6-analysisnonex!BD6)","v":2.25},{"$f":"analysisnonex!BF6-analysisnonex!BD6","v":-0.25},{"$f":"analysisnonex!BG6-analysisnonex!BD6","v":-0.25},{"$f":"analysisnonex!BH6-analysisnonex!BD6","v":-0.25},{"$f":"analysisnonex!BI6-analysisnonex!BD6","v":-0.25},{"$f":"analysisnonex!BJ6-analysisnonex!BD6","v":-0.25},{"$f":"analysisnonex!BK6-analysisnonex!BD6","v":-0.25},{"$f":"analysisnonex!BL6-analysisnonex!BD6","v":2.25},{"$f":"analysisnonex!BM6-analysisnonex!BD6","v":-0.25},{"$f":"analysisnonex!BN6-analysisnonex!BD6","v":-0.25},0.125,{"$f":"COUNT($AJ$2:INDEX(AJ:AJ,MATCH(9.99999999999999E+307,AJ:AJ)))","v":30},{"$f":"(analysisnonex!BY6-analysisnonex!BX6)","v":-2.5},{"$f":"analysisnonex!BZ6-analysisnonex!BX6","v":1.875},{"$f":"analysisnonex!CA6-analysisnonex!BX6","v":0},{"$f":"analysisnonex!CB6-analysisnonex!BX6","v":-2.5},{"$f":"analysisnonex!CC6-analysisnonex!BX6","v":-7.5},{"$f":"analysisnonex!CD6-analysisnonex!BX6","v":-2.5},{"$f":"analysisnonex!CE6-analysisnonex!BX6","v":-7.5},{"$f":"analysisnonex!CF6-analysisnonex!BX6","v":-5},{"$f":"analysisnonex!CG6-analysisnonex!BX6","v":-2.5},{"$f":"analysisnonex!CH6-analysisnonex!BX6","v":-7.5},-3.5625,4,{"$f":"COUNT($AJ$2:INDEX(AV:AV,MATCH(9.99999999999999E+307,AV:AV)))","v":365},{"$f":"analysisnonex!ED6","v":"F"},{"$f":"analysisnonex!EE6","v":21},{"$f":"analysisnonex!EF6","v":"F"},{"$nulls":3},"ADHD","1.00","2.00",{"v":3.969047313034935e-15,"d":"3.969E-15"},{"v":0.2779980019275736,"d":".278"},{"v":1,"d":"1.000"},{"v":-0.552551130896338,"d":"-.553"},{"v":0.552551130896346,"d":".553"},""]
[{"$f":"analysisnonex!A7","v":"JF101-nonexercise"},{"$f":"(analysisnonex!M7-analysisnonex!L7)*100/ABS(analysisnonex!L7)","v":0.49287084786626434},{"$f":"((analysisnonex!N7-analysisnonex!L7)*100)/ABS(analysisnonex!L7)","v":6.070656709391669},{"$f":"((analysisnonex!O7-analysisnonex!L7)*100)/ABS(analysisnonex!L7)","v":-3.45152247876232},{"$f":"((analysisnonex!P7-analysisnonex!L7)*100)/ABS(analysisnonex!L7)","v":-6.882360073894953},{"$f":"((analysisnonex!Q7-analysisnonex!L7)*100)/ABS(analysisnonex!L7)","v":9.26611459425533},{"$f":"((analysisnonex!R7-analysisnonex!L7)*100)/ABS(analysisnonex!L7)","v":-9.32888251699369},{"$f":"((analysisnonex!S7-analysisnonex!L7)*100)/ABS(analysisnonex!L7)","v":-6.932289103345945},{"$f":"((analysisnonex!T7-analysisnonex!L7)*100)/ABS(analysisnonex!L7)","v":-10.926611459425523},{"$f":"((analysisnonex!U7-analysisnonex!L7)*100)/ABS(analysisnonex!L7)","v":3.1605075642479705},{"$f":"((analysisnonex!V7-analysisnonex!L7)*100)/ABS(analysisnonex!L7)","v":3.5599397998559343},-1.4971576116805265,"se",{"$f":"(analysisnonex!AI7-analysisnonex!AH7)*100/ABS(analysisnonex!AH7)","v":-15.999564819136744},{"$f":"(analysisnonex!AJ7-analysisnonex!AH7)*100/ABS(analysisnonex!AH7)","v":-13.746450994774325},{"$f":"(analysisnonex!AK7-analysisnonex!AH7)*100/ABS(analysisnonex!AH7)","v":-6.362414411505628},{"$f":"(analysisnonex!AL7-analysisnonex!AH7)*100/ABS(analysisnonex!AH7)","v":-11.581075247684607},{"$f":"(analysisnonex!AM7-analysisnonex!AH7)*100/ABS(analysisnonex!AH7)","v":-4.846300436233734},{"$f":"(analysisnonex!AN7-analysisnonex!AH7)*100/ABS(analysisnonex!AH7)","v":5.20146417303351},{"$f":"(analysisnonex!AO7-analysisnonex!AH7)*100/ABS(analysisnonex!AH7)","v":-3.3336959840527376},{"$f":"(analysisnonex!AP7-analysisnonex!AH7)*100/ABS(analysisnonex!AH7)","v":1.3269506806719904},{"$f":"(analysisnonex!AQ7-analysisnonex!AH7)*100/ABS(analysisnonex!AH7)","v":-8.885761513867893},{"$f":"(analysisnonex!AR7-analysisnonex!AH7)*100/ABS(analysisnonex!AH7)","v":-5.1270622835063016},-6.335391083705647,"se",{"$f":"(analysisnonex!BE7-analysisnonex!BD7)","v":-0.25},{"$f":"analysisnonex!BF7-analysisnonex!BD7","v":2.25},{"$f":"analysisnonex!BG7-analysisnonex!BD7","v":-0.25},{"$f":"analysisnonex!BH7-analysisnonex!BD7","v":-0.25},{"$f":"analysisnonex!BI7-analysisnonex!BD7","v":7.25},{"$f":"analysisnonex!BJ7-analysisnonex!BD7","v":-0.25},{"$f":"analysisnonex!BK7-analysisnonex!BD7","v":-0.25},{"$f":"analysisnonex!BL7-analysisnonex!BD7","v":-0.25},{"$f":"analysisnonex!BM7-analysisnonex!BD7","v":-0.25},{"$f":"analysisnonex!BN7-analysisnonex!BD7","v":-0.25},0.375,"se",{"$f":"(analysisnonex!BY7-analysisnonex!BX7)","v":-5},{"$f":"analysisnonex!BZ7-analysisnonex!BX7","v":0.625},{"$f":"analysisnonex!CA7-analysisnonex!BX7","v":-2.5},{"$f":"analysisnonex!CB7-analysisnonex!BX7","v":-5},{"$f":"analysisnonex!CC7-analysisnonex!BX7","v":0},{"$f":"analysisnonex!CD7-analysisnonex!BX7","v":-5},{"$f":"analysisnonex!CE7-analysisnonex!BX7","v":2.5},{"$f":"analysisnonex!CF7-analysisnonex!BX7","v":5},{"$f":"analysisnonex!CG7-analysisnonex!BX7","v":-2.5},{"$f":"analysisnonex!CH7-analysisnonex!BX7","v":-2.5},-1.4375,0.5,"se",{"$f":"analysisnonex!ED7","v":"M"},{"$f":"analysisnonex!EE7","v":30},{"$f":"analysisnonex!EF7","v":"T"},{"$nulls":4},"2.00","1.00",{"v":-3.969047313034935e-15,"d":"-3.969E-15"},{"v":0.2779980019275736,"d":".278"},{"v":1,"d":"1.000"},{"v":-0.552551130896346,"d":"-.553"},{"v":0.552551130896338,"d":".553"}]
[{"$f":"analysisnonex!A8","v":"JH102-nonexercise"},{"$f":"(analysisnonex!M8-analysisnonex!L8)*100/ABS(analysisnonex!L8)","v":-3.202372127501856},{"$f":"((analysisnonex!N8-analysisnonex!L8)*100)/ABS(analysisnonex!L8)","v":4.610822831727204},{"$f":"((analysisnonex!O8-analysisnonex!L8)*100)/ABS(analysisnonex!L8)","v":-0.03706449221646243},{"$f":"((analysisnonex!P8-analysisnonex!L8)*100)/ABS(analysisnonex!L8)","v":-4.662713120830241},{"$f":"((analysisnonex!Q8-analysisnonex!L8)*100)/ABS(analysisnonex!L8)","v":-8.673091178650852},{"$f":"((analysisnonex!R8-analysisnonex!L8)*100)/ABS(analysisnonex!L8)","v":-3.9362490733876987},{"$f":"((analysisnonex!S8-analysisnonex!L8)*100)/ABS(analysisnonex!L8)","v":-11.126760563380277},{"$f":"((analysisnonex!T8-analysisnonex!L8)*100)/ABS(analysisnonex!L8)","v":-4.017790956263898},{"$f":"((analysisnonex!U8-analysisnonex!L8)*100)/ABS(analysisnonex!L8)","v":-10.644922164566346},{"$f":"((analysisnonex!V8-analysisnonex!L8)*100)/ABS(analysisnonex!L8)","v":-7.257227575982216},{"$f":"AVERAGE(B8:K8)","v":-4.894736842105265},"se",{"$f":"(analysisnonex!AI8-analysisnonex!AH8)*100/ABS(analysisnonex!AH8)","v":-4.35750287345817},{"$f":"(analysisnonex!AJ8-analysisnonex!AH8)*100/ABS(analysisnonex!AH8)","v":-8.431112140005432},{"$f":"(analysisnonex!AK8-analysisnonex!AH8)*100/ABS(analysisnonex!AH8)","v":-2.2130704779078583},{"$f":"(analysisnonex!AL8-analysisnonex!AH8)*100/ABS(analysisnonex!AH8)","v":-12.435677181695961},{"$f":"(analysisnonex!AM8-analysisnonex!AH8)*100/ABS(analysisnonex!AH8)","v":2.5956567121140237},{"$f":"(analysisnonex!AN8-analysisnonex!AH8)*100/ABS(analysisnonex!AH8)","v":-6.940569168098306},{"$f":"(analysisnonex!AO8-analysisnonex!AH8)*100/ABS(analysisnonex!AH8)","v":8.492845799877363},{"$f":"(analysisnonex!AP8-analysisnonex!AH8)*100/ABS(analysisnonex!AH8)","v":18.80074242848848},{"$f":"(analysisnonex!AQ8-analysisnonex!AH8)*100/ABS(analysisnonex!AH8)","v":21.619371372639822},{"$f":"(analysisnonex!AR8-analysisnonex!AH8)*100/ABS(analysisnonex!AH8)","v":7.843017801225756},{"$f":"AVERAGE(N8:W8)","v":2.4973702273179716},"se",{"$f":"(analysisnonex!BE8-analysisnonex!BD8)","v":0},{"$f":"analysisnonex!BF8-analysisnonex!BD8","v":2.5},{"$f":"analysisnonex!BG8-analysisnonex!BD8","v":0},{"$f":"analysisnonex!BH8-analysisnonex!BD8","v":0},{"$f":"analysisnonex!BI8-analysisnonex!BD8","v":0},{"$f":"analysisnonex!BJ8-analysisnonex!BD8","v":0},{"$f":"analysisnonex!BK8-analysisnonex!BD8","v":0},{"$f":"analysisnonex!BL8-analysisnonex!BD8","v":0},{"$f":"analysisnonex!BM8-analysisnonex!BD8","v":0},{"$f":"analysisnonex!BN8-analysisnonex!BD8","v":0},0.125,{"$f":"AK4/SQRT(AK6)","v":0.05790586395573224},{"$f":"(analysisnonex!BY8-analysisnonex!BX8)","v":-2.5},{"$f":"analysisnonex!BZ8-analysisnonex!BX8","v":-1.875},{"$f":"analysisnonex!CA8-analysisnonex!BX8","v":-5},{"$f":"analysisnonex!CB8-analysisnonex!BX8","v":-5},{"$f":"analysisnonex!CC8-analysisnonex!BX8","v":-2.5},{"$f":"analysisnonex!CD8-analysisnonex!BX8","v":-5},{"$f":"analysisnonex!CE8-analysisnonex!BX8","v":-2.5},{"$f":"analysisnonex!CF8-analysisnonex!BX8","v":-5},{"$f":"analysisnonex!CG8-analysisnonex!BX8","v":-2.5},{"$f":"analysisnonex!CH8-analysisnonex!BX8","v":0},-3.1875,-0.5,{"$f":"AX4/SQRT(AX6)","v":0.14732682737345207},{"$f":"analysisnonex!ED8","v":"F"},{"$f":"analysisnonex!EE8","v":19},{"$f":"analysisnonex!EF8","v":"F"},null,null,"high-BMI","non-ADHD","1.00","2.00",{"v":0.06570512820512839,"d":".066"},{"v":0.17355261626990154,"d":".174"},{"v":0.705915310229486,"d":".706"},{"v":-0.2792494891843045,"d":"-.279"},{"v":0.4106597455945613,"d":".411"}]
[{"$f":"analysisnonex!A9","v":"JR101-nonexercise"},{"$f":"(analysisnonex!M9-analysisnonex!L9)*100/ABS(analysisnonex!L9)","v":-4.060373341443951},{"$f":"((analysisnonex!N9-analysisnonex!L9)*100)/ABS(analysisnonex!L9)","v":-9.696612553701108},{"$f":"((analysisnonex!O9-analysisnonex!L9)*100)/ABS(analysisnonex!L9)","v":0.06938372048814749},{"$f":"((analysisnonex!P9-analysisnonex!L9)*100)/ABS(analysisnonex!L9)","v":-2.3115234003725798},{"$f":"((analysisnonex!Q9-analysisnonex!L9)*100)/ABS(analysisnonex!L9)","v":1.8087290423145534},{"$f":"((analysisnonex!R9-analysisnonex!L9)*100)/ABS(analysisnonex!L9)","v":-1.2089875679580295},{"$f":"((analysisnonex!S9-analysisnonex!L9)*100)/ABS(analysisnonex!L9)","v":-7.002052997756916},{"$f":"((analysisnonex!T9-analysisnonex!L9)*100)/ABS(analysisnonex!L9)","v":-5.509827776299288},{"$f":"((analysisnonex!U9-analysisnonex!L9)*100)/ABS(analysisnonex!L9)","v":-3.68018857164582},{"$f":"((analysisnonex!V9-analysisnonex!L9)*100)/ABS(analysisnonex!L9)","v":-11.939702695510015},-4.353115614188501,{"$f":"M4/SQRT(M6)","v":1.1402279573233587},{"$f":"(analysisnonex!AI9-analysisnonex!AH9)*100/ABS(analysisnonex!AH9)","v":-16.107134951671235},{"$f":"(analysisnonex!AJ9-analysisnonex!AH9)*100/ABS(analysisnonex!AH9)","v":-1.666051796650216},{"$f":"(analysisnonex!AK9-analysisnonex!AH9)*100/ABS(analysisnonex!AH9)","v":-9.652475466686367},{"$f":"(analysisnonex!AL9-analysisnonex!AH9)*100/ABS(analysisnonex!AH9)","v":-14.622592783885503},{"$f":"(analysisnonex!AM9-analysisnonex!AH9)*100/ABS(analysisnonex!AH9)","v":-1.3089352910794871},{"$f":"(analysisnonex!AN9-analysisnonex!AH9)*100/ABS(analysisnonex!AH9)","v":-5.316904006493039},{"$f":"(analysisnonex!AO9-analysisnonex!AH9)*100/ABS(analysisnonex!AH9)","v":5.541208588504361},{"$f":"(analysisnonex!AP9-analysisnonex!AH9)*100/ABS(analysisnonex!AH9)","v":-3.6434737696451083},{"$f":"(analysisnonex!AQ9-analysisnonex!AH9)*100/ABS(analysisnonex!AH9)","v":1.9995572935881198},{"$f":"(analysisnonex!AR9-analysisnonex!AH9)*100/ABS(analysisnonex!AH9)","v":-3.779237069283584},-4.855603925330206,{"$f":"Y4/SQRT(Y6)","v":0.9474955513783438},{"$f":"(analysisnonex!BE9-analysisnonex!BD9)","v":-1},{"$f":"analysisnonex!BF9-analysisnonex!BD9","v":-1},{"$f":"analysisnonex!BG9-analysisnonex!BD9","v":-1},{"$f":"analysisnonex!BH9-analysisnonex!BD9","v":-1},{"$f":"analysisnonex!BI9-analysisnonex!BD9","v":-1},{"$f":"analysisnonex!BJ9-analysisnonex!BD9","v":-1},{"$f":"analysisnonex!BK9-analysisnonex!BD9","v":-1},{"$f":"analysisnonex!BL9-analysisnonex!BD9","v":-1},{"$f":"analysisnonex!BM9-analysisnonex!BD9","v":-1},{"$f":"analysisnonex!BN9-analysisnonex!BD9","v":-1},-0.5,null,{"$f":"(analysisnonex!BY9-analysisnonex!BX9)","v":-2.5},{"$f":"analysisnonex!BZ9-analysisnonex!BX9","v":3.125},{"$f":"analysisnonex!CA9-analysisnonex!BX9","v":-2.5},{"$f":"analysisnonex!CB9-analysisnonex!BX9","v":0},{"$f":"analysisnonex!CC9-analysisnonex!BX9","v":-2.5},{"$f":"analysisnonex!CD9-analysisnonex!BX9","v":-2.5},{"$f":"analysisnonex!CE9-analysisnonex!BX9","v":-2.5},{"$f":"analysisnonex!CF9-analysisnonex!BX9","v":0},{"$f":"analysisnonex!CG9-analysisnonex!BX9","v":0},{"$f":"analysisnonex!CH9-analysisnonex!BX9","v":0},-0.9375,0.25,null,{"$f":"analysisnonex!ED9","v":"F"},{"$f":"analysisnonex!EE9","v":27},{"$f":"analysisnonex!EF9","v":"F"},{"$nulls":4},"2.00","1.00",{"v":-0.06570512820512839,"d":"-.066"},{"v":0.17355261626990154,"d":".174"},{"v":0.705915310229486,"d":".706"},{"v":-0.4106597455945613,"d":"-.411"},{"v":0.2792494891843045,"d":".279"}]
[{"$f":"analysisnonex!A10","v":"MR101-nonexercise"},{"$f":"(analysisnonex!M10-analysisnonex!L10)*100/ABS(analysisnonex!L10)","v":-5.350304921287762},{"$f":"((analysisnonex!N10-analysisnonex!L10)*100)/ABS(analysisnonex!L10)","v":12.265399706897375},{"$f":"((analysisnonex!O10-analysisnonex!L10)*100)/ABS(analysisnonex!L10)","v":-0.616933768259811},{"$f":"((analysisnonex!P10-analysisnonex!L10)*100)/ABS(analysisnonex!L10)","v":0.1335507965773213},{"$f":"((analysisnonex!Q10-analysisnonex!L10)*100)/ABS(analysisnonex!L10)","v":-5.563040703446319},{"$f":"((analysisnonex!R10-analysisnonex!L10)*100)/ABS(analysisnonex!L10)","v":-3.7016026095589294},{"$f":"((analysisnonex!S10-analysisnonex!L10)*100)/ABS(analysisnonex!L10)","v":-1.3851463149435117},{"$f":"((analysisnonex!T10-analysisnonex!L10)*100)/ABS(analysisnonex!L10)","v":-6.106698813407084},{"$f":"((analysisnonex!U10-analysisnonex!L10)*100)/ABS(analysisnonex!L10)","v":-0.16191556753179273},{"$f":"((analysisnonex!V10-analysisnonex!L10)*100)/ABS(analysisnonex!L10)","v":-7.820403725239916},-1.830709592020043,"change ex- nonex",{"$f":"(analysisnonex!AI10-analysisnonex!AH10)*100/ABS(analysisnonex!AH10)","v":-0.18618330961071092},{"$f":"(analysisnonex!AJ10-analysisnonex!AH10)*100/ABS(analysisnonex!AH10)","v":-4.152697296969128},{"$f":"(analysisnonex!AK10-analysisnonex!AH10)*100/ABS(analysisnonex!AH10)","v":-15.32369587361122},{"$f":"(analysisnonex!AL10-analysisnonex!AH10)*100/ABS(analysisnonex!AH10)","v":-10.385790705675229},{"$f":"(analysisnonex!AM10-analysisnonex!AH10)*100/ABS(analysisnonex!AH10)","v":-6.075242341862242},{"$f":"(analysisnonex!AN10-analysisnonex!AH10)*100/ABS(analysisnonex!AH10)","v":4.266026268036499},{"$f":"(analysisnonex!AO10-analysisnonex!AH10)*100/ABS(analysisnonex!AH10)","v":-5.802038572324802},{"$f":"(analysisnonex!AP10-analysisnonex!AH10)*100/ABS(analysisnonex!AH10)","v":2.1883284651344694},{"$f":"(analysisnonex!AQ10-analysisnonex!AH10)*100/ABS(analysisnonex!AH10)","v":-4.459629926943295},{"$f":"(analysisnonex!AR10-analysisnonex!AH10)*100/ABS(analysisnonex!AH10)","v":-13.326947335757325},-5.325787062958299,"change ex- nonex",{"$f":"(analysisnonex!BE10-analysisnonex!BD10)","v":-1},{"$f":"analysisnonex!BF10-analysisnonex!BD10","v":-1},{"$f":"analysisnonex!BG10-analysisnonex!BD10","v":-1},{"$f":"analysisnonex!BH10-analysisnonex!BD10","v":-1},{"$f":"analysisnonex!BI10-analysisnonex!BD10","v":-1},{"$f":"analysisnonex!BJ10-analysisnonex!BD10","v":-1},{"$f":"analysisnonex!BK10-analysisnonex!BD10","v":1.5},{"$f":"analysisnonex!BL10-analysisnonex!BD10","v":-1},{"$f":"analysisnonex!BM10-analysisnonex!BD10","v":1.5},{"$f":"analysisnonex!BN10-analysisnonex!BD10","v":-1},-0.25,"p-value ttest after exercise",{"$f":"(analysisnonex!BY10-analysisnonex!BX10)","v":2.5},{"$f":"analysisnonex!BZ10-analysisnonex!BX10","v":3.125},{"$f":"analysisnonex!CA10-analysisnonex!BX10","v":2.5},{"$f":"analysisnonex!CB10-analysisnonex!BX10","v":5},{"$f":"analysisnonex!CC10-analysisnonex!BX10","v":0},{"$f":"analysisnonex!CD10-analysisnonex!BX10","v":2.5},{"$f":"analysisnonex!CE10-analysisnonex!BX10","v":2.5},{"$f":"analysisnonex!CF10-analysisnonex!BX10","v":0},{"$f":"analysisnonex!CG10-analysisnonex!BX10","v":0},{"$f":"analysisnonex!CH10-analysisnonex!BX10","v":2.5},2.0625,2.25,"p-value ttest after rest",{"$f":"analysisnonex!ED10","v":"F"},{"$f":"analysisnonex!EE10","v":22},{"$f":"analysisnonex!EF10","v":"F"},{"$nulls":3},"ADHD","1.00","2.00",{"v":0.24999999999998243,"d":".250"},{"v":0.43067265269776545,"d":".431"},{"v":0.5630866417307892,"d":".563"},{"v":-0.6060085311558473,"d":"-.606"},{"v":1.106008531155812,"d":"1.106"}]
[{"$f":"analysisnonex!A11","v":"RS101-nonexercise"},{"$f":"(analysisnonex!M11-analysisnonex!L11)*100/ABS(analysisnonex!L11)","v":-5.09460189507293},{"$f":"((analysisnonex!N11-analysisnonex!L11)*100)/ABS(analysisnonex!L11)","v":-12.506145936397903},{"$f":"((analysisnonex!O11-analysisnonex!L11)*100)/ABS(analysisnonex!L11)","v":-10.84294932106371},{"$f":"((analysisnonex!P11-analysisnonex!L11)*100)/ABS(analysisnonex!L11)","v":-14.078291642133506},{"$f":"((analysisnonex!Q11-analysisnonex!L11)*100)/ABS(analysisnonex!L11)","v":0.36238262020237233},{"$f":"((analysisnonex!R11-analysisnonex!L11)*100)/ABS(analysisnonex!L11)","v":-4.074831707568751},{"$f":"((analysisnonex!S11-analysisnonex!L11)*100)/ABS(analysisnonex!L11)","v":0.3259622563629362},{"$f":"((analysisnonex!T11-analysisnonex!L11)*100)/ABS(analysisnonex!L11)","v":9.789186793976075},{"$f":"((analysisnonex!U11-analysisnonex!L11)*100)/ABS(analysisnonex!L11)","v":-6.284333780494464},{"$f":"((analysisnonex!V11-analysisnonex!L11)*100)/ABS(analysisnonex!L11)","v":-9.222243130208868},{"$f":"AVERAGE(B11:K11)","v":-5.162586574239874},"change ex- nonex",{"$f":"(analysisnonex!AI11-analysisnonex!AH11)*100/ABS(analysisnonex!AH11)","v":-10.389455921380307},{"$f":"(analysisnonex!AJ11-analysisnonex!AH11)*100/ABS(analysisnonex!AH11)","v":-11.939399796314339},{"$f":"(analysisnonex!AK11-analysisnonex!AH11)*100/ABS(analysisnonex!AH11)","v":1.8651362984217918},{"$f":"(analysisnonex!AL11-analysisnonex!AH11)*100/ABS(analysisnonex!AH11)","v":3.392778822637347},{"$f":"(analysisnonex!AM11-analysisnonex!AH11)*100/ABS(analysisnonex!AH11)","v":-5.234127013626141},{"$f":"(analysisnonex!AN11-analysisnonex!AH11)*100/ABS(analysisnonex!AH11)","v":-8.426937058154497},{"$f":"(analysisnonex!AO11-analysisnonex!AH11)*100/ABS(analysisnonex!AH11)","v":0.5196214717404624},{"$f":"(analysisnonex!AP11-analysisnonex!AH11)*100/ABS(analysisnonex!AH11)","v":-5.025981073587036},{"$f":"(analysisnonex!AQ11-analysisnonex!AH11)*100/ABS(analysisnonex!AH11)","v":6.199032121378804},{"$f":"(analysisnonex!AR11-analysisnonex!AH11)*100/ABS(analysisnonex!AH11)","v":6.150712528155447},{"$f":"AVERAGE(N11:W11)","v":-2.288861962072846},"change ex- nonex",{"$f":"(analysisnonex!BE11-analysisnonex!BD11)","v":-0.75},{"$f":"analysisnonex!BF11-analysisnonex!BD11","v":-0.75},{"$f":"analysisnonex!BG11-analysisnonex!BD11","v":1.75},{"$f":"analysisnonex!BH11-analysisnonex!BD11","v":-0.75},{"$f":"analysisnonex!BI11-analysisnonex!BD11","v":6.75},{"$f":"analysisnonex!BJ11-analysisnonex!BD11","v":1.75},{"$f":"analysisnonex!BK11-analysisnonex!BD11","v":-0.75},{"$f":"analysisnonex!BL11-analysisnonex!BD11","v":1.75},{"$f":"analysisnonex!BM11-analysisnonex!BD11","v":-0.75},{"$f":"analysisnonex!BN11-analysisnonex!BD11","v":-0.75},0.375,{"$f":"TTEST(analysisnonex!BO2:BO31,analysisnonex!BD2:BD31,2,1)","v":1.007867537424015E-3},{"$f":"(analysisnonex!BY11-analysisnonex!BX11)","v":-5},{"$f":"analysisnonex!BZ11-analysisnonex!BX11","v":-1.25},{"$f":"analysisnonex!CA11-analysisnonex!BX11","v":-5},{"$f":"analysisnonex!CB11-analysisnonex!BX11","v":-5},{"$f":"analysisnonex!CC11-analysisnonex!BX11","v":-5},{"$f":"analysisnonex!CD11-analysisnonex!BX11","v":-5},{"$f":"analysisnonex!CE11-analysisnonex!BX11","v":-2.5},{"$f":"analysisnonex!CF11-analysisnonex!BX11","v":-5},{"$f":"analysisnonex!CG11-analysisnonex!BX11","v":-2.5},{"$f":"analysisnonex!CH11-analysisnonex!BX11","v":-2.5},-3.875,1,{"$f":"TTEST(analysisnonex!CK2:CK74,analysisnonex!BZ2:BZ74,2,1)","v":0.26206197479533344},{"$f":"analysisnonex!ED11","v":"F"},{"$f":"analysisnonex!EE11","v":25},{"$f":"analysisnonex!EF11","v":"F"},{"$nulls":4},"2.00","1.00",{"v":-0.24999999999998243,"d":"-.250"},{"v":0.43067265269776545,"d":".431"},{"v":0.5630866417307892,"d":".563"},{"v":-1.106008531155812,"d":"-1.106"},{"v":0.6060085311558473,"d":".606"}]
[{"$f":"analysisnonex!A12","v":"SN102-nonexercise"},{"$f":"(analysisnonex!M12-analysisnonex!L12)*100/ABS(analysisnonex!L12)","v":-5.25991359720839},{"$f":"((analysisnonex!N12-analysisnonex!L12)*100)/ABS(analysisnonex!L12)","v":-14.918847196610779},{"$f":"((analysisnonex!O12-analysisnonex!L12)*100)/ABS(analysisnonex!L12)","v":-14.950190410021497},{"$f":"((analysisnonex!P12-analysisnonex!L12)*100)/ABS(analysisnonex!L12)","v":-17.26436433351271},{"$f":"((analysisnonex!Q12-analysisnonex!L12)*100)/ABS(analysisnonex!L12)","v":-19.724806586253926},{"$f":"((analysisnonex!R12-analysisnonex!L12)*100)/ABS(analysisnonex!L12)","v":-14.840489163083985},{"$f":"((analysisnonex!S12-analysisnonex!L12)*100)/ABS(analysisnonex!L12)","v":-14.036013352208936},{"$f":"((analysisnonex!T12-analysisnonex!L12)*100)/ABS(analysisnonex!L12)","v":-12.494972026182046},{"$f":"((analysisnonex!U12-analysisnonex!L12)*100)/ABS(analysisnonex!L12)","v":-20.675550726378987},{"$f":"((analysisnonex!V12-analysisnonex!L12)*100)/ABS(analysisnonex!L12)","v":-15.702427531878676},-14.98675749233399,{"$f":"AVERAGE($L$2:INDEX(L:L,MATCH(9.99999999999999E+307,L:L)))-PlotArray1nonex!M2","v":0},{"$f":"(analysisnonex!AI12-analysisnonex!AH12)*100/ABS(analysisnonex!AH12)","v":2.021947287215917},{"$f":"(analysisnonex!AJ12-analysisnonex!AH12)*100/ABS(analysisnonex!AH12)","v":3.902895678152682},{"$f":"(analysisnonex!AK12-analysisnonex!AH12)*100/ABS(analysisnonex!AH12)","v":-10.728629132452285},{"$f":"(analysisnonex!AL12-analysisnonex!AH12)*100/ABS(analysisnonex!AH12)","v":17.23422574847878},{"$f":"(analysisnonex!AM12-analysisnonex!AH12)*100/ABS(analysisnonex!AH12)","v":-0.5351023686658899},{"$f":"(analysisnonex!AN12-analysisnonex!AH12)*100/ABS(analysisnonex!AH12)","v":-2.5431809119854902},{"$f":"(analysisnonex!AO12-analysisnonex!AH12)*100/ABS(analysisnonex!AH12)","v":2.926304962120989},{"$f":"(analysisnonex!AP12-analysisnonex!AH12)*100/ABS(analysisnonex!AH12)","v":-0.6304499829529906},{"$f":"(analysisnonex!AQ12-analysisnonex!AH12)*100/ABS(analysisnonex!AH12)","v":-0.6304499829529906},{"$f":"(analysisnonex!AR12-analysisnonex!AH12)*100/ABS(analysisnonex!AH12)","v":1.2187158698880605},1.2236277166846783,{"$f":"AVERAGE($X$2:INDEX(X:X,MATCH(9.99999999999999E+307,X:X)))-PlotArray1nonex!Y2","v":0},{"$f":"(analysisnonex!BE12-analysisnonex!BD12)","v":2},{"$f":"analysisnonex!BF12-analysisnonex!BD12","v":-0.5},{"$f":"analysisnonex!BG12-analysisnonex!BD12","v":-0.5},{"$f":"analysisnonex!BH12-analysisnonex!BD12","v":-0.5},{"$f":"analysisnonex!BI12-analysisnonex!BD12","v":-0.5},{"$f":"analysisnonex!BJ12-analysisnonex!BD12","v":-0.5},{"$f":"analysisnonex!BK12-analysisnonex!BD12","v":-0.5},{"$f":"analysisnonex!BL12-analysisnonex!BD12","v":-0.5},{"$f":"analysisnonex!BM12-analysisnonex!BD12","v":-0.5},{"$f":"analysisnonex!BN12-analysisnonex!BD12","v":-0.5},-0.125,null,{"$f":"(analysisnonex!BY12-analysisnonex!BX12)","v":7.5},{"$f":"analysisnonex!BZ12-analysisnonex!BX12","v":8.75},{"$f":"analysisnonex!CA12-analysisnonex!BX12","v":0},{"$f":"analysisnonex!CB12-analysisnonex!BX12","v":5},{"$f":"analysisnonex!CC12-analysisnonex!BX12","v":2.5},{"$f":"analysisnonex!CD12-analysisnonex!BX12","v":15},{"$f":"analysisnonex!CE12-analysisnonex!BX12","v":5},{"$f":"analysisnonex!CF12-analysisnonex!BX12","v":0},{"$f":"analysisnonex!CG12-analysisnonex!BX12","v":5},{"$f":"analysisnonex!CH12-analysisnonex!BX12","v":2.5},5.125,1,"p-value ttest after rest vs exercise",{"$f":"analysisnonex!ED12","v":"F"},{"$f":"analysisnonex!EE12","v":28},{"$f":"analysisnonex!EF12","v":"F"},null,"Male","normal-BMI","non-ADHD","1.00","2.00",{"v":-0.04166666666666327,"d":"-.042"},{"v":0.2269844180786031,"d":".227"},{"v":0.8547809331754156,"d":".855"},{"v":-0.49282277583127465,"d":"-.493"},{"v":0.40948944249794805,"d":".409"}]
[{"$f":"analysisnonex!A13","v":"TB101-nonexercise"},{"$f":"(analysisnonex!M13-analysisnonex!L13)*100/ABS(analysisnonex!L13)","v":5.356697430780732},{"$f":"((analysisnonex!N13-analysisnonex!L13)*100)/ABS(analysisnonex!L13)","v":-2.781242205038672},{"$f":"((analysisnonex!O13-analysisnonex!L13)*100)/ABS(analysisnonex!L13)","v":4.302818658019442},{"$f":"((analysisnonex!P13-analysisnonex!L13)*100)/ABS(analysisnonex!L13)","v":-0.380394113245209},{"$f":"((analysisnonex!Q13-analysisnonex!L13)*100)/ABS(analysisnonex!L13)","v":1.1785981541531556},{"$f":"((analysisnonex!R13-analysisnonex!L13)*100)/ABS(analysisnonex!L13)","v":-1.820902968321287},{"$f":"((analysisnonex!S13-analysisnonex!L13)*100)/ABS(analysisnonex!L13)","v":-3.286355699675736},{"$f":"((analysisnonex!T13-analysisnonex!L13)*100)/ABS(analysisnonex!L13)","v":-3.59191818408581},{"$f":"((analysisnonex!U13-analysisnonex!L13)*100)/ABS(analysisnonex!L13)","v":-2.7750062359690824},{"$f":"((analysisnonex!V13-analysisnonex!L13)*100)/ABS(analysisnonex!L13)","v":-4.346470441506616},{"$f":"AVERAGE(B13:K13)","v":-0.8144175604889081},{"$f":"SQRT(((M4*M4)/M6)+((PlotArray1nonex!M4*PlotArray1nonex!M4)/PlotArray1nonex!M6))","v":1.6125258414436645},{"$f":"(analysisnonex!AI13-analysisnonex!AH13)*100/ABS(analysisnonex!AH13)","v":-10.051932590266228},{"$f":"(analysisnonex!AJ13-analysisnonex!AH13)*100/ABS(analysisnonex!AH13)","v":8.808013629739113},{"$f":"(analysisnonex!AK13-analysisnonex!AH13)*100/ABS(analysisnonex!AH13)","v":-8.28252971242071},{"$f":"(analysisnonex!AL13-analysisnonex!AH13)*100/ABS(analysisnonex!AH13)","v":-2.9989531375084644},{"$f":"(analysisnonex!AM13-analysisnonex!AH13)*100/ABS(analysisnonex!AH13)","v":-7.523041238171478},{"$f":"(analysisnonex!AN13-analysisnonex!AH13)*100/ABS(analysisnonex!AH13)","v":12.843565901020174},{"$f":"(analysisnonex!AO13-analysisnonex!AH13)*100/ABS(analysisnonex!AH13)","v":-8.418006034854361},{"$f":"(analysisnonex!AP13-analysisnonex!AH13)*100/ABS(analysisnonex!AH13)","v":-0.04721144569656616},{"$f":"(analysisnonex!AQ13-analysisnonex!AH13)*100/ABS(analysisnonex!AH13)","v":-0.3838495802286627},{"$f":"(analysisnonex!AR13-analysisnonex!AH13)*100/ABS(analysisnonex!AH13)","v":-0.802594576841756},{"$f":"AVERAGE(N13:W13)","v":-1.6856538785228938},{"$f":"SQRT(((Y4*Y4)/Y6)+((PlotArray1nonex!Y4*PlotArray1nonex!Y4)/PlotArray1nonex!Y6))","v":1.3399610590474278},{"$f":"(analysisnonex!BE13-analysisnonex!BD13)","v":0},{"$f":"analysisnonex!BF13-analysisnonex!BD13","v":0},{"$f":"analysisnonex!BG13-analysisnonex!BD13","v":0},{"$f":"analysisnonex!BH13-analysisnonex!BD13","v":0},{"$f":"analysisnonex!BI13-analysisnonex!BD13","v":0},{"$f":"analysisnonex!BJ13-analysisnonex!BD13","v":0},{"$f":"analysisnonex!BK13-analysisnonex!BD13","v":0},{"$f":"analysisnonex!BL13-analysisnonex!BD13","v":0},{"$f":"analysisnonex!BM13-analysisnonex!BD13","v":0},{"$f":"analysisnonex!BN13-analysisnonex!BD13","v":0},0,null,{"$f":"(analysisnonex!BY13-analysisnonex!BX13)","v":-7.5},{"$f":"analysisnonex!BZ13-analysisnonex!BX13","v":0.625},{"$f":"analysisnonex!CA13-analysisnonex!BX13","v":-5},{"$f":"analysisnonex!CB13-analysisnonex!BX13","v":-2.5},{"$f":"analysisnonex!CC13-analysisnonex!BX13","v":-5},{"$f":"analysisnonex!CD13-analysisnonex!BX13","v":-7.5},{"$f":"analysisnonex!CE13-analysisnonex!BX13","v":-5},{"$f":"analysisnonex!CF13-analysisnonex!BX13","v":2.5},{"$f":"analysisnonex!CG13-analysisnonex!BX13","v":0},{"$f":"analysisnonex!CH13-analysisnonex!BX13","v":-7.5},-3.6875,0.75,{"$f":"TTEST(AV2:AV31,AW2:AW74,2,3)","v":0.3652218991489917},{"$f":"analysisnonex!ED13","v":"F"},{"$f":"analysisnonex!EE13","v":31},{"$f":"analysisnonex!EF13","v":"F"},{"$nulls":4},"2.00","1.00",{"v":0.04166666666666327,"d":".042"},{"v":0.2269844180786031,"d":".227"},{"v":0.8547809331754156,"d":".855"},{"v":-0.40948944249794805,"d":"-.409"},{"v":0.49282277583127465,"d":".493"}]
[{"$f":"analysisnonex!A14","v":"SW101-nonexercise"},{"$f":"(analysisnonex!M14-analysisnonex!L14)*100/ABS(analysisnonex!L14)","v":0.7160019996452169},{"$f":"((analysisnonex!N14-analysisnonex!L14)*100)/ABS(analysisnonex!L14)","v":3.409072583896395},{"$f":"((analysisnonex!O14-analysisnonex!L14)*100)/ABS(analysisnonex!L14)","v":-2.8559449129993104},{"$f":"((analysisnonex!P14-analysisnonex!L14)*100)/ABS(analysisnonex!L14)","v":-6.347260969827936},{"$f":"((analysisnonex!Q14-analysisnonex!L14)*100)/ABS(analysisnonex!L14)","v":-9.82245085549339},{"$f":"((analysisnonex!R14-analysisnonex!L14)*100)/ABS(analysisnonex!L14)","v":-1.3723371659866896},{"$f":"((analysisnonex!S14-analysisnonex!L14)*100)/ABS(analysisnonex!L14)","v":-8.604924932673233},{"$f":"((analysisnonex!T14-analysisnonex!L14)*100)/ABS(analysisnonex!L14)","v":-6.790730676815404},{"$f":"((analysisnonex!U14-analysisnonex!L14)*100)/ABS(analysisnonex!L14)","v":-7.56478689264808},{"$f":"((analysisnonex!V14-analysisnonex!L14)*100)/ABS(analysisnonex!L14)","v":-15.829449613778204},-5.506281143668063,"se of ex and non ex",{"$f":"(analysisnonex!AI14-analysisnonex!AH14)*100/ABS(analysisnonex!AH14)","v":1.2512219527598147},{"$f":"(analysisnonex!AJ14-analysisnonex!AH14)*100/ABS(analysisnonex!AH14)","v":-9.037692376456611},{"$f":"(analysisnonex!AK14-analysisnonex!AH14)*100/ABS(analysisnonex!AH14)","v":-0.8048307144855101},{"$f":"(analysisnonex!AL14-analysisnonex!AH14)*100/ABS(analysisnonex!AH14)","v":-12.091492901860255},{"$f":"(analysisnonex!AM14-analysisnonex!AH14)*100/ABS(analysisnonex!AH14)","v":-14.161963890755263},{"$f":"(analysisnonex!AN14-analysisnonex!AH14)*100/ABS(analysisnonex!AH14)","v":-8.114919790876662},{"$f":"(analysisnonex!AO14-analysisnonex!AH14)*100/ABS(analysisnonex!AH14)","v":-7.284424463854708},{"$f":"(analysisnonex!AP14-analysisnonex!AH14)*100/ABS(analysisnonex!AH14)","v":-8.391751566550647},{"$f":"(analysisnonex!AQ14-analysisnonex!AH14)*100/ABS(analysisnonex!AH14)","v":-15.223152364172199},{"$f":"(analysisnonex!AR14-analysisnonex!AH14)*100/ABS(analysisnonex!AH14)","v":-15.453845510567193},-8.931285162681922,"se of ex and non ex",{"$f":"(analysisnonex!BE14-analysisnonex!BD14)","v":1.75},{"$f":"analysisnonex!BF14-analysisnonex!BD14","v":-0.75},{"$f":"analysisnonex!BG14-analysisnonex!BD14","v":-0.75},{"$f":"analysisnonex!BH14-analysisnonex!BD14","v":-0.75},{"$f":"analysisnonex!BI14-analysisnonex!BD14","v":-0.75},{"$f":"analysisnonex!BJ14-analysisnonex!BD14","v":-0.75},{"$f":"analysisnonex!BK14-analysisnonex!BD14","v":-0.75},{"$f":"analysisnonex!BL14-analysisnonex!BD14","v":-0.75},{"$f":"analysisnonex!BM14-analysisnonex!BD14","v":-0.75},{"$f":"analysisnonex!BN14-analysisnonex!BD14","v":1.75},-0.125,null,{"$f":"(analysisnonex!BY14-analysisnonex!BX14)","v":0},{"$f":"analysisnonex!BZ14-analysisnonex!BX14","v":3.125},{"$f":"analysisnonex!CA14-analysisnonex!BX14","v":5},{"$f":"analysisnonex!CB14-analysisnonex!BX14","v":0},{"$f":"analysisnonex!CC14-analysisnonex!BX14","v":2.5},{"$f":"analysisnonex!CD14-analysisnonex!BX14","v":0},{"$f":"analysisnonex!CE14-analysisnonex!BX14","v":0},{"$f":"analysisnonex!CF14-analysisnonex!BX14","v":0},{"$f":"analysisnonex!CG14-analysisnonex!BX14","v":2.5},{"$f":"analysisnonex!CH14-analysisnonex!BX14","v":0},1.3125,-1.5,null,{"$f":"analysisnonex!ED14","v":"M"},{"$f":"analysisnonex!EE14","v":26},{"$f":"analysisnonex!EF14","v":"F"},{"$nulls":3},"ADHD","1.00","2.00",{"v":-0.18750000000000835,"d":"-.188"},{"v":0.30453155319419345,"d":".305"},{"v":0.5397001310724222,"d":".540"},{"v":-0.7927894371338409,"d":"-.793"},{"v":0.4177894371338242,"d":".418"}]
[{"$f":"analysisnonex!A15","v":"BR102-nonexercise"},{"$f":"(analysisnonex!M15-analysisnonex!L15)*100/ABS(analysisnonex!L15)","v":17.790785297274265},{"$f":"((analysisnonex!N15-analysisnonex!L15)*100)/ABS(analysisnonex!L15)","v":11.808002922886056},{"$f":"((analysisnonex!O15-analysisnonex!L15)*100)/ABS(analysisnonex!L15)","v":7.568295820425196},{"$f":"((analysisnonex!P15-analysisnonex!L15)*100)/ABS(analysisnonex!L15)","v":-0.9111183844965112},{"$f":"((analysisnonex!Q15-analysisnonex!L15)*100)/ABS(analysisnonex!L15)","v":0.9765788532239372},{"$f":"((analysisnonex!R15-analysisnonex!L15)*100)/ABS(analysisnonex!L15)","v":1.0907540893763883},{"$f":"((analysisnonex!S15-analysisnonex!L15)*100)/ABS(analysisnonex!L15)","v":-4.100413314354862},{"$f":"((analysisnonex!T15-analysisnonex!L15)*100)/ABS(analysisnonex!L15)","v":-5.995722234485483},{"$f":"((analysisnonex!U15-analysisnonex!L15)*100)/ABS(analysisnonex!L15)","v":-4.975756791523622},{"$f":"((analysisnonex!V15-analysisnonex!L15)*100)/ABS(analysisnonex!L15)","v":-11.963281244053361},1.1288125014272006,"p-value ttest after exercise",{"$f":"(analysisnonex!AI15-analysisnonex!AH15)*100/ABS(analysisnonex!AH15)","v":-3.011000796217147},{"$f":"(analysisnonex!AJ15-analysisnonex!AH15)*100/ABS(analysisnonex!AH15)","v":8.314782015241878},{"$f":"(analysisnonex!AK15-analysisnonex!AH15)*100/ABS(analysisnonex!AH15)","v":1.8247997270112684},{"$f":"(analysisnonex!AL15-analysisnonex!AH15)*100/ABS(analysisnonex!AH15)","v":-0.9960839115386484},{"$f":"(analysisnonex!AM15-analysisnonex!AH15)*100/ABS(analysisnonex!AH15)","v":11.496400773468098},{"$f":"(analysisnonex!AN15-analysisnonex!AH15)*100/ABS(analysisnonex!AH15)","v":10.072959490421018},{"$f":"(analysisnonex!AO15-analysisnonex!AH15)*100/ABS(analysisnonex!AH15)","v":2.6307664808826634},{"$f":"(analysisnonex!AP15-analysisnonex!AH15)*100/ABS(analysisnonex!AH15)","v":-3.170244227425608},{"$f":"(analysisnonex!AQ15-analysisnonex!AH15)*100/ABS(analysisnonex!AH15)","v":-7.1480801416941455},{"$f":"(analysisnonex!AR15-analysisnonex!AH15)*100/ABS(analysisnonex!AH15)","v":9.09799970751207},2.911229911766145,"p-value ttest after exercise",{"$f":"(analysisnonex!BE15-analysisnonex!BD15)","v":2.5},{"$f":"analysisnonex!BF15-analysisnonex!BD15","v":0},{"$f":"analysisnonex!BG15-analysisnonex!BD15","v":0},{"$f":"analysisnonex!BH15-analysisnonex!BD15","v":0},{"$f":"analysisnonex!BI15-analysisnonex!BD15","v":0},{"$f":"analysisnonex!BJ15-analysisnonex!BD15","v":0},{"$f":"analysisnonex!BK15-analysisnonex!BD15","v":0},{"$f":"analysisnonex!BL15-analysisnonex!BD15","v":2.5},{"$f":"analysisnonex!BM15-analysisnonex!BD15","v":0},{"$f":"analysisnonex!BN15-analysisnonex!BD15","v":0},0.25,null,{"$f":"(analysisnonex!BY15-analysisnonex!BX15)","v":0},{"$f":"analysisnonex!BZ15-analysisnonex!BX15","v":0},{"$f":"analysisnonex!CA15-analysisnonex!BX15","v":0},{"$f":"analysisnonex!CB15-analysisnonex!BX15","v":0},{"$f":"analysisnonex!CC15-analysisnonex!BX15","v":-2.5},{"$f":"analysisnonex!CD15-analysisnonex!BX15","v":0},{"$f":"analysisnonex!CE15-analysisnonex!BX15","v":0},{"$f":"analysisnonex!CF15-analysisnonex!BX15","v":-2.5},{"$f":"analysisnonex!CG15-analysisnonex!BX15","v":-2.5},{"$f":"analysisnonex!CH15-analysisnonex!BX15","v":-2.5},-1,-0.25,null,{"$f":"analysisnonex!ED15","v":"M"},{"$f":"analysisnonex!EE15","v":26},{"$f":"analysisnonex!EF15","v":"F"},{"$nulls":4},"2.00","1.00",{"v":0.18750000000000835,"d":".188"},{"v":0.30453155319419345,"d":".305"},{"v":0.5397001310724222,"d":".540"},{"v":-0.4177894371338242,"d":"-.418"},{"v":0.7927894371338409,"d":".793"}]
[{"$f":"analysisnonex!A16","v":"DJ102-nonexercise"},{"$f":"(analysisnonex!M16-analysisnonex!L16)*100/ABS(analysisnonex!L16)","v":-15.413830469958263},{"$f":"((analysisnonex!N16-analysisnonex!L16)*100)/ABS(analysisnonex!L16)","v":-13.362300238819188},{"$f":"((analysisnonex!O16-analysisnonex!L16)*100)/ABS(analysisnonex!L16)","v":1.7558994644979877},{"$f":"((analysisnonex!P16-analysisnonex!L16)*100)/ABS(analysisnonex!L16)","v":-12.17346477154371},{"$f":"((analysisnonex!Q16-analysisnonex!L16)*100)/ABS(analysisnonex!L16)","v":-15.077169098694414},{"$f":"((analysisnonex!R16-analysisnonex!L16)*100)/ABS(analysisnonex!L16)","v":-15.624243826998162},{"$f":"((analysisnonex!S16-analysisnonex!L16)*100)/ABS(analysisnonex!L16)","v":-14.693164722096588},{"$f":"((analysisnonex!T16-analysisnonex!L16)*100)/ABS(analysisnonex!L16)","v":-12.888870185479403},{"$f":"((analysisnonex!U16-analysisnonex!L16)*100)/ABS(analysisnonex!L16)","v":-3.962083513061425},{"$f":"((analysisnonex!V16-analysisnonex!L16)*100)/ABS(analysisnonex!L16)","v":-10.06933120114467},-11.150855856329784,{"$f":"TTEST(analysisnonex!L2:L74,analysisnonex!W2:W74,2,1)","v":9.9777465746484329E-7},{"$f":"(analysisnonex!AI16-analysisnonex!AH16)*100/ABS(analysisnonex!AH16)","v":-16.326129021678533},{"$f":"(analysisnonex!AJ16-analysisnonex!AH16)*100/ABS(analysisnonex!AH16)","v":14.892919222065505},{"$f":"(analysisnonex!AK16-analysisnonex!AH16)*100/ABS(analysisnonex!AH16)","v":7.359548719294205},{"$f":"(analysisnonex!AL16-analysisnonex!AH16)*100/ABS(analysisnonex!AH16)","v":10.01279065953886},{"$f":"(analysisnonex!AM16-analysisnonex!AH16)*100/ABS(analysisnonex!AH16)","v":-3.656816765602971},{"$f":"(analysisnonex!AN16-analysisnonex!AH16)*100/ABS(analysisnonex!AH16)","v":17.33298350332885},{"$f":"(analysisnonex!AO16-analysisnonex!AH16)*100/ABS(analysisnonex!AH16)","v":-14.860122659145329},{"$f":"(analysisnonex!AP16-analysisnonex!AH16)*100/ABS(analysisnonex!AH16)","v":-11.190187268374283},{"$f":"(analysisnonex!AQ16-analysisnonex!AH16)*100/ABS(analysisnonex!AH16)","v":-10.016070315830907},{"$f":"(analysisnonex!AR16-analysisnonex!AH16)*100/ABS(analysisnonex!AH16)","v":-5.729559542159992},-1.2180643468564596,{"$f":"TTEST(analysisnonex!AH2:AH74,analysisnonex!AS2:AS74,2,1)","v":1.5033087809995021E-7},{"$f":"(analysisnonex!BE16-analysisnonex!BD16)","v":-0.25},{"$f":"analysisnonex!BF16-analysisnonex!BD16","v":2.25},{"$f":"analysisnonex!BG16-analysisnonex!BD16","v":2.25},{"$f":"analysisnonex!BH16-analysisnonex!BD16","v":-0.25},{"$f":"analysisnonex!BI16-analysisnonex!BD16","v":-0.25},{"$f":"analysisnonex!BJ16-analysisnonex!BD16","v":-0.25},{"$f":"analysisnonex!BK16-analysisnonex!BD16","v":-0.25},{"$f":"analysisnonex!BL16-analysisnonex!BD16","v":4.75},{"$f":"analysisnonex!BM16-analysisnonex!BD16","v":2.25},{"$f":"analysisnonex!BN16-analysisnonex!BD16","v":-0.25},0.5,null,{"$f":"(analysisnonex!BY16-analysisnonex!BX16)","v":7.5},{"$f":"analysisnonex!BZ16-analysisnonex!BX16","v":8.125},{"$f":"analysisnonex!CA16-analysisnonex!BX16","v":7.5},{"$f":"analysisnonex!CB16-analysisnonex!BX16","v":10},{"$f":"analysisnonex!CC16-analysisnonex!BX16","v":7.5},{"$f":"analysisnonex!CD16-analysisnonex!BX16","v":2.5},{"$f":"analysisnonex!CE16-analysisnonex!BX16","v":0},{"$f":"analysisnonex!CF16-analysisnonex!BX16","v":7.5},{"$f":"analysisnonex!CG16-analysisnonex!BX16","v":-5},{"$f":"analysisnonex!CH16-analysisnonex!BX16","v":10},5.5625,1,null,{"$f":"analysisnonex!ED16","v":"M"},{"$f":"analysisnonex!EE16","v":29},{"$f":"analysisnonex!EF16","v":"F"},null,null,"high-BMI","non-ADHD","1.00","2.00",{"v":-0.09166666666667128,"d":"-.092"},{"v":0.2568035539953001,"d":".257"},{"v":0.7219917235779675,"d":".722"},{"v":-0.6020915373291271,"d":"-.602"},{"v":0.4187582039957845,"d":".419"}]
[{"$f":"analysisnonex!A17","v":"FH101-nonexercise"},{"$f":"(analysisnonex!M17-analysisnonex!L17)*100/ABS(analysisnonex!L17)","v":0.39235017086217977},{"$f":"((analysisnonex!N17-analysisnonex!L17)*100)/ABS(analysisnonex!L17)","v":-6.475443142531686},{"$f":"((analysisnonex!O17-analysisnonex!L17)*100)/ABS(analysisnonex!L17)","v":-7.7011210956495},{"$f":"((analysisnonex!P17-analysisnonex!L17)*100)/ABS(analysisnonex!L17)","v":-12.177510141818928},{"$f":"((analysisnonex!Q17-analysisnonex!L17)*100)/ABS(analysisnonex!L17)","v":-11.324864609215227},{"$f":"((analysisnonex!R17-analysisnonex!L17)*100)/ABS(analysisnonex!L17)","v":-13.023494381199155},{"$f":"((analysisnonex!S17-analysisnonex!L17)*100)/ABS(analysisnonex!L17)","v":-17.772996449530705},{"$f":"((analysisnonex!T17-analysisnonex!L17)*100)/ABS(analysisnonex!L17)","v":-14.468995010691367},{"$f":"((analysisnonex!U17-analysisnonex!L17)*100)/ABS(analysisnonex!L17)","v":-10.57879976818699},{"$f":"((analysisnonex!V17-analysisnonex!L17)*100)/ABS(analysisnonex!L17)","v":-14.215865868199643},-10.734674029616102,"p-value ttest change with exercise vs change with nonex",{"$f":"(analysisnonex!AI17-analysisnonex!AH17)*100/ABS(analysisnonex!AH17)","v":-4.47105738046262},{"$f":"(analysisnonex!AJ17-analysisnonex!AH17)*100/ABS(analysisnonex!AH17)","v":-2.073369256590486},{"$f":"(analysisnonex!AK17-analysisnonex!AH17)*100/ABS(analysisnonex!AH17)","v":-15.954721552692346},{"$f":"(analysisnonex!AL17-analysisnonex!AH17)*100/ABS(analysisnonex!AH17)","v":0.30223489771967416},{"$f":"(analysisnonex!AM17-analysisnonex!AH17)*100/ABS(analysisnonex!AH17)","v":-5.909670254785903},{"$f":"(analysisnonex!AN17-analysisnonex!AH17)*100/ABS(analysisnonex!AH17)","v":-10.834395467107496},{"$f":"(analysisnonex!AO17-analysisnonex!AH17)*100/ABS(analysisnonex!AH17)","v":-21.65238569968325},{"$f":"(analysisnonex!AP17-analysisnonex!AH17)*100/ABS(analysisnonex!AH17)","v":-12.572719356914803},{"$f":"(analysisnonex!AQ17-analysisnonex!AH17)*100/ABS(analysisnonex!AH17)","v":-6.464924346629983},{"$f":"(analysisnonex!AR17-analysisnonex!AH17)*100/ABS(analysisnonex!AH17)","v":-6.663680072687803},-8.629468848983501,"p-value ttest change with exercise vs change with nonex",{"$f":"(analysisnonex!BE17-analysisnonex!BD17)","v":0},{"$f":"analysisnonex!BF17-analysisnonex!BD17","v":0},{"$f":"analysisnonex!BG17-analysisnonex!BD17","v":0},{"$f":"analysisnonex!BH17-analysisnonex!BD17","v":0},{"$f":"analysisnonex!BI17-analysisnonex!BD17","v":0},{"$f":"analysisnonex!BJ17-analysisnonex!BD17","v":0},{"$f":"analysisnonex!BK17-analysisnonex!BD17","v":0},{"$f":"analysisnonex!BL17-analysisnonex!BD17","v":0},{"$f":"analysisnonex!BM17-analysisnonex!BD17","v":0},{"$f":"analysisnonex!BN17-analysisnonex!BD17","v":0},0,null,{"$f":"(analysisnonex!BY17-analysisnonex!BX17)","v":-2.5},{"$f":"analysisnonex!BZ17-analysisnonex!BX17","v":5},{"$f":"analysisnonex!CA17-analysisnonex!BX17","v":0},{"$f":"analysisnonex!CB17-analysisnonex!BX17","v":-5},{"$f":"analysisnonex!CC17-analysisnonex!BX17","v":-2.5},{"$f":"analysisnonex!CD17-analysisnonex!BX17","v":2.5},{"$f":"analysisnonex!CE17-analysisnonex!BX17","v":-2.5},{"$f":"analysisnonex!CF17-analysisnonex!BX17","v":-5},{"$f":"analysisnonex!CG17-analysisnonex!BX17","v":-5},{"$f":"analysisnonex!CH17-analysisnonex!BX17","v":-5},-2,-0.5,null,{"$f":"analysisnonex!ED17","v":"F"},{"$f":"analysisnonex!EE17","v":27},{"$f":"analysisnonex!EF17","v":"F"},{"$nulls":4},"2.00","1.00",{"v":0.09166666666667128,"d":".092"},{"v":0.2568035539953001,"d":".257"},{"v":0.7219917235779675,"d":".722"},{"v":-0.4187582039957845,"d":"-.419"},{"v":0.6020915373291271,"d":".602"}]
[{"$f":"analysisnonex!A18","v":"JF102-nonexercise"},{"$f":"(analysisnonex!M18-analysisnonex!L18)*100/ABS(analysisnonex!L18)","v":9.905652038116349},{"$f":"((analysisnonex!N18-analysisnonex!L18)*100)/ABS(analysisnonex!L18)","v":-0.8727628454072162},{"$f":"((analysisnonex!O18-analysisnonex!L18)*100)/ABS(analysisnonex!L18)","v":-9.68878726626632},{"$f":"((analysisnonex!P18-analysisnonex!L18)*100)/ABS(analysisnonex!L18)","v":-20.231479571692066},{"$f":"((analysisnonex!Q18-analysisnonex!L18)*100)/ABS(analysisnonex!L18)","v":-19.406450548349632},{"$f":"((analysisnonex!R18-analysisnonex!L18)*100)/ABS(analysisnonex!L18)","v":-13.725536416191767},{"$f":"((analysisnonex!S18-analysisnonex!L18)*100)/ABS(analysisnonex!L18)","v":-18.38105733362405},{"$f":"((analysisnonex!T18-analysisnonex!L18)*100)/ABS(analysisnonex!L18)","v":-15.033796724634769},{"$f":"((analysisnonex!U18-analysisnonex!L18)*100)/ABS(analysisnonex!L18)","v":-21.934575198448933},{"$f":"((analysisnonex!V18-analysisnonex!L18)*100)/ABS(analysisnonex!L18)","v":-16.165265099504374},-12.553405896600278,{"$f":"TTEST(L2:L74,PlotArray1nonex!L2:L30,2,3)","v":0.8717440234122477},{"$f":"(analysisnonex!AI18-analysisnonex!AH18)*100/ABS(analysisnonex!AH18)","v":-1.6760392256683032},{"$f":"(analysisnonex!AJ18-analysisnonex!AH18)*100/ABS(analysisnonex!AH18)","v":3.4935196823739},{"$f":"(analysisnonex!AK18-analysisnonex!AH18)*100/ABS(analysisnonex!AH18)","v":-5.832679484723568},{"$f":"(analysisnonex!AL18-analysisnonex!AH18)*100/ABS(analysisnonex!AH18)","v":-17.643940725890047},{"$f":"(analysisnonex!AM18-analysisnonex!AH18)*100/ABS(analysisnonex!AH18)","v":-7.764047685900749},{"$f":"(analysisnonex!AN18-analysisnonex!AH18)*100/ABS(analysisnonex!AH18)","v":-11.479832159904703},{"$f":"(analysisnonex!AO18-analysisnonex!AH18)*100/ABS(analysisnonex!AH18)","v":-11.348625081020371},{"$f":"(analysisnonex!AP18-analysisnonex!AH18)*100/ABS(analysisnonex!AH18)","v":3.0605363220556465},{"$f":"(analysisnonex!AQ18-analysisnonex!AH18)*100/ABS(analysisnonex!AH18)","v":-4.814512552581231},{"$f":"(analysisnonex!AR18-analysisnonex!AH18)*100/ABS(analysisnonex!AH18)","v":-4.085001193984416},-5.8090622105243845,{"$f":"TTEST(X2:X75,PlotArray1nonex!X2:X30,2,3)","v":0.7027557050668414},{"$f":"(analysisnonex!BE18-analysisnonex!BD18)","v":2.5},{"$f":"analysisnonex!BF18-analysisnonex!BD18","v":0},{"$f":"analysisnonex!BG18-analysisnonex!BD18","v":0},{"$f":"analysisnonex!BH18-analysisnonex!BD18","v":0},{"$f":"analysisnonex!BI18-analysisnonex!BD18","v":0},{"$f":"analysisnonex!BJ18-analysisnonex!BD18","v":0},{"$f":"analysisnonex!BK18-analysisnonex!BD18","v":0},{"$f":"analysisnonex!BL18-analysisnonex!BD18","v":0},{"$f":"analysisnonex!BM18-analysisnonex!BD18","v":0},{"$f":"analysisnonex!BN18-analysisnonex!BD18","v":0},0.125,null,{"$f":"(analysisnonex!BY18-analysisnonex!BX18)","v":2.5},{"$f":"analysisnonex!BZ18-analysisnonex!BX18","v":1.25},{"$f":"analysisnonex!CA18-analysisnonex!BX18","v":2.5},{"$f":"analysisnonex!CB18-analysisnonex!BX18","v":5},{"$f":"analysisnonex!CC18-analysisnonex!BX18","v":0},{"$f":"analysisnonex!CD18-analysisnonex!BX18","v":0},{"$f":"analysisnonex!CE18-analysisnonex!BX18","v":2.5},{"$f":"analysisnonex!CF18-analysisnonex!BX18","v":2.5},{"$f":"analysisnonex!CG18-analysisnonex!BX18","v":0},{"$f":"analysisnonex!CH18-analysisnonex!BX18","v":5},2.125,0.5,null,{"$f":"analysisnonex!ED18","v":"F"},{"$f":"analysisnonex!EE18","v":23},{"$f":"analysisnonex!EF18","v":"F"},{"$nulls":3},"ADHD","1.00","2.00",{"v":-0.2083333333333107,"d":"-.208"},{"v":0.4060420709255859,"d":".406"},{"v":0.6091936014455248,"d":".609"},{"v":-1.01538591617841,"d":"-1.015"},{"v":0.5987192495117887,"d":".599"}]
[{"$f":"analysisnonex!A19","v":"JL101-nonexercise"},{"$f":"(analysisnonex!M19-analysisnonex!L19)*100/ABS(analysisnonex!L19)","v":3.095129722348651},{"$f":"((analysisnonex!N19-analysisnonex!L19)*100)/ABS(analysisnonex!L19)","v":0.6567397099941419},{"$f":"((analysisnonex!O19-analysisnonex!L19)*100)/ABS(analysisnonex!L19)","v":0.3446257884127644},{"$f":"((analysisnonex!P19-analysisnonex!L19)*100)/ABS(analysisnonex!L19)","v":-7.406203264191437},{"$f":"((analysisnonex!Q19-analysisnonex!L19)*100)/ABS(analysisnonex!L19)","v":-13.076272839586455},{"$f":"((analysisnonex!R19-analysisnonex!L19)*100)/ABS(analysisnonex!L19)","v":-8.550620976656486},{"$f":"((analysisnonex!S19-analysisnonex!L19)*100)/ABS(analysisnonex!L19)","v":-14.896937382144495},{"$f":"((analysisnonex!T19-analysisnonex!L19)*100)/ABS(analysisnonex!L19)","v":-11.36614864425516},{"$f":"((analysisnonex!U19-analysisnonex!L19)*100)/ABS(analysisnonex!L19)","v":-11.515703231679566},{"$f":"((analysisnonex!V19-analysisnonex!L19)*100)/ABS(analysisnonex!L19)","v":-18.90890174913844},-8.162429286689648,"cong vs incong",{"$f":"(analysisnonex!AI19-analysisnonex!AH19)*100/ABS(analysisnonex!AH19)","v":-9.844223108621438},{"$f":"(analysisnonex!AJ19-analysisnonex!AH19)*100/ABS(analysisnonex!AH19)","v":-10.62825525129946},{"$f":"(analysisnonex!AK19-analysisnonex!AH19)*100/ABS(analysisnonex!AH19)","v":4.8543996874430855},{"$f":"(analysisnonex!AL19-analysisnonex!AH19)*100/ABS(analysisnonex!AH19)","v":-22.454733363075512},{"$f":"(analysisnonex!AM19-analysisnonex!AH19)*100/ABS(analysisnonex!AH19)","v":-11.916496617046494},{"$f":"(analysisnonex!AN19-analysisnonex!AH19)*100/ABS(analysisnonex!AH19)","v":-18.418419739659086},{"$f":"(analysisnonex!AO19-analysisnonex!AH19)*100/ABS(analysisnonex!AH19)","v":-3.6142033890251235},{"$f":"(analysisnonex!AP19-analysisnonex!AH19)*100/ABS(analysisnonex!AH19)","v":-8.764529013149028},{"$f":"(analysisnonex!AQ19-analysisnonex!AH19)*100/ABS(analysisnonex!AH19)","v":-9.126186937549324},{"$f":"(analysisnonex!AR19-analysisnonex!AH19)*100/ABS(analysisnonex!AH19)","v":-16.198315254836835},-10.61109629868192,null,{"$f":"(analysisnonex!BE19-analysisnonex!BD19)","v":-0.75},{"$f":"analysisnonex!BF19-analysisnonex!BD19","v":-0.75},{"$f":"analysisnonex!BG19-analysisnonex!BD19","v":1.75},{"$f":"analysisnonex!BH19-analysisnonex!BD19","v":-0.75},{"$f":"analysisnonex!BI19-analysisnonex!BD19","v":-0.75},{"$f":"analysisnonex!BJ19-analysisnonex!BD19","v":4.25},{"$f":"analysisnonex!BK19-analysisnonex!BD19","v":-0.75},{"$f":"analysisnonex!BL19-analysisnonex!BD19","v":-0.75},{"$f":"analysisnonex!BM19-analysisnonex!BD19","v":-0.75},{"$f":"analysisnonex!BN19-analysisnonex!BD19","v":-0.75},0,null,{"$f":"(analysisnonex!BY19-analysisnonex!BX19)","v":0},{"$f":"analysisnonex!BZ19-analysisnonex!BX19","v":13.75},{"$f":"analysisnonex!CA19-analysisnonex!BX19","v":-7.5},{"$f":"analysisnonex!CB19-analysisnonex!BX19","v":-12.5},{"$f":"analysisnonex!CC19-analysisnonex!BX19","v":2.5},{"$f":"analysisnonex!CD19-analysisnonex!BX19","v":-5},{"$f":"analysisnonex!CE19-analysisnonex!BX19","v":-5},{"$f":"analysisnonex!CF19-analysisnonex!BX19","v":-10},{"$f":"analysisnonex!CG19-analysisnonex!BX19","v":-10},{"$f":"analysisnonex!CH19-analysisnonex!BX19","v":-2.5},-3.625,1.5,null,{"$f":"analysisnonex!ED19","v":"F"},{"$f":"analysisnonex!EE19","v":27},{"$f":"analysisnonex!EF19","v":"F"},{"$nulls":4},"2.00","1.00",{"v":0.2083333333333107,"d":".208"},{"v":0.4060420709255859,"d":".406"},{"v":0.6091936014455248,"d":".609"},{"v":-0.5987192495117887,"d":"-.599"},{"v":1.01538591617841,"d":"1.015"}]
[{"$f":"analysisnonex!A20","v":"KK101-nonexercise"},{"$f":"(analysisnonex!M20-analysisnonex!L20)*100/ABS(analysisnonex!L20)","v":-9.623246050160184},{"$f":"((analysisnonex!N20-analysisnonex!L20)*100)/ABS(analysisnonex!L20)","v":-6.492836887268423},{"$f":"((analysisnonex!O20-analysisnonex!L20)*100)/ABS(analysisnonex!L20)","v":-12.109159208927183},{"$f":"((analysisnonex!P20-analysisnonex!L20)*100)/ABS(analysisnonex!L20)","v":-9.692299193459268},{"$f":"((analysisnonex!Q20-analysisnonex!L20)*100)/ABS(analysisnonex!L20)","v":-18.903988509556942},{"$f":"((analysisnonex!R20-analysisnonex!L20)*100)/ABS(analysisnonex!L20)","v":-15.884064375943721},{"$f":"((analysisnonex!S20-analysisnonex!L20)*100)/ABS(analysisnonex!L20)","v":-18.42522004934997},{"$f":"((analysisnonex!T20-analysisnonex!L20)*100)/ABS(analysisnonex!L20)","v":-14.447758995322788},{"$f":"((analysisnonex!U20-analysisnonex!L20)*100)/ABS(analysisnonex!L20)","v":-21.481972526056037},{"$f":"((analysisnonex!V20-analysisnonex!L20)*100)/ABS(analysisnonex!L20)","v":-19.861525429970886},-14.692207122601541,{"$f":"TTEST(L2:L74,X2:X74,2,1)","v":0.27038788880998055},{"$f":"(analysisnonex!AI20-analysisnonex!AH20)*100/ABS(analysisnonex!AH20)","v":-16.058826917278452},{"$f":"(analysisnonex!AJ20-analysisnonex!AH20)*100/ABS(analysisnonex!AH20)","v":-11.749460482228944},{"$f":"(analysisnonex!AK20-analysisnonex!AH20)*100/ABS(analysisnonex!AH20)","v":-11.102377943632677},{"$f":"(analysisnonex!AL20-analysisnonex!AH20)*100/ABS(analysisnonex!AH20)","v":-12.647245156197597},{"$f":"(analysisnonex!AM20-analysisnonex!AH20)*100/ABS(analysisnonex!AH20)","v":-15.05263050909472},{"$f":"(analysisnonex!AN20-analysisnonex!AH20)*100/ABS(analysisnonex!AH20)","v":-12.484627554874967},{"$f":"(analysisnonex!AO20-analysisnonex!AH20)*100/ABS(analysisnonex!AH20)","v":-12.545609155370952},{"$f":"(analysisnonex!AP20-analysisnonex!AH20)*100/ABS(analysisnonex!AH20)","v":-10.475622605201727},{"$f":"(analysisnonex!AQ20-analysisnonex!AH20)*100/ABS(analysisnonex!AH20)","v":-11.847708616361363},{"$f":"(analysisnonex!AR20-analysisnonex!AH20)*100/ABS(analysisnonex!AH20)","v":-6.901423242798238},-12.086553218303962,null,{"$f":"(analysisnonex!BE20-analysisnonex!BD20)","v":0},{"$f":"analysisnonex!BF20-analysisnonex!BD20","v":0},{"$f":"analysisnonex!BG20-analysisnonex!BD20","v":0},{"$f":"analysisnonex!BH20-analysisnonex!BD20","v":0},{"$f":"analysisnonex!BI20-analysisnonex!BD20","v":0},{"$f":"analysisnonex!BJ20-analysisnonex!BD20","v":0},{"$f":"analysisnonex!BK20-analysisnonex!BD20","v":0},{"$f":"analysisnonex!BL20-analysisnonex!BD20","v":0},{"$f":"analysisnonex!BM20-analysisnonex!BD20","v":0},{"$f":"analysisnonex!BN20-analysisnonex!BD20","v":0},0,null,{"$f":"(analysisnonex!BY20-analysisnonex!BX20)","v":0},{"$f":"analysisnonex!BZ20-analysisnonex!BX20","v":1.25},{"$f":"analysisnonex!CA20-analysisnonex!BX20","v":0},{"$f":"analysisnonex!CB20-analysisnonex!BX20","v":0},{"$f":"analysisnonex!CC20-analysisnonex!BX20","v":0},{"$f":"analysisnonex!CD20-analysisnonex!BX20","v":0},{"$f":"analysisnonex!CE20-analysisnonex!BX20","v":0},{"$f":"analysisnonex!CF20-analysisnonex!BX20","v":5},{"$f":"analysisnonex!CG20-analysisnonex!BX20","v":0},{"$f":"analysisnonex!CH20-analysisnonex!BX20","v":0},0.625,-0.25,null,{"$f":"analysisnonex!ED20","v":"F"},{"$f":"analysisnonex!EE20","v":20},{"$f":"analysisnonex!EF20","v":"T"},"avg-change-err-i","Female","normal-BMI","non-ADHD","1.00","2.00",{"v":0.14821428571428763,"d":".148"},{"v":0.6194099056728127,"d":".619"},{"v":0.8114489226947734,"d":".811"},{"v":-1.0829299724990378,"d":"-1.083"},{"v":1.379358543927613,"d":"1.379"}]
[{"$f":"analysisnonex!A21","v":"KLA101-nonexercise"},{"$f":"(analysisnonex!M21-analysisnonex!L21)*100/ABS(analysisnonex!L21)","v":-11.02138859785859},{"$f":"((analysisnonex!N21-analysisnonex!L21)*100)/ABS(analysisnonex!L21)","v":2.01109038407481},{"$f":"((analysisnonex!O21-analysisnonex!L21)*100)/ABS(analysisnonex!L21)","v":-12.196867094268276},{"$f":"((analysisnonex!P21-analysisnonex!L21)*100)/ABS(analysisnonex!L21)","v":-17.40985868704163},{"$f":"((analysisnonex!Q21-analysisnonex!L21)*100)/ABS(analysisnonex!L21)","v":-15.058901694222282},{"$f":"((analysisnonex!R21-analysisnonex!L21)*100)/ABS(analysisnonex!L21)","v":-8.210461758618054},{"$f":"((analysisnonex!S21-analysisnonex!L21)*100)/ABS(analysisnonex!L21)","v":-19.30084583343982},{"$f":"((analysisnonex!T21-analysisnonex!L21)*100)/ABS(analysisnonex!L21)","v":-16.234380190631956},{"$f":"((analysisnonex!U21-analysisnonex!L21)*100)/ABS(analysisnonex!L21)","v":-13.47456111210488},{"$f":"((analysisnonex!V21-analysisnonex!L21)*100)/ABS(analysisnonex!L21)","v":-14.758643600030675},-12.565481818414137,null,{"$f":"(analysisnonex!AI21-analysisnonex!AH21)*100/ABS(analysisnonex!AH21)","v":-1.9465742105682136},{"$f":"(analysisnonex!AJ21-analysisnonex!AH21)*100/ABS(analysisnonex!AH21)","v":-7.9639069838943},{"$f":"(analysisnonex!AK21-analysisnonex!AH21)*100/ABS(analysisnonex!AH21)","v":-14.988703775382193},{"$f":"(analysisnonex!AL21-analysisnonex!AH21)*100/ABS(analysisnonex!AH21)","v":-20.83309313414645},{"$f":"(analysisnonex!AM21-analysisnonex!AH21)*100/ABS(analysisnonex!AH21)","v":-11.282773463342867},{"$f":"(analysisnonex!AN21-analysisnonex!AH21)*100/ABS(analysisnonex!AH21)","v":-8.688622244915333},{"$f":"(analysisnonex!AO21-analysisnonex!AH21)*100/ABS(analysisnonex!AH21)","v":-22.91390437601742},{"$f":"(analysisnonex!AP21-analysisnonex!AH21)*100/ABS(analysisnonex!AH21)","v":-11.035711442540235},{"$f":"(analysisnonex!AQ21-analysisnonex!AH21)*100/ABS(analysisnonex!AH21)","v":-11.894938248220472},{"$f":"(analysisnonex!AR21-analysisnonex!AH21)*100/ABS(analysisnonex!AH21)","v":-13.602411325323038},-12.51506392043505,null,{"$f":"(analysisnonex!BE21-analysisnonex!BD21)","v":-0.5},{"$f":"analysisnonex!BF21-analysisnonex!BD21","v":-0.5},{"$f":"analysisnonex!BG21-analysisnonex!BD21","v":-0.5},{"$f":"analysisnonex!BH21-analysisnonex!BD21","v":-0.5},{"$f":"analysisnonex!BI21-analysisnonex!BD21","v":-0.5},{"$f":"analysisnonex!BJ21-analysisnonex!BD21","v":-0.5},{"$f":"analysisnonex!BK21-analysisnonex!BD21","v":-0.5},{"$f":"analysisnonex!BL21-analysisnonex!BD21","v":-0.5},{"$f":"analysisnonex!BM21-analysisnonex!BD21","v":4.5},{"$f":"analysisnonex!BN21-analysisnonex!BD21","v":-0.5},0,null,{"$f":"(analysisnonex!BY21-analysisnonex!BX21)","v":-2.5},{"$f":"analysisnonex!BZ21-analysisnonex!BX21","v":8.125},{"$f":"analysisnonex!CA21-analysisnonex!BX21","v":-5},{"$f":"analysisnonex!CB21-analysisnonex!BX21","v":-2.5},{"$f":"analysisnonex!CC21-analysisnonex!BX21","v":5},{"$f":"analysisnonex!CD21-analysisnonex!BX21","v":0},{"$f":"analysisnonex!CE21-analysisnonex!BX21","v":7.5},{"$f":"analysisnonex!CF21-analysisnonex!BX21","v":-2.5},{"$f":"analysisnonex!CG21-analysisnonex!BX21","v":2.5},{"$f":"analysisnonex!CH21-analysisnonex!BX21","v":-2.5},0.8125,0,null,{"$f":"analysisnonex!ED21","v":"M"},{"$f":"analysisnonex!EE21","v":24},{"$f":"analysisnonex!EF21","v":"F"},{"$nulls":4},"2.00","1.00",{"v":-0.14821428571428763,"d":"-.148"},{"v":0.6194099056728127,"d":".619"},{"v":0.8114489226947734,"d":".811"},{"v":-1.379358543927613,"d":"-1.379"},{"v":1.0829299724990378,"d":"1.083"}]
[{"$f":"analysisnonex!A22","v":"KV101-nonexercise"},{"$f":"(analysisnonex!M22-analysisnonex!L22)*100/ABS(analysisnonex!L22)","v":7.455971062759866},{"$f":"((analysisnonex!N22-analysisnonex!L22)*100)/ABS(analysisnonex!L22)","v":0.12240981925255633},{"$f":"((analysisnonex!O22-analysisnonex!L22)*100)/ABS(analysisnonex!L22)","v":-1.4986931924701168},{"$f":"((analysisnonex!P22-analysisnonex!L22)*100)/ABS(analysisnonex!L22)","v":2.730510923146507},{"$f":"((analysisnonex!Q22-analysisnonex!L22)*100)/ABS(analysisnonex!L22)","v":4.544602388645689},{"$f":"((analysisnonex!R22-analysisnonex!L22)*100)/ABS(analysisnonex!L22)","v":-0.263567088300462},{"$f":"((analysisnonex!S22-analysisnonex!L22)*100)/ABS(analysisnonex!L22)","v":-9.885419998014958},{"$f":"((analysisnonex!T22-analysisnonex!L22)*100)/ABS(analysisnonex!L22)","v":-11.909041784757198},{"$f":"((analysisnonex!U22-analysisnonex!L22)*100)/ABS(analysisnonex!L22)","v":-14.120138069453773},{"$f":"((analysisnonex!V22-analysisnonex!L22)*100)/ABS(analysisnonex!L22)","v":-3.8366104610769582},-2.6659976400268848,null,{"$f":"(analysisnonex!AI22-analysisnonex!AH22)*100/ABS(analysisnonex!AH22)","v":-8.541243279860481},{"$f":"(analysisnonex!AJ22-analysisnonex!AH22)*100/ABS(analysisnonex!AH22)","v":3.003704184142622},{"$f":"(analysisnonex!AK22-analysisnonex!AH22)*100/ABS(analysisnonex!AH22)","v":-8.76464738184806},{"$f":"(analysisnonex!AL22-analysisnonex!AH22)*100/ABS(analysisnonex!AH22)","v":-5.391966100229173},{"$f":"(analysisnonex!AM22-analysisnonex!AH22)*100/ABS(analysisnonex!AH22)","v":-8.710598002334935},{"$f":"(analysisnonex!AN22-analysisnonex!AH22)*100/ABS(analysisnonex!AH22)","v":-6.717977544284458},{"$f":"(analysisnonex!AO22-analysisnonex!AH22)*100/ABS(analysisnonex!AH22)","v":-11.44549660569897},{"$f":"(analysisnonex!AP22-analysisnonex!AH22)*100/ABS(analysisnonex!AH22)","v":-6.34323517966014},{"$f":"(analysisnonex!AQ22-analysisnonex!AH22)*100/ABS(analysisnonex!AH22)","v":-12.137328663466947},{"$f":"(analysisnonex!AR22-analysisnonex!AH22)*100/ABS(analysisnonex!AH22)","v":-8.706994710367402},-7.375578328360794,null,{"$f":"(analysisnonex!BE22-analysisnonex!BD22)","v":0},{"$f":"analysisnonex!BF22-analysisnonex!BD22","v":0},{"$f":"analysisnonex!BG22-analysisnonex!BD22","v":0},{"$f":"analysisnonex!BH22-analysisnonex!BD22","v":0},{"$f":"analysisnonex!BI22-analysisnonex!BD22","v":0},{"$f":"analysisnonex!BJ22-analysisnonex!BD22","v":0},{"$f":"analysisnonex!BK22-analysisnonex!BD22","v":0},{"$f":"analysisnonex!BL22-analysisnonex!BD22","v":0},{"$f":"analysisnonex!BM22-analysisnonex!BD22","v":0},{"$f":"analysisnonex!BN22-analysisnonex!BD22","v":0},0,null,{"$f":"(analysisnonex!BY22-analysisnonex!BX22)","v":0},{"$f":"analysisnonex!BZ22-analysisnonex!BX22","v":2.5},{"$f":"analysisnonex!CA22-analysisnonex!BX22","v":0},{"$f":"analysisnonex!CB22-analysisnonex!BX22","v":2.5},{"$f":"analysisnonex!CC22-analysisnonex!BX22","v":0},{"$f":"analysisnonex!CD22-analysisnonex!BX22","v":0},{"$f":"analysisnonex!CE22-analysisnonex!BX22","v":0},{"$f":"analysisnonex!CF22-analysisnonex!BX22","v":2.5},{"$f":"analysisnonex!CG22-analysisnonex!BX22","v":0},{"$f":"analysisnonex!CH22-analysisnonex!BX22","v":0},0.75,1,null,{"$f":"analysisnonex!ED22","v":"F"},{"$f":"analysisnonex!EE22","v":20},{"$f":"analysisnonex!EF22","v":"F"},{"$nulls":3},"ADHD","1.00","2.00",{"v":-1.6250000000000973,"d":"-1.625"},{"v":1.3292460315213548,"d":"1.329"},{"v":0.2248211021628623,"d":".225"},{"v":-4.267020420520786,"d":"-4.267"},{"v":1.0170204205205913,"d":"1.017"}]
[{"$f":"analysisnonex!A23","v":"MA101-nonexercise"},{"$f":"(analysisnonex!M23-analysisnonex!L23)*100/ABS(analysisnonex!L23)","v":0.4494222105442009},{"$f":"((analysisnonex!N23-analysisnonex!L23)*100)/ABS(analysisnonex!L23)","v":-9.9951280661707},{"$f":"((analysisnonex!O23-analysisnonex!L23)*100)/ABS(analysisnonex!L23)","v":-6.245381242507341},{"$f":"((analysisnonex!P23-analysisnonex!L23)*100)/ABS(analysisnonex!L23)","v":-3.825836576727475},{"$f":"((analysisnonex!Q23-analysisnonex!L23)*100)/ABS(analysisnonex!L23)","v":-8.911259641228586},{"$f":"((analysisnonex!R23-analysisnonex!L23)*100)/ABS(analysisnonex!L23)","v":-7.121234515187837},{"$f":"((analysisnonex!S23-analysisnonex!L23)*100)/ABS(analysisnonex!L23)","v":-7.115760432233576},{"$f":"((analysisnonex!T23-analysisnonex!L23)*100)/ABS(analysisnonex!L23)","v":-12.595317469440916},{"$f":"((analysisnonex!U23-analysisnonex!L23)*100)/ABS(analysisnonex!L23)","v":-8.25436968671821},{"$f":"((analysisnonex!V23-analysisnonex!L23)*100)/ABS(analysisnonex!L23)","v":-6.020943841382963},-6.963580926105339,null,{"$f":"(analysisnonex!AI23-analysisnonex!AH23)*100/ABS(analysisnonex!AH23)","v":-13.356788605824253},{"$f":"(analysisnonex!AJ23-analysisnonex!AH23)*100/ABS(analysisnonex!AH23)","v":-15.15620363698021},{"$f":"(analysisnonex!AK23-analysisnonex!AH23)*100/ABS(analysisnonex!AH23)","v":-11.01267432495444},{"$f":"(analysisnonex!AL23-analysisnonex!AH23)*100/ABS(analysisnonex!AH23)","v":6.652960874909914},{"$f":"(analysisnonex!AM23-analysisnonex!AH23)*100/ABS(analysisnonex!AH23)","v":-15.069306091306006},{"$f":"(analysisnonex!AN23-analysisnonex!AH23)*100/ABS(analysisnonex!AH23)","v":-14.187613920562933},{"$f":"(analysisnonex!AO23-analysisnonex!AH23)*100/ABS(analysisnonex!AH23)","v":-17.646560128862703},{"$f":"(analysisnonex!AP23-analysisnonex!AH23)*100/ABS(analysisnonex!AH23)","v":-14.35717010724429},{"$f":"(analysisnonex!AQ23-analysisnonex!AH23)*100/ABS(analysisnonex!AH23)","v":-5.661057182823956},{"$f":"(analysisnonex!AR23-analysisnonex!AH23)*100/ABS(analysisnonex!AH23)","v":-9.507863168157357},-10.930227629180623,null,{"$f":"(analysisnonex!BE23-analysisnonex!BD23)","v":0},{"$f":"analysisnonex!BF23-analysisnonex!BD23","v":0},{"$f":"analysisnonex!BG23-analysisnonex!BD23","v":0},{"$f":"analysisnonex!BH23-analysisnonex!BD23","v":0},{"$f":"analysisnonex!BI23-analysisnonex!BD23","v":0},{"$f":"analysisnonex!BJ23-analysisnonex!BD23","v":0},{"$f":"analysisnonex!BK23-analysisnonex!BD23","v":2.5},{"$f":"analysisnonex!BL23-analysisnonex!BD23","v":0},{"$f":"analysisnonex!BM23-analysisnonex!BD23","v":0},{"$f":"analysisnonex!BN23-analysisnonex!BD23","v":0},0.125,null,{"$f":"(analysisnonex!BY23-analysisnonex!BX23)","v":2.5},{"$f":"analysisnonex!BZ23-analysisnonex!BX23","v":13.125},{"$f":"analysisnonex!CA23-analysisnonex!BX23","v":0},{"$f":"analysisnonex!CB23-analysisnonex!BX23","v":0},{"$f":"analysisnonex!CC23-analysisnonex!BX23","v":2.5},{"$f":"analysisnonex!CD23-analysisnonex!BX23","v":5},{"$f":"analysisnonex!CE23-analysisnonex!BX23","v":0},{"$f":"analysisnonex!CF23-analysisnonex!BX23","v":0},{"$f":"analysisnonex!CG23-analysisnonex!BX23","v":5},{"$f":"analysisnonex!CH23-analysisnonex!BX23","v":2.5},3.0625,-3,null,{"$f":"analysisnonex!ED23","v":"M"},{"$f":"analysisnonex!EE23","v":25},{"$f":"analysisnonex!EF23","v":"T"},{"$nulls":4},"2.00","1.00",{"v":1.6250000000000973,"d":"1.625"},{"v":1.3292460315213548,"d":"1.329"},{"v":0.2248211021628623,"d":".225"},{"v":-1.0170204205205913,"d":"-1.017"},{"v":4.267020420520786,"d":"4.267"}]
[{"$f":"analysisnonex!A24","v":"MT102-nonexercise"},{"$f":"(analysisnonex!M24-analysisnonex!L24)*100/ABS(analysisnonex!L24)","v":-1.8220971666180865},{"$f":"((analysisnonex!N24-analysisnonex!L24)*100)/ABS(analysisnonex!L24)","v":-13.148486344681546},{"$f":"((analysisnonex!O24-analysisnonex!L24)*100)/ABS(analysisnonex!L24)","v":-14.338233107083163},{"$f":"((analysisnonex!P24-analysisnonex!L24)*100)/ABS(analysisnonex!L24)","v":-17.19362533684706},{"$f":"((analysisnonex!Q24-analysisnonex!L24)*100)/ABS(analysisnonex!L24)","v":-16.1942380564297},{"$f":"((analysisnonex!R24-analysisnonex!L24)*100)/ABS(analysisnonex!L24)","v":-16.616598157082276},{"$f":"((analysisnonex!S24-analysisnonex!L24)*100)/ABS(analysisnonex!L24)","v":-19.620708732146365},{"$f":"((analysisnonex!T24-analysisnonex!L24)*100)/ABS(analysisnonex!L24)","v":-11.393609870139151},{"$f":"((analysisnonex!U24-analysisnonex!L24)*100)/ABS(analysisnonex!L24)","v":-18.948501811389452},{"$f":"((analysisnonex!V24-analysisnonex!L24)*100)/ABS(analysisnonex!L24)","v":-17.90747339428803},-14.718357197670482,null,{"$f":"(analysisnonex!AI24-analysisnonex!AH24)*100/ABS(analysisnonex!AH24)","v":-7.160932005652495},{"$f":"(analysisnonex!AJ24-analysisnonex!AH24)*100/ABS(analysisnonex!AH24)","v":-13.503565677478715},{"$f":"(analysisnonex!AK24-analysisnonex!AH24)*100/ABS(analysisnonex!AH24)","v":-14.02937986788918},{"$f":"(analysisnonex!AL24-analysisnonex!AH24)*100/ABS(analysisnonex!AH24)","v":-2.0342436491504836},{"$f":"(analysisnonex!AM24-analysisnonex!AH24)*100/ABS(analysisnonex!AH24)","v":-10.385651845279167},{"$f":"(analysisnonex!AN24-analysisnonex!AH24)*100/ABS(analysisnonex!AH24)","v":-6.799434749745312},{"$f":"(analysisnonex!AO24-analysisnonex!AH24)*100/ABS(analysisnonex!AH24)","v":-5.217884255151333},{"$f":"(analysisnonex!AP24-analysisnonex!AH24)*100/ABS(analysisnonex!AH24)","v":-10.476026159255975},{"$f":"(analysisnonex!AQ24-analysisnonex!AH24)*100/ABS(analysisnonex!AH24)","v":-7.423839100857727},{"$f":"(analysisnonex!AR24-analysisnonex!AH24)*100/ABS(analysisnonex!AH24)","v":-12.809326629202399},-8.98402839396628,null,{"$f":"(analysisnonex!BE24-analysisnonex!BD24)","v":0},{"$f":"analysisnonex!BF24-analysisnonex!BD24","v":0},{"$f":"analysisnonex!BG24-analysisnonex!BD24","v":0},{"$f":"analysisnonex!BH24-analysisnonex!BD24","v":0},{"$f":"analysisnonex!BI24-analysisnonex!BD24","v":0},{"$f":"analysisnonex!BJ24-analysisnonex!BD24","v":0},{"$f":"analysisnonex!BK24-analysisnonex!BD24","v":0},{"$f":"analysisnonex!BL24-analysisnonex!BD24","v":0},{"$f":"analysisnonex!BM24-analysisnonex!BD24","v":0},{"$f":"analysisnonex!BN24-analysisnonex!BD24","v":0},0,null,{"$f":"(analysisnonex!BY24-analysisnonex!BX24)","v":7.5},{"$f":"analysisnonex!BZ24-analysisnonex!BX24","v":5},{"$f":"analysisnonex!CA24-analysisnonex!BX24","v":0},{"$f":"analysisnonex!CB24-analysisnonex!BX24","v":0},{"$f":"analysisnonex!CC24-analysisnonex!BX24","v":2.5},{"$f":"analysisnonex!CD24-analysisnonex!BX24","v":2.5},{"$f":"analysisnonex!CE24-analysisnonex!BX24","v":0},{"$f":"analysisnonex!CF24-analysisnonex!BX24","v":0},{"$f":"analysisnonex!CG24-analysisnonex!BX24","v":5},{"$f":"analysisnonex!CH24-analysisnonex!BX24","v":0},2.25,0,null,{"$f":"analysisnonex!ED24","v":"F"},{"$f":"analysisnonex!EE24","v":23},{"$f":"analysisnonex!EF24","v":"F"},null,null,"high-BMI","non-ADHD","1.00","2.00",{"v":0.6562499999999809,"d":".656"},{"v":0.8298409515080527,"d":".830"},{"v":0.43120295360839855,"d":".431"},{"v":-0.9931487476188277,"d":"-.993"},{"v":2.3056487476187897,"d":"2.306"}]
[{"$f":"analysisnonex!A25","v":"RA101-nonexercise"},{"$f":"(analysisnonex!M25-analysisnonex!L25)*100/ABS(analysisnonex!L25)","v":-9.207539721701355},{"$f":"((analysisnonex!N25-analysisnonex!L25)*100)/ABS(analysisnonex!L25)","v":-6.246916016974235},{"$f":"((analysisnonex!O25-analysisnonex!L25)*100)/ABS(analysisnonex!L25)","v":-14.018553241882948},{"$f":"((analysisnonex!P25-analysisnonex!L25)*100)/ABS(analysisnonex!L25)","v":-13.259893417546616},{"$f":"((analysisnonex!Q25-analysisnonex!L25)*100)/ABS(analysisnonex!L25)","v":-7.387989736504474},{"$f":"((analysisnonex!R25-analysisnonex!L25)*100)/ABS(analysisnonex!L25)","v":-17.250567452876723},{"$f":"((analysisnonex!S25-analysisnonex!L25)*100)/ABS(analysisnonex!L25)","v":-15.628392381328322},{"$f":"((analysisnonex!T25-analysisnonex!L25)*100)/ABS(analysisnonex!L25)","v":-18.83573472811604},{"$f":"((analysisnonex!U25-analysisnonex!L25)*100)/ABS(analysisnonex!L25)","v":-16.905161353991897},{"$f":"((analysisnonex!V25-analysisnonex!L25)*100)/ABS(analysisnonex!L25)","v":-15.720911872101047},-13.446165992302365,null,{"$f":"(analysisnonex!AI25-analysisnonex!AH25)*100/ABS(analysisnonex!AH25)","v":-12.804148626738963},{"$f":"(analysisnonex!AJ25-analysisnonex!AH25)*100/ABS(analysisnonex!AH25)","v":-7.3360011173116515},{"$f":"(analysisnonex!AK25-analysisnonex!AH25)*100/ABS(analysisnonex!AH25)","v":-15.548848986829075},{"$f":"(analysisnonex!AL25-analysisnonex!AH25)*100/ABS(analysisnonex!AH25)","v":-5.82702315385503},{"$f":"(analysisnonex!AM25-analysisnonex!AH25)*100/ABS(analysisnonex!AH25)","v":-4.178381234022142},{"$f":"(analysisnonex!AN25-analysisnonex!AH25)*100/ABS(analysisnonex!AH25)","v":-6.458547130512927},{"$f":"(analysisnonex!AO25-analysisnonex!AH25)*100/ABS(analysisnonex!AH25)","v":-13.362804452244035},{"$f":"(analysisnonex!AP25-analysisnonex!AH25)*100/ABS(analysisnonex!AH25)","v":-11.003698058671002},{"$f":"(analysisnonex!AQ25-analysisnonex!AH25)*100/ABS(analysisnonex!AH25)","v":-8.016103861404776},{"$f":"(analysisnonex!AR25-analysisnonex!AH25)*100/ABS(analysisnonex!AH25)","v":-18.5121538003777},-10.30477104219673,null,{"$f":"(analysisnonex!BE25-analysisnonex!BD25)","v":0},{"$f":"analysisnonex!BF25-analysisnonex!BD25","v":0},{"$f":"analysisnonex!BG25-analysisnonex!BD25","v":0},{"$f":"analysisnonex!BH25-analysisnonex!BD25","v":0},{"$f":"analysisnonex!BI25-analysisnonex!BD25","v":2.5},{"$f":"analysisnonex!BJ25-analysisnonex!BD25","v":0},{"$f":"analysisnonex!BK25-analysisnonex!BD25","v":2.5},{"$f":"analysisnonex!BL25-analysisnonex!BD25","v":0},{"$f":"analysisnonex!BM25-analysisnonex!BD25","v":0},{"$f":"analysisnonex!BN25-analysisnonex!BD25","v":0},0.25,null,{"$f":"(analysisnonex!BY25-analysisnonex!BX25)","v":0},{"$f":"analysisnonex!BZ25-analysisnonex!BX25","v":4.375},{"$f":"analysisnonex!CA25-analysisnonex!BX25","v":0},{"$f":"analysisnonex!CB25-analysisnonex!BX25","v":2.5},{"$f":"analysisnonex!CC25-analysisnonex!BX25","v":0},{"$f":"analysisnonex!CD25-analysisnonex!BX25","v":0},{"$f":"analysisnonex!CE25-analysisnonex!BX25","v":2.5},{"$f":"analysisnonex!CF25-analysisnonex!BX25","v":5},{"$f":"analysisnonex!CG25-analysisnonex!BX25","v":2.5},{"$f":"analysisnonex!CH25-analysisnonex!BX25","v":2.5},1.9375,-0.75,null,{"$f":"analysisnonex!ED25","v":"F"},{"$f":"analysisnonex!EE25","v":23},{"$f":"analysisnonex!EF25","v":"T"},{"$nulls":4},"2.00","1.00",{"v":-0.6562499999999809,"d":"-.656"},{"v":0.8298409515080527,"d":".830"},{"v":0.43120295360839855,"d":".431"},{"v":-2.3056487476187897,"d":"-2.306"},{"v":0.9931487476188277,"d":".993"}]
[{"$f":"analysisnonex!A26","v":"RO101-nonexercise"},{"$f":"(analysisnonex!M26-analysisnonex!L26)*100/ABS(analysisnonex!L26)","v":-1.5528734335637733},{"$f":"((analysisnonex!N26-analysisnonex!L26)*100)/ABS(analysisnonex!L26)","v":5.752238533391335},{"$f":"((analysisnonex!O26-analysisnonex!L26)*100)/ABS(analysisnonex!L26)","v":-3.0998383206836806},{"$f":"((analysisnonex!P26-analysisnonex!L26)*100)/ABS(analysisnonex!L26)","v":19.03035381450387},{"$f":"((analysisnonex!Q26-analysisnonex!L26)*100)/ABS(analysisnonex!L26)","v":-6.53753806983903},{"$f":"((analysisnonex!R26-analysisnonex!L26)*100)/ABS(analysisnonex!L26)","v":-3.013895826954787},{"$f":"((analysisnonex!S26-analysisnonex!L26)*100)/ABS(analysisnonex!L26)","v":-10.66277776882543},{"$f":"((analysisnonex!T26-analysisnonex!L26)*100)/ABS(analysisnonex!L26)","v":-19.0421709073916},{"$f":"((analysisnonex!U26-analysisnonex!L26)*100)/ABS(analysisnonex!L26)","v":4.328815981006696},{"$f":"((analysisnonex!V26-analysisnonex!L26)*100)/ABS(analysisnonex!L26)","v":-25.831627911973403},-4.062931391032981,null,{"$f":"(analysisnonex!AI26-analysisnonex!AH26)*100/ABS(analysisnonex!AH26)","v":-11.954715611749869},{"$f":"(analysisnonex!AJ26-analysisnonex!AH26)*100/ABS(analysisnonex!AH26)","v":-9.641315558271888},{"$f":"(analysisnonex!AK26-analysisnonex!AH26)*100/ABS(analysisnonex!AH26)","v":16.274017342144486},{"$f":"(analysisnonex!AL26-analysisnonex!AH26)*100/ABS(analysisnonex!AH26)","v":-7.771973719393395},{"$f":"(analysisnonex!AM26-analysisnonex!AH26)*100/ABS(analysisnonex!AH26)","v":9.591657435348967},{"$f":"(analysisnonex!AN26-analysisnonex!AH26)*100/ABS(analysisnonex!AH26)","v":-2.861071851483996},{"$f":"(analysisnonex!AO26-analysisnonex!AH26)*100/ABS(analysisnonex!AH26)","v":-14.91510370907978},{"$f":"(analysisnonex!AP26-analysisnonex!AH26)*100/ABS(analysisnonex!AH26)","v":-5.480060353718615},{"$f":"(analysisnonex!AQ26-analysisnonex!AH26)*100/ABS(analysisnonex!AH26)","v":-12.241204782459212},{"$f":"(analysisnonex!AR26-analysisnonex!AH26)*100/ABS(analysisnonex!AH26)","v":-13.575766836013582},-5.257553764467689,null,{"$f":"(analysisnonex!BE26-analysisnonex!BD26)","v":-0.75},{"$f":"analysisnonex!BF26-analysisnonex!BD26","v":-0.75},{"$f":"analysisnonex!BG26-analysisnonex!BD26","v":-0.75},{"$f":"analysisnonex!BH26-analysisnonex!BD26","v":1.75},{"$f":"analysisnonex!BI26-analysisnonex!BD26","v":-0.75},{"$f":"analysisnonex!BJ26-analysisnonex!BD26","v":-0.75},{"$f":"analysisnonex!BK26-analysisnonex!BD26","v":-0.75},{"$f":"analysisnonex!BL26-analysisnonex!BD26","v":-0.75},{"$f":"analysisnonex!BM26-analysisnonex!BD26","v":-0.75},{"$f":"analysisnonex!BN26-analysisnonex!BD26","v":-0.75},-0.25,null,{"$f":"(analysisnonex!BY26-analysisnonex!BX26)","v":12.5},{"$f":"analysisnonex!BZ26-analysisnonex!BX26","v":24.375},{"$f":"analysisnonex!CA26-analysisnonex!BX26","v":0},{"$f":"analysisnonex!CB26-analysisnonex!BX26","v":0},{"$f":"analysisnonex!CC26-analysisnonex!BX26","v":0},{"$f":"analysisnonex!CD26-analysisnonex!BX26","v":-10},{"$f":"analysisnonex!CE26-analysisnonex!BX26","v":-7.5},{"$f":"analysisnonex!CF26-analysisnonex!BX26","v":-5},{"$f":"analysisnonex!CG26-analysisnonex!BX26","v":-7.5},{"$f":"analysisnonex!CH26-analysisnonex!BX26","v":-10},-0.3125,-1.25,null,{"$f":"analysisnonex!ED26","v":"F"},{"$f":"analysisnonex!EE26","v":24},{"$f":"analysisnonex!EF26","v":"F"},{"$nulls":3},"ADHD","1.00","2.00","-7.500*",{"v":2.0592590972377716,"d":"2.059"},{"v":4.5883116882153687E-4,"d":".000"},{"v":-11.59300043560614,"d":"-11.593"},{"v":-3.4069995643930264,"d":"-3.407"}]
[{"$f":"analysisnonex!A27","v":"SA102-nonexercise"},{"$f":"(analysisnonex!M27-analysisnonex!L27)*100/ABS(analysisnonex!L27)","v":-0.3935726333855994},{"$f":"((analysisnonex!N27-analysisnonex!L27)*100)/ABS(analysisnonex!L27)","v":-0.9025537833278865},{"$f":"((analysisnonex!O27-analysisnonex!L27)*100)/ABS(analysisnonex!L27)","v":-6.193590388541986},{"$f":"((analysisnonex!P27-analysisnonex!L27)*100)/ABS(analysisnonex!L27)","v":-15.556476193294447},{"$f":"((analysisnonex!Q27-analysisnonex!L27)*100)/ABS(analysisnonex!L27)","v":-13.496878051667487},{"$f":"((analysisnonex!R27-analysisnonex!L27)*100)/ABS(analysisnonex!L27)","v":-15.976681561270071},{"$f":"((analysisnonex!S27-analysisnonex!L27)*100)/ABS(analysisnonex!L27)","v":-4.08664516319946},{"$f":"((analysisnonex!T27-analysisnonex!L27)*100)/ABS(analysisnonex!L27)","v":-2.4709259314058944},{"$f":"((analysisnonex!U27-analysisnonex!L27)*100)/ABS(analysisnonex!L27)","v":4.642973396857367},{"$f":"((analysisnonex!V27-analysisnonex!L27)*100)/ABS(analysisnonex!L27)","v":-9.306661142840213},-6.374101145207568,null,{"$f":"(analysisnonex!AI27-analysisnonex!AH27)*100/ABS(analysisnonex!AH27)","v":-19.278542514275745},{"$f":"(analysisnonex!AJ27-analysisnonex!AH27)*100/ABS(analysisnonex!AH27)","v":-14.458393831030579},{"$f":"(analysisnonex!AK27-analysisnonex!AH27)*100/ABS(analysisnonex!AH27)","v":-11.238975737644362},{"$f":"(analysisnonex!AL27-analysisnonex!AH27)*100/ABS(analysisnonex!AH27)","v":-7.87846760829301},{"$f":"(analysisnonex!AM27-analysisnonex!AH27)*100/ABS(analysisnonex!AH27)","v":-13.291194442591738},{"$f":"(analysisnonex!AN27-analysisnonex!AH27)*100/ABS(analysisnonex!AH27)","v":-9.622853507498288},{"$f":"(analysisnonex!AO27-analysisnonex!AH27)*100/ABS(analysisnonex!AH27)","v":-5.523546644365886},{"$f":"(analysisnonex!AP27-analysisnonex!AH27)*100/ABS(analysisnonex!AH27)","v":-11.764856780787124},{"$f":"(analysisnonex!AQ27-analysisnonex!AH27)*100/ABS(analysisnonex!AH27)","v":-13.039797651235688},{"$f":"(analysisnonex!AR27-analysisnonex!AH27)*100/ABS(analysisnonex!AH27)","v":-18.855272406380344},-12.495190112410276,null,{"$f":"(analysisnonex!BE27-analysisnonex!BD27)","v":0},{"$f":"analysisnonex!BF27-analysisnonex!BD27","v":0},{"$f":"analysisnonex!BG27-analysisnonex!BD27","v":0},{"$f":"analysisnonex!BH27-analysisnonex!BD27","v":0},{"$f":"analysisnonex!BI27-analysisnonex!BD27","v":0},{"$f":"analysisnonex!BJ27-analysisnonex!BD27","v":0},{"$f":"analysisnonex!BK27-analysisnonex!BD27","v":0},{"$f":"analysisnonex!BL27-analysisnonex!BD27","v":0},{"$f":"analysisnonex!BM27-analysisnonex!BD27","v":0},{"$f":"analysisnonex!BN27-analysisnonex!BD27","v":0},0,null,{"$f":"(analysisnonex!BY27-analysisnonex!BX27)","v":-2.5},{"$f":"analysisnonex!BZ27-analysisnonex!BX27","v":6.875},{"$f":"analysisnonex!CA27-analysisnonex!BX27","v":-2.5},{"$f":"analysisnonex!CB27-analysisnonex!BX27","v":-2.5},{"$f":"analysisnonex!CC27-analysisnonex!BX27","v":-2.5},{"$f":"analysisnonex!CD27-analysisnonex!BX27","v":2.5},{"$f":"analysisnonex!CE27-analysisnonex!BX27","v":-2.5},{"$f":"analysisnonex!CF27-analysisnonex!BX27","v":2.5},{"$f":"analysisnonex!CG27-analysisnonex!BX27","v":-2.5},{"$f":"analysisnonex!CH27-analysisnonex!BX27","v":0},-0.3125,-0.5,null,{"$f":"analysisnonex!ED27","v":"F"},{"$f":"analysisnonex!EE27","v":26},{"$f":"analysisnonex!EF27","v":"F"},{"$nulls":4},"2.00","1.00","7.500*",{"v":2.0592590972377716,"d":"2.059"},{"v":4.5883116882153687E-4,"d":".000"},{"v":3.4069995643930264,"d":"3.407"},{"v":11.59300043560614,"d":"11.593"}]
[{"$f":"analysisnonex!A28","v":"TM101-nonexercise"},{"$f":"(analysisnonex!M28-analysisnonex!L28)*100/ABS(analysisnonex!L28)","v":-5.6627132493129055},{"$f":"((analysisnonex!N28-analysisnonex!L28)*100)/ABS(analysisnonex!L28)","v":-15.622601332111826},{"$f":"((analysisnonex!O28-analysisnonex!L28)*100)/ABS(analysisnonex!L28)","v":-4.771337311511137},{"$f":"((analysisnonex!P28-analysisnonex!L28)*100)/ABS(analysisnonex!L28)","v":-14.867407829251995},{"$f":"((analysisnonex!Q28-analysisnonex!L28)*100)/ABS(analysisnonex!L28)","v":-18.19149726397109},{"$f":"((analysisnonex!R28-analysisnonex!L28)*100)/ABS(analysisnonex!L28)","v":-18.49481268725086},{"$f":"((analysisnonex!S28-analysisnonex!L28)*100)/ABS(analysisnonex!L28)","v":-20.116621685195746},{"$f":"((analysisnonex!T28-analysisnonex!L28)*100)/ABS(analysisnonex!L28)","v":-26.75861044395474},{"$f":"((analysisnonex!U28-analysisnonex!L28)*100)/ABS(analysisnonex!L28)","v":-20.073290910441482},{"$f":"((analysisnonex!V28-analysisnonex!L28)*100)/ABS(analysisnonex!L28)","v":-15.919726644712414},-16.04786193577142,null,{"$f":"(analysisnonex!AI28-analysisnonex!AH28)*100/ABS(analysisnonex!AH28)","v":-19.908979103733202},{"$f":"(analysisnonex!AJ28-analysisnonex!AH28)*100/ABS(analysisnonex!AH28)","v":-13.73984799623673},{"$f":"(analysisnonex!AK28-analysisnonex!AH28)*100/ABS(analysisnonex!AH28)","v":-19.50091530976008},{"$f":"(analysisnonex!AL28-analysisnonex!AH28)*100/ABS(analysisnonex!AH28)","v":-21.062326076976685},{"$f":"(analysisnonex!AM28-analysisnonex!AH28)*100/ABS(analysisnonex!AH28)","v":-14.490798728201161},{"$f":"(analysisnonex!AN28-analysisnonex!AH28)*100/ABS(analysisnonex!AH28)","v":-7.5310440198817625},{"$f":"(analysisnonex!AO28-analysisnonex!AH28)*100/ABS(analysisnonex!AH28)","v":-0.06971089813705392},{"$f":"(analysisnonex!AP28-analysisnonex!AH28)*100/ABS(analysisnonex!AH28)","v":-17.8459899230913},{"$f":"(analysisnonex!AQ28-analysisnonex!AH28)*100/ABS(analysisnonex!AH28)","v":-15.077390432037529},{"$f":"(analysisnonex!AR28-analysisnonex!AH28)*100/ABS(analysisnonex!AH28)","v":-20.356715766564825},-14.958371825462033,null,{"$f":"(analysisnonex!BE28-analysisnonex!BD28)","v":-0.25},{"$f":"analysisnonex!BF28-analysisnonex!BD28","v":-0.25},{"$f":"analysisnonex!BG28-analysisnonex!BD28","v":2.25},{"$f":"analysisnonex!BH28-analysisnonex!BD28","v":2.25},{"$f":"analysisnonex!BI28-analysisnonex!BD28","v":-0.25},{"$f":"analysisnonex!BJ28-analysisnonex!BD28","v":-0.25},{"$f":"analysisnonex!BK28-analysisnonex!BD28","v":-0.25},{"$f":"analysisnonex!BL28-analysisnonex!BD28","v":-0.25},{"$f":"analysisnonex!BM28-analysisnonex!BD28","v":-0.25},{"$f":"analysisnonex!BN28-analysisnonex!BD28","v":2.25},0.25,null,{"$f":"(analysisnonex!BY28-analysisnonex!BX28)","v":7.5},{"$f":"analysisnonex!BZ28-analysisnonex!BX28","v":5},{"$f":"analysisnonex!CA28-analysisnonex!BX28","v":2.5},{"$f":"analysisnonex!CB28-analysisnonex!BX28","v":0},{"$f":"analysisnonex!CC28-analysisnonex!BX28","v":-2.5},{"$f":"analysisnonex!CD28-analysisnonex!BX28","v":-2.5},{"$f":"analysisnonex!CE28-analysisnonex!BX28","v":-2.5},{"$f":"analysisnonex!CF28-analysisnonex!BX28","v":0},{"$f":"analysisnonex!CG28-analysisnonex!BX28","v":0},{"$f":"analysisnonex!CH28-analysisnonex!BX28","v":-2.5},0.5,0,null,{"$f":"analysisnonex!ED28","v":"M"},{"$f":"analysisnonex!EE28","v":26},{"$f":"analysisnonex!EF28","v":"F"},null,"Male","normal-BMI","non-ADHD","1.00","2.00",{"v":0.874999999999925,"d":".875"},{"v":1.085324839948934,"d":"1.085"},{"v":0.42231991830684823,"d":".422"},{"v":-1.2822006400964492,"d":"-1.282"},{"v":3.032200640096299,"d":"3.032"}]
[{"$f":"analysisnonex!A29","v":"TP101-nonexercise"},{"$f":"(analysisnonex!M29-analysisnonex!L29)*100/ABS(analysisnonex!L29)","v":-2.036595612024158},{"$f":"((analysisnonex!N29-analysisnonex!L29)*100)/ABS(analysisnonex!L29)","v":-14.563350403175221},{"$f":"((analysisnonex!O29-analysisnonex!L29)*100)/ABS(analysisnonex!L29)","v":-21.136570140322462},{"$f":"((analysisnonex!P29-analysisnonex!L29)*100)/ABS(analysisnonex!L29)","v":-24.968730634853646},{"$f":"((analysisnonex!Q29-analysisnonex!L29)*100)/ABS(analysisnonex!L29)","v":-24.24259704908435},{"$f":"((analysisnonex!R29-analysisnonex!L29)*100)/ABS(analysisnonex!L29)","v":-24.056311469489085},{"$f":"((analysisnonex!S29-analysisnonex!L29)*100)/ABS(analysisnonex!L29)","v":-21.497736059945932},{"$f":"((analysisnonex!T29-analysisnonex!L29)*100)/ABS(analysisnonex!L29)","v":-16.635302257857255},{"$f":"((analysisnonex!U29-analysisnonex!L29)*100)/ABS(analysisnonex!L29)","v":-31.355664792405626},{"$f":"((analysisnonex!V29-analysisnonex!L29)*100)/ABS(analysisnonex!L29)","v":-36.28272828537429},-21.6775586704532,null,{"$f":"(analysisnonex!AI29-analysisnonex!AH29)*100/ABS(analysisnonex!AH29)","v":-8.487539009274329},{"$f":"(analysisnonex!AJ29-analysisnonex!AH29)*100/ABS(analysisnonex!AH29)","v":-11.410487451101062},{"$f":"(analysisnonex!AK29-analysisnonex!AH29)*100/ABS(analysisnonex!AH29)","v":-11.935189661992878},{"$f":"(analysisnonex!AL29-analysisnonex!AH29)*100/ABS(analysisnonex!AH29)","v":-2.644389257615055},{"$f":"(analysisnonex!AM29-analysisnonex!AH29)*100/ABS(analysisnonex!AH29)","v":-11.234671003472386},{"$f":"(analysisnonex!AN29-analysisnonex!AH29)*100/ABS(analysisnonex!AH29)","v":-2.5097797898993517},{"$f":"(analysisnonex!AO29-analysisnonex!AH29)*100/ABS(analysisnonex!AH29)","v":-8.292492637686252},{"$f":"(analysisnonex!AP29-analysisnonex!AH29)*100/ABS(analysisnonex!AH29)","v":-10.24845061755528},{"$f":"(analysisnonex!AQ29-analysisnonex!AH29)*100/ABS(analysisnonex!AH29)","v":-3.8503802030680023},{"$f":"(analysisnonex!AR29-analysisnonex!AH29)*100/ABS(analysisnonex!AH29)","v":-3.0399762647795705},-7.365335589644417,null,{"$f":"(analysisnonex!BE29-analysisnonex!BD29)","v":0},{"$f":"analysisnonex!BF29-analysisnonex!BD29","v":0},{"$f":"analysisnonex!BG29-analysisnonex!BD29","v":0},{"$f":"analysisnonex!BH29-analysisnonex!BD29","v":0},{"$f":"analysisnonex!BI29-analysisnonex!BD29","v":0},{"$f":"analysisnonex!BJ29-analysisnonex!BD29","v":0},{"$f":"analysisnonex!BK29-analysisnonex!BD29","v":0},{"$f":"analysisnonex!BL29-analysisnonex!BD29","v":2.5},{"$f":"analysisnonex!BM29-analysisnonex!BD29","v":0},{"$f":"analysisnonex!BN29-analysisnonex!BD29","v":0},0.125,null,{"$f":"(analysisnonex!BY29-analysisnonex!BX29)","v":-2.5},{"$f":"analysisnonex!BZ29-analysisnonex!BX29","v":6.25},{"$f":"analysisnonex!CA29-analysisnonex!BX29","v":0},{"$f":"analysisnonex!CB29-analysisnonex!BX29","v":2.5},{"$f":"analysisnonex!CC29-analysisnonex!BX29","v":2.5},{"$f":"analysisnonex!CD29-analysisnonex!BX29","v":2.5},{"$f":"analysisnonex!CE29-analysisnonex!BX29","v":-2.5},{"$f":"analysisnonex!CF29-analysisnonex!BX29","v":10},{"$f":"analysisnonex!CG29-analysisnonex!BX29","v":10},{"$f":"analysisnonex!CH29-analysisnonex!BX29","v":0},2.875,0.75,null,{"$f":"analysisnonex!ED29","v":"F"},{"$f":"analysisnonex!EE29","v":20},{"$f":"analysisnonex!EF29","v":"F"},{"$nulls":4},"2.00","1.00",{"v":-0.874999999999925,"d":"-.875"},{"v":1.085324839948934,"d":"1.085"},{"v":0.42231991830684823,"d":".422"},{"v":-3.032200640096299,"d":"-3.032"},{"v":1.2822006400964492,"d":"1.282"}]
[{"$f":"analysisnonex!A30","v":"TR101-nonexercise"},{"$f":"(analysisnonex!M30-analysisnonex!L30)*100/ABS(analysisnonex!L30)","v":1.2426165566847465},{"$f":"((analysisnonex!N30-analysisnonex!L30)*100)/ABS(analysisnonex!L30)","v":1.84124252302139},{"$f":"((analysisnonex!O30-analysisnonex!L30)*100)/ABS(analysisnonex!L30)","v":-0.2212110016228205},{"$f":"((analysisnonex!P30-analysisnonex!L30)*100)/ABS(analysisnonex!L30)","v":-4.710905749147647},{"$f":"((analysisnonex!Q30-analysisnonex!L30)*100)/ABS(analysisnonex!L30)","v":-0.10429186757270158},{"$f":"((analysisnonex!R30-analysisnonex!L30)*100)/ABS(analysisnonex!L30)","v":-5.608844698652613},{"$f":"((analysisnonex!S30-analysisnonex!L30)*100)/ABS(analysisnonex!L30)","v":-9.312842865360597},{"$f":"((analysisnonex!T30-analysisnonex!L30)*100)/ABS(analysisnonex!L30)","v":-6.3524503912114065},{"$f":"((analysisnonex!U30-analysisnonex!L30)*100)/ABS(analysisnonex!L30)","v":-8.74695425655798},{"$f":"((analysisnonex!V30-analysisnonex!L30)*100)/ABS(analysisnonex!L30)","v":-5.721087067340737},-3.7694728817760366,null,{"$f":"(analysisnonex!AI30-analysisnonex!AH30)*100/ABS(analysisnonex!AH30)","v":-12.732755963568884},{"$f":"(analysisnonex!AJ30-analysisnonex!AH30)*100/ABS(analysisnonex!AH30)","v":8.634558783534706},{"$f":"(analysisnonex!AK30-analysisnonex!AH30)*100/ABS(analysisnonex!AH30)","v":-6.320446262910731},{"$f":"(analysisnonex!AL30-analysisnonex!AH30)*100/ABS(analysisnonex!AH30)","v":-8.064038485945492},{"$f":"(analysisnonex!AM30-analysisnonex!AH30)*100/ABS(analysisnonex!AH30)","v":-5.867172721393899},{"$f":"(analysisnonex!AN30-analysisnonex!AH30)*100/ABS(analysisnonex!AH30)","v":-4.005729377564767},{"$f":"(analysisnonex!AO30-analysisnonex!AH30)*100/ABS(analysisnonex!AH30)","v":1.9925904885080203},{"$f":"(analysisnonex!AP30-analysisnonex!AH30)*100/ABS(analysisnonex!AH30)","v":-0.2042752760435831},{"$f":"(analysisnonex!AQ30-analysisnonex!AH30)*100/ABS(analysisnonex!AH30)","v":-4.631246864858001},{"$f":"(analysisnonex!AR30-analysisnonex!AH30)*100/ABS(analysisnonex!AH30)","v":-5.8943691338849105},-3.7092884814127536,null,{"$f":"(analysisnonex!BE30-analysisnonex!BD30)","v":2.25},{"$f":"analysisnonex!BF30-analysisnonex!BD30","v":-0.25},{"$f":"analysisnonex!BG30-analysisnonex!BD30","v":-0.25},{"$f":"analysisnonex!BH30-analysisnonex!BD30","v":-0.25},{"$f":"analysisnonex!BI30-analysisnonex!BD30","v":-0.25},{"$f":"analysisnonex!BJ30-analysisnonex!BD30","v":-0.25},{"$f":"analysisnonex!BK30-analysisnonex!BD30","v":-0.25},{"$f":"analysisnonex!BL30-analysisnonex!BD30","v":-0.25},{"$f":"analysisnonex!BM30-analysisnonex!BD30","v":-0.25},{"$f":"analysisnonex!BN30-analysisnonex!BD30","v":-0.25},0,null,{"$f":"(analysisnonex!BY30-analysisnonex!BX30)","v":7.5},{"$f":"analysisnonex!BZ30-analysisnonex!BX30","v":10},{"$f":"analysisnonex!CA30-analysisnonex!BX30","v":2.5},{"$f":"analysisnonex!CB30-analysisnonex!BX30","v":7.5},{"$f":"analysisnonex!CC30-analysisnonex!BX30","v":5},{"$f":"analysisnonex!CD30-analysisnonex!BX30","v":5},{"$f":"analysisnonex!CE30-analysisnonex!BX30","v":10},{"$f":"analysisnonex!CF30-analysisnonex!BX30","v":2.5},{"$f":"analysisnonex!CG30-analysisnonex!BX30","v":0},{"$f":"analysisnonex!CH30-analysisnonex!BX30","v":0},5,0.25,null,{"$f":"analysisnonex!ED30","v":"M"},{"$f":"analysisnonex!EE30","v":27},{"$f":"analysisnonex!EF30","v":"F"},{"$nulls":3},"ADHD","1.00","2.00",{"v":-1.8124999999998437,"d":"-1.812"},{"v":1.4561160718769384,"d":"1.456"},{"v":0.21656643663436023,"d":".217"},{"v":-4.7066883634167755,"d":"-4.707"},{"v":1.0816883634170886,"d":"1.082"}]
[{"$f":"analysisnonex!A31","v":"YS102-nonexercise"},{"$f":"(analysisnonex!M31-analysisnonex!L31)*100/ABS(analysisnonex!L31)","v":-13.788567777819534},{"$f":"((analysisnonex!N31-analysisnonex!L31)*100)/ABS(analysisnonex!L31)","v":-17.220990391722097},{"$f":"((analysisnonex!O31-analysisnonex!L31)*100)/ABS(analysisnonex!L31)","v":-12.811454770942158},{"$f":"((analysisnonex!P31-analysisnonex!L31)*100)/ABS(analysisnonex!L31)","v":-7.099101807659052},{"$f":"((analysisnonex!Q31-analysisnonex!L31)*100)/ABS(analysisnonex!L31)","v":-18.022724140954814},{"$f":"((analysisnonex!R31-analysisnonex!L31)*100)/ABS(analysisnonex!L31)","v":-17.371315469703227},{"$f":"((analysisnonex!S31-analysisnonex!L31)*100)/ABS(analysisnonex!L31)","v":-21.780851090483168},{"$f":"((analysisnonex!T31-analysisnonex!L31)*100)/ABS(analysisnonex!L31)","v":-6.986357999173208},{"$f":"((analysisnonex!U31-analysisnonex!L31)*100)/ABS(analysisnonex!L31)","v":-19.131371591065676},{"$f":"((analysisnonex!V31-analysisnonex!L31)*100)/ABS(analysisnonex!L31)","v":-24.637027572124715},-15.884976261164766,null,{"$f":"(analysisnonex!AI31-analysisnonex!AH31)*100/ABS(analysisnonex!AH31)","v":-33.85147396172151},{"$f":"(analysisnonex!AJ31-analysisnonex!AH31)*100/ABS(analysisnonex!AH31)","v":-31.445005844978457},{"$f":"(analysisnonex!AK31-analysisnonex!AH31)*100/ABS(analysisnonex!AH31)","v":-16.967067581646287},{"$f":"(analysisnonex!AL31-analysisnonex!AH31)*100/ABS(analysisnonex!AH31)","v":-17.595586185307827},{"$f":"(analysisnonex!AM31-analysisnonex!AH31)*100/ABS(analysisnonex!AH31)","v":-15.167107689448219},{"$f":"(analysisnonex!AN31-analysisnonex!AH31)*100/ABS(analysisnonex!AH31)","v":-7.519723745286119},{"$f":"(analysisnonex!AO31-analysisnonex!AH31)*100/ABS(analysisnonex!AH31)","v":-24.949498407915915},{"$f":"(analysisnonex!AP31-analysisnonex!AH31)*100/ABS(analysisnonex!AH31)","v":-23.247362422902533},{"$f":"(analysisnonex!AQ31-analysisnonex!AH31)*100/ABS(analysisnonex!AH31)","v":-14.069034331300228},{"$f":"(analysisnonex!AR31-analysisnonex!AH31)*100/ABS(analysisnonex!AH31)","v":-26.705437541880865},-21.151729771238795,null,{"$f":"(analysisnonex!BE31-analysisnonex!BD31)","v":-0.25},{"$f":"analysisnonex!BF31-analysisnonex!BD31","v":-0.25},{"$f":"analysisnonex!BG31-analysisnonex!BD31","v":-0.25},{"$f":"analysisnonex!BH31-analysisnonex!BD31","v":-0.25},{"$f":"analysisnonex!BI31-analysisnonex!BD31","v":-0.25},{"$f":"analysisnonex!BJ31-analysisnonex!BD31","v":-0.25},{"$f":"analysisnonex!BK31-analysisnonex!BD31","v":-0.25},{"$f":"analysisnonex!BL31-analysisnonex!BD31","v":2.25},{"$f":"analysisnonex!BM31-analysisnonex!BD31","v":-0.25},{"$f":"analysisnonex!BN31-analysisnonex!BD31","v":-0.25},0,null,{"$f":"(analysisnonex!BY31-analysisnonex!BX31)","v":-2.5},{"$f":"analysisnonex!BZ31-analysisnonex!BX31","v":6.25},{"$f":"analysisnonex!CA31-analysisnonex!BX31","v":-10},{"$f":"analysisnonex!CB31-analysisnonex!BX31","v":-5},{"$f":"analysisnonex!CC31-analysisnonex!BX31","v":-7.5},{"$f":"analysisnonex!CD31-analysisnonex!BX31","v":-7.5},{"$f":"analysisnonex!CE31-analysisnonex!BX31","v":2.5},{"$f":"analysisnonex!CF31-analysisnonex!BX31","v":2.5},{"$f":"analysisnonex!CG31-analysisnonex!BX31","v":-5},{"$f":"analysisnonex!CH31-analysisnonex!BX31","v":-2.5},-2.875,0.5,null,{"$f":"analysisnonex!ED31","v":"M"},{"$f":"analysisnonex!EE31","v":23},{"$f":"analysisnonex!EF31","v":"F"},{"$nulls":4},"2.00","1.00",{"v":1.8124999999998437,"d":"1.812"},{"v":1.4561160718769384,"d":"1.456"},{"v":0.21656643663436023,"d":".217"},{"v":-1.0816883634170886,"d":"-1.082"},{"v":4.7066883634167755,"d":"4.707"}]
[{"$nulls":48},0.5,{"$nulls":6},"high-BMI","non-ADHD","1.00","2.00",{"v":-1.274999999999919,"d":"-1.275"},{"v":1.2279048865889526,"d":"1.228"},{"v":0.3019825492943097,"d":".302"},{"v":-3.7155939215872897,"d":"-3.716"},{"v":1.1655939215874516,"d":"1.166"}]
[{"$nulls":48},0,{"$nulls":8},"2.00","1.00",{"v":1.274999999999919,"d":"1.275"},{"v":1.2279048865889526,"d":"1.228"},{"v":0.3019825492943097,"d":".302"},{"v":-1.1655939215874516,"d":"-1.166"},{"v":3.7155939215872897,"d":"3.716"}]
[{"$nulls":48},-0.25,{"$nulls":7},"ADHD","1.00","2.00",{"v":1.4374999999996079,"d":"1.437"},{"v":1.9414880958358922,"d":"1.941"},{"v":0.4610439306548685,"d":".461"},{"v":-2.4214178178895844,"d":"-2.421"},{"v":5.2964178178888,"d":"5.296"}]
[{"$nulls":48},0.25,{"$nulls":8},"2.00","1.00",{"v":-1.4374999999996079,"d":"-1.437"},{"v":1.9414880958358922,"d":"1.941"},{"v":0.4610439306548685,"d":".461"},{"v":-5.2964178178888,"d":"-5.296"},{"v":2.4214178178895844,"d":"2.421"}]
[{"$nulls":48},1,{"$nulls":4},"Based on estimated marginal means"]
[{"$nulls":48},-0.5,{"$nulls":4},"*. The mean difference is significant at the .05 level."]
[{"$nulls":48},0.75,{"$nulls":4},"b. Adjustment for multiple comparisons: Least Significant Difference (equivalent to no adjustments)."]
[{"$nulls":48},-0.25]
[{"$nulls":48},-0.5]
[{"$nulls":48},0.75]
[{"$nulls":48},-1.25]
[{"$nulls":48},-1]
[{"$nulls":48},-0.25]
[{"$nulls":48},0.75]
[{"$nulls":48},0]
[{"$nulls":48},-0.25]
[{"$nulls":48},0.25]
[{"$nulls":48},-0.5]
[{"$nulls":48},-0.5]
[{"$nulls":48},-1]
[{"$nulls":48},1]
[{"$nulls":48},0.25]
[{"$nulls":48},0.5]
[{"$nulls":48},-1.25]
[{"$nulls":48},2]
[{"$nulls":48},0]
[{"$nulls":48},-1.75]
[{"$nulls":48},-1.75]
[{"$nulls":48},0]
[{"$nulls":48},-1.25]
[{"$nulls":48},0.5]
[{"$nulls":48},-1.75]
[{"$nulls":48},-2]
[{"$nulls":48},-1.5]
[{"$nulls":48},0.25]
[{"$nulls":48},-1.5]
[{"$nulls":48},-0.5]
[{"$nulls":48},2.75]
[{"$nulls":48},0.5]
[{"$nulls":48},-0.25]
[{"$nulls":48},-1.25]
[{"$nulls":48},1.75]
[{"$nulls":48},0.25]

{"sheet":"females-nonex","index":18,"n_rows":71,"n_cols":53,"rows_kept":71}
["ID (reds lack HR data)","%change-c-1","%change-c-2","%change-c-3","%change-c-4","%change-c-5","%change-c-6","%change-c-7","%change-c-8","%change-c-9","%change-c-10","%change-c-avg","congruent","%change-i-1","%change-i-2","%change-i-3","%change-i-4","%change-i-5","%change-i-6","%change-i-7","%change-i-8","%change-i-9","%change-i-10","%change-i-avg","incongruent","diff-err-c-1","diff-err-c-2","diff-err-c-3","diff-err-c-4","diff-err-c-5","diff-err-c-6","diff-err-c-7","diff-err-c-8","diff-err-c-9","diff-err-c-10","avg-change-err-c","avg-err-c","diff-err-i-1","diff-err-i-2","diff-err-i-3","diff-err-i-4","diff-err-i-5","diff-err-i-6","diff-err-i-7","diff-err-i-8","diff-err-i-9","diff-err-i-10","avg-change-err-i","avg-err-i","Gender","BMI","ADD","Paradigm"]
["AA102-nonexercise",0.045300000000001006,-0.9986999999999995,-1.2766999999999982,1.4343000000000004,3.5293000000000028,3.7733000000000025,2.4893,-0.839699999999997,1.3343000000000025,0.8333000000000013,1.0324000000000015,{"$f":"AVERAGE($L$2:INDEX(L:L,MATCH(9.99999999999999E+307,L:L)))","v":-1.946418571428571},-5.813900000000004,0.052099999999995816,0.2370999999999981,-2.1019000000000077,-3.665900000000004,-1.8699000000000083,-0.130900000000004,-1.9679000000000073,0.6870999999999938,1.778099999999995,-1.2796000000000052,{"$f":"AVERAGE($X$2:INDEX(X:X,MATCH(9.99999999999999E+307,X:X)))","v":-3.0978314285714275},-0.7,0.30000000000000004,-0.7,-0.7,0.30000000000000004,0.30000000000000004,-0.7,-0.7,0.30000000000000004,0.30000000000000004,-0.09999999999999999,{"$f":"AVERAGE($AJ$2:INDEX(AJ:AJ,MATCH(9.99999999999999E+307,AJ:AJ)))","v":0.005000000000000006},-2,-0.20000000000000018,1,2,0,-2,-2,0,1,-2,-0.21000000000000002,{"$f":"AVERAGE($AV$2:INDEX(AV:AV,MATCH(9.99999999999999E+307,AV:AV)))","v":-0.06328571428571425},"F",21,"F",1]
["CN101-nonexercise",-1.0963000000000012,0.3836999999999975,-1.2943000000000016,-2.3353,-1.0073000000000008,-2.167300000000001,-1.167300000000001,-2.9033000000000015,-2.7103,-2.5123000000000015,-1.681000000000001,"stdev",-3.884799999999995,-3.7877999999999936,3.029200000000003,-5.996799999999993,-0.6357999999999961,-5.051799999999993,-4.187799999999992,-2.4047999999999945,0.5862000000000052,-1.6047999999999902,-2.393899999999994,"stdev",-0.4,0.6,-0.4,-0.4,-0.4,-0.4,-0.4,-0.4,-0.4,-0.4,-0.14999999999999997,"stdev",4,1.4,1,4,3,-1,2,1,1,3,0.97,"stdev","F",32,"T",1]
["FA102-nonexercise",0.40149999999999864,0.10649999999999693,-0.10150000000000148,-2.4215000000000018,-2.1015000000000033,-0.7175000000000011,-1.534500000000003,-0.029500000000002302,-1.470500000000003,-1.0935000000000024,-0.8962000000000023,{"$f":"STDEV($L$2:INDEX(L:L,MATCH(9.99999999999999E+307,L:L)))","v":2.1003877041206267},-3.243000000000002,-1.820999999999998,-4.2109999999999985,0.08500000000000085,-6.562999999999999,-2.811,0.5410000000000039,-4.186999999999998,-7.411000000000001,1.564,-2.805699999999999,{"$f":"STDEV($X$2:INDEX(X:X,MATCH(9.99999999999999E+307,X:X)))","v":2.539398642925838},0.9,-0.1,-0.1,-0.1,-0.1,-0.1,-0.1,0.9,-0.1,-0.1,0.05,{"$f":"STDEV($AJ$2:INDEX(AJ:AJ,MATCH(9.99999999999999E+307,AJ:AJ)))","v":0.1412034199199915},-1,-1.5,0,-1,-3,-1,-3,-2,-1,-3,-0.825,{"$f":"STDEV($AV$2:INDEX(AV:AV,MATCH(9.99999999999999E+307,AV:AV)))","v":0.5461411969805403},"F",21,"F",1]
["JH102-nonexercise",-0.4320000000000004,0.6219999999999999,-0.005000000000000782,-0.6289999999999996,-1.17,-0.5310000000000006,-1.5009999999999994,-0.5419999999999998,-1.436,-0.979000000000001,-0.6603000000000001,"n",-1.072899999999997,-2.075899999999997,-0.5448999999999948,-3.061899999999998,0.6391000000000027,-1.7088999999999963,2.0911000000000044,4.629100000000005,5.323100000000004,1.9311000000000043,0.6149000000000037,"n",0,1,0,0,0,0,0,0,0,0,0.05,"n",-1,-1.5,-2,-2,-1,-2,-1,-2,-1,0,-0.675,"n","F",19,"F",1]
["JR101-nonexercise",-0.8544000000000018,-2.0404000000000018,0.014599999999997948,-0.4863999999999997,0.3805999999999976,-0.2544000000000004,-1.4734000000000016,-1.1594000000000015,-0.7744,-2.5123999999999995,-0.916000000000001,{"$f":"COUNT($L$2:INDEX(L:L,MATCH(9.99999999999999E+307,L:L)))","v":70},-5.457500000000007,-0.5645000000000095,-3.270500000000009,-4.954500000000007,-0.44350000000000733,-1.8015000000000043,1.8774999999999906,-1.2345000000000041,0.6774999999999949,-1.2805000000000106,-1.6452000000000073,{"$f":"COUNT($X$2:INDEX(X:X,MATCH(9.99999999999999E+307,X:X)))","v":70},-0.4,-0.4,-0.4,-0.4,-0.4,-0.4,-0.4,-0.4,-0.4,-0.4,-0.19999999999999998,{"$f":"COUNT($AJ$2:INDEX(AJ:AJ,MATCH(9.99999999999999E+307,AJ:AJ)))","v":70},-1,-0.09999999999999998,-1,0,-1,-1,-1,0,0,0,-0.255,{"$f":"COUNT($AV$2:INDEX(AV:AV,MATCH(9.99999999999999E+307,AV:AV)))","v":70},"F",27,"F",1]
["MR101-nonexercise",-0.9054000000000002,2.0756000000000014,-0.10439999999999827,0.02260000000000062,-0.9413999999999998,-0.6264000000000003,-0.23440000000000083,-1.0334000000000003,-0.02740000000000009,-1.3233999999999995,-0.30979999999999974,"se",-0.0552000000000028,-1.2312000000000012,-4.543200000000002,-3.0792000000000037,-1.8012000000000015,1.2647999999999975,-1.720200000000002,0.6487999999999978,-1.3222000000000023,-3.9512000000000036,-1.5790000000000024,"se",-0.4,-0.4,-0.4,-0.4,-0.4,-0.4,0.6,-0.4,0.6,-0.4,-0.09999999999999998,"se",1,0.5,1,2,0,1,1,0,0,1,0.375,"se","F",22,"F",1]
["RS101-nonexercise",-0.8392999999999997,-2.0603,-1.7862999999999989,-2.3193,0.05969999999999942,-0.6712999999999987,0.05369999999999919,1.6127000000000002,-1.0352999999999994,-1.5192999999999994,-0.8504999999999997,{"$f":"M4/SQRT(M6)","v":0.25104434746591564},-2.7952000000000012,-3.212200000000003,0.5017999999999958,0.9127999999999972,-1.4082000000000043,-2.2672000000000025,0.13979999999999748,-1.3522000000000034,1.6677999999999962,1.654799999999998,-0.615800000000003,{"$f":"Y4/SQRT(Y6)","v":0.3035161908529896},-0.3,-0.3,0.7,-0.3,2.7,0.7,-0.3,0.7,-0.3,-0.3,0.15000000000000005,{"$f":"AK4/SQRT(AK6)","v":0.016877036722423185},-2,-1.4,-2,-2,-2,-2,-1,-2,-1,-1,-0.82,{"$f":"AW4/SQRT(AW6)","v":0.06527635833672724},"F",25,"F",1]
["SN102-nonexercise",-1.0069000000000052,-2.8559000000000054,-2.8619000000000057,-3.3049000000000053,-3.7759000000000036,-2.840900000000005,-2.686900000000005,-2.3919000000000032,-3.957900000000004,-3.005900000000004,-2.8689000000000044,"p-value ttest after non-exercise",0.6998000000000033,1.3507999999999996,-3.7132000000000005,5.964800000000004,-0.1852000000000018,-0.8802000000000021,1.0127999999999986,-0.21819999999999595,-0.21819999999999595,0.4217999999999975,0.42350000000000065,"p-value ttest after exercise",0.8,-0.2,-0.2,-0.2,-0.2,-0.2,-0.2,-0.2,-0.2,-0.2,-0.05,"p-value ttest after exercise",3,1.4,0,2,1,6,2,0,2,1,0.9199999999999999,"p-value ttest after exercise","F",28,"F",1]
["TB101-nonexercise",0.8589999999999982,-0.4460000000000015,0.6899999999999977,-0.06100000000000172,0.18900000000000006,-0.2920000000000016,-0.527000000000001,-0.5760000000000005,-0.44500000000000206,-0.697000000000001,-0.13060000000000133,{"$f":"TDIST(ABS(M2)/M8, (M6-1),2)","v":5.648786239068241e-11},-2.4484999999999992,2.145500000000002,-2.0174999999999983,-0.7304999999999993,-1.8324999999999996,3.128499999999999,-2.0504999999999995,-0.011499999999998067,-0.0934999999999988,-0.19549999999999912,-0.4105999999999991,{"$f":"TDIST(ABS(Y2)/Y8, (Y6-1),2)","v":1.9958959519314402E-15},0,0,0,0,0,0,0,0,0,0,0,{"$f":"TDIST(ABS(AK2)/AK8, (AK6-1),2)","v":0.7679209904430747},-3,-1.7,-2,-1,-2,-3,-2,1,0,-3,-0.835,{"$f":"TDIST(ABS(AW2)/AW8, (AW6-1),2)","v":0.3356798340018431},"F",31,"F",1]
["FH101-nonexercise",0.058900000000001285,-0.9720999999999993,-1.1560999999999986,-1.8280999999999992,-1.700099999999999,-1.955099999999998,-2.668099999999999,-2.1720999999999986,-1.588099999999999,-2.1340999999999983,-1.6114999999999988,"female vs male",-1.4171999999999976,-0.6571999999999996,-5.057199999999998,0.09580000000000055,-1.873199999999997,-3.434199999999997,-6.863199999999999,-3.985199999999999,-2.049199999999999,-2.112199999999998,-2.7352999999999983,"female vs male",0,0,0,0,0,0,0,0,0,0,0,"female vs male",-1,-0.3999999999999999,0,-2,-1,1,-1,-2,-2,-2,-0.52,"female vs male","F",27,"F",1]
["JF102-nonexercise",1.6809000000000012,-0.1480999999999959,-1.6440999999999981,-3.433099999999998,-3.2930999999999973,-2.329099999999997,-3.1190999999999978,-2.551099999999998,-3.7220999999999975,-2.7430999999999965,-2.1301999999999977,{"$f":"TTEST(L2:L20,'males-nonex'!L2:L12,2,3)","v":0.9831175140425041},-0.6387,1.3312999999999988,-2.2227000000000032,-6.723700000000001,-2.9587000000000003,-4.374700000000004,-4.3247,1.1662999999999997,-1.834699999999998,-1.5566999999999993,-2.2137000000000007,{"$f":"TTEST(X2:X20,'males-nonex'!X2:X12,2,3)","v":0.19534448953990835},1,0,0,0,0,0,0,0,0,0,0.05,{"$f":"TTEST(AJ2:AJ20,'males-nonex'!AJ2:AJ12,2,3)","v":0.07786374450225333},1,0.2,1,2,0,0,1,1,0,2,0.41,{"$f":"TTEST(AV2:AV20,'males-nonex'!AV2:AV12,2,3)","v":0.4070608703899362},"F",23,"F",1]
["JL101-nonexercise",0.4759999999999991,0.10099999999999909,0.05299999999999905,-1.1390000000000011,-2.011000000000001,-1.3150000000000013,-2.291000000000002,-1.748000000000001,-1.7710000000000008,-2.9080000000000013,-1.2553000000000012,null,-3.7290999999999954,-4.0261,1.8389000000000024,-8.506099999999996,-4.514099999999999,-6.9770999999999965,-1.369099999999996,-3.3200999999999965,-3.457099999999997,-6.1360999999999954,-4.019599999999997,null,-0.3,-0.3,0.7,-0.3,-0.3,1.7,-0.3,-0.3,-0.3,-0.3,0,null,0,-0.7999999999999998,-3,-5,1,-2,-2,-4,-4,-1,-1.04,null,"F",27,"F",1]
["KK101-nonexercise",-2.0903999999999954,-1.4103999999999957,-2.630399999999998,-2.105399999999996,-4.106399999999997,-3.4503999999999984,-4.002399999999998,-3.138399999999997,-4.666399999999996,-4.314399999999996,-3.191499999999997,null,-4.740099999999998,-3.4680999999999997,-3.277100000000001,-3.7331000000000003,-4.443099999999998,-3.6850999999999985,-3.703099999999999,-3.0920999999999985,-3.4970999999999997,-2.037099999999999,-3.5675999999999988,null,0,0,0,0,0,0,0,0,0,0,0,null,0,0.2,0,0,0,0,0,2,0,0,0.11000000000000001,null,"F",20,"T",1]
["KV101-nonexercise",1.3522000000000034,0.022200000000005105,-0.2717999999999954,0.4952000000000041,0.8242000000000047,-0.04779999999999518,-1.7927999999999962,-2.1597999999999953,-2.560799999999997,-0.6957999999999949,-0.48349999999999566,null,-2.3704,0.833599999999997,-2.4324000000000012,-1.4964000000000013,-2.4174000000000007,-1.8643999999999998,-3.176400000000001,-1.7604000000000006,-3.368400000000001,-2.416400000000003,-2.0469000000000013,null,0,0,0,0,0,0,0,0,0,0,0,null,0,0.4,0,1,0,0,0,1,0,0,0.12,null,"F",20,"F",1]
["MT102-nonexercise",-0.30630000000000024,-2.210300000000002,-2.410300000000001,-2.8903000000000016,-2.7223000000000024,-2.793300000000002,-3.298300000000001,-1.915300000000002,-3.1853000000000016,-3.010300000000001,-2.4742000000000015,null,-1.743199999999998,-3.2871999999999986,-3.4151999999999987,-0.49520000000000053,-2.5281999999999982,-1.6552000000000007,-1.270199999999999,-2.5502000000000002,-1.8071999999999981,-3.118199999999998,-2.186999999999999,null,0,0,0,0,0,0,0,0,0,0,0,null,3,0.8,0,0,1,1,0,0,2,0,0.39,null,"F",23,"F",1]
["RA101-nonexercise",-1.4927999999999972,-1.0127999999999986,-2.2727999999999984,-2.1497999999999973,-1.1977999999999973,-2.7967999999999975,-2.5337999999999976,-3.053799999999997,-2.7407999999999983,-2.548799999999998,-2.1799999999999984,null,-4.217199999999998,-2.4162,-5.121199999999998,-1.9192,-1.3762000000000008,-2.1271999999999984,-4.401199999999999,-3.6241999999999983,-2.6402,-6.097200000000001,-3.3939999999999997,null,0,0,0,0,1,0,1,0,0,0,0.1,null,0,0.7,0,1,0,0,1,2,1,1,0.335,null,"F",23,"T",1]
["RO101-nonexercise",-0.28910000000000124,1.0708999999999982,-0.5771000000000015,3.5428999999999995,-1.217100000000002,-0.5610999999999997,-1.9850999999999992,-3.5451000000000015,0.8058999999999976,-4.809100000000001,-0.7564000000000011,null,-5.007399999999997,-4.038399999999996,6.816600000000008,-3.2553999999999945,4.017600000000009,-1.1983999999999924,-6.247399999999992,-2.2953999999999937,-5.127399999999994,-5.686399999999992,-2.2021999999999933,null,-0.3,-0.3,-0.3,0.7,-0.3,-0.3,-0.3,-0.3,-0.3,-0.3,-0.1,null,5,1.5,0,0,0,-4,-3,-2,-3,-4,-0.475,null,"F",24,"F",1]
["SA102-nonexercise",-0.06649999999999778,-0.1524999999999963,-1.0464999999999964,-2.6284999999999954,-2.2804999999999964,-2.699499999999997,-0.6904999999999966,-0.4174999999999969,0.7845000000000049,-1.5724999999999962,-1.0769999999999964,null,-7.5152,-5.636200000000002,-4.3812,-3.0711999999999975,-5.181199999999997,-3.751199999999997,-2.1531999999999982,-4.586199999999998,-5.083199999999998,-7.350199999999997,-4.870899999999999,null,0,0,0,0,0,0,0,0,0,0,0,null,-1,0.5,-1,-1,-1,1,-1,1,-1,0,-0.175,null,"F",26,"F",1]
["TP101-nonexercise",-0.5356999999999985,-3.8307,-5.559699999999999,-6.5676999999999985,-6.3767,-6.3277,-5.654699999999998,-4.375699999999998,-8.247699999999998,-9.543699999999998,-5.701999999999998,null,-3.0896000000000043,-4.153600000000004,-4.3446,-0.9626000000000019,-4.089600000000004,-0.9136000000000024,-3.0185999999999993,-3.7306000000000026,-1.401600000000002,-1.1066000000000003,-2.681100000000002,null,0,0,0,0,0,0,0,1,0,0,0.05,null,-1,0.3999999999999999,0,1,1,1,-1,4,4,0,0.47000000000000003,null,"F",20,"F",1]
["AA102",-2.039900000000003,-2.8479000000000028,-2.1959000000000017,-4.177900000000005,-1.8279000000000032,-2.779900000000005,-2.1489000000000047,-1.5709000000000017,-3.291900000000002,-2.8129000000000026,-2.569400000000003,{"$f":"AVERAGE($L$2:INDEX(L:L,MATCH(9.99999999999999E+307,L:L)))","v":-1.946418571428571},-8.203400000000006,-1.867400000000007,-1.8514000000000053,-2.050400000000007,-3.588400000000007,-6.099400000000006,-3.6344000000000065,-5.875400000000006,-0.13740000000000663,2.21459999999999,-3.109300000000007,{"$f":"AVERAGE($X$2:INDEX(X:X,MATCH(9.99999999999999E+307,X:X)))","v":-3.0978314285714275},0.9,0.9,-0.1,0.9,-0.1,0.9,0.9,0.9,-0.1,0.9,0.6000000000000001,{"$f":"AVERAGE($AJ$2:INDEX(AJ:AJ,MATCH(9.99999999999999E+307,AJ:AJ)))","v":0.005000000000000006},0.8999999999999999,-1.1,0.8999999999999999,-0.10000000000000009,-0.10000000000000009,-2.1,-2.1,-2.1,-1.1,0.8999999999999999,-0.6,{"$f":"AVERAGE($AV$2:INDEX(AV:AV,MATCH(9.99999999999999E+307,AV:AV)))","v":-0.06328571428571425},"F",21,"F",2]
["CN101",-0.9543000000000035,-0.3533000000000026,-1.6173000000000037,-3.3453000000000035,-2.514300000000002,-3.025300000000003,-2.1293000000000024,-2.5053000000000036,-3.522300000000003,-2.825300000000002,-2.2792000000000026,"stdev",-6.959999999999997,-3.103999999999992,-7.023999999999997,-5.487999999999996,-5.7919999999999945,-6.631999999999994,-8.607999999999997,-6.167999999999996,-6.351999999999997,-8.959999999999997,-6.508799999999996,"stdev",0,0,0,0,0,0,0,0,0,0,0,"stdev",-0.6000000000000001,0.3999999999999999,-1.6,0.3999999999999999,0.3999999999999999,0.3999999999999999,-1.6,-1.6,-1.6,-1.6,-0.7,"stdev","F",32,"T",2]
["FA102",0.04680000000000106,1.8818000000000001,-0.27119999999999855,0.8298000000000005,-0.20319999999999894,-0.5381999999999998,1.9528000000000016,-0.3581999999999983,0.655800000000001,1.7158000000000015,0.571200000000001,{"$f":"STDEV($L$2:INDEX(L:L,MATCH(9.99999999999999E+307,L:L)))","v":2.1003877041206267},-1.3236999999999988,-1.8176999999999985,0.47630000000000194,1.5702999999999996,0.1363000000000021,-1.4426999999999985,-1.6496999999999993,7.5383,1.3573000000000022,1.5962999999999994,0.644100000000001,{"$f":"STDEV($X$2:INDEX(X:X,MATCH(9.99999999999999E+307,X:X)))","v":2.539398642925838},-0.1,0.9,-0.1,0.9,-0.1,-0.1,-0.1,-0.1,1.9,0.9,0.39999999999999997,{"$f":"STDEV($AJ$2:INDEX(AJ:AJ,MATCH(9.99999999999999E+307,AJ:AJ)))","v":0.1412034199199915},0,-1,2,3,2,2,-1,5,1,3,1.6,{"$f":"STDEV($AV$2:INDEX(AV:AV,MATCH(9.99999999999999E+307,AV:AV)))","v":0.5461411969805403},"F",21,"F",2]
["JH102",-1.6064999999999987,-1.9085,-2.2264999999999997,-1.2584999999999997,-2.3765,-2.0924999999999994,-2.0554999999999986,-1.6914999999999996,-2.4274999999999984,-1.4565000000000001,-1.9099999999999995,"n",-1.0425000000000004,-5.6525,-4.984500000000001,-3.730500000000003,-0.9905000000000008,0.16249999999999787,-3.146500000000003,0.1454999999999984,-0.9555000000000007,-4.080500000000001,-2.427500000000001,"n",-0.1,-0.1,-0.1,-0.1,-0.1,-0.1,-0.1,-0.1,-0.1,-0.1,-0.09999999999999999,"n",-0.4,-0.4,-0.4,-0.4,-0.4,-0.4,-0.4,0.6,-0.4,0.6,-0.19999999999999996,"n","F",19,"F",2]
["JR101",-1.394400000000001,-0.6723999999999997,-2.157399999999999,-2.234400000000001,-1.522400000000001,-1.0733999999999995,-2.516400000000001,-1.0084000000000017,-2.2444000000000024,-1.958400000000001,-1.6782000000000008,{"$f":"COUNT($L$2:INDEX(L:L,MATCH(9.99999999999999E+307,L:L)))","v":70},-4.328300000000006,-3.9573000000000036,1.4527,-0.5973000000000042,2.2956999999999965,-3.7073000000000036,-2.9893,-4.7093000000000025,-5.092300000000002,-5.543300000000002,-2.7176000000000027,{"$f":"COUNT($X$2:INDEX(X:X,MATCH(9.99999999999999E+307,X:X)))","v":70},0.9,0.9,-0.1,-0.1,0.9,-0.1,-0.1,-0.1,-0.1,-0.1,0.19999999999999996,{"$f":"COUNT($AJ$2:INDEX(AJ:AJ,MATCH(9.99999999999999E+307,AJ:AJ)))","v":70},0.5,1.5,1.5,-0.5,-0.5,-0.5,-0.5,-0.5,-0.5,0.5,0.1,{"$f":"COUNT($AV$2:INDEX(AV:AV,MATCH(9.99999999999999E+307,AV:AV)))","v":70},"F",27,"F",2]
["MR101",0.7879000000000005,-1.5320999999999998,-1.653100000000002,-1.6611000000000011,-2.5411,-2.5901000000000014,-2.1981,-3.020100000000001,-2.9261000000000017,-3.3161000000000005,-2.0650000000000004,"se",-5.402300000000004,-7.627300000000002,-3.4913000000000025,-0.6433000000000035,-4.6433000000000035,-3.2753000000000014,-3.7253000000000043,-5.068300000000004,-6.163300000000003,-6.9323000000000015,-4.697200000000002,"se",0,0,0,0,0,0,0,0,0,0,0,"se",0.7,-0.3,1.7,1.7,1.7,1.7,1.7,-0.3,-0.3,0.7,0.8999999999999998,"se","F",22,"F",2]
["RS101",-8.411999999999995,-9.364999999999995,-11.238999999999994,-12.287999999999997,-9.646999999999995,-9.617999999999995,-11.752999999999997,-10.605999999999995,-9.601999999999997,-8.347999999999995,-10.087799999999998,"se",2.0245999999999995,-9.3874,-8.9134,-6.692399999999999,-8.9374,-5.9974000000000025,-6.5564,-7.397400000000001,-6.7104,-4.004400000000004,-6.257200000000001,"se",0,0,0,0,0,0,0,0,0,0,0,"se",1.4,0.4,0.4,0.4,-0.6,0.4,-0.6,-0.6,0.4,2.4,0.3999999999999999,null,"F",25,"F",2]
["SN102",0.061599999999998545,-1.6364000000000019,-1.4193999999999996,-3.1244000000000014,-1.708400000000001,-1.8764000000000003,0.0686,0.10060000000000002,-1.6274000000000015,-1.6354000000000006,-1.2797000000000007,{"$f":"M23/SQRT(M25)","v":0.25104434746591564},2.0245999999999995,-9.3874,-8.9134,-6.692399999999999,-8.9374,-5.9974000000000025,-6.5564,-7.397400000000001,-6.7104,-4.004400000000004,-6.257200000000001,{"$f":"Y23/SQRT(Y25)","v":0.3035161908529896},0,0,0,0,0,0,0,0,0,0,0,{"$f":"AK23/SQRT(AK25)","v":0.016877036722423185},1.4,0.4,0.4,0.4,-0.6,0.4,-0.6,-0.6,0.4,2.4,0.3999999999999999,{"$f":"AW23/SQRT(AW25)","v":0.06527635833672724},"F",25,"F",2]
["TB101",0.44620000000000104,0.026199999999999335,-2.0097999999999985,-1.8817999999999984,-1.7147999999999985,-1.8747999999999987,-2.0337999999999994,-1.162799999999999,-2.7787999999999986,-2.386799999999999,-1.537099999999999,"change ex- nonex",-2.351800000000001,1.4962000000000018,1.4322000000000017,-2.471799999999998,-1.0648000000000017,-3.1128,0.11220000000000141,-1.0797999999999988,1.9202000000000012,-1.3277999999999999,-0.6447999999999994,"change ex- nonex",-0.2,0.8,0.8,-0.2,-0.2,-0.2,0.8,-0.2,0.8,0.8,0.3,"change ex- nonex",2.2,0.19999999999999996,0.19999999999999996,-0.8,1.2,-0.8,0.19999999999999996,0.19999999999999996,1.2,-0.8,0.3000000000000001,"change ex- nonex","F",31,"F",2]
["SW101",0.085700000000001,1.1727000000000007,0.04370000000000118,0.4347000000000012,0.32470000000000176,0.43670000000000186,0.9957000000000011,0.21270000000000167,0.6117000000000008,1.322700000000001,0.5641000000000013,{"$f":"AVERAGE($L$2:INDEX(L:L,MATCH(9.99999999999999E+307,L:L)))-'females-nonex'!M21","v":0},-8.791100000000007,-7.079100000000004,-5.438100000000006,-5.791100000000007,-5.663100000000007,-5.639100000000006,-4.837100000000007,-5.775100000000002,-8.583100000000002,-8.640100000000004,-6.623700000000005,{"$f":"AVERAGE($X$2:INDEX(X:X,MATCH(9.99999999999999E+307,X:X)))-'females-nonex'!Y21","v":0},0,0,0,0,0,0,0,0,0,0,0,{"$f":"AVERAGE($AJ$2:INDEX(AJ:AJ,MATCH(9.99999999999999E+307,AJ:AJ)))-'females-nonex'!AK21","v":0},-1.1,-0.10000000000000009,-0.10000000000000009,-1.1,-1.1,-0.10000000000000009,-1.1,0.8999999999999999,-1.1,-1.1,-0.6000000000000002,{"$f":"AVERAGE($AV$2:INDEX(AV:AV,MATCH(9.99999999999999E+307,AV:AV)))-'females-nonex'!AW21","v":0},"F",28,"F",2]
["AI101",-1.7362000000000002,-4.246199999999998,-4.254199999999997,-4.372199999999999,-3.668199999999999,-5.222199999999999,-4.406199999999998,-6.062199999999999,-6.557199999999998,-6.013199999999999,-4.653799999999999,"se of ex and non ex",-0.3783999999999992,-3.124399999999998,-2.0993999999999993,-2.9954,-1.8833999999999982,-2.9483999999999995,-2.124399999999998,-0.8443999999999967,-1.6923999999999992,-2.1793999999999976,-2.0269999999999984,"se of ex and non ex",0,0,0,0,0,0,0,0,0,0,0,"se of ex and non ex",-0.3,0.7,1.7,0.7,1.7,-0.3,-0.3,-0.3,-0.3,0.7,0.4000000000000001,"se of ex and non ex","F",20,"T",2]
["AK101",-1.4898999999999987,-3.0889000000000006,-3.1778999999999993,-3.0558999999999994,-3.642899999999999,-5.1129,-4.0579,-4.4649,-4.4338999999999995,-5.3369,-3.7861999999999996,{"$f":"SQRT(((M23*M23)/M25)+(('females-nonex'!M23*'females-nonex'!M23)/'females-nonex'!M25))","v":0.35503032094340164},-3.8750999999999998,-6.591100000000001,-6.466100000000001,-1.5771000000000015,-4.147100000000002,0.3569000000000031,-2.795099999999998,-3.251100000000001,-4.906099999999999,-5.459099999999999,-3.8710999999999998,{"$f":"SQRT(((Y23*Y23)/Y25)+(('females-nonex'!Y23*'females-nonex'!Y23)/'females-nonex'!Y25))","v":0.4292367135041186},0,0,0,0,0,0,0,0,0,0,0,{"$f":"SQRT(((AK23*AK23)/AK25)+(('females-nonex'!AK23*'females-nonex'!AK23)/'females-nonex'!AK25))","v":0.023867734225519636},-0.2,-0.2,-0.2,-0.2,-0.2,-0.2,-0.2,-0.2,-0.2,-0.2,-0.19999999999999998,{"$f":"SQRT(((AW23*AW23)/AW25)+(('females-nonex'!AW23*'females-nonex'!AW23)/'females-nonex'!AW25))","v":0.0923147112621257},"F",19,"F",2]
["AMP101",-3.3124000000000002,-3.1693999999999996,-2.203400000000002,-2.673400000000001,-4.071400000000001,-3.775400000000001,-3.041400000000003,-3.3933999999999997,-3.4664,-2.993400000000001,-3.210000000000001,"p-value ttest after exercise",-2.6395000000000017,2.296499999999998,-4.7225,-5.9765000000000015,-3.968499999999999,-4.224499999999999,-1.0545000000000009,-1.3374999999999986,-2.8805000000000014,-4.4955,-2.9003000000000005,"p-value ttest after exercise",0,0,0,0,0,0,0,0,0,0,0,"p-value ttest after exercise",0,1,0,0,0,0,1,0,0,0,0.2,"p-value ttest after exercise","F",21.97,"F",2]
["AP101",-3.669599999999999,0.08040000000000092,-1.7896,1.112400000000001,0.436399999999999,-2.3785999999999987,-0.21359999999999957,-0.8016000000000005,0.34639999999999915,3.6494,-0.3227999999999998,{"$f":"TDIST(ABS(M21)/M28, (M25-1),2)","v":5.648786239068241e-11},3.044699999999999,-6.798299999999998,-2.2182999999999993,-5.642299999999999,-3.7882999999999996,-6.927299999999995,-3.412299999999995,-7.564299999999996,-4.0623000000000005,-7.972299999999997,-4.534099999999998,{"$f":"TDIST(ABS(Y21)/Y28, (Y25-1),2)","v":1.9958959519314402E-15},0,0,0,0,0,0,0,0,0,0,0,{"$f":"TDIST(ABS(AK21)/AK28, (AK25-1),2)","v":0.7679209904430747},3.7,-0.3,1.7,-0.3,-0.3,-0.3,-0.3,0.7,0.7,0.7,0.6000000000000002,{"$f":"TDIST(ABS(AW21)/AW28, (AW25-1),2)","v":0.3356798340018431},"F",22,"F",2]
["AP102",-1.7439999999999998,-1.2950000000000017,-1.3999999999999986,-2.3919999999999995,-1.9170000000000016,-1.5919999999999987,-1.4170000000000016,-1.7040000000000006,1.3679999999999986,0.4089999999999989,-1.1684000000000005,"p-value ttest change with exercise vs change with nonex",1.257799999999996,-2.2682000000000038,-4.447200000000006,-4.484200000000005,-0.6982000000000035,0.7697999999999965,0.9597999999999942,-1.4122000000000057,-2.5102000000000046,0.14179999999999637,-1.2691000000000046,"p-value ttest change with exercise vs change with nonex",-0.2,-0.2,-0.2,-0.2,-0.2,-0.2,-0.2,-0.2,-0.2,-0.2,-0.19999999999999998,"p-value ttest change with exercise vs change with nonex",-0.1,-0.1,-0.1,-0.1,-0.1,-0.1,-0.1,-0.1,-0.1,-0.1,-0.09999999999999999,"p-value ttest change with exercise vs change with nonex","F",26,"F",2]
["AS102",-0.1685000000000052,-2.0815000000000037,-1.2935000000000052,-0.8375000000000021,-1.6105000000000018,-1.425500000000003,-3.329500000000003,-4.260500000000004,-2.659500000000003,-4.300500000000003,-2.1967000000000034,{"$f":"TTEST(L21:L71,'females-nonex'!L21:L39,2,3)","v":0.7274396815996447},-3.5245000000000033,-2.9395000000000024,-5.5794999999999995,-3.3644999999999996,-6.1785,-0.5065000000000026,-2.2515,-5.2515,-5.1465,-4.147500000000001,-3.8890000000000007,{"$f":"TTEST(X21:X71,'females-nonex'!X21:X39,2,3)","v":0.5959600576439659},-0.1,-0.1,-0.1,-0.1,-0.1,-0.1,1.9,-0.1,-0.1,-0.1,0.09999999999999996,{"$f":"TTEST(AJ21:AJ71,'females-nonex'!AJ21:AJ39,2,3)","v":0.20590729473495953},1.5,0.5,-0.5,-0.5,-0.5,1.5,-0.5,-0.5,-0.5,-0.5,0,{"$f":"TTEST(AV21:AV71,'females-nonex'!AV21:AV39,2,3)","v":0.3864361634248652},"F",22,"F",2]
["BH101",-3.137600000000001,-2.093600000000002,-1.7646000000000015,-1.1986000000000008,-3.7066000000000017,-2.574600000000002,-2.8866000000000014,-2.798600000000002,-3.861600000000001,-3.896600000000001,-2.791900000000001,"p-value female vs male",-6.191700000000001,-3.1936999999999998,-4.104700000000001,-2.992700000000003,-4.148700000000002,-3.8277,-3.5427,-3.6357,-3.692700000000002,-3.7947000000000024,-3.9125000000000014,"p-value female vs male",1,0,0,0,0,0,0,0,0,0,0.1,"p-value female vs male",-0.6,0.4,1.4,-0.6,0.4,0.4,1.4,-0.6,-0.6,2.4,0.39999999999999997,"p-value female vs male","F",19,"F",2]
["CC101",-2.0967000000000002,-2.7447000000000017,-2.3507000000000016,-2.5927000000000007,-2.508700000000001,-2.1477000000000004,-2.066700000000001,-2.3087000000000018,-0.49370000000000047,-3.518700000000001,-2.2829000000000006,{"$f":"TTEST(L21:L71,males!L22:L43,2,3)","v":0.42002253213603497},-7.575800000000001,-8.582799999999999,-9.0458,-3.599800000000002,-6.837800000000001,-8.5488,-8.837800000000001,-9.358800000000002,-9.462800000000001,-12.023800000000001,-8.3874,{"$f":"TTEST(X21:X71,males!X22:X43,2,3)","v":0.43882262018248375},0,0,0,0,0,0,0,0,0,0,0,{"$f":"TTEST(AJ21:AJ71,males!AJ22:AJ43,2,3)","v":0.4734827411443169},0,-2,0,-2,-1,-2,-2,0,-2,-1,-1.2,{"$f":"TTEST(AV21:AV71,males!AV22:AV43,2,3)","v":0.9879653733064238},"F",21,"T",2]
["DE101",-2.3866999999999976,-0.7396999999999991,-1.6786999999999992,-0.5946999999999996,-1.7766999999999982,-0.24769999999999825,-2.0427,-2.5626999999999995,-2.7407000000000004,-2.1327,-1.6902999999999992,null,-0.8170999999999964,0.14290000000000447,-3.625099999999996,-5.106099999999998,-6.166099999999997,-2.098099999999995,-4.121099999999998,-5.339099999999995,-2.9780999999999977,-2.4080999999999975,-3.2515999999999963,null,0,0,0,0,0,0,0,0,0,0,0,null,1.6,0.6,-0.4,-0.4,-0.4,-0.4,-0.4,-0.4,-0.4,0.6,0,null,"F",25,"T",2]
["DI101",-4.084799999999998,-2.7907999999999973,-2.965799999999998,-4.277799999999999,-2.996799999999997,-2.2277999999999984,-2.9647999999999968,-2.091799999999999,-2.9567999999999977,0.7782000000000018,-2.657899999999998,null,-7.964599999999997,-6.287599999999998,-6.136599999999994,-6.2405999999999935,-8.351599999999998,-6.083599999999997,-6.743599999999997,-7.685599999999997,-6.116599999999998,-4.805599999999998,-6.641599999999997,null,0,0,0,0,0,0,0,0,0,0,0,null,-1.1,0.8999999999999999,-0.10000000000000009,-1.1,-1.1,0.8999999999999999,-0.10000000000000009,-1.1,-1.1,0.8999999999999999,-0.3000000000000001,null,"F",23,"F",2]
["DJ101",-1.6068000000000016,1.5451999999999977,0.25619999999999976,-1.1108000000000011,-1.0948000000000029,2.336199999999998,-0.7667999999999999,-0.3998000000000026,-0.038800000000001944,0.7362000000000002,-0.014400000000001434,null,-3.4695999999999927,-7.060599999999994,-3.684599999999989,-4.060599999999994,1.626400000000011,-3.877599999999994,-2.069599999999994,-7.268599999999992,-1.7005999999999872,-4.20559999999999,-3.5770999999999917,null,0,0,0,0,0,0,0,0,0,1,0.1,null,-0.10000000000000009,-1.1,-1.1,-0.10000000000000009,-0.10000000000000009,-0.10000000000000009,0.8999999999999999,-1.1,-1.1,-1.1,-0.5000000000000001,null,"F",23,"T",2]
["DS101",0.6668000000000003,-0.23719999999999963,-0.029200000000001225,0.03479999999999883,-0.9972000000000012,-1.5852000000000004,-0.3412000000000006,-1.5732,-1.5031999999999996,-1.5172000000000008,-0.7082000000000004,null,0.806599999999996,5.107599999999998,2.5505999999999958,2.087599999999995,-1.9784000000000006,-2.1704000000000008,-1.794400000000003,0.5475999999999956,-0.5924000000000049,1.0545999999999935,0.5618999999999964,null,-0.2,-0.2,-0.2,-0.2,-0.2,2.8,-0.2,-0.2,-0.2,-0.2,0.1,null,-0.3,0.7,-0.3,-0.3,-0.3,-0.3,-0.3,-0.3,0.7,0.7,0,null,"F",28,"T",2]
["DST102",-2.3280999999999974,-1.8720999999999979,-1.423099999999998,-2.553099999999997,-2.439099999999998,-1.9280999999999988,-2.7680999999999987,-2.9290999999999983,-1.8480999999999987,-2.8160999999999987,-2.2904999999999984,null,-7.153199999999998,-7.545199999999998,-0.8151999999999973,-4.577199999999998,-4.9132,-1.5761999999999965,-4.377199999999998,-3.4091999999999985,-1.7121999999999993,-3.4171999999999976,-3.949599999999998,null,0,0,0,0,0,0,0,0,0,0,0,null,-0.3,-0.3,1.7,1.7,-0.3,-0.3,-0.3,0.7,0.7,-0.3,0.3,null,"F",18,"F",2]
["DZ101",-1.3687000000000022,-1.7437000000000022,-1.2077000000000027,1.3032999999999966,3.9762999999999984,4.751299999999997,3.5112999999999985,3.5192999999999977,5.103299999999997,5.031299999999998,2.2875999999999976,null,-2.1100000000000065,-3.896000000000008,0.44899999999999096,-1.4080000000000084,0.9849999999999923,2.776999999999994,1.5609999999999928,-2.718000000000007,-1.9760000000000062,-0.8960000000000079,-0.7232000000000074,null,0,0,0,0,0,0,0,0,0,0,0,null,0.7,-0.3,0.7,-0.3,1.7,-0.3,-0.3,0.7,-0.3,-0.3,0.20000000000000004,null,"F",25.6,"F",2]
["EF101",-0.9801999999999964,-2.5891999999999964,-1.370199999999997,-1.9011999999999958,-0.9231999999999978,-0.08219999999999672,-0.26519999999999655,-1.633199999999995,-1.1641999999999975,-3.133199999999997,-1.4041999999999966,null,-1.1101999999999919,-1.760199999999994,-1.4241999999999955,2.9048000000000087,-0.6561999999999912,-0.9191999999999965,-1.9201999999999941,-2.175199999999993,-0.23219999999999175,-5.604199999999995,-1.2896999999999934,null,0,0,0,0,0,0,0,0,0,0,0,null,1.5,0.5,-0.5,-0.5,-0.5,-0.5,-0.5,0.5,-0.5,-0.5,-0.1,null,"F",21,"F",2]
["EJ101",-3.2192000000000007,-2.3622000000000014,-3.6982000000000035,-4.154200000000003,-3.9542,-4.923200000000001,-2.4912000000000027,-3.282200000000003,-2.8342000000000027,-3.2982000000000014,-3.421700000000002,null,-6.55650000000001,-7.744500000000013,-2.7265000000000086,-4.398500000000013,-4.75950000000001,-5.109500000000011,-5.926500000000011,-5.369500000000013,-3.383500000000012,-7.278500000000012,-5.325300000000011,null,-0.1,-0.1,-0.1,-0.1,-0.1,-0.1,-0.1,-0.1,-0.1,-0.1,-0.09999999999999999,null,0.7,-0.3,0.7,0.7,0.7,-0.3,-0.3,-0.3,-0.3,-0.3,0.1,null,"F",29,"F",2]
["ER101",-0.786999999999999,-0.5,0.16500000000000092,-0.0600000000000005,-0.03599999999999959,-0.3550000000000004,0.1490000000000009,-0.4989999999999988,0.06799999999999962,0.005000000000000782,-0.1849999999999996,null,-2.1237000000000066,-1.6347000000000058,-0.7547000000000033,-0.37070000000000647,-4.274700000000006,0.3482999999999947,-1.179700000000004,4.204299999999996,-0.8677000000000064,-2.6517000000000053,-0.9305000000000053,null,0,0,0,0,0,0,0,1,0,0,0.1,null,-0.2,-0.2,1.8,0.8,-0.2,-0.2,-0.2,0.8,1.8,-0.2,0.4,null,"F",27,"F",2]
["HR101",1.9023000000000003,-0.7387000000000015,-0.31569999999999965,-4.226700000000001,-3.8747000000000007,-3.0357000000000003,-3.7226999999999997,-3.0756999999999994,-3.1556999999999995,1.9963000000000015,-1.8247,null,-6.065199999999997,1.7408000000000001,-3.472200000000001,-3.863199999999999,-5.785199999999996,-4.745199999999997,-0.6411999999999978,-2.4161999999999964,-6.2012,-5.281199999999998,-3.6729999999999983,null,0,0,0,0,0,0,0,0,0,0,0,null,0.5,-0.5,-0.5,0.5,-0.5,-0.5,-0.5,0.5,-0.5,-0.5,-0.2,null,"F",25,"F",2]
["IG101",-3.355699999999999,-2.3366999999999987,-1.8566999999999982,-1.8246999999999982,-2.3606999999999996,-2.4906999999999986,-2.0806999999999984,-3.4506999999999994,-2.608699999999999,-1.2166999999999994,-2.358199999999999,null,-8.418799999999994,-8.578799999999994,-5.9687999999999946,-9.337799999999994,-8.705799999999996,-7.114799999999995,-9.416799999999995,-11.055799999999994,-4.413799999999995,-5.0667999999999935,-7.807799999999995,null,0,0,0,0,0,0,0,0,0,0,0,null,-0.7,-0.7,0.30000000000000004,-0.7,0.30000000000000004,-0.7,-0.7,-0.7,-0.7,-0.7,-0.5,null,"F",19.53,"F",2]
["IH101",-1.2464999999999975,-1.0944999999999965,-0.6934999999999967,-1.7014999999999976,-2.5894999999999975,0.6265000000000036,-2.5894999999999975,-2.3174999999999972,-2.3974999999999973,-1.5894999999999975,-1.5592999999999972,null,-1.6281000000000034,-8.283100000000005,1.6198999999999941,-3.451100000000004,-5.548100000000005,-6.161100000000005,-0.5241000000000042,-6.868100000000005,-3.356100000000005,-1.6111000000000004,-3.581100000000004,null,0,0,0,0,0,0,0,0,0,0,0,null,1.6,-0.3999999999999999,1.6,-1.4,-0.3999999999999999,-1.4,-0.3999999999999999,-1.4,-1.4,-0.3999999999999999,-0.3999999999999999,null,"F",33,"T",2]
["IOD101",-0.20039999999999836,-2.0333999999999968,-0.6423999999999985,-2.066399999999998,-1.5063999999999957,-3.994399999999999,-1.0523999999999987,-2.747399999999999,-2.842399999999998,-3.4263999999999974,-2.051199999999998,null,-5.4072,-6.0242,-4.7592,-4.215199999999999,-2.7912,-7.2392,-5.655200000000001,0.7528000000000006,1.9127999999999972,-0.39920000000000044,-3.3825000000000003,null,0,0,0,0,0,0,0,0,0,0,0,null,-1.3,-1.3,-1.3,-0.30000000000000004,0.7,-1.3,-0.30000000000000004,1.7,1.7,0.7,-0.09999999999999995,null,"F",21,"F",2]
["JB101",-1.7490999999999985,-1.3650999999999982,1.017900000000001,-1.3581000000000003,-2.046099999999999,-0.4850999999999992,0.07489999999999952,-1.9741,-1.9490999999999996,-2.0770999999999997,-1.1910999999999994,null,-3.098399999999998,-1.7003999999999948,1.2916000000000025,1.867600000000003,-1.980399999999996,-1.2283999999999935,1.0276000000000067,0.195600000000006,4.452600000000004,4.6766000000000005,0.550400000000004,null,0,0,0,0,0,0,0,0,0,0,0,null,-0.8,-0.8,-0.8,1.2,-0.8,2.2,1.2,0.19999999999999996,0.19999999999999996,1.2,0.29999999999999993,null,"F",19,"F",2]
["JC102",0.49409999999999954,-0.8739000000000008,-2.113900000000001,-1.2969000000000008,-1.2429000000000006,-1.2109000000000005,-2.246900000000002,0.2940999999999985,-1.5459000000000014,-0.34690000000000154,-1.009000000000001,null,-3.4322999999999944,-1.7532999999999959,-3.2802999999999933,-3.360299999999995,-2.016299999999994,-3.9612999999999943,-5.160299999999996,-5.888299999999994,-5.120299999999993,-0.28829999999999245,-3.4260999999999937,null,-0.4,-0.4,-0.4,-0.4,-0.4,-0.4,-0.4,-0.4,-0.4,-0.4,-0.39999999999999997,null,0.4,1.4,-0.6,-0.6,0.4,-0.6,-0.6,-0.6,-0.6,1.4,0,null,"F",24,"F",2]
["JM101",-2.281200000000002,-2.5542000000000016,-2.811200000000003,-1.8512000000000022,-1.4872000000000014,-3.162200000000002,-0.6822000000000017,-2.066200000000002,-2.066200000000002,-2.4742000000000033,-2.143600000000002,null,-1.0425000000000004,-5.6525,-4.984500000000001,-3.730500000000003,-0.9905000000000008,0.16249999999999787,-3.146500000000003,0.1454999999999984,-0.9555000000000007,-4.080500000000001,-2.427500000000001,null,-0.1,-0.1,-0.1,-0.1,-0.1,-0.1,-0.1,-0.1,-0.1,-0.1,-0.09999999999999999,null,-0.4,-0.4,-0.4,-0.4,-0.4,-0.4,-0.4,0.6,-0.4,0.6,-0.19999999999999996,null,"F",25,"F",2]
["JP101",-1.0299999999999994,-1.302999999999999,-2.134999999999998,-1.2619999999999987,-2.677999999999999,-2.4319999999999986,-2.1499999999999986,-2.804999999999998,-2.8019999999999996,-3.0409999999999986,-2.1637999999999984,null,-7.080500000000001,-10.444500000000005,-7.560500000000005,-1.407500000000006,-5.087500000000006,2.6084999999999994,-9.616500000000002,-1.7125000000000057,-0.4475000000000051,-12.343500000000006,-5.309200000000004,null,0,0,0,0,0,0,0,0,0,0,0,null,-0.3,-0.3,-0.3,-0.3,-0.3,-0.3,-0.3,0.7,-0.3,-0.3,-0.2,null,"F",37,"F",2]
["KM101",-1.7011000000000003,-0.9330999999999996,-0.013100000000001444,1.9709000000000003,-2.9731000000000005,-0.8301000000000016,0.9378999999999991,0.7308999999999983,-0.4620999999999995,-1.8771000000000004,-0.5150000000000006,null,5.481999999999992,-0.03800000000000381,2.7469999999999963,0.41099999999999426,-2.9640000000000057,-2.845000000000006,0.6029999999999944,-3.5260000000000034,-1.5900000000000034,1.112999999999996,-0.0607000000000049,null,0,0,0,0,0,0,0,0,0,0,0,null,1.7,-0.3,-0.3,-0.3,-0.3,0.7,0.7,-0.3,0.7,1.7,0.4,null,"F",17,"T",2]
["LT101",-8.5149,-7.432900000000002,-7.831900000000001,-8.977900000000002,-9.858900000000002,-8.265900000000002,-9.064900000000002,-8.025900000000002,-9.318900000000001,-9.648900000000001,-8.694100000000002,null,0.30860000000000554,-2.2603999999999935,2.955600000000004,-5.540399999999995,-0.6203999999999965,3.0866000000000042,3.8366000000000042,0.49260000000000304,0.9326000000000079,5.268600000000006,0.8460000000000051,null,0,0,0,0,0,0,0,0,0,0,0,null,1.1,-0.9,-0.9,-0.9,-0.9,-0.9,-0.9,1.1,-0.9,-0.9,-0.5,null,"F",22,"F",2]
["MK101",-0.4549999999999983,-1.3049999999999997,-0.5309999999999988,-2.488999999999999,-1.1289999999999978,-2.2639999999999993,-1.320999999999998,-2.7279999999999998,-1,-1,-1.422199999999999,null,-4.384599999999999,-8.120599999999996,-8.816599999999994,-6.431599999999996,-3.279599999999995,-7.232599999999998,-8.359599999999993,-7.623599999999996,-9.280599999999993,-9.380599999999994,-7.290999999999995,null,-0.4,-0.4,-0.4,-0.4,-0.4,-0.4,-0.4,-0.4,-0.4,-0.4,-0.39999999999999997,null,-0.2,-0.2,-0.2,-0.2,0.8,-0.2,-0.2,-0.2,-0.2,0.8,0,null,"F",31,"F",2]
["MT101",-4.4894,-7.417400000000001,-8.6384,-10.7104,-9.799400000000002,-9.0304,-9.918400000000002,-10.671400000000002,-10.551400000000001,-10.110400000000002,-9.133700000000001,null,-1.3780999999999999,2.1819000000000024,-0.8430999999999997,0.655899999999999,-3.057100000000002,-0.9390999999999998,-1.8340999999999994,-4.770099999999999,-3.2021000000000015,-3.2021000000000015,-1.6388000000000003,null,0,0,0,0,0,0,0,0,0,0,0,null,-1,-1,-1,-1,0,-1,-1,0,0,-1,-0.7,null,"F",22,"F",2]
["NV101",-0.6401999999999965,-1.0551999999999957,-1.3841999999999963,-1.1601999999999961,-1.7711999999999968,-2.032199999999998,-1.1311999999999962,-1.543199999999997,-2.1751999999999967,-2.3211999999999975,-1.5213999999999968,null,-1.3780999999999999,2.1819000000000024,-0.8430999999999997,0.655899999999999,-3.057100000000002,-0.9390999999999998,-1.8340999999999994,-4.770099999999999,-3.2021000000000015,-3.2021000000000015,-1.6388000000000003,null,0,0,0,0,0,0,0,0,0,0,0,null,-1,-1,-1,-1,0,-1,-1,0,0,-1,-0.7,null,"F",24,"F",2]
["OB101",2.0431000000000026,-0.6848999999999954,-3.268899999999995,-6.197899999999997,-4.7488999999999955,-5.348899999999997,-1.2438999999999965,-5.685899999999997,-4.884899999999995,-6.045899999999996,-3.6066999999999965,null,-1.6026000000000096,-10.177600000000005,-14.338600000000007,-11.259600000000006,-11.651600000000009,-13.787600000000005,-8.37960000000001,-14.43460000000001,-10.62660000000001,-20.109600000000007,-11.636800000000008,null,0,0,0,0,0,0,0,0,0,0,0,null,-0.6,-0.6,-0.6,-0.6,-0.6,-0.6,-0.6,0.4,-0.6,-0.6,-0.5,null,"F",30.26,"F",2]
["RB101",-2.9266000000000005,-1.6305999999999976,-1.8065999999999995,-2.9586000000000006,-1.637599999999999,-3.358599999999999,-2.2866,-2.278600000000001,-2.262599999999999,1.5774000000000008,-1.9568999999999996,null,-3.511000000000003,-2.982000000000003,-1.2860000000000014,-1.3440000000000012,-0.36400000000000077,0.9039999999999999,-1.7590000000000003,-3.215,-3.3160000000000025,-3.803000000000001,-2.0676000000000014,null,-0.1,-0.1,-0.1,-0.1,-0.1,-0.1,-0.1,-0.1,-0.1,-0.1,-0.09999999999999999,null,-0.19999999999999996,-1.2,-0.19999999999999996,-0.19999999999999996,-0.19999999999999996,-0.19999999999999996,-1.2,-1.2,-1.2,-1.2,-0.7,null,"F",28.3,"T",2]
["RK101",-1.196399999999997,-1.0363999999999969,-2.004399999999997,-2.541399999999996,-1.8053999999999952,-1.7003999999999984,-1.2123999999999953,-2.2373999999999974,-0.06039999999999779,-2.6683999999999983,-1.646299999999997,null,-5.990499999999997,-1.8144999999999953,-8.765499999999996,-9.622499999999995,-6.2464999999999975,-5.949499999999993,-8.077499999999993,-8.021499999999996,-2.5744999999999933,-2.710499999999996,-5.977299999999995,null,0,0,0,0,0,0,0,0,0,0,0,null,-1.2,-0.19999999999999996,-0.19999999999999996,-1.2,-1.2,-1.2,-0.19999999999999996,-0.19999999999999996,-1.2,-1.2,-0.8,null,"F",21,"T",2]
["RT101",-3.909099999999995,-5.149099999999997,-6.125099999999996,-6.276099999999996,-6.469099999999997,-6.388099999999998,-5.3150999999999975,-5.122099999999996,-4.989099999999997,-7.1290999999999976,-5.687199999999997,null,-10.557900000000004,-6.884900000000002,-3.8429,-1.9939000000000036,-2.009900000000002,-4.5079000000000065,1.4950999999999937,-5.058900000000001,-4.2509000000000015,1.5670999999999964,-3.604500000000003,null,0,0,0,0,0,0,0,0,0,0,0,null,-1.5,-0.5,-1.5,0.5,-1.5,0.5,0.5,-1.5,-1.5,0.5,-0.6,null,"F",23,"F",2]
["SGJ101",-1.742099999999997,-1.231099999999996,-0.8630999999999975,-0.8780999999999963,-1.6530999999999967,-1.319099999999997,-1.9200999999999961,-0.6790999999999965,-2.1730999999999963,-1.8390999999999966,-1.4297999999999966,null,-5.0517,-0.19069999999999965,-5.273700000000002,-2.0147000000000013,-1.2937000000000012,-1.861699999999999,0.29529999999999745,5.2342999999999975,-4.154700000000002,3.762299999999996,-1.0549000000000013,null,-0.3,-0.3,0.7,-0.3,-0.3,-0.3,-0.3,-0.3,-0.3,-0.3,-0.2,null,-1,1,-1,-1,-1,-1,-1,0,-1,0,-0.6,null,"F",26,"F",2]
["SN101",-1.8928000000000011,-0.7397999999999989,0.3951999999999991,-0.08480000000000132,0.052199999999999136,-0.1647999999999996,3.2752000000000017,2.9952000000000005,0.3152000000000008,3.8751999999999995,0.8026,null,-1.8108000000000004,-7.021799999999999,-12.218800000000002,-8.7928,-9.546799999999998,0.6112000000000037,-11.638799999999996,-8.4028,-8.896799999999999,-11.398800000000001,-7.911699999999999,null,1.4,1.4,-0.6,-0.6,-0.6,0.4,-0.6,1.4,0.4,0.4,0.29999999999999993,null,1.3,0.30000000000000004,-1.7,0.30000000000000004,2.3,5.3,0.30000000000000004,0.30000000000000004,2.3,0.30000000000000004,1.1,null,"F",20,"T",2]
["SR101",0.12560000000000038,-0.06739999999999924,-1.0593999999999983,-1.723399999999998,-1.3213999999999988,-1.675399999999998,-2.1153999999999993,-2.6983999999999995,-1.4833999999999996,-2.555399999999999,-1.457399999999999,null,-4.351200000000006,-6.279200000000003,-1.863199999999999,0.7837999999999994,-2.279200000000003,6.5608,8.6648,4.775799999999997,7.3847999999999985,9.360799999999998,2.275799999999998,null,-0.1,-0.1,-0.1,-0.1,-0.1,-0.1,-0.1,-0.1,-0.1,-0.1,-0.09999999999999999,null,1.6,0.6,-0.4,-0.4,-0.4,0.6,0.6,0.6,-0.4,-0.4,0.2000000000000001,null,"F",23,"F",2]
["TN101",-0.5418999999999983,-0.06989999999999696,-0.8368999999999964,0.21010000000000417,-0.6778999999999975,-0.9828999999999972,-1.300899999999995,-1.7168999999999954,0.25110000000000454,-1.3338999999999963,-0.6999999999999964,null,-4.023700000000005,-2.6977000000000046,-2.639700000000005,-4.110700000000005,-2.9997000000000043,-5.503700000000006,-1.3987000000000052,-4.015700000000006,-3.198700000000006,-3.791700000000006,-3.438000000000005,null,0,0,0,0,0,0,0,0,0,0,0,null,0.4,-0.6,0.4,-0.6,-0.6,-0.6,0.4,0.4,0.4,-0.6,-0.09999999999999996,null,"F",21,"F",2]
["TN102",-1.348499999999996,-0.6294999999999966,-1.3084999999999969,0.5875000000000021,-0.22849999999999682,-0.8184999999999967,0.3715000000000046,0.33550000000000324,0.48150000000000404,0.20550000000000423,-0.23519999999999647,null,-3.0340000000000025,2.0349999999999966,-1.5700000000000003,-3.418000000000003,-4.546000000000003,-5.410000000000004,-1.929000000000002,-6.313000000000002,-4.146000000000004,-1.514000000000003,-2.984500000000003,null,0,0,0,0,0,0,0,0,0,0,0,null,-1.2,2.8,-0.19999999999999996,-1.2,-1.2,-1.2,-1.2,-1.2,-1.2,0.8,-0.5000000000000001,null,"F",22,"F",2]
["YS101",1.3181999999999992,0.8541999999999987,0.18319999999999936,-1.1458000000000013,-0.9928000000000008,-0.6498000000000008,-0.5768000000000004,0.8621999999999996,-1.0728000000000009,-1.057800000000002,-0.22780000000000095,null,-1.360999999999997,-1.2589999999999968,2.080000000000002,-2.1459999999999972,0.20400000000000063,-2.997,-3.100999999999999,-1.9959999999999987,-3.546999999999997,1.0920000000000023,-1.3030999999999981,null,0,0,0,0,0,0,0,0,0,0,0,null,2.1,1.1,1.1,0.09999999999999998,1.1,1.1,0.09999999999999998,0.09999999999999998,-0.9,1.1,0.6999999999999998,null,"F",22,"F",2]
["ZP101",-2.652000000000001,-4.1320000000000014,-2.2040000000000006,-2.532,-3.0120000000000005,-2.4840000000000018,-3.8840000000000003,-1.5160000000000018,-6.084,-7.564,-3.6064000000000007,null,-6.972000000000001,-4.004000000000001,-5.125,-7.588000000000001,-6.277000000000001,-7.475999999999999,-3.8759999999999977,-8.899999999999999,-4.603999999999999,-6.972000000000001,-6.1794,null,0,0,0,0,0,0,0,0,0,0,0,null,-0.3,-0.3,0.7,-0.3,0.7,0.7,0.7,-0.3,-0.3,-0.3,0.09999999999999998,null,"F",19,"F",2]

{"sheet":"males-nonex","index":19,"n_rows":34,"n_cols":53,"rows_kept":34}
["ID (reds lack HR data)","%change-c-1","%change-c-2","%change-c-3","%change-c-4","%change-c-5","%change-c-6","%change-c-7","%change-c-8","%change-c-9","%change-c-10","%change-c-avg","congruent","%change-i-1","%change-i-2","%change-i-3","%change-i-4","%change-i-5","%change-i-6","%change-i-7","%change-i-8","%change-i-9","%change-i-10","%change-i-avg","incongruent","diff-err-c-1","diff-err-c-2","diff-err-c-3","diff-err-c-4","diff-err-c-5","diff-err-c-6","diff-err-c-7","diff-err-c-8","diff-err-c-9","diff-err-c-10","avg-change-err-c","avg-err-c","diff-err-i-1","diff-err-i-2","diff-err-i-3","diff-err-i-4","diff-err-i-5","diff-err-i-6","diff-err-i-7","diff-err-i-8","diff-err-i-9","diff-err-i-10","avg-change-err-i","avg-err-i","Gender","BMI","ADD","Paradigm"]
["CJ101-nonexercise",-1.185500000000001,-2.0474999999999994,-3.0554999999999986,-3.8575,-4.4085,-3.4654999999999987,-4.1455,-4.657499999999999,-3.531500000000001,-4.4975000000000005,-3.4852,{"$f":"AVERAGE($L$2:INDEX(L:L,MATCH(9.99999999999999E+307,L:L)))","v":-2.4616606060606068},-0.18730000000000757,-1.9613000000000085,-2.650300000000005,-3.9123000000000054,-2.2023000000000046,-2.385300000000008,-3.674300000000006,-3.760300000000008,-5.0423000000000044,-4.057300000000005,-2.983300000000006,{"$f":"AVERAGE($X$2:INDEX(X:X,MATCH(9.99999999999999E+307,X:X)))","v":-3.4720454545454555},-0.1,-0.1,-0.1,-0.1,-0.1,-0.1,-0.1,-0.1,-0.1,-0.1,-0.049999999999999996,{"$f":"AVERAGE($AJ$2:INDEX(AJ:AJ,MATCH(9.99999999999999E+307,AJ:AJ)))","v":0.006060606060606062},0,0,-1,-1,0,0,0,-1,0,0,-0.15,{"$f":"AVERAGE($AV$2:INDEX(AV:AV,MATCH(9.99999999999999E+307,AV:AV)))","v":0.06181818181818185},"M",25,"F",1]
["DD101-nonexercise",-0.9518000000000004,-0.9268000000000001,-1.2558000000000007,-0.7548000000000012,-1.1118000000000006,0.27120000000000033,-1.5678,0.5442,-1.6158000000000001,-1.4478000000000009,-0.8817000000000004,"stdev",-8.149900000000002,-0.4859000000000009,1.129100000000001,-1.008899999999997,-3.109899999999996,-9.678899999999999,-2.0538999999999987,-3.3018999999999963,-6.734899999999996,-3.262900000000002,-3.6657999999999986,"stdev",0,0,0,0,0,0,0,0,0,0,0,"stdev",0,0.30000000000000004,-1,1,-1,-1,1,-1,-1,1,-0.085,"stdev","M",22,"T",1]
["JF101-nonexercise",0.06910000000000238,0.8511000000000024,-0.48389999999999844,-0.9648999999999983,1.2991000000000028,-1.3078999999999983,-0.971899999999998,-1.5318999999999985,0.44310000000000116,0.4991000000000021,-0.20989999999999806,{"$f":"STDEV($L$2:INDEX(L:L,MATCH(9.99999999999999E+307,L:L)))","v":2.0311282068008687},-4.558900000000005,-3.916900000000002,-1.8129000000000026,-3.2999000000000045,-1.380900000000004,1.4820999999999955,-0.9499000000000031,0.37809999999999633,-2.531900000000004,-1.4609000000000023,-1.8052000000000035,{"$f":"STDEV($X$2:INDEX(X:X,MATCH(9.99999999999999E+307,X:X)))","v":4.692294776818355},-0.1,0.9,-0.1,-0.1,2.9,-0.1,-0.1,-0.1,-0.1,-0.1,0.14999999999999997,{"$f":"STDEV($AJ$2:INDEX(AJ:AJ,MATCH(9.99999999999999E+307,AJ:AJ)))","v":0.09333874443188751},-2,-1.1,-1,-2,0,-2,1,2,-1,-1,-0.355,{"$f":"STDEV($AV$2:INDEX(AV:AV,MATCH(9.99999999999999E+307,AV:AV)))","v":0.366130138624357},"M",30,"T",1]
["SW101-nonexercise",0.0887999999999991,0.42279999999999873,-0.3542000000000005,-0.7872000000000003,-1.2182000000000013,-0.17020000000000124,-1.0671999999999997,-0.8422000000000001,-0.9382000000000001,-1.9632000000000005,-0.6829000000000006,"n",0.4339000000000013,-3.1341,-0.2790999999999997,-4.193100000000001,-4.911100000000001,-2.8141,-2.5260999999999996,-2.9101,-5.2791,-5.3591000000000015,-3.0972,"n",0.7,-0.3,-0.3,-0.3,-0.3,-0.3,-0.3,-0.3,-0.3,0.7,-0.05000000000000001,"n",0,0.5,2,0,1,0,0,0,1,0,0.225,"n","M",26,"F",1]
["BR102-nonexercise",2.337300000000001,1.5513000000000012,0.9943000000000008,-0.11969999999999814,0.1283000000000012,0.14330000000000176,-0.5386999999999986,-0.7876999999999992,-0.6536999999999988,-1.571699999999998,0.1483000000000013,{"$f":"COUNT($L$2:INDEX(L:L,MATCH(9.99999999999999E+307,L:L)))","v":33},-0.9264999999999972,2.558500000000002,0.5615000000000023,-0.3064999999999998,3.5375000000000014,3.099499999999999,0.8094999999999999,-0.9754999999999967,-2.199499999999997,2.799500000000002,0.8958000000000016,{"$f":"COUNT($X$2:INDEX(X:X,MATCH(9.99999999999999E+307,X:X)))","v":33},1,0,0,0,0,0,0,1,0,0,0.1,{"$f":"COUNT($AJ$2:INDEX(AJ:AJ,MATCH(9.99999999999999E+307,AJ:AJ)))","v":33},0,-0.6,0,0,-1,0,0,-1,-1,-1,-0.22999999999999998,{"$f":"COUNT($AV$2:INDEX(AV:AV,MATCH(9.99999999999999E+307,AV:AV)))","v":33},"M",26,"F",1]
["DJ102-nonexercise",-2.9302000000000064,-2.540200000000006,0.33379999999999654,-2.314200000000003,-2.8662000000000063,-2.9702000000000055,-2.793200000000006,-2.450200000000006,-0.7532000000000032,-1.9142000000000046,-2.119800000000005,"se",-4.9780000000000015,4.540999999999993,2.243999999999996,3.0529999999999937,-1.115000000000002,5.285,-4.531000000000002,-3.4120000000000026,-3.054000000000002,-1.7470000000000034,-0.37140000000000306,"se",-0.1,0.9,0.9,-0.1,-0.1,-0.1,-0.1,1.9,0.9,-0.1,0.19999999999999998,"se",3,0.10000000000000009,3,4,3,1,0,3,-2,4,0.9550000000000001,"se","M",29,"F",1]
["KLA101-nonexercise",-1.725200000000001,0.3147999999999982,-1.909200000000002,-2.725200000000001,-2.3572000000000024,-1.2852000000000015,-3.021200000000002,-2.5412000000000017,-2.1092000000000013,-2.310200000000002,-1.9669000000000019,{"$f":"M4/SQRT(M6)","v":0.3535740371853951},-0.7090999999999994,-2.9010999999999996,-5.460100000000001,-7.589100000000002,-4.110100000000003,-3.1651000000000025,-8.347100000000001,-4.020099999999999,-4.333100000000002,-4.955100000000002,-4.559000000000001,{"$f":"Y4/SQRT(Y6)","v":0.8168236758017036},-0.2,-0.2,-0.2,-0.2,-0.2,-0.2,-0.2,-0.2,1.8,-0.2,0,{"$f":"AK4/SQRT(AK6)","v":0.01624818984055092},-1,0.10000000000000009,-2,-1,2,0,3,-1,1,-1,5.0000000000000044E-3,{"$f":"AW4/SQRT(AW6)","v":0.06373507630646277},"M",24,"F",1]
["MA101-nonexercise",0.08210000000000406,-1.8258999999999972,-1.1408999999999985,-0.6988999999999983,-1.6278999999999968,-1.3008999999999986,-1.2998999999999974,-2.300899999999997,-1.5078999999999958,-1.099899999999998,-1.2720999999999973,"p-value ttest after non-exercise",-6.302,-7.151000000000003,-5.196000000000005,3.138999999999996,-7.109999999999999,-6.694000000000003,-8.326,-6.774000000000001,-2.6709999999999994,-4.486000000000004,-5.157100000000002,"p-value ttest after exercise",0,0,0,0,0,0,1,0,0,0,0.05,"p-value ttest after exercise",1,2.1,0,0,1,2,0,0,2,1,0.45499999999999996,"p-value ttest after exercise","M",25,"T",1]
["TM101-nonexercise",-0.9148000000000014,-2.5238000000000014,-0.7708000000000013,-2.4018000000000015,-2.9388000000000023,-2.987800000000002,-3.2498000000000022,-4.322800000000001,-3.242800000000001,-2.5718000000000014,-2.592500000000002,{"$f":"TDIST(ABS(M2)/M8, (M6-1),2)","v":6.9184211345736433E-8},-7.025599999999994,-4.848599999999994,-6.881599999999995,-7.432599999999994,-5.113599999999995,-2.657599999999995,-0.024599999999992406,-6.297599999999996,-5.320599999999995,-7.183599999999995,-5.278599999999995,{"$f":"TDIST(ABS(Y2)/Y8, (Y6-1),2)","v":1.7232734703047289E-4},-0.1,-0.1,0.9,0.9,-0.1,-0.1,-0.1,-0.1,-0.1,0.9,0.09999999999999998,{"$f":"TDIST(ABS(AK2)/AK8, (AK6-1),2)","v":0.7116064849244303},3,0.19999999999999996,1,0,-1,-1,-1,0,0,-1,0.010000000000000009,{"$f":"TDIST(ABS(AW2)/AW8, (AW6-1),2)","v":0.3393588365132222},"M",26,"F",1]
["TR101-nonexercise",0.2657000000000025,0.3937000000000026,-0.047299999999996345,-1.0072999999999972,-0.022299999999997766,-1.1992999999999974,-1.991299999999999,-1.3582999999999963,-1.8702999999999967,-1.2232999999999983,-0.8059999999999974,null,-4.213599999999996,2.8574000000000055,-2.091599999999996,-2.668599999999998,-1.9415999999999976,-1.325599999999998,0.6594000000000051,-0.06759999999999877,-1.5325999999999986,-1.950599999999998,-1.227499999999997,null,0.9,-0.1,-0.1,-0.1,-0.1,-0.1,-0.1,-0.1,-0.1,-0.1,6.938893903907228e-18,null,3,1.6,1,3,2,2,4,1,0,0,0.8800000000000001,null,"M",27,"F",1]
["YS102-nonexercise",-2.2013999999999996,-2.7493999999999996,-2.045399999999999,-1.1333999999999982,-2.8773999999999997,-2.7733999999999988,-3.4773999999999994,-1.1153999999999993,-3.0543999999999993,-3.933399999999999,-2.5361,null,-13.841800000000003,-12.857800000000001,-6.937800000000003,-7.194800000000001,-6.201799999999999,-3.0748000000000033,-10.201800000000002,-9.5058,-5.752800000000001,-10.919800000000002,-8.648900000000003,null,-0.1,-0.1,-0.1,-0.1,-0.1,-0.1,-0.1,0.9,-0.1,-0.1,0,null,-1,-1.4,-4,-2,-3,-3,1,1,-2,-1,-0.77,null,"M",23,"F",1]
["CJ101",-3.3857,-2.4426999999999985,-0.40970000000000084,-1.6906999999999996,-2.906699999999999,-1.2746999999999993,-1.2746999999999993,-3.6506999999999987,-3.3076999999999988,-3.4906999999999986,-2.383399999999999,{"$f":"AVERAGE($L$2:INDEX(L:L,MATCH(9.99999999999999E+307,L:L)))","v":-2.4616606060606068},-8.105999999999998,-4.5269999999999975,2.2880000000000003,1.9660000000000046,0.2870000000000026,-4.959999999999997,2.4229999999999983,-0.1609999999999978,-1.0169999999999995,-1.5769999999999982,-1.3383999999999983,{"$f":"AVERAGE($X$2:INDEX(X:X,MATCH(9.99999999999999E+307,X:X)))","v":-3.4720454545454555},0,0,0,0,0,0,1,0,0,0,0.1,{"$f":"AVERAGE($AJ$2:INDEX(AJ:AJ,MATCH(9.99999999999999E+307,AJ:AJ)))","v":0.006060606060606062},-0.5,-0.5,1.5,0.5,1.5,-0.5,0.5,0.5,0.5,-0.5,0.3,{"$f":"AVERAGE($AV$2:INDEX(AV:AV,MATCH(9.99999999999999E+307,AV:AV)))","v":0.06181818181818185},"M",26.78,"F",2]
["DD101",0.5299999999999994,-0.8209999999999997,-1.0649999999999995,-1.9290000000000003,-1.3130000000000006,-1.783999999999999,-0.4689999999999994,-0.6349999999999998,-1.472999999999999,-1.6479999999999997,-1.0606999999999998,"stdev",-8.575300000000006,-8.590300000000006,-9.294300000000007,-7.853300000000004,-8.919300000000007,-6.414300000000004,-5.282300000000006,-10.006300000000003,-10.040300000000009,-6.732300000000009,-8.170800000000005,"stdev",0,0,0,0,0,0,0,0,0,0,0,"stdev",-0.10000000000000009,-1.1,-1.1,-0.10000000000000009,-0.10000000000000009,-1.1,-1.1,-0.10000000000000009,-0.10000000000000009,-0.10000000000000009,-0.5,"stdev","M",23,"T",2]
["JF101",-1.8835999999999977,-1.5715999999999983,-0.714599999999999,-1.1785999999999994,-0.6575999999999986,-0.7485999999999979,-0.8665999999999983,-0.9945999999999984,0.27640000000000065,-1.1645999999999983,-0.9503999999999986,{"$f":"STDEV($L$2:INDEX(L:L,MATCH(9.99999999999999E+307,L:L)))","v":2.0311282068008687},-7.018299999999996,-3.985299999999995,-5.633299999999998,-1.9242999999999952,-3.5162999999999975,-2.969299999999997,-3.4502999999999986,-3.5782999999999987,-3.9762999999999984,-3.3372999999999955,-3.9388999999999967,{"$f":"STDEV($X$2:INDEX(X:X,MATCH(9.99999999999999E+307,X:X)))","v":4.692294776818355},0,0,0,0,0,0,0,0,1,0,0.1,{"$f":"STDEV($AJ$2:INDEX(AJ:AJ,MATCH(9.99999999999999E+307,AJ:AJ)))","v":0.09333874443188751},-0.4,0.6,-0.4,1.6,-0.4,0.6,0.6,-0.4,-0.4,0.6,0.2,{"$f":"STDEV($AV$2:INDEX(AV:AV,MATCH(9.99999999999999E+307,AV:AV)))","v":0.366130138624357},"M",30,"T",2]
["AA101",-1.5685000000000002,-2.0395000000000003,-2.576500000000001,-2.384500000000001,-1.8955000000000002,-4.0075,-2.4235000000000007,-3.0555000000000003,-3.1275000000000013,-2.7125000000000004,-2.5791000000000013,"n",-4.796399999999998,-2.2683999999999997,-5.724399999999999,-3.6354000000000006,-2.9883999999999986,-3.6433999999999997,-2.7643999999999984,-4.659399999999998,-3.883399999999998,-2.180399999999999,-3.654399999999999,"n",0,0,0,0,0,0,0,0,0,0,0,"n",-0.7,-0.7,-0.7,-0.7,1.3,-0.7,-0.7,1.3,1.3,-0.7,-0.09999999999999994,"n","M",26,"F",2]
["DP101",-2.2117999999999967,-2.492799999999999,0.027200000000000557,-4.204799999999999,-1.5427999999999962,3.8572000000000024,-4.123799999999999,-2.861799999999999,-1.1067999999999962,-4.726799999999997,-1.9386999999999979,{"$f":"COUNT($L$2:INDEX(L:L,MATCH(9.99999999999999E+307,L:L)))","v":33},-1.0238000000000014,-3.230800000000002,-1.3278000000000034,3.1522000000000006,-1.0488,-3.7118000000000038,-0.4397999999999982,-1.8318000000000012,-35.4318,3.336199999999998,-4.155800000000001,{"$f":"COUNT($X$2:INDEX(X:X,MATCH(9.99999999999999E+307,X:X)))","v":33},-0.3,-0.3,-0.3,-0.3,-0.3,0.7,-0.3,-0.3,-0.3,-0.3,-0.2,{"$f":"COUNT($AJ$2:INDEX(AJ:AJ,MATCH(9.99999999999999E+307,AJ:AJ)))","v":33},-0.9,-0.9,1.1,0.09999999999999998,-0.9,0.09999999999999998,0.09999999999999998,-0.9,1.1,-0.9,-0.19999999999999996,{"$f":"COUNT($AV$2:INDEX(AV:AV,MATCH(9.99999999999999E+307,AV:AV)))","v":33},"M",25,"F",2]
["DT101",-7.192299999999996,-7.960299999999997,-10.936299999999997,-10.720299999999996,-12.168299999999997,-9.896299999999997,-11.817299999999996,-10.855299999999996,-9.632299999999997,-7.871299999999998,-9.904999999999998,"se",-2.9343000000000004,-2.581299999999999,-0.16529999999999845,-0.15729999999999933,-2.5333000000000006,-1.9492999999999974,-3.429299999999998,-2.6843000000000004,-3.2133000000000003,-2.621299999999998,-2.226899999999999,"se",0,0,0,0,0,0,0,0,0,0,0,"se",1.1,1.1,1.1,0.09999999999999998,-0.9,0.09999999999999998,-0.9,1.1,-0.9,-0.9,0.10000000000000009,"se","M",22,"F",2]
["DY101",-3.310399999999998,-3.3493999999999957,-3.629399999999997,-4.950399999999998,-5.212399999999999,-5.348399999999998,-3.9423999999999957,-4.7823999999999955,-6.605399999999998,-7.174399999999997,-4.830499999999997,"se",-19.247,-38.248000000000005,-33.192,-37.912,-26.168000000000006,-18.072000000000003,-33.576,-27.823999999999998,-15.616,-13.680000000000007,-26.353500000000004,"se",0,0,0,0,0,0,1,0,0,0,0.1,"se",-0.5,-0.5,-1.5,-2.5,-1.5,-1.5,-2.5,-0.5,1.5,11.5,0.2,null,"M",25,"T",2]
["EC101",-5.084900000000001,-7.3408999999999995,-5.0609,-7.3729,-7.036899999999999,-5.876899999999999,-5.602899999999998,-6.228899999999999,-6.668899999999999,-7.9779,-6.425199999999999,{"$f":"M15/SQRT(M17)","v":0.3535740371853951},-1.279200000000003,-0.9032000000000018,-2.6472000000000016,2.2407999999999966,1.1767999999999965,0.9037999999999968,2.472799999999996,2.5127999999999986,-0.10320000000000462,2.0487999999999964,0.642299999999997,{"$f":"Y15/SQRT(Y17)","v":0.8168236758017036},-0.1,-0.1,-0.1,-0.1,-0.1,-0.1,-0.1,-0.1,-0.1,-0.1,-0.09999999999999999,{"$f":"AK15/SQRT(AK17)","v":0.01624818984055092},-0.5,1.5,1.5,-0.5,-0.5,-0.5,-0.5,-0.5,-0.5,0.5,0,{"$f":"AW15/SQRT(AW17)","v":0.06373507630646277},"M",20,"F",2]
["FA101",-1.729499999999998,-3.426499999999997,-1.753499999999999,-0.4734999999999978,-1.4504999999999981,-2.3215000000000003,-0.729499999999998,-0.8004999999999995,-1.0254999999999974,-1.6574999999999989,-1.5367999999999984,"change ex- nonex",-2.4239000000000033,-3.9829000000000008,-1.2159000000000013,-1.9679000000000038,-0.17590000000000217,-0.5279000000000025,-2.8079000000000036,0.48809999999999576,0.04809999999999803,-0.255900000000004,-1.2822000000000027,"change ex- nonex",0,0,0,0,0,0,0,0,0,0,0,"change ex- nonex",-0.6,-0.6,-0.6,1.4,-0.6,0.4,-0.6,0.4,-0.6,-0.6,-0.19999999999999996,"change ex- nonex","M",23,"F",2]
["GH101",-1.3744999999999976,-1.827499999999997,-2.4064999999999976,-2.516499999999997,-3.2064999999999984,-2.790499999999998,-2.3904999999999976,-3.8154999999999983,-3.2464999999999975,-3.4134999999999973,-2.6987999999999976,{"$f":"AVERAGE($L$2:INDEX(L:L,MATCH(9.99999999999999E+307,L:L)))-'males-nonex'!M13","v":0},-6.769399999999997,-7.706399999999995,-3.7933999999999983,-2.6494,-0.2744,2.462600000000002,3.5746000000000038,-0.7053999999999974,-1.8263999999999996,-3.882399999999997,-2.156999999999998,{"$f":"AVERAGE($X$2:INDEX(X:X,MATCH(9.99999999999999E+307,X:X)))-'males-nonex'!Y13","v":0},0,0,0,0,0,0,0,0,0,0,0,{"$f":"AVERAGE($AJ$2:INDEX(AJ:AJ,MATCH(9.99999999999999E+307,AJ:AJ)))-'males-nonex'!AK13","v":0},-0.7,-0.7,-0.7,1.3,1.3,-0.7,1.3,1.3,1.3,-0.7,0.3,{"$f":"AVERAGE($AV$2:INDEX(AV:AV,MATCH(9.99999999999999E+307,AV:AV)))-'males-nonex'!AW13","v":0},"M",20,"F",2]
["GS101",-1.1723,-0.4842999999999993,-0.805299999999999,0.16469999999999985,-1.4612999999999996,-0.4853000000000005,-0.7073,-1.2933000000000003,-1.228299999999999,-0.5243000000000002,-0.7996999999999999,"se of ex and non ex",-2.7923999999999936,5.424600000000005,-4.08039999999999,-6.969399999999993,-3.2963999999999913,-2.6873999999999896,-8.64439999999999,3.67260000000001,-6.729399999999991,-1.456399999999995,-2.755899999999992,"se of ex and non ex",0,0,0,0,0,0,0,0,0,0,0,"se of ex and non ex",-0.1,-0.1,-0.1,-0.1,-0.1,-0.1,-0.1,-0.1,-0.1,-0.1,-0.09999999999999999,"se of ex and non ex","M",25,"F",2]
["IF101",-0.9670000000000023,-1.4540000000000006,-1.379999999999999,-1.7090000000000014,-2.843,-2.0549999999999997,-1.1660000000000004,-2.1340000000000003,-0.48600000000000065,-1.3820000000000014,-1.5576000000000005,{"$f":"SQRT(((M15*M15)/M17)+(('males-nonex'!M15*'males-nonex'!M15)/'males-nonex'!M17))","v":0.5000291986905948},1.755500000000005,-2.4044999999999987,-3.540499999999998,-1.4924999999999962,-2.6844999999999963,-1.6124999999999972,-2.731499999999997,-1.1404999999999994,1.4284999999999997,-3.1404999999999994,-1.5562999999999978,{"$f":"SQRT(((Y15*Y15)/Y17)+(('males-nonex'!Y15*'males-nonex'!Y15)/'males-nonex'!Y17))","v":1.1551631203862132},0,0,0,0,0,0,0,0,0,0,0,{"$f":"SQRT(((AK15*AK15)/AK17)+(('males-nonex'!AK15*'males-nonex'!AK15)/'males-nonex'!AK17))","v":0.02297841043651985},2.4,0.4,0.4,1.4,-0.6,-0.6,0.4,0.4,-0.6,-0.6,0.29999999999999993,{"$f":"SQRT(((AW15*AW15)/AW17)+(('males-nonex'!AW15*'males-nonex'!AW15)/'males-nonex'!AW17))","v":0.09013500931148377},"M",16,"T",2]
["JD101",-3.2691999999999943,-4.116199999999996,-3.0921999999999947,-4.1961999999999975,-1.7701999999999956,-3.572199999999995,-3.9081999999999972,-3.907199999999996,-5.651199999999996,-4.819199999999995,-3.8301999999999956,"p-value ttest after exercise",-3.144300000000001,-1.6163000000000025,-0.8083000000000027,-2.287300000000002,-1.288300000000003,-2.383300000000002,-3.344300000000004,-2.9203000000000046,-3.7363000000000035,1.1366999999999976,-2.039200000000003,"p-value ttest after exercise",0,0,0,0,0,0,1,0,0,0,0.1,"p-value ttest after exercise",-0.2,-0.2,-0.2,-0.2,-0.2,-0.2,-0.2,-0.2,-0.2,0.8,-0.09999999999999998,"p-value ttest after exercise","M",29,"F",2]
["JG101",-3.0424000000000007,-2.6594000000000015,-2.9064000000000014,-2.9154000000000018,-2.8114000000000026,-3.7714,-4.171400000000002,-4.067400000000003,-3.8194000000000017,-3.9074000000000026,-3.407200000000002,{"$f":"TDIST(ABS(M13)/M20, (M17-1),2)","v":6.9184211345736433E-8},-3.6259999999999977,-4.683,-2.186,-2.213000000000001,-4.035000000000004,-4.011000000000003,-2.618000000000002,-4.042000000000002,-4.873999999999999,-2.2830000000000013,-3.4571000000000014,{"$f":"TDIST(ABS(Y13)/Y20, (Y17-1),2)","v":1.7232734703047289E-4},0,0,0,0,0,0,0,0,0,0,0,{"$f":"TDIST(ABS(AK13)/AK20, (AK17-1),2)","v":0.7116064849244303},-0.5,-0.5,-0.5,1.5,0.5,1.5,0.5,-0.5,-1.5,0.5,0.1,{"$f":"TDIST(ABS(AW13)/AW20, (AW17-1),2)","v":0.3393588365132222},"M",28,"T",2]
["JS102",-1.7512999999999987,1.5927000000000007,-0.18029999999999902,-0.07529999999999859,-0.7863000000000007,-2.0503,0.5976999999999997,0.6857000000000006,-4.2273,-4.0512999999999995,-1.0245999999999995,"p-value ttest change with exercise vs change with nonex",-3.960000000000001,-5.559000000000001,-3.6400000000000006,-4.018000000000001,-6.327000000000002,-4.368000000000002,-5.536000000000001,-5.388000000000002,-4.255000000000003,0.9929999999999986,-4.205800000000001,"p-value ttest change with exercise vs change with nonex",0,0,0,0,0,0,0,0,0,0,0,"p-value ttest change with exercise vs change with nonex",-0.5,-0.5,-0.5,-0.5,-0.5,-0.5,-0.5,-0.5,-0.5,0.5,-0.4,"p-value ttest change with exercise vs change with nonex","M",20,"F",2]
["KP101",-2.889300000000002,-3.8373000000000026,-3.2413000000000025,-3.0333000000000006,-3.2173000000000016,-3.984300000000001,-3.6173,-4.392300000000002,-2.3613,-2.6403000000000034,-3.3214000000000015,{"$f":"TTEST(L13:L34,'males-nonex'!L13:L23,2,3)","v":0.804092595546951},-2.7816000000000045,-3.3256000000000014,-2.0046000000000035,4.9313999999999965,-0.9416000000000011,8.683399999999999,-0.1566000000000045,3.2023999999999972,1.0753999999999948,-4.932600000000001,0.37499999999999717,{"$f":"TTEST(X13:X34,'males-nonex'!X13:X23,2,3)","v":0.5712527236472402},-0.2,-0.2,-0.2,-0.2,-0.2,-0.2,-0.2,0.8,-0.2,-0.2,-0.09999999999999998,{"$f":"TTEST(AJ13:AJ34,'males-nonex'!AJ13:AJ23,2,3)","v":0.6890442202681144},0.6,0.6,-0.4,1.6,-0.4,-0.4,-0.4,-0.4,0.6,-0.4,0.1,{"$f":"TTEST(AV13:AV34,'males-nonex'!AV13:AV23,2,3)","v":0.6060064211925401},"M",24,"F",2]
["LB101",-0.9487999999999985,-2.7227999999999994,0.2181999999999995,-1.046800000000001,-1.982800000000001,-1.671800000000001,-2.5107999999999997,-3.5578000000000003,-1.5747999999999998,-2.8718000000000004,-1.8670000000000002,null,-6.980199999999996,-6.109199999999998,5.827800000000003,-5.116199999999999,-5.965199999999996,-1.8441999999999972,-4.682199999999998,-3.724199999999996,-1.181199999999997,-3.0041999999999973,-3.2778999999999967,null,0,0,0,0,0,0,0,0,0,0,0,null,-0.6,1.4,3.4,-0.6,-0.6,0.4,-0.6,0.4,-0.6,-0.6,0.19999999999999996,null,"M",24,"F",2]
["MD101",-5.166400000000003,-5.189400000000003,-6.596400000000003,-5.726400000000002,-6.5014,-2.269400000000001,-4.3504000000000005,-5.790400000000002,-7.702400000000001,-7.366400000000002,-5.665900000000001,null,-4.354599999999998,-5.7806,-5.368600000000001,-6.618600000000001,-4.755599999999998,-4.897600000000001,-2.4756,-3.6525999999999996,-3.3065999999999995,-4.9705999999999975,-4.618099999999999,null,0,0,0,0,0,0,0,0,0,0,0,null,2.4,0.4,0.4,-0.6,-0.6,1.4,1.4,2.4,0.4,0.4,0.8,null,"M ",29,"F",2]
["OA101",-0.1556000000000033,-1.1956000000000024,-1.2996000000000016,-0.4846000000000039,-0.1656000000000013,-1.9146000000000036,-0.5476000000000028,-1.2036000000000016,-0.8996000000000031,-2.492600000000003,-1.0359000000000027,null,-1.7780999999999985,-0.891099999999998,-2.356099999999998,-3.8050999999999995,-1.6800999999999995,3.8119000000000014,-1.043099999999999,-3.9000999999999983,-2.949099999999998,-4.236099999999997,-1.8826999999999985,null,0,0,0,0,0,0,0,0,0,0,0,null,-0.2,-0.2,-0.2,-0.2,0.8,0.8,-0.2,-0.2,-0.2,-0.2,0,null,"M",25,"F",2]
["PM101",-1.152800000000001,-0.042800000000001504,-1.1178000000000008,-1.1468000000000007,-1.8188000000000013,-1.6468000000000007,-0.35380000000000145,-1.5368000000000013,-2.176800000000002,-2.0828000000000007,-1.3076000000000012,null,-2.2295000000000016,0.8904999999999959,6.017499999999998,-3.140500000000003,-0.3505000000000038,-1.525500000000001,6.738499999999995,8.914499999999997,2.970499999999994,-2.2055000000000042,1.6079999999999965,null,0,0,0,0,0,0,0,0,0,0,0,null,0,0,0,0,0,0,2,0,0,0,0.2,null,"M",23,"T",2]
["SAV101",-1.6829999999999998,-2.2720000000000002,-0.06400000000000006,-2.5060000000000002,-2.901,-3.235999999999999,-2.885,-2.9349999999999987,-2.1519999999999992,-2.9209999999999994,-2.3555,null,-5.523899999999998,-1.1788999999999987,-3.8718999999999966,-5.914899999999999,-4.507899999999999,-3.2758999999999965,1.004100000000001,-2.5158999999999985,-3.5548999999999964,-3.4678999999999967,-3.280799999999998,null,0,0,0,0,0,0,0,0,0,0,0,null,0,0,0,0,0,0,1,0,0,0,0.1,null,"M",20,"F",2]
["SK101",-1.8535000000000004,-0.01950000000000074,-4.072500000000002,-6.186500000000002,-4.693500000000002,-5.528500000000001,-4.761500000000002,-4.091500000000002,-5.779500000000002,-6.501500000000002,-4.348800000000001,null,-2.845799999999997,-1.4027999999999992,2.8762000000000008,-1.0377999999999972,-1.5077999999999996,1.659200000000002,-0.19679999999999964,-2.774799999999999,-1.2627999999999986,-3.0357999999999983,-0.9528999999999985,null,-0.3,-0.3,-0.3,-0.3,-0.3,-0.3,-0.3,-0.3,-0.3,-0.3,-0.29999999999999993,null,-0.7,0.30000000000000004,0.30000000000000004,-0.7,-0.7,0.30000000000000004,1.3,-0.7,-0.7,-0.7,-0.19999999999999996,null,"M",23,"F",2]

{"sheet":"ADD-nonex","index":20,"n_rows":24,"n_cols":53,"rows_kept":24}
["ID (reds lack HR data)","%change-c-1","%change-c-2","%change-c-3","%change-c-4","%change-c-5","%change-c-6","%change-c-7","%change-c-8","%change-c-9","%change-c-10","%change-c-avg","congruent","%change-i-1","%change-i-2","%change-i-3","%change-i-4","%change-i-5","%change-i-6","%change-i-7","%change-i-8","%change-i-9","%change-i-10","%change-i-avg","incongruent","diff-err-c-1","diff-err-c-2","diff-err-c-3","diff-err-c-4","diff-err-c-5","diff-err-c-6","diff-err-c-7","diff-err-c-8","diff-err-c-9","diff-err-c-10","avg-change-err-c","avg-err-c","diff-err-i-1","diff-err-i-2","diff-err-i-3","diff-err-i-4","diff-err-i-5","diff-err-i-6","diff-err-i-7","diff-err-i-8","diff-err-i-9","diff-err-i-10","avg-change-err-i","avg-err-i","Gender","BMI","ADD","Paradigm"]
["CN101-nonexercise",-1.0963000000000012,0.3836999999999975,-1.2943000000000016,-2.3353,-1.0073000000000008,-2.167300000000001,-1.167300000000001,-2.9033000000000015,-2.7103,-2.5123000000000015,-1.681000000000001,{"$f":"AVERAGE($L$2:INDEX(L:L,MATCH(9.99999999999999E+307,L:L)))","v":-1.6971260869565215},-3.884799999999995,-3.7877999999999936,3.029200000000003,-5.996799999999993,-0.6357999999999961,-5.051799999999993,-4.187799999999992,-2.4047999999999945,0.5862000000000052,-1.6047999999999902,-2.393899999999994,{"$f":"AVERAGE($X$2:INDEX(X:X,MATCH(9.99999999999999E+307,X:X)))","v":-4.549591304347826},-0.4,0.6,-0.4,-0.4,-0.4,-0.4,-0.4,-0.4,-0.4,-0.4,-0.14999999999999997,{"$f":"AVERAGE($AJ$2:INDEX(AJ:AJ,MATCH(9.99999999999999E+307,AJ:AJ)))","v":0.032608695652173905},4,1.4,1,4,3,-1,2,1,1,3,0.97,{"$f":"AVERAGE($AV$2:INDEX(AV:AV,MATCH(9.99999999999999E+307,AV:AV)))","v":-0.02043478260869564},"F",32,"T",1]
["DD101-nonexercise",-0.9518000000000004,-0.9268000000000001,-1.2558000000000007,-0.7548000000000012,-1.1118000000000006,0.27120000000000033,-1.5678,0.5442,-1.6158000000000001,-1.4478000000000009,-0.8817000000000004,"stdev",-8.149900000000002,-0.4859000000000009,1.129100000000001,-1.008899999999997,-3.109899999999996,-9.678899999999999,-2.0538999999999987,-3.3018999999999963,-6.734899999999996,-3.262900000000002,-3.6657999999999986,"stdev",0,0,0,0,0,0,0,0,0,0,0,"stdev",0,0.30000000000000004,-1,1,-1,-1,1,-1,-1,1,-0.085,"stdev","M",22,"T",1]
["JF101-nonexercise",0.06910000000000238,0.8511000000000024,-0.48389999999999844,-0.9648999999999983,1.2991000000000028,-1.3078999999999983,-0.971899999999998,-1.5318999999999985,0.44310000000000116,0.4991000000000021,-0.20989999999999806,{"$f":"STDEV($L$2:INDEX(L:L,MATCH(9.99999999999999E+307,L:L)))","v":1.354601158750625},-4.558900000000005,-3.916900000000002,-1.8129000000000026,-3.2999000000000045,-1.380900000000004,1.4820999999999955,-0.9499000000000031,0.37809999999999633,-2.531900000000004,-1.4609000000000023,-1.8052000000000035,{"$f":"STDEV($X$2:INDEX(X:X,MATCH(9.99999999999999E+307,X:X)))","v":5.422484610977203},-0.1,0.9,-0.1,-0.1,2.9,-0.1,-0.1,-0.1,-0.1,-0.1,0.14999999999999997,{"$f":"STDEV($AJ$2:INDEX(AJ:AJ,MATCH(9.99999999999999E+307,AJ:AJ)))","v":0.08868828923945564},-2,-1.1,-1,-2,0,-2,1,2,-1,-1,-0.355,{"$f":"STDEV($AV$2:INDEX(AV:AV,MATCH(9.99999999999999E+307,AV:AV)))","v":0.5586467273759914},"M",30,"T",1]
["KK101-nonexercise",-2.0903999999999954,-1.4103999999999957,-2.630399999999998,-2.105399999999996,-4.106399999999997,-3.4503999999999984,-4.002399999999998,-3.138399999999997,-4.666399999999996,-4.314399999999996,-3.191499999999997,"n",-4.740099999999998,-3.4680999999999997,-3.277100000000001,-3.7331000000000003,-4.443099999999998,-3.6850999999999985,-3.703099999999999,-3.0920999999999985,-3.4970999999999997,-2.037099999999999,-3.5675999999999988,"n",0,0,0,0,0,0,0,0,0,0,0,"n",0,0.2,0,0,0,0,0,2,0,0,0.11000000000000001,"n","F",20,"T",1]
["MA101-nonexercise",0.08210000000000406,-1.8258999999999972,-1.1408999999999985,-0.6988999999999983,-1.6278999999999968,-1.3008999999999986,-1.2998999999999974,-2.300899999999997,-1.5078999999999958,-1.099899999999998,-1.2720999999999973,{"$f":"COUNT($L$2:INDEX(L:L,MATCH(9.99999999999999E+307,L:L)))","v":23},-6.302,-7.151000000000003,-5.196000000000005,3.138999999999996,-7.109999999999999,-6.694000000000003,-8.326,-6.774000000000001,-2.6709999999999994,-4.486000000000004,-5.157100000000002,{"$f":"COUNT($X$2:INDEX(X:X,MATCH(9.99999999999999E+307,X:X)))","v":23},0,0,0,0,0,0,1,0,0,0,0.05,{"$f":"COUNT($AJ$2:INDEX(AJ:AJ,MATCH(9.99999999999999E+307,AJ:AJ)))","v":23},1,2.1,0,0,1,2,0,0,2,1,0.45499999999999996,{"$f":"COUNT($AV$2:INDEX(AV:AV,MATCH(9.99999999999999E+307,AV:AV)))","v":23},"M",25,"T",1]
["RA101-nonexercise",-1.4927999999999972,-1.0127999999999986,-2.2727999999999984,-2.1497999999999973,-1.1977999999999973,-2.7967999999999975,-2.5337999999999976,-3.053799999999997,-2.7407999999999983,-2.548799999999998,-2.1799999999999984,"se",-4.217199999999998,-2.4162,-5.121199999999998,-1.9192,-1.3762000000000008,-2.1271999999999984,-4.401199999999999,-3.6241999999999983,-2.6402,-6.097200000000001,-3.3939999999999997,"se",0,0,0,0,1,0,1,0,0,0,0.1,"se",0,0.7,0,1,0,0,1,2,1,1,0.335,"se","F",23,"T",1]
["CN101",-0.9543000000000035,-0.3533000000000026,-1.6173000000000037,-3.3453000000000035,-2.514300000000002,-3.025300000000003,-2.1293000000000024,-2.5053000000000036,-3.522300000000003,-2.825300000000002,-2.2792000000000026,{"$f":"AVERAGE($L$2:INDEX(L:L,MATCH(9.99999999999999E+307,L:L)))","v":-1.6971260869565215},-6.959999999999997,-3.103999999999992,-7.023999999999997,-5.487999999999996,-5.7919999999999945,-6.631999999999994,-8.607999999999997,-6.167999999999996,-6.351999999999997,-8.959999999999997,-6.508799999999996,{"$f":"AVERAGE($X$2:INDEX(X:X,MATCH(9.99999999999999E+307,X:X)))","v":-4.549591304347826},0,0,0,0,0,0,0,0,0,0,0,{"$f":"AVERAGE($AJ$2:INDEX(AJ:AJ,MATCH(9.99999999999999E+307,AJ:AJ)))","v":0.032608695652173905},-0.6000000000000001,0.3999999999999999,-1.6,0.3999999999999999,0.3999999999999999,0.3999999999999999,-1.6,-1.6,-1.6,-1.6,-0.7,{"$f":"AVERAGE($AV$2:INDEX(AV:AV,MATCH(9.99999999999999E+307,AV:AV)))","v":-0.02043478260869564},"F",32,"T",2]
["DD101",0.5299999999999994,-0.8209999999999997,-1.0649999999999995,-1.9290000000000003,-1.3130000000000006,-1.783999999999999,-0.4689999999999994,-0.6349999999999998,-1.472999999999999,-1.6479999999999997,-1.0606999999999998,"stdev",-8.575300000000006,-8.590300000000006,-9.294300000000007,-7.853300000000004,-8.919300000000007,-6.414300000000004,-5.282300000000006,-10.006300000000003,-10.040300000000009,-6.732300000000009,-8.170800000000005,"stdev",0,0,0,0,0,0,0,0,0,0,0,"stdev",-0.10000000000000009,-1.1,-1.1,-0.10000000000000009,-0.10000000000000009,-1.1,-1.1,-0.10000000000000009,-0.10000000000000009,-0.10000000000000009,-0.5,"stdev","M",23,"T",2]
["JF101",-1.8835999999999977,-1.5715999999999983,-0.714599999999999,-1.1785999999999994,-0.6575999999999986,-0.7485999999999979,-0.8665999999999983,-0.9945999999999984,0.27640000000000065,-1.1645999999999983,-0.9503999999999986,{"$f":"STDEV($L$2:INDEX(L:L,MATCH(9.99999999999999E+307,L:L)))","v":1.354601158750625},-7.018299999999996,-3.985299999999995,-5.633299999999998,-1.9242999999999952,-3.5162999999999975,-2.969299999999997,-3.4502999999999986,-3.5782999999999987,-3.9762999999999984,-3.3372999999999955,-3.9388999999999967,{"$f":"STDEV($X$2:INDEX(X:X,MATCH(9.99999999999999E+307,X:X)))","v":5.422484610977203},0,0,0,0,0,0,0,0,1,0,0.1,{"$f":"STDEV($AJ$2:INDEX(AJ:AJ,MATCH(9.99999999999999E+307,AJ:AJ)))","v":0.08868828923945564},-0.4,0.6,-0.4,1.6,-0.4,0.6,0.6,-0.4,-0.4,0.6,0.2,{"$f":"STDEV($AV$2:INDEX(AV:AV,MATCH(9.99999999999999E+307,AV:AV)))","v":0.5586467273759914},"M",30,"T",2]
["AI101",-1.7362000000000002,-4.246199999999998,-4.254199999999997,-4.372199999999999,-3.668199999999999,-5.222199999999999,-4.406199999999998,-6.062199999999999,-6.557199999999998,-6.013199999999999,-4.653799999999999,"n",-0.3783999999999992,-3.124399999999998,-2.0993999999999993,-2.9954,-1.8833999999999982,-2.9483999999999995,-2.124399999999998,-0.8443999999999967,-1.6923999999999992,-2.1793999999999976,-2.0269999999999984,"n",0,0,0,0,0,0,0,0,0,0,0,"n",-0.3,0.7,1.7,0.7,1.7,-0.3,-0.3,-0.3,-0.3,0.7,0.4000000000000001,"n","F",20,"T",2]
["CC101",-2.0967000000000002,-2.7447000000000017,-2.3507000000000016,-2.5927000000000007,-2.508700000000001,-2.1477000000000004,-2.066700000000001,-2.3087000000000018,-0.49370000000000047,-3.518700000000001,-2.2829000000000006,{"$f":"COUNT($L$2:INDEX(L:L,MATCH(9.99999999999999E+307,L:L)))","v":23},-7.575800000000001,-8.582799999999999,-9.0458,-3.599800000000002,-6.837800000000001,-8.5488,-8.837800000000001,-9.358800000000002,-9.462800000000001,-12.023800000000001,-8.3874,{"$f":"COUNT($X$2:INDEX(X:X,MATCH(9.99999999999999E+307,X:X)))","v":23},0,0,0,0,0,0,0,0,0,0,0,{"$f":"COUNT($AJ$2:INDEX(AJ:AJ,MATCH(9.99999999999999E+307,AJ:AJ)))","v":23},0,-2,0,-2,-1,-2,-2,0,-2,-1,-1.2,{"$f":"COUNT($AV$2:INDEX(AV:AV,MATCH(9.99999999999999E+307,AV:AV)))","v":23},"F",21,"T",2]
["DE101",-2.3866999999999976,-0.7396999999999991,-1.6786999999999992,-0.5946999999999996,-1.7766999999999982,-0.24769999999999825,-2.0427,-2.5626999999999995,-2.7407000000000004,-2.1327,-1.6902999999999992,"se",-0.8170999999999964,0.14290000000000447,-3.625099999999996,-5.106099999999998,-6.166099999999997,-2.098099999999995,-4.121099999999998,-5.339099999999995,-2.9780999999999977,-2.4080999999999975,-3.2515999999999963,"se",0,0,0,0,0,0,0,0,0,0,0,"se",1.6,0.6,-0.4,-0.4,-0.4,-0.4,-0.4,-0.4,-0.4,0.6,0,"se","F",25,"T",2]
["DJ101",-1.6068000000000016,1.5451999999999977,0.25619999999999976,-1.1108000000000011,-1.0948000000000029,2.336199999999998,-0.7667999999999999,-0.3998000000000026,-0.038800000000001944,0.7362000000000002,-0.014400000000001434,"se",-3.4695999999999927,-7.060599999999994,-3.684599999999989,-4.060599999999994,1.626400000000011,-3.877599999999994,-2.069599999999994,-7.268599999999992,-1.7005999999999872,-4.20559999999999,-3.5770999999999917,"se",0,0,0,0,0,0,0,0,0,1,0.1,"se",-0.10000000000000009,-1.1,-1.1,-0.10000000000000009,-0.10000000000000009,-0.10000000000000009,0.8999999999999999,-1.1,-1.1,-1.1,-0.5000000000000001,null,"F",23,"T",2]
["DS101",0.6668000000000003,-0.23719999999999963,-0.029200000000001225,0.03479999999999883,-0.9972000000000012,-1.5852000000000004,-0.3412000000000006,-1.5732,-1.5031999999999996,-1.5172000000000008,-0.7082000000000004,{"$f":"M10/SQRT(M12)","v":0.2824538668979211},0.806599999999996,5.107599999999998,2.5505999999999958,2.087599999999995,-1.9784000000000006,-2.1704000000000008,-1.794400000000003,0.5475999999999956,-0.5924000000000049,1.0545999999999935,0.5618999999999964,{"$f":"Y10/SQRT(Y12)","v":1.1306662013914166},-0.2,-0.2,-0.2,-0.2,-0.2,2.8,-0.2,-0.2,-0.2,-0.2,0.1,{"$f":"AK10/SQRT(AK12)","v":0.018492786664489464},-0.3,0.7,-0.3,-0.3,-0.3,-0.3,-0.3,-0.3,0.7,0.7,0,{"$f":"AW10/SQRT(AW12)","v":0.11648589502370725},"F",28,"T",2]
["DY101",-3.310399999999998,-3.3493999999999957,-3.629399999999997,-4.950399999999998,-5.212399999999999,-5.348399999999998,-3.9423999999999957,-4.7823999999999955,-6.605399999999998,-7.174399999999997,-4.830499999999997,"change ex- nonex",-19.247,-38.248000000000005,-33.192,-37.912,-26.168000000000006,-18.072000000000003,-33.576,-27.823999999999998,-15.616,-13.680000000000007,-26.353500000000004,"change ex- nonex",0,0,0,0,0,0,1,0,0,0,0.1,"change ex- nonex",-0.5,-0.5,-1.5,-2.5,-1.5,-1.5,-2.5,-0.5,1.5,11.5,0.2,"change ex- nonex","M",25,"T",2]
["IF101",-0.9670000000000023,-1.4540000000000006,-1.379999999999999,-1.7090000000000014,-2.843,-2.0549999999999997,-1.1660000000000004,-2.1340000000000003,-0.48600000000000065,-1.3820000000000014,-1.5576000000000005,{"$f":"AVERAGE($L$2:INDEX(L:L,MATCH(9.99999999999999E+307,L:L)))-'ADD-nonex'!M8","v":0},1.755500000000005,-2.4044999999999987,-3.540499999999998,-1.4924999999999962,-2.6844999999999963,-1.6124999999999972,-2.731499999999997,-1.1404999999999994,1.4284999999999997,-3.1404999999999994,-1.5562999999999978,{"$f":"AVERAGE($X$2:INDEX(X:X,MATCH(9.99999999999999E+307,X:X)))-'ADD-nonex'!Y8","v":0},0,0,0,0,0,0,0,0,0,0,0,{"$f":"AVERAGE($AJ$2:INDEX(AJ:AJ,MATCH(9.99999999999999E+307,AJ:AJ)))-'ADD-nonex'!AK8","v":0},2.4,0.4,0.4,1.4,-0.6,-0.6,0.4,0.4,-0.6,-0.6,0.29999999999999993,{"$f":"AVERAGE($AV$2:INDEX(AV:AV,MATCH(9.99999999999999E+307,AV:AV)))-'ADD-nonex'!AW8","v":0},"M",16,"T",2]
["IH101",-1.2464999999999975,-1.0944999999999965,-0.6934999999999967,-1.7014999999999976,-2.5894999999999975,0.6265000000000036,-2.5894999999999975,-2.3174999999999972,-2.3974999999999973,-1.5894999999999975,-1.5592999999999972,"se of ex and non ex",-1.6281000000000034,-8.283100000000005,1.6198999999999941,-3.451100000000004,-5.548100000000005,-6.161100000000005,-0.5241000000000042,-6.868100000000005,-3.356100000000005,-1.6111000000000004,-3.581100000000004,"se of ex and non ex",0,0,0,0,0,0,0,0,0,0,0,"se of ex and non ex",1.6,-0.3999999999999999,1.6,-1.4,-0.3999999999999999,-1.4,-0.3999999999999999,-1.4,-1.4,-0.3999999999999999,-0.3999999999999999,"se of ex and non ex","F",33,"T",2]
["JG101",-3.0424000000000007,-2.6594000000000015,-2.9064000000000014,-2.9154000000000018,-2.8114000000000026,-3.7714,-4.171400000000002,-4.067400000000003,-3.8194000000000017,-3.9074000000000026,-3.407200000000002,{"$f":"SQRT(((M10*M10)/M12)+(('ADD-nonex'!M10*'ADD-nonex'!M10)/'ADD-nonex'!M12))","v":0.399450089311765},-3.6259999999999977,-4.683,-2.186,-2.213000000000001,-4.035000000000004,-4.011000000000003,-2.618000000000002,-4.042000000000002,-4.873999999999999,-2.2830000000000013,-3.4571000000000014,{"$f":"SQRT(((Y10*Y10)/Y12)+(('ADD-nonex'!Y10*'ADD-nonex'!Y10)/'ADD-nonex'!Y12))","v":1.5990034765246104},0,0,0,0,0,0,0,0,0,0,0,{"$f":"SQRT(((AK10*AK10)/AK12)+(('ADD-nonex'!AK10*'ADD-nonex'!AK10)/'ADD-nonex'!AK12))","v":0.026152749706993307},-0.5,-0.5,-0.5,1.5,0.5,1.5,0.5,-0.5,-1.5,0.5,0.1,{"$f":"SQRT(((AW10*AW10)/AW12)+(('ADD-nonex'!AW10*'ADD-nonex'!AW10)/'ADD-nonex'!AW12))","v":0.1647359325676954},"M",28,"T",2]
["KM101",-1.7011000000000003,-0.9330999999999996,-0.013100000000001444,1.9709000000000003,-2.9731000000000005,-0.8301000000000016,0.9378999999999991,0.7308999999999983,-0.4620999999999995,-1.8771000000000004,-0.5150000000000006,"p-value ttest after exercise",5.481999999999992,-0.03800000000000381,2.7469999999999963,0.41099999999999426,-2.9640000000000057,-2.845000000000006,0.6029999999999944,-3.5260000000000034,-1.5900000000000034,1.112999999999996,-0.0607000000000049,"p-value ttest after exercise",0,0,0,0,0,0,0,0,0,0,0,"p-value ttest after exercise",1.7,-0.3,-0.3,-0.3,-0.3,0.7,0.7,-0.3,0.7,1.7,0.4,"p-value ttest after exercise","F",17,"T",2]
["PM101",-1.152800000000001,-0.042800000000001504,-1.1178000000000008,-1.1468000000000007,-1.8188000000000013,-1.6468000000000007,-0.35380000000000145,-1.5368000000000013,-2.176800000000002,-2.0828000000000007,-1.3076000000000012,{"$f":"TDIST(ABS(M8)/M15, (M12-1),2)","v":4.7775885011785566E-6},-2.2295000000000016,0.8904999999999959,6.017499999999998,-3.140500000000003,-0.3505000000000038,-1.525500000000001,6.738499999999995,8.914499999999997,2.970499999999994,-2.2055000000000042,1.6079999999999965,{"$f":"TDIST(ABS(Y8)/Y15, (Y12-1),2)","v":5.6912367960829568E-4},0,0,0,0,0,0,0,0,0,0,0,{"$f":"TDIST(ABS(AK8)/AK15, (AK12-1),2)","v":0.0917326281873914},0,0,0,0,0,0,2,0,0,0,0.2,{"$f":"TDIST(ABS(AW8)/AW15, (AW12-1),2)","v":0.8623486620486283},"M",23,"T",2]
["RB101",-2.9266000000000005,-1.6305999999999976,-1.8065999999999995,-2.9586000000000006,-1.637599999999999,-3.358599999999999,-2.2866,-2.278600000000001,-2.262599999999999,1.5774000000000008,-1.9568999999999996,"p-value ttest change with exercise vs change with nonex",-3.511000000000003,-2.982000000000003,-1.2860000000000014,-1.3440000000000012,-0.36400000000000077,0.9039999999999999,-1.7590000000000003,-3.215,-3.3160000000000025,-3.803000000000001,-2.0676000000000014,"p-value ttest change with exercise vs change with nonex",-0.1,-0.1,-0.1,-0.1,-0.1,-0.1,-0.1,-0.1,-0.1,-0.1,-0.09999999999999999,"p-value ttest change with exercise vs change with nonex",-0.19999999999999996,-1.2,-0.19999999999999996,-0.19999999999999996,-0.19999999999999996,-0.19999999999999996,-1.2,-1.2,-1.2,-1.2,-0.7,"p-value ttest change with exercise vs change with nonex","F",28.3,"T",2]
["RK101",-1.196399999999997,-1.0363999999999969,-2.004399999999997,-2.541399999999996,-1.8053999999999952,-1.7003999999999984,-1.2123999999999953,-2.2373999999999974,-0.06039999999999779,-2.6683999999999983,-1.646299999999997,{"$f":"TTEST(L8:L24,'ADD-nonex'!L8:L13,2,3)","v":0.5470225589318932},-5.990499999999997,-1.8144999999999953,-8.765499999999996,-9.622499999999995,-6.2464999999999975,-5.949499999999993,-8.077499999999993,-8.021499999999996,-2.5744999999999933,-2.710499999999996,-5.977299999999995,{"$f":"TTEST(X8:X24,'ADD-nonex'!X8:X13,2,3)","v":0.8326804452745309},0,0,0,0,0,0,0,0,0,0,0,{"$f":"TTEST(AJ8:AJ24,'ADD-nonex'!AJ8:AJ13,2,3)","v":0.4945102040090593},-1.2,-0.19999999999999996,-0.19999999999999996,-1.2,-1.2,-1.2,-0.19999999999999996,-0.19999999999999996,-1.2,-1.2,-0.8,{"$f":"TTEST(AV8:AV24,'ADD-nonex'!AV8:AV13,2,3)","v":0.525267502018103},"F",21,"T",2]
["SN101",-1.8928000000000011,-0.7397999999999989,0.3951999999999991,-0.08480000000000132,0.052199999999999136,-0.1647999999999996,3.2752000000000017,2.9952000000000005,0.3152000000000008,3.8751999999999995,0.8026,"ADD vs non-ADD",-1.8108000000000004,-7.021799999999999,-12.218800000000002,-8.7928,-9.546799999999998,0.6112000000000037,-11.638799999999996,-8.4028,-8.896799999999999,-11.398800000000001,-7.911699999999999,"ADD vs non-ADD",1.4,1.4,-0.6,-0.6,-0.6,0.4,-0.6,1.4,0.4,0.4,0.29999999999999993,"ADD vs non-ADD",1.3,0.30000000000000004,-1.7,0.30000000000000004,2.3,5.3,0.30000000000000004,0.30000000000000004,2.3,0.30000000000000004,1.1,"ADD vs non-ADD","F",20,"T",2]

{"sheet":"non-ADD-nonex","index":21,"n_rows":81,"n_cols":53,"rows_kept":81}
["ID (reds lack HR data)","%change-c-1","%change-c-2","%change-c-3","%change-c-4","%change-c-5","%change-c-6","%change-c-7","%change-c-8","%change-c-9","%change-c-10","%change-c-avg","congruent","%change-i-1","%change-i-2","%change-i-3","%change-i-4","%change-i-5","%change-i-6","%change-i-7","%change-i-8","%change-i-9","%change-i-10","%change-i-avg","incongruent","diff-err-c-1","diff-err-c-2","diff-err-c-3","diff-err-c-4","diff-err-c-5","diff-err-c-6","diff-err-c-7","diff-err-c-8","diff-err-c-9","diff-err-c-10","avg-change-err-c","avg-err-c","diff-err-i-1","diff-err-i-2","diff-err-i-3","diff-err-i-4","diff-err-i-5","diff-err-i-6","diff-err-i-7","diff-err-i-8","diff-err-i-9","diff-err-i-10","avg-change-err-i","avg-err-i","Gender","BMI","ADD","Paradigm"]
["AA102-nonexercise",0.045300000000001006,-0.9986999999999995,-1.2766999999999982,1.4343000000000004,3.5293000000000028,3.7733000000000025,2.4893,-0.839699999999997,1.3343000000000025,0.8333000000000013,1.0324000000000015,{"$f":"AVERAGE($L$2:INDEX(L:L,MATCH(9.99999999999999E+307,L:L)))","v":-2.2306274999999998},-5.813900000000004,0.052099999999995816,0.2370999999999981,-2.1019000000000077,-3.665900000000004,-1.8699000000000083,-0.130900000000004,-1.9679000000000073,0.6870999999999938,1.778099999999995,-1.2796000000000052,{"$f":"AVERAGE($X$2:INDEX(X:X,MATCH(9.99999999999999E+307,X:X)))","v":-2.8348137499999995},-0.7,0.30000000000000004,-0.7,-0.7,0.30000000000000004,0.30000000000000004,-0.7,-0.7,0.30000000000000004,0.30000000000000004,-0.09999999999999999,{"$f":"AVERAGE($AJ$2:INDEX(AJ:AJ,MATCH(9.99999999999999E+307,AJ:AJ)))","v":-2.4999999999999953E-3},-2,-0.20000000000000018,1,2,0,-2,-2,0,1,-2,-0.21000000000000002,{"$f":"AVERAGE($AV$2:INDEX(AV:AV,MATCH(9.99999999999999E+307,AV:AV)))","v":-0.023999999999999994},"F",21,"F",1]
["CJ101-nonexercise",-1.185500000000001,-2.0474999999999994,-3.0554999999999986,-3.8575,-4.4085,-3.4654999999999987,-4.1455,-4.657499999999999,-3.531500000000001,-4.4975000000000005,-3.4852,"stdev",-0.18730000000000757,-1.9613000000000085,-2.650300000000005,-3.9123000000000054,-2.2023000000000046,-2.385300000000008,-3.674300000000006,-3.760300000000008,-5.0423000000000044,-4.057300000000005,-2.983300000000006,"stdev",-0.1,-0.1,-0.1,-0.1,-0.1,-0.1,-0.1,-0.1,-0.1,-0.1,-0.049999999999999996,"stdev",0,0,-1,-1,0,0,0,-1,0,0,-0.15,"stdev","M",25,"F",1]
["FA102-nonexercise",0.40149999999999864,0.10649999999999693,-0.10150000000000148,-2.4215000000000018,-2.1015000000000033,-0.7175000000000011,-1.534500000000003,-0.029500000000002302,-1.470500000000003,-1.0935000000000024,-0.8962000000000023,{"$f":"STDEV($L$2:INDEX(L:L,MATCH(9.99999999999999E+307,L:L)))","v":2.2414911153620123},-3.243000000000002,-1.820999999999998,-4.2109999999999985,0.08500000000000085,-6.562999999999999,-2.811,0.5410000000000039,-4.186999999999998,-7.411000000000001,1.564,-2.805699999999999,{"$f":"STDEV($X$2:INDEX(X:X,MATCH(9.99999999999999E+307,X:X)))","v":2.395280998274446},0.9,-0.1,-0.1,-0.1,-0.1,-0.1,-0.1,0.9,-0.1,-0.1,0.05,{"$f":"STDEV($AJ$2:INDEX(AJ:AJ,MATCH(9.99999999999999E+307,AJ:AJ)))","v":0.13592160808460074},-1,-1.5,0,-1,-3,-1,-3,-2,-1,-3,-0.825,{"$f":"STDEV($AV$2:INDEX(AV:AV,MATCH(9.99999999999999E+307,AV:AV)))","v":0.48202066765921225},"F",21,"F",1]
["JH102-nonexercise",-0.4320000000000004,0.6219999999999999,-0.005000000000000782,-0.6289999999999996,-1.17,-0.5310000000000006,-1.5009999999999994,-0.5419999999999998,-1.436,-0.979000000000001,-0.6603000000000001,"n",-1.072899999999997,-2.075899999999997,-0.5448999999999948,-3.061899999999998,0.6391000000000027,-1.7088999999999963,2.0911000000000044,4.629100000000005,5.323100000000004,1.9311000000000043,0.6149000000000037,"n",0,1,0,0,0,0,0,0,0,0,0.05,"n",-1,-1.5,-2,-2,-1,-2,-1,-2,-1,0,-0.675,"n","F",19,"F",1]
["JR101-nonexercise",-0.8544000000000018,-2.0404000000000018,0.014599999999997948,-0.4863999999999997,0.3805999999999976,-0.2544000000000004,-1.4734000000000016,-1.1594000000000015,-0.7744,-2.5123999999999995,-0.916000000000001,{"$f":"COUNT($L$2:INDEX(L:L,MATCH(9.99999999999999E+307,L:L)))","v":80},-5.457500000000007,-0.5645000000000095,-3.270500000000009,-4.954500000000007,-0.44350000000000733,-1.8015000000000043,1.8774999999999906,-1.2345000000000041,0.6774999999999949,-1.2805000000000106,-1.6452000000000073,{"$f":"COUNT($X$2:INDEX(X:X,MATCH(9.99999999999999E+307,X:X)))","v":80},-0.4,-0.4,-0.4,-0.4,-0.4,-0.4,-0.4,-0.4,-0.4,-0.4,-0.19999999999999998,{"$f":"COUNT($AJ$2:INDEX(AJ:AJ,MATCH(9.99999999999999E+307,AJ:AJ)))","v":80},-1,-0.09999999999999998,-1,0,-1,-1,-1,0,0,0,-0.255,{"$f":"COUNT($AV$2:INDEX(AV:AV,MATCH(9.99999999999999E+307,AV:AV)))","v":80},"F",27,"F",1]
["MR101-nonexercise",-0.9054000000000002,2.0756000000000014,-0.10439999999999827,0.02260000000000062,-0.9413999999999998,-0.6264000000000003,-0.23440000000000083,-1.0334000000000003,-0.02740000000000009,-1.3233999999999995,-0.30979999999999974,"se",-0.0552000000000028,-1.2312000000000012,-4.543200000000002,-3.0792000000000037,-1.8012000000000015,1.2647999999999975,-1.720200000000002,0.6487999999999978,-1.3222000000000023,-3.9512000000000036,-1.5790000000000024,"se",-0.4,-0.4,-0.4,-0.4,-0.4,-0.4,0.6,-0.4,0.6,-0.4,-0.09999999999999998,"se",1,0.5,1,2,0,1,1,0,0,1,0.375,"se","F",22,"F",1]
["RS101-nonexercise",-0.8392999999999997,-2.0603,-1.7862999999999989,-2.3193,0.05969999999999942,-0.6712999999999987,0.05369999999999919,1.6127000000000002,-1.0352999999999994,-1.5192999999999994,-0.8504999999999997,{"$f":"M4/SQRT(M6)","v":0.25060632524556414},-2.7952000000000012,-3.212200000000003,0.5017999999999958,0.9127999999999972,-1.4082000000000043,-2.2672000000000025,0.13979999999999748,-1.3522000000000034,1.6677999999999962,1.654799999999998,-0.615800000000003,{"$f":"Y4/SQRT(Y6)","v":0.26780055686776083},-0.3,-0.3,0.7,-0.3,2.7,0.7,-0.3,0.7,-0.3,-0.3,0.15000000000000005,{"$f":"AK4/SQRT(AK6)","v":0.015196497764412611},-2,-1.4,-2,-2,-2,-2,-1,-2,-1,-1,-0.82,{"$f":"AW4/SQRT(AW6)","v":0.05389154897229165},"F",25,"F",1]
["SN102-nonexercise",-1.0069000000000052,-2.8559000000000054,-2.8619000000000057,-3.3049000000000053,-3.7759000000000036,-2.840900000000005,-2.686900000000005,-2.3919000000000032,-3.957900000000004,-3.005900000000004,-2.8689000000000044,"p-value ttest after non-exercise",0.6998000000000033,1.3507999999999996,-3.7132000000000005,5.964800000000004,-0.1852000000000018,-0.8802000000000021,1.0127999999999986,-0.21819999999999595,-0.21819999999999595,0.4217999999999975,0.42350000000000065,"p-value ttest after exercise",0.8,-0.2,-0.2,-0.2,-0.2,-0.2,-0.2,-0.2,-0.2,-0.2,-0.05,"p-value ttest after exercise",3,1.4,0,2,1,6,2,0,2,1,0.9199999999999999,"p-value ttest after exercise","F",28,"F",1]
["TB101-nonexercise",0.8589999999999982,-0.4460000000000015,0.6899999999999977,-0.06100000000000172,0.18900000000000006,-0.2920000000000016,-0.527000000000001,-0.5760000000000005,-0.44500000000000206,-0.697000000000001,-0.13060000000000133,{"$f":"TDIST(ABS(M2)/M8, (M6-1),2)","v":1.5188358228062113E-13},-2.4484999999999992,2.145500000000002,-2.0174999999999983,-0.7304999999999993,-1.8324999999999996,3.128499999999999,-2.0504999999999995,-0.011499999999998067,-0.0934999999999988,-0.19549999999999912,-0.4105999999999991,{"$f":"TDIST(ABS(Y2)/Y8, (Y6-1),2)","v":8.213824511462647e-17},0,0,0,0,0,0,0,0,0,0,0,{"$f":"TDIST(ABS(AK2)/AK8, (AK6-1),2)","v":0.8697486264837948},-3,-1.7,-2,-1,-2,-3,-2,1,0,-3,-0.835,{"$f":"TDIST(ABS(AW2)/AW8, (AW6-1),2)","v":0.6572928580363588},"F",31,"F",1]
["SW101-nonexercise",0.0887999999999991,0.42279999999999873,-0.3542000000000005,-0.7872000000000003,-1.2182000000000013,-0.17020000000000124,-1.0671999999999997,-0.8422000000000001,-0.9382000000000001,-1.9632000000000005,-0.6829000000000006,null,0.4339000000000013,-3.1341,-0.2790999999999997,-4.193100000000001,-4.911100000000001,-2.8141,-2.5260999999999996,-2.9101,-5.2791,-5.3591000000000015,-3.0972,null,0.7,-0.3,-0.3,-0.3,-0.3,-0.3,-0.3,-0.3,-0.3,0.7,-0.05000000000000001,null,0,0.5,2,0,1,0,0,0,1,0,0.225,null,"M",26,"F",1]
["BR102-nonexercise",2.337300000000001,1.5513000000000012,0.9943000000000008,-0.11969999999999814,0.1283000000000012,0.14330000000000176,-0.5386999999999986,-0.7876999999999992,-0.6536999999999988,-1.571699999999998,0.1483000000000013,null,-0.9264999999999972,2.558500000000002,0.5615000000000023,-0.3064999999999998,3.5375000000000014,3.099499999999999,0.8094999999999999,-0.9754999999999967,-2.199499999999997,2.799500000000002,0.8958000000000016,null,1,0,0,0,0,0,0,1,0,0,0.1,null,0,-0.6,0,0,-1,0,0,-1,-1,-1,-0.22999999999999998,null,"M",26,"F",1]
["DJ102-nonexercise",-2.9302000000000064,-2.540200000000006,0.33379999999999654,-2.314200000000003,-2.8662000000000063,-2.9702000000000055,-2.793200000000006,-2.450200000000006,-0.7532000000000032,-1.9142000000000046,-2.119800000000005,null,-4.9780000000000015,4.540999999999993,2.243999999999996,3.0529999999999937,-1.115000000000002,5.285,-4.531000000000002,-3.4120000000000026,-3.054000000000002,-1.7470000000000034,-0.37140000000000306,null,-0.1,0.9,0.9,-0.1,-0.1,-0.1,-0.1,1.9,0.9,-0.1,0.19999999999999998,null,3,0.10000000000000009,3,4,3,1,0,3,-2,4,0.9550000000000001,null,"M",29,"F",1]
["FH101-nonexercise",0.058900000000001285,-0.9720999999999993,-1.1560999999999986,-1.8280999999999992,-1.700099999999999,-1.955099999999998,-2.668099999999999,-2.1720999999999986,-1.588099999999999,-2.1340999999999983,-1.6114999999999988,null,-1.4171999999999976,-0.6571999999999996,-5.057199999999998,0.09580000000000055,-1.873199999999997,-3.434199999999997,-6.863199999999999,-3.985199999999999,-2.049199999999999,-2.112199999999998,-2.7352999999999983,null,0,0,0,0,0,0,0,0,0,0,0,null,-1,-0.3999999999999999,0,-2,-1,1,-1,-2,-2,-2,-0.52,null,"F",27,"F",1]
["JF102-nonexercise",1.6809000000000012,-0.1480999999999959,-1.6440999999999981,-3.433099999999998,-3.2930999999999973,-2.329099999999997,-3.1190999999999978,-2.551099999999998,-3.7220999999999975,-2.7430999999999965,-2.1301999999999977,null,-0.6387,1.3312999999999988,-2.2227000000000032,-6.723700000000001,-2.9587000000000003,-4.374700000000004,-4.3247,1.1662999999999997,-1.834699999999998,-1.5566999999999993,-2.2137000000000007,null,1,0,0,0,0,0,0,0,0,0,0.05,null,1,0.2,1,2,0,0,1,1,0,2,0.41,null,"F",23,"F",1]
["JL101-nonexercise",0.4759999999999991,0.10099999999999909,0.05299999999999905,-1.1390000000000011,-2.011000000000001,-1.3150000000000013,-2.291000000000002,-1.748000000000001,-1.7710000000000008,-2.9080000000000013,-1.2553000000000012,null,-3.7290999999999954,-4.0261,1.8389000000000024,-8.506099999999996,-4.514099999999999,-6.9770999999999965,-1.369099999999996,-3.3200999999999965,-3.457099999999997,-6.1360999999999954,-4.019599999999997,null,-0.3,-0.3,0.7,-0.3,-0.3,1.7,-0.3,-0.3,-0.3,-0.3,0,null,0,-0.7999999999999998,-3,-5,1,-2,-2,-4,-4,-1,-1.04,null,"F",27,"F",1]
["KLA101-nonexercise",-1.725200000000001,0.3147999999999982,-1.909200000000002,-2.725200000000001,-2.3572000000000024,-1.2852000000000015,-3.021200000000002,-2.5412000000000017,-2.1092000000000013,-2.310200000000002,-1.9669000000000019,null,-0.7090999999999994,-2.9010999999999996,-5.460100000000001,-7.589100000000002,-4.110100000000003,-3.1651000000000025,-8.347100000000001,-4.020099999999999,-4.333100000000002,-4.955100000000002,-4.559000000000001,null,-0.2,-0.2,-0.2,-0.2,-0.2,-0.2,-0.2,-0.2,1.8,-0.2,0,null,-1,0.10000000000000009,-2,-1,2,0,3,-1,1,-1,5.0000000000000044E-3,null,"M",24,"F",1]
["KV101-nonexercise",1.3522000000000034,0.022200000000005105,-0.2717999999999954,0.4952000000000041,0.8242000000000047,-0.04779999999999518,-1.7927999999999962,-2.1597999999999953,-2.560799999999997,-0.6957999999999949,-0.48349999999999566,null,-2.3704,0.833599999999997,-2.4324000000000012,-1.4964000000000013,-2.4174000000000007,-1.8643999999999998,-3.176400000000001,-1.7604000000000006,-3.368400000000001,-2.416400000000003,-2.0469000000000013,null,0,0,0,0,0,0,0,0,0,0,0,null,0,0.4,0,1,0,0,0,1,0,0,0.12,null,"F",20,"F",1]
["MT102-nonexercise",-0.30630000000000024,-2.210300000000002,-2.410300000000001,-2.8903000000000016,-2.7223000000000024,-2.793300000000002,-3.298300000000001,-1.915300000000002,-3.1853000000000016,-3.010300000000001,-2.4742000000000015,null,-1.743199999999998,-3.2871999999999986,-3.4151999999999987,-0.49520000000000053,-2.5281999999999982,-1.6552000000000007,-1.270199999999999,-2.5502000000000002,-1.8071999999999981,-3.118199999999998,-2.186999999999999,null,0,0,0,0,0,0,0,0,0,0,0,null,3,0.8,0,0,1,1,0,0,2,0,0.39,null,"F",23,"F",1]
["RO101-nonexercise",-0.28910000000000124,1.0708999999999982,-0.5771000000000015,3.5428999999999995,-1.217100000000002,-0.5610999999999997,-1.9850999999999992,-3.5451000000000015,0.8058999999999976,-4.809100000000001,-0.7564000000000011,null,-5.007399999999997,-4.038399999999996,6.816600000000008,-3.2553999999999945,4.017600000000009,-1.1983999999999924,-6.247399999999992,-2.2953999999999937,-5.127399999999994,-5.686399999999992,-2.2021999999999933,null,-0.3,-0.3,-0.3,0.7,-0.3,-0.3,-0.3,-0.3,-0.3,-0.3,-0.1,null,5,1.5,0,0,0,-4,-3,-2,-3,-4,-0.475,null,"F",24,"F",1]
["SA102-nonexercise",-0.06649999999999778,-0.1524999999999963,-1.0464999999999964,-2.6284999999999954,-2.2804999999999964,-2.699499999999997,-0.6904999999999966,-0.4174999999999969,0.7845000000000049,-1.5724999999999962,-1.0769999999999964,null,-7.5152,-5.636200000000002,-4.3812,-3.0711999999999975,-5.181199999999997,-3.751199999999997,-2.1531999999999982,-4.586199999999998,-5.083199999999998,-7.350199999999997,-4.870899999999999,null,0,0,0,0,0,0,0,0,0,0,0,null,-1,0.5,-1,-1,-1,1,-1,1,-1,0,-0.175,null,"F",26,"F",1]
["TM101-nonexercise",-0.9148000000000014,-2.5238000000000014,-0.7708000000000013,-2.4018000000000015,-2.9388000000000023,-2.987800000000002,-3.2498000000000022,-4.322800000000001,-3.242800000000001,-2.5718000000000014,-2.592500000000002,null,-7.025599999999994,-4.848599999999994,-6.881599999999995,-7.432599999999994,-5.113599999999995,-2.657599999999995,-0.024599999999992406,-6.297599999999996,-5.320599999999995,-7.183599999999995,-5.278599999999995,null,-0.1,-0.1,0.9,0.9,-0.1,-0.1,-0.1,-0.1,-0.1,0.9,0.09999999999999998,null,3,0.19999999999999996,1,0,-1,-1,-1,0,0,-1,0.010000000000000009,null,"M",26,"F",1]
["TP101-nonexercise",-0.5356999999999985,-3.8307,-5.559699999999999,-6.5676999999999985,-6.3767,-6.3277,-5.654699999999998,-4.375699999999998,-8.247699999999998,-9.543699999999998,-5.701999999999998,null,-3.0896000000000043,-4.153600000000004,-4.3446,-0.9626000000000019,-4.089600000000004,-0.9136000000000024,-3.0185999999999993,-3.7306000000000026,-1.401600000000002,-1.1066000000000003,-2.681100000000002,null,0,0,0,0,0,0,0,1,0,0,0.05,null,-1,0.3999999999999999,0,1,1,1,-1,4,4,0,0.47000000000000003,null,"F",20,"F",1]
["TR101-nonexercise",0.2657000000000025,0.3937000000000026,-0.047299999999996345,-1.0072999999999972,-0.022299999999997766,-1.1992999999999974,-1.991299999999999,-1.3582999999999963,-1.8702999999999967,-1.2232999999999983,-0.8059999999999974,null,-4.213599999999996,2.8574000000000055,-2.091599999999996,-2.668599999999998,-1.9415999999999976,-1.325599999999998,0.6594000000000051,-0.06759999999999877,-1.5325999999999986,-1.950599999999998,-1.227499999999997,null,0.9,-0.1,-0.1,-0.1,-0.1,-0.1,-0.1,-0.1,-0.1,-0.1,6.938893903907228e-18,null,3,1.6,1,3,2,2,4,1,0,0,0.8800000000000001,null,"M",27,"F",1]
["YS102-nonexercise",-2.2013999999999996,-2.7493999999999996,-2.045399999999999,-1.1333999999999982,-2.8773999999999997,-2.7733999999999988,-3.4773999999999994,-1.1153999999999993,-3.0543999999999993,-3.933399999999999,-2.5361,null,-13.841800000000003,-12.857800000000001,-6.937800000000003,-7.194800000000001,-6.201799999999999,-3.0748000000000033,-10.201800000000002,-9.5058,-5.752800000000001,-10.919800000000002,-8.648900000000003,null,-0.1,-0.1,-0.1,-0.1,-0.1,-0.1,-0.1,0.9,-0.1,-0.1,0,null,-1,-1.4,-4,-2,-3,-3,1,1,-2,-1,-0.77,null,"M",23,"F",1]
["AA102",-2.039900000000003,-2.8479000000000028,-2.1959000000000017,-4.177900000000005,-1.8279000000000032,-2.779900000000005,-2.1489000000000047,-1.5709000000000017,-3.291900000000002,-2.8129000000000026,-2.569400000000003,{"$f":"AVERAGE($L$2:INDEX(L:L,MATCH(9.99999999999999E+307,L:L)))","v":-2.2306274999999998},-8.203400000000006,-1.867400000000007,-1.8514000000000053,-2.050400000000007,-3.588400000000007,-6.099400000000006,-3.6344000000000065,-5.875400000000006,-0.13740000000000663,2.21459999999999,-3.109300000000007,{"$f":"AVERAGE($X$2:INDEX(X:X,MATCH(9.99999999999999E+307,X:X)))","v":-2.8348137499999995},0.9,0.9,-0.1,0.9,-0.1,0.9,0.9,0.9,-0.1,0.9,0.6000000000000001,{"$f":"AVERAGE($AJ$2:INDEX(AJ:AJ,MATCH(9.99999999999999E+307,AJ:AJ)))","v":-2.4999999999999953E-3},0.8999999999999999,-1.1,0.8999999999999999,-0.10000000000000009,-0.10000000000000009,-2.1,-2.1,-2.1,-1.1,0.8999999999999999,-0.6,{"$f":"AVERAGE($AV$2:INDEX(AV:AV,MATCH(9.99999999999999E+307,AV:AV)))","v":-0.023999999999999994},"F",21,"F",2]
["CJ101",-3.3857,-2.4426999999999985,-0.40970000000000084,-1.6906999999999996,-2.906699999999999,-1.2746999999999993,-1.2746999999999993,-3.6506999999999987,-3.3076999999999988,-3.4906999999999986,-2.383399999999999,"stdev",-8.105999999999998,-4.5269999999999975,2.2880000000000003,1.9660000000000046,0.2870000000000026,-4.959999999999997,2.4229999999999983,-0.1609999999999978,-1.0169999999999995,-1.5769999999999982,-1.3383999999999983,"stdev",0,0,0,0,0,0,1,0,0,0,0.1,"stdev",-0.5,-0.5,1.5,0.5,1.5,-0.5,0.5,0.5,0.5,-0.5,0.3,"stdev","M",26.78,"F",2]
["FA102",0.04680000000000106,1.8818000000000001,-0.27119999999999855,0.8298000000000005,-0.20319999999999894,-0.5381999999999998,1.9528000000000016,-0.3581999999999983,0.655800000000001,1.7158000000000015,0.571200000000001,{"$f":"STDEV($L$2:INDEX(L:L,MATCH(9.99999999999999E+307,L:L)))","v":2.2414911153620123},-1.3236999999999988,-1.8176999999999985,0.47630000000000194,1.5702999999999996,0.1363000000000021,-1.4426999999999985,-1.6496999999999993,7.5383,1.3573000000000022,1.5962999999999994,0.644100000000001,{"$f":"STDEV($X$2:INDEX(X:X,MATCH(9.99999999999999E+307,X:X)))","v":2.395280998274446},-0.1,0.9,-0.1,0.9,-0.1,-0.1,-0.1,-0.1,1.9,0.9,0.39999999999999997,{"$f":"STDEV($AJ$2:INDEX(AJ:AJ,MATCH(9.99999999999999E+307,AJ:AJ)))","v":0.13592160808460074},0,-1,2,3,2,2,-1,5,1,3,1.6,{"$f":"STDEV($AV$2:INDEX(AV:AV,MATCH(9.99999999999999E+307,AV:AV)))","v":0.48202066765921225},"F",21,"F",2]
["JH102",-1.6064999999999987,-1.9085,-2.2264999999999997,-1.2584999999999997,-2.3765,-2.0924999999999994,-2.0554999999999986,-1.6914999999999996,-2.4274999999999984,-1.4565000000000001,-1.9099999999999995,"n",-1.0425000000000004,-5.6525,-4.984500000000001,-3.730500000000003,-0.9905000000000008,0.16249999999999787,-3.146500000000003,0.1454999999999984,-0.9555000000000007,-4.080500000000001,-2.427500000000001,"n",-0.1,-0.1,-0.1,-0.1,-0.1,-0.1,-0.1,-0.1,-0.1,-0.1,-0.09999999999999999,"n",-0.4,-0.4,-0.4,-0.4,-0.4,-0.4,-0.4,0.6,-0.4,0.6,-0.19999999999999996,"n","F",19,"F",2]
["JR101",-1.394400000000001,-0.6723999999999997,-2.157399999999999,-2.234400000000001,-1.522400000000001,-1.0733999999999995,-2.516400000000001,-1.0084000000000017,-2.2444000000000024,-1.958400000000001,-1.6782000000000008,{"$f":"COUNT($L$2:INDEX(L:L,MATCH(9.99999999999999E+307,L:L)))","v":80},-4.328300000000006,-3.9573000000000036,1.4527,-0.5973000000000042,2.2956999999999965,-3.7073000000000036,-2.9893,-4.7093000000000025,-5.092300000000002,-5.543300000000002,-2.7176000000000027,{"$f":"COUNT($X$2:INDEX(X:X,MATCH(9.99999999999999E+307,X:X)))","v":80},0.9,0.9,-0.1,-0.1,0.9,-0.1,-0.1,-0.1,-0.1,-0.1,0.19999999999999996,{"$f":"COUNT($AJ$2:INDEX(AJ:AJ,MATCH(9.99999999999999E+307,AJ:AJ)))","v":80},0.5,1.5,1.5,-0.5,-0.5,-0.5,-0.5,-0.5,-0.5,0.5,0.1,{"$f":"COUNT($AV$2:INDEX(AV:AV,MATCH(9.99999999999999E+307,AV:AV)))","v":80},"F",27,"F",2]
["MR101",0.7879000000000005,-1.5320999999999998,-1.653100000000002,-1.6611000000000011,-2.5411,-2.5901000000000014,-2.1981,-3.020100000000001,-2.9261000000000017,-3.3161000000000005,-2.0650000000000004,"se",-5.402300000000004,-7.627300000000002,-3.4913000000000025,-0.6433000000000035,-4.6433000000000035,-3.2753000000000014,-3.7253000000000043,-5.068300000000004,-6.163300000000003,-6.9323000000000015,-4.697200000000002,"se",0,0,0,0,0,0,0,0,0,0,0,"se",0.7,-0.3,1.7,1.7,1.7,1.7,1.7,-0.3,-0.3,0.7,0.8999999999999998,"se","F",22,"F",2]
["RS101",-8.411999999999995,-9.364999999999995,-11.238999999999994,-12.287999999999997,-9.646999999999995,-9.617999999999995,-11.752999999999997,-10.605999999999995,-9.601999999999997,-8.347999999999995,-10.087799999999998,"se",2.0245999999999995,-9.3874,-8.9134,-6.692399999999999,-8.9374,-5.9974000000000025,-6.5564,-7.397400000000001,-6.7104,-4.004400000000004,-6.257200000000001,"se",0,0,0,0,0,0,0,0,0,0,0,"se",1.4,0.4,0.4,0.4,-0.6,0.4,-0.6,-0.6,0.4,2.4,0.3999999999999999,null,"F",25,"F",2]
["SN102",0.061599999999998545,-1.6364000000000019,-1.4193999999999996,-3.1244000000000014,-1.708400000000001,-1.8764000000000003,0.0686,0.10060000000000002,-1.6274000000000015,-1.6354000000000006,-1.2797000000000007,{"$f":"M28/SQRT(M30)","v":0.25060632524556414},2.0245999999999995,-9.3874,-8.9134,-6.692399999999999,-8.9374,-5.9974000000000025,-6.5564,-7.397400000000001,-6.7104,-4.004400000000004,-6.257200000000001,{"$f":"Y28/SQRT(Y30)","v":0.26780055686776083},0,0,0,0,0,0,0,0,0,0,0,{"$f":"AK28/SQRT(AK30)","v":0.015196497764412611},1.4,0.4,0.4,0.4,-0.6,0.4,-0.6,-0.6,0.4,2.4,0.3999999999999999,{"$f":"AW28/SQRT(AW30)","v":0.05389154897229165},"F",25,"F",2]
["TB101",0.44620000000000104,0.026199999999999335,-2.0097999999999985,-1.8817999999999984,-1.7147999999999985,-1.8747999999999987,-2.0337999999999994,-1.162799999999999,-2.7787999999999986,-2.386799999999999,-1.537099999999999,"change ex- nonex",-2.351800000000001,1.4962000000000018,1.4322000000000017,-2.471799999999998,-1.0648000000000017,-3.1128,0.11220000000000141,-1.0797999999999988,1.9202000000000012,-1.3277999999999999,-0.6447999999999994,"change ex- nonex",-0.2,0.8,0.8,-0.2,-0.2,-0.2,0.8,-0.2,0.8,0.8,0.3,"change ex- nonex",2.2,0.19999999999999996,0.19999999999999996,-0.8,1.2,-0.8,0.19999999999999996,0.19999999999999996,1.2,-0.8,0.3000000000000001,"change ex- nonex","F",31,"F",2]
["SW101",0.085700000000001,1.1727000000000007,0.04370000000000118,0.4347000000000012,0.32470000000000176,0.43670000000000186,0.9957000000000011,0.21270000000000167,0.6117000000000008,1.322700000000001,0.5641000000000013,{"$f":"AVERAGE($L$2:INDEX(L:L,MATCH(9.99999999999999E+307,L:L)))-'non-ADD-nonex'!M26","v":0},-8.791100000000007,-7.079100000000004,-5.438100000000006,-5.791100000000007,-5.663100000000007,-5.639100000000006,-4.837100000000007,-5.775100000000002,-8.583100000000002,-8.640100000000004,-6.623700000000005,{"$f":"AVERAGE($X$2:INDEX(X:X,MATCH(9.99999999999999E+307,X:X)))-'non-ADD-nonex'!Y26","v":0},0,0,0,0,0,0,0,0,0,0,0,{"$f":"AVERAGE($AJ$2:INDEX(AJ:AJ,MATCH(9.99999999999999E+307,AJ:AJ)))-'non-ADD-nonex'!AK26","v":0},-1.1,-0.10000000000000009,-0.10000000000000009,-1.1,-1.1,-0.10000000000000009,-1.1,0.8999999999999999,-1.1,-1.1,-0.6000000000000002,{"$f":"AVERAGE($AV$2:INDEX(AV:AV,MATCH(9.99999999999999E+307,AV:AV)))-'non-ADD-nonex'!AW26","v":0},"F",28,"F",2]
["AA101",-1.5685000000000002,-2.0395000000000003,-2.576500000000001,-2.384500000000001,-1.8955000000000002,-4.0075,-2.4235000000000007,-3.0555000000000003,-3.1275000000000013,-2.7125000000000004,-2.5791000000000013,"se of ex and non ex",-4.796399999999998,-2.2683999999999997,-5.724399999999999,-3.6354000000000006,-2.9883999999999986,-3.6433999999999997,-2.7643999999999984,-4.659399999999998,-3.883399999999998,-2.180399999999999,-3.654399999999999,"se of ex and non ex",0,0,0,0,0,0,0,0,0,0,0,"se of ex and non ex",-0.7,-0.7,-0.7,-0.7,1.3,-0.7,-0.7,1.3,1.3,-0.7,-0.09999999999999994,"se of ex and non ex","M",26,"F",2]
["AK101",-1.4898999999999987,-3.0889000000000006,-3.1778999999999993,-3.0558999999999994,-3.642899999999999,-5.1129,-4.0579,-4.4649,-4.4338999999999995,-5.3369,-3.7861999999999996,{"$f":"SQRT(((M28*M28)/M30)+(('non-ADD-nonex'!M28*'non-ADD-nonex'!M28)/'non-ADD-nonex'!M30))","v":0.3544108639787597},-3.8750999999999998,-6.591100000000001,-6.466100000000001,-1.5771000000000015,-4.147100000000002,0.3569000000000031,-2.795099999999998,-3.251100000000001,-4.906099999999999,-5.459099999999999,-3.8710999999999998,{"$f":"SQRT(((Y28*Y28)/Y30)+(('non-ADD-nonex'!Y28*'non-ADD-nonex'!Y28)/'non-ADD-nonex'!Y30))","v":0.37872717953345475},0,0,0,0,0,0,0,0,0,0,0,{"$f":"SQRT(((AK28*AK28)/AK30)+(('non-ADD-nonex'!AK28*'non-ADD-nonex'!AK28)/'non-ADD-nonex'!AK30))","v":0.021491093239004735},-0.2,-0.2,-0.2,-0.2,-0.2,-0.2,-0.2,-0.2,-0.2,-0.2,-0.19999999999999998,{"$f":"SQRT(((AW28*AW28)/AW30)+(('non-ADD-nonex'!AW28*'non-ADD-nonex'!AW28)/'non-ADD-nonex'!AW30))","v":0.07621415945390868},"F",19,"F",2]
["AMP101",-3.3124000000000002,-3.1693999999999996,-2.203400000000002,-2.673400000000001,-4.071400000000001,-3.775400000000001,-3.041400000000003,-3.3933999999999997,-3.4664,-2.993400000000001,-3.210000000000001,"p-value ttest after exercise",-2.6395000000000017,2.296499999999998,-4.7225,-5.9765000000000015,-3.968499999999999,-4.224499999999999,-1.0545000000000009,-1.3374999999999986,-2.8805000000000014,-4.4955,-2.9003000000000005,"p-value ttest after exercise",0,0,0,0,0,0,0,0,0,0,0,"p-value ttest after exercise",0,1,0,0,0,0,1,0,0,0,0.2,"p-value ttest after exercise","F",21.97,"F",2]
["AP101",-3.669599999999999,0.08040000000000092,-1.7896,1.112400000000001,0.436399999999999,-2.3785999999999987,-0.21359999999999957,-0.8016000000000005,0.34639999999999915,3.6494,-0.3227999999999998,{"$f":"TDIST(ABS(M26)/M33, (M30-1),2)","v":1.5188358228062113E-13},3.044699999999999,-6.798299999999998,-2.2182999999999993,-5.642299999999999,-3.7882999999999996,-6.927299999999995,-3.412299999999995,-7.564299999999996,-4.0623000000000005,-7.972299999999997,-4.534099999999998,{"$f":"TDIST(ABS(Y26)/Y33, (Y30-1),2)","v":8.213824511462647e-17},0,0,0,0,0,0,0,0,0,0,0,{"$f":"TDIST(ABS(AK26)/AK33, (AK30-1),2)","v":0.8697486264837948},3.7,-0.3,1.7,-0.3,-0.3,-0.3,-0.3,0.7,0.7,0.7,0.6000000000000002,{"$f":"TDIST(ABS(AW26)/AW33, (AW30-1),2)","v":0.6572928580363588},"F",22,"F",2]
["AP102",-1.7439999999999998,-1.2950000000000017,-1.3999999999999986,-2.3919999999999995,-1.9170000000000016,-1.5919999999999987,-1.4170000000000016,-1.7040000000000006,1.3679999999999986,0.4089999999999989,-1.1684000000000005,"p-value ttest change with exercise vs change with nonex",1.257799999999996,-2.2682000000000038,-4.447200000000006,-4.484200000000005,-0.6982000000000035,0.7697999999999965,0.9597999999999942,-1.4122000000000057,-2.5102000000000046,0.14179999999999637,-1.2691000000000046,"p-value ttest change with exercise vs change with nonex",-0.2,-0.2,-0.2,-0.2,-0.2,-0.2,-0.2,-0.2,-0.2,-0.2,-0.19999999999999998,"p-value ttest change with exercise vs change with nonex",-0.1,-0.1,-0.1,-0.1,-0.1,-0.1,-0.1,-0.1,-0.1,-0.1,-0.09999999999999999,"p-value ttest change with exercise vs change with nonex","F",26,"F",2]
["AS102",-0.1685000000000052,-2.0815000000000037,-1.2935000000000052,-0.8375000000000021,-1.6105000000000018,-1.425500000000003,-3.329500000000003,-4.260500000000004,-2.659500000000003,-4.300500000000003,-2.1967000000000034,{"$f":"TTEST(L26:L81,'non-ADD-nonex'!L26:L49,2,3)","v":0.9672501409407005},-3.5245000000000033,-2.9395000000000024,-5.5794999999999995,-3.3644999999999996,-6.1785,-0.5065000000000026,-2.2515,-5.2515,-5.1465,-4.147500000000001,-3.8890000000000007,{"$f":"TTEST(X26:X81,'non-ADD-nonex'!X26:X49,2,3)","v":0.8552361048268582},-0.1,-0.1,-0.1,-0.1,-0.1,-0.1,1.9,-0.1,-0.1,-0.1,0.09999999999999996,{"$f":"TTEST(AJ26:AJ81,'non-ADD-nonex'!AJ26:AJ49,2,3)","v":0.1901304792511045},1.5,0.5,-0.5,-0.5,-0.5,1.5,-0.5,-0.5,-0.5,-0.5,0,{"$f":"TTEST(AV26:AV81,'non-ADD-nonex'!AV26:AV49,2,3)","v":0.22954827650962112},"F",22,"F",2]
["BH101",-3.137600000000001,-2.093600000000002,-1.7646000000000015,-1.1986000000000008,-3.7066000000000017,-2.574600000000002,-2.8866000000000014,-2.798600000000002,-3.861600000000001,-3.896600000000001,-2.791900000000001,null,-6.191700000000001,-3.1936999999999998,-4.104700000000001,-2.992700000000003,-4.148700000000002,-3.8277,-3.5427,-3.6357,-3.692700000000002,-3.7947000000000024,-3.9125000000000014,null,1,0,0,0,0,0,0,0,0,0,0.1,null,-0.6,0.4,1.4,-0.6,0.4,0.4,1.4,-0.6,-0.6,2.4,0.39999999999999997,null,"F",19,"F",2]
["DI101",-4.084799999999998,-2.7907999999999973,-2.965799999999998,-4.277799999999999,-2.996799999999997,-2.2277999999999984,-2.9647999999999968,-2.091799999999999,-2.9567999999999977,0.7782000000000018,-2.657899999999998,null,-7.964599999999997,-6.287599999999998,-6.136599999999994,-6.2405999999999935,-8.351599999999998,-6.083599999999997,-6.743599999999997,-7.685599999999997,-6.116599999999998,-4.805599999999998,-6.641599999999997,null,0,0,0,0,0,0,0,0,0,0,0,null,-1.1,0.8999999999999999,-0.10000000000000009,-1.1,-1.1,0.8999999999999999,-0.10000000000000009,-1.1,-1.1,0.8999999999999999,-0.3000000000000001,null,"F",23,"F",2]
["DP101",-2.2117999999999967,-2.492799999999999,0.027200000000000557,-4.204799999999999,-1.5427999999999962,3.8572000000000024,-4.123799999999999,-2.861799999999999,-1.1067999999999962,-4.726799999999997,-1.9386999999999979,null,-1.0238000000000014,-3.230800000000002,-1.3278000000000034,3.1522000000000006,-1.0488,-3.7118000000000038,-0.4397999999999982,-1.8318000000000012,-35.4318,3.336199999999998,-4.155800000000001,null,-0.3,-0.3,-0.3,-0.3,-0.3,0.7,-0.3,-0.3,-0.3,-0.3,-0.2,null,-0.9,-0.9,1.1,0.09999999999999998,-0.9,0.09999999999999998,0.09999999999999998,-0.9,1.1,-0.9,-0.19999999999999996,null,"M",25,"F",2]
["DST102",-2.3280999999999974,-1.8720999999999979,-1.423099999999998,-2.553099999999997,-2.439099999999998,-1.9280999999999988,-2.7680999999999987,-2.9290999999999983,-1.8480999999999987,-2.8160999999999987,-2.2904999999999984,null,-7.153199999999998,-7.545199999999998,-0.8151999999999973,-4.577199999999998,-4.9132,-1.5761999999999965,-4.377199999999998,-3.4091999999999985,-1.7121999999999993,-3.4171999999999976,-3.949599999999998,null,0,0,0,0,0,0,0,0,0,0,0,null,-0.3,-0.3,1.7,1.7,-0.3,-0.3,-0.3,0.7,0.7,-0.3,0.3,null,"F",18,"F",2]
["DT101",-7.192299999999996,-7.960299999999997,-10.936299999999997,-10.720299999999996,-12.168299999999997,-9.896299999999997,-11.817299999999996,-10.855299999999996,-9.632299999999997,-7.871299999999998,-9.904999999999998,null,-2.9343000000000004,-2.581299999999999,-0.16529999999999845,-0.15729999999999933,-2.5333000000000006,-1.9492999999999974,-3.429299999999998,-2.6843000000000004,-3.2133000000000003,-2.621299999999998,-2.226899999999999,null,0,0,0,0,0,0,0,0,0,0,0,null,1.1,1.1,1.1,0.09999999999999998,-0.9,0.09999999999999998,-0.9,1.1,-0.9,-0.9,0.10000000000000009,null,"M",22,"F",2]
["DZ101",-1.3687000000000022,-1.7437000000000022,-1.2077000000000027,1.3032999999999966,3.9762999999999984,4.751299999999997,3.5112999999999985,3.5192999999999977,5.103299999999997,5.031299999999998,2.2875999999999976,null,-2.1100000000000065,-3.896000000000008,0.44899999999999096,-1.4080000000000084,0.9849999999999923,2.776999999999994,1.5609999999999928,-2.718000000000007,-1.9760000000000062,-0.8960000000000079,-0.7232000000000074,null,0,0,0,0,0,0,0,0,0,0,0,null,0.7,-0.3,0.7,-0.3,1.7,-0.3,-0.3,0.7,-0.3,-0.3,0.20000000000000004,null,"F",25.6,"F",2]
["EC101",-5.084900000000001,-7.3408999999999995,-5.0609,-7.3729,-7.036899999999999,-5.876899999999999,-5.602899999999998,-6.228899999999999,-6.668899999999999,-7.9779,-6.425199999999999,null,-1.279200000000003,-0.9032000000000018,-2.6472000000000016,2.2407999999999966,1.1767999999999965,0.9037999999999968,2.472799999999996,2.5127999999999986,-0.10320000000000462,2.0487999999999964,0.642299999999997,null,-0.1,-0.1,-0.1,-0.1,-0.1,-0.1,-0.1,-0.1,-0.1,-0.1,-0.09999999999999999,null,-0.5,1.5,1.5,-0.5,-0.5,-0.5,-0.5,-0.5,-0.5,0.5,0,null,"M",20,"F",2]
["EF101",-0.9801999999999964,-2.5891999999999964,-1.370199999999997,-1.9011999999999958,-0.9231999999999978,-0.08219999999999672,-0.26519999999999655,-1.633199999999995,-1.1641999999999975,-3.133199999999997,-1.4041999999999966,null,-1.1101999999999919,-1.760199999999994,-1.4241999999999955,2.9048000000000087,-0.6561999999999912,-0.9191999999999965,-1.9201999999999941,-2.175199999999993,-0.23219999999999175,-5.604199999999995,-1.2896999999999934,null,0,0,0,0,0,0,0,0,0,0,0,null,1.5,0.5,-0.5,-0.5,-0.5,-0.5,-0.5,0.5,-0.5,-0.5,-0.1,null,"F",21,"F",2]
["EJ101",-3.2192000000000007,-2.3622000000000014,-3.6982000000000035,-4.154200000000003,-3.9542,-4.923200000000001,-2.4912000000000027,-3.282200000000003,-2.8342000000000027,-3.2982000000000014,-3.421700000000002,null,-6.55650000000001,-7.744500000000013,-2.7265000000000086,-4.398500000000013,-4.75950000000001,-5.109500000000011,-5.926500000000011,-5.369500000000013,-3.383500000000012,-7.278500000000012,-5.325300000000011,null,-0.1,-0.1,-0.1,-0.1,-0.1,-0.1,-0.1,-0.1,-0.1,-0.1,-0.09999999999999999,null,0.7,-0.3,0.7,0.7,0.7,-0.3,-0.3,-0.3,-0.3,-0.3,0.1,null,"F",29,"F",2]
["ER101",-0.786999999999999,-0.5,0.16500000000000092,-0.0600000000000005,-0.03599999999999959,-0.3550000000000004,0.1490000000000009,-0.4989999999999988,0.06799999999999962,0.005000000000000782,-0.1849999999999996,null,-2.1237000000000066,-1.6347000000000058,-0.7547000000000033,-0.37070000000000647,-4.274700000000006,0.3482999999999947,-1.179700000000004,4.204299999999996,-0.8677000000000064,-2.6517000000000053,-0.9305000000000053,null,0,0,0,0,0,0,0,1,0,0,0.1,null,-0.2,-0.2,1.8,0.8,-0.2,-0.2,-0.2,0.8,1.8,-0.2,0.4,null,"F",27,"F",2]
["FA101",-1.729499999999998,-3.426499999999997,-1.753499999999999,-0.4734999999999978,-1.4504999999999981,-2.3215000000000003,-0.729499999999998,-0.8004999999999995,-1.0254999999999974,-1.6574999999999989,-1.5367999999999984,null,-2.4239000000000033,-3.9829000000000008,-1.2159000000000013,-1.9679000000000038,-0.17590000000000217,-0.5279000000000025,-2.8079000000000036,0.48809999999999576,0.04809999999999803,-0.255900000000004,-1.2822000000000027,null,0,0,0,0,0,0,0,0,0,0,0,null,-0.6,-0.6,-0.6,1.4,-0.6,0.4,-0.6,0.4,-0.6,-0.6,-0.19999999999999996,null,"M",23,"F",2]
["GH101",-1.3744999999999976,-1.827499999999997,-2.4064999999999976,-2.516499999999997,-3.2064999999999984,-2.790499999999998,-2.3904999999999976,-3.8154999999999983,-3.2464999999999975,-3.4134999999999973,-2.6987999999999976,null,-6.769399999999997,-7.706399999999995,-3.7933999999999983,-2.6494,-0.2744,2.462600000000002,3.5746000000000038,-0.7053999999999974,-1.8263999999999996,-3.882399999999997,-2.156999999999998,null,0,0,0,0,0,0,0,0,0,0,0,null,-0.7,-0.7,-0.7,1.3,1.3,-0.7,1.3,1.3,1.3,-0.7,0.3,null,"M",20,"F",2]
["GS101",-1.1723,-0.4842999999999993,-0.805299999999999,0.16469999999999985,-1.4612999999999996,-0.4853000000000005,-0.7073,-1.2933000000000003,-1.228299999999999,-0.5243000000000002,-0.7996999999999999,null,-2.7923999999999936,5.424600000000005,-4.08039999999999,-6.969399999999993,-3.2963999999999913,-2.6873999999999896,-8.64439999999999,3.67260000000001,-6.729399999999991,-1.456399999999995,-2.755899999999992,null,0,0,0,0,0,0,0,0,0,0,0,null,-0.1,-0.1,-0.1,-0.1,-0.1,-0.1,-0.1,-0.1,-0.1,-0.1,-0.09999999999999999,null,"M",25,"F",2]
["HR101",1.9023000000000003,-0.7387000000000015,-0.31569999999999965,-4.226700000000001,-3.8747000000000007,-3.0357000000000003,-3.7226999999999997,-3.0756999999999994,-3.1556999999999995,1.9963000000000015,-1.8247,null,-6.065199999999997,1.7408000000000001,-3.472200000000001,-3.863199999999999,-5.785199999999996,-4.745199999999997,-0.6411999999999978,-2.4161999999999964,-6.2012,-5.281199999999998,-3.6729999999999983,null,0,0,0,0,0,0,0,0,0,0,0,null,0.5,-0.5,-0.5,0.5,-0.5,-0.5,-0.5,0.5,-0.5,-0.5,-0.2,null,"F",25,"F",2]
["IG101",-3.355699999999999,-2.3366999999999987,-1.8566999999999982,-1.8246999999999982,-2.3606999999999996,-2.4906999999999986,-2.0806999999999984,-3.4506999999999994,-2.608699999999999,-1.2166999999999994,-2.358199999999999,null,-8.418799999999994,-8.578799999999994,-5.9687999999999946,-9.337799999999994,-8.705799999999996,-7.114799999999995,-9.416799999999995,-11.055799999999994,-4.413799999999995,-5.0667999999999935,-7.807799999999995,null,0,0,0,0,0,0,0,0,0,0,0,null,-0.7,-0.7,0.30000000000000004,-0.7,0.30000000000000004,-0.7,-0.7,-0.7,-0.7,-0.7,-0.5,null,"F",19.53,"F",2]
["IOD101",-0.20039999999999836,-2.0333999999999968,-0.6423999999999985,-2.066399999999998,-1.5063999999999957,-3.994399999999999,-1.0523999999999987,-2.747399999999999,-2.842399999999998,-3.4263999999999974,-2.051199999999998,null,-5.4072,-6.0242,-4.7592,-4.215199999999999,-2.7912,-7.2392,-5.655200000000001,0.7528000000000006,1.9127999999999972,-0.39920000000000044,-3.3825000000000003,null,0,0,0,0,0,0,0,0,0,0,0,null,-1.3,-1.3,-1.3,-0.30000000000000004,0.7,-1.3,-0.30000000000000004,1.7,1.7,0.7,-0.09999999999999995,null,"F",21,"F",2]
["JB101",-1.7490999999999985,-1.3650999999999982,1.017900000000001,-1.3581000000000003,-2.046099999999999,-0.4850999999999992,0.07489999999999952,-1.9741,-1.9490999999999996,-2.0770999999999997,-1.1910999999999994,null,-3.098399999999998,-1.7003999999999948,1.2916000000000025,1.867600000000003,-1.980399999999996,-1.2283999999999935,1.0276000000000067,0.195600000000006,4.452600000000004,4.6766000000000005,0.550400000000004,null,0,0,0,0,0,0,0,0,0,0,0,null,-0.8,-0.8,-0.8,1.2,-0.8,2.2,1.2,0.19999999999999996,0.19999999999999996,1.2,0.29999999999999993,null,"F",19,"F",2]
["JC102",0.49409999999999954,-0.8739000000000008,-2.113900000000001,-1.2969000000000008,-1.2429000000000006,-1.2109000000000005,-2.246900000000002,0.2940999999999985,-1.5459000000000014,-0.34690000000000154,-1.009000000000001,null,-3.4322999999999944,-1.7532999999999959,-3.2802999999999933,-3.360299999999995,-2.016299999999994,-3.9612999999999943,-5.160299999999996,-5.888299999999994,-5.120299999999993,-0.28829999999999245,-3.4260999999999937,null,-0.4,-0.4,-0.4,-0.4,-0.4,-0.4,-0.4,-0.4,-0.4,-0.4,-0.39999999999999997,null,0.4,1.4,-0.6,-0.6,0.4,-0.6,-0.6,-0.6,-0.6,1.4,0,null,"F",24,"F",2]
["JD101",-3.2691999999999943,-4.116199999999996,-3.0921999999999947,-4.1961999999999975,-1.7701999999999956,-3.572199999999995,-3.9081999999999972,-3.907199999999996,-5.651199999999996,-4.819199999999995,-3.8301999999999956,null,-3.144300000000001,-1.6163000000000025,-0.8083000000000027,-2.287300000000002,-1.288300000000003,-2.383300000000002,-3.344300000000004,-2.9203000000000046,-3.7363000000000035,1.1366999999999976,-2.039200000000003,null,0,0,0,0,0,0,1,0,0,0,0.1,null,-0.2,-0.2,-0.2,-0.2,-0.2,-0.2,-0.2,-0.2,-0.2,0.8,-0.09999999999999998,null,"M",29,"F",2]
["JM101",-2.281200000000002,-2.5542000000000016,-2.811200000000003,-1.8512000000000022,-1.4872000000000014,-3.162200000000002,-0.6822000000000017,-2.066200000000002,-2.066200000000002,-2.4742000000000033,-2.143600000000002,null,-1.0425000000000004,-5.6525,-4.984500000000001,-3.730500000000003,-0.9905000000000008,0.16249999999999787,-3.146500000000003,0.1454999999999984,-0.9555000000000007,-4.080500000000001,-2.427500000000001,null,-0.1,-0.1,-0.1,-0.1,-0.1,-0.1,-0.1,-0.1,-0.1,-0.1,-0.09999999999999999,null,-0.4,-0.4,-0.4,-0.4,-0.4,-0.4,-0.4,0.6,-0.4,0.6,-0.19999999999999996,null,"F",25,"F",2]
["JP101",-1.0299999999999994,-1.302999999999999,-2.134999999999998,-1.2619999999999987,-2.677999999999999,-2.4319999999999986,-2.1499999999999986,-2.804999999999998,-2.8019999999999996,-3.0409999999999986,-2.1637999999999984,null,-7.080500000000001,-10.444500000000005,-7.560500000000005,-1.407500000000006,-5.087500000000006,2.6084999999999994,-9.616500000000002,-1.7125000000000057,-0.4475000000000051,-12.343500000000006,-5.309200000000004,null,0,0,0,0,0,0,0,0,0,0,0,null,-0.3,-0.3,-0.3,-0.3,-0.3,-0.3,-0.3,0.7,-0.3,-0.3,-0.2,null,"F",37,"F",2]
["JS102",-1.7512999999999987,1.5927000000000007,-0.18029999999999902,-0.07529999999999859,-0.7863000000000007,-2.0503,0.5976999999999997,0.6857000000000006,-4.2273,-4.0512999999999995,-1.0245999999999995,null,-3.960000000000001,-5.559000000000001,-3.6400000000000006,-4.018000000000001,-6.327000000000002,-4.368000000000002,-5.536000000000001,-5.388000000000002,-4.255000000000003,0.9929999999999986,-4.205800000000001,null,0,0,0,0,0,0,0,0,0,0,0,null,-0.5,-0.5,-0.5,-0.5,-0.5,-0.5,-0.5,-0.5,-0.5,0.5,-0.4,null,"M",20,"F",2]
["KP101",-2.889300000000002,-3.8373000000000026,-3.2413000000000025,-3.0333000000000006,-3.2173000000000016,-3.984300000000001,-3.6173,-4.392300000000002,-2.3613,-2.6403000000000034,-3.3214000000000015,null,-2.7816000000000045,-3.3256000000000014,-2.0046000000000035,4.9313999999999965,-0.9416000000000011,8.683399999999999,-0.1566000000000045,3.2023999999999972,1.0753999999999948,-4.932600000000001,0.37499999999999717,null,-0.2,-0.2,-0.2,-0.2,-0.2,-0.2,-0.2,0.8,-0.2,-0.2,-0.09999999999999998,null,0.6,0.6,-0.4,1.6,-0.4,-0.4,-0.4,-0.4,0.6,-0.4,0.1,null,"M",24,"F",2]
["LB101",-0.9487999999999985,-2.7227999999999994,0.2181999999999995,-1.046800000000001,-1.982800000000001,-1.671800000000001,-2.5107999999999997,-3.5578000000000003,-1.5747999999999998,-2.8718000000000004,-1.8670000000000002,null,-6.980199999999996,-6.109199999999998,5.827800000000003,-5.116199999999999,-5.965199999999996,-1.8441999999999972,-4.682199999999998,-3.724199999999996,-1.181199999999997,-3.0041999999999973,-3.2778999999999967,null,0,0,0,0,0,0,0,0,0,0,0,null,-0.6,1.4,3.4,-0.6,-0.6,0.4,-0.6,0.4,-0.6,-0.6,0.19999999999999996,null,"M",24,"F",2]
["LT101",-8.5149,-7.432900000000002,-7.831900000000001,-8.977900000000002,-9.858900000000002,-8.265900000000002,-9.064900000000002,-8.025900000000002,-9.318900000000001,-9.648900000000001,-8.694100000000002,null,0.30860000000000554,-2.2603999999999935,2.955600000000004,-5.540399999999995,-0.6203999999999965,3.0866000000000042,3.8366000000000042,0.49260000000000304,0.9326000000000079,5.268600000000006,0.8460000000000051,null,0,0,0,0,0,0,0,0,0,0,0,null,1.1,-0.9,-0.9,-0.9,-0.9,-0.9,-0.9,1.1,-0.9,-0.9,-0.5,null,"F",22,"F",2]
["MD101",-5.166400000000003,-5.189400000000003,-6.596400000000003,-5.726400000000002,-6.5014,-2.269400000000001,-4.3504000000000005,-5.790400000000002,-7.702400000000001,-7.366400000000002,-5.665900000000001,null,-4.354599999999998,-5.7806,-5.368600000000001,-6.618600000000001,-4.755599999999998,-4.897600000000001,-2.4756,-3.6525999999999996,-3.3065999999999995,-4.9705999999999975,-4.618099999999999,null,0,0,0,0,0,0,0,0,0,0,0,null,2.4,0.4,0.4,-0.6,-0.6,1.4,1.4,2.4,0.4,0.4,0.8,null,"M ",29,"F",2]
["MK101",-0.4549999999999983,-1.3049999999999997,-0.5309999999999988,-2.488999999999999,-1.1289999999999978,-2.2639999999999993,-1.320999999999998,-2.7279999999999998,-1,-1,-1.422199999999999,null,-4.384599999999999,-8.120599999999996,-8.816599999999994,-6.431599999999996,-3.279599999999995,-7.232599999999998,-8.359599999999993,-7.623599999999996,-9.280599999999993,-9.380599999999994,-7.290999999999995,null,-0.4,-0.4,-0.4,-0.4,-0.4,-0.4,-0.4,-0.4,-0.4,-0.4,-0.39999999999999997,null,-0.2,-0.2,-0.2,-0.2,0.8,-0.2,-0.2,-0.2,-0.2,0.8,0,null,"F",31,"F",2]
["MT101",-4.4894,-7.417400000000001,-8.6384,-10.7104,-9.799400000000002,-9.0304,-9.918400000000002,-10.671400000000002,-10.551400000000001,-10.110400000000002,-9.133700000000001,null,-1.3780999999999999,2.1819000000000024,-0.8430999999999997,0.655899999999999,-3.057100000000002,-0.9390999999999998,-1.8340999999999994,-4.770099999999999,-3.2021000000000015,-3.2021000000000015,-1.6388000000000003,null,0,0,0,0,0,0,0,0,0,0,0,null,-1,-1,-1,-1,0,-1,-1,0,0,-1,-0.7,null,"F",22,"F",2]
["NV101",-0.6401999999999965,-1.0551999999999957,-1.3841999999999963,-1.1601999999999961,-1.7711999999999968,-2.032199999999998,-1.1311999999999962,-1.543199999999997,-2.1751999999999967,-2.3211999999999975,-1.5213999999999968,null,-1.3780999999999999,2.1819000000000024,-0.8430999999999997,0.655899999999999,-3.057100000000002,-0.9390999999999998,-1.8340999999999994,-4.770099999999999,-3.2021000000000015,-3.2021000000000015,-1.6388000000000003,null,0,0,0,0,0,0,0,0,0,0,0,null,-1,-1,-1,-1,0,-1,-1,0,0,-1,-0.7,null,"F",24,"F",2]
["OA101",-0.1556000000000033,-1.1956000000000024,-1.2996000000000016,-0.4846000000000039,-0.1656000000000013,-1.9146000000000036,-0.5476000000000028,-1.2036000000000016,-0.8996000000000031,-2.492600000000003,-1.0359000000000027,null,-1.7780999999999985,-0.891099999999998,-2.356099999999998,-3.8050999999999995,-1.6800999999999995,3.8119000000000014,-1.043099999999999,-3.9000999999999983,-2.949099999999998,-4.236099999999997,-1.8826999999999985,null,0,0,0,0,0,0,0,0,0,0,0,null,-0.2,-0.2,-0.2,-0.2,0.8,0.8,-0.2,-0.2,-0.2,-0.2,0,null,"M",25,"F",2]
["OB101",2.0431000000000026,-0.6848999999999954,-3.268899999999995,-6.197899999999997,-4.7488999999999955,-5.348899999999997,-1.2438999999999965,-5.685899999999997,-4.884899999999995,-6.045899999999996,-3.6066999999999965,null,-1.6026000000000096,-10.177600000000005,-14.338600000000007,-11.259600000000006,-11.651600000000009,-13.787600000000005,-8.37960000000001,-14.43460000000001,-10.62660000000001,-20.109600000000007,-11.636800000000008,null,0,0,0,0,0,0,0,0,0,0,0,null,-0.6,-0.6,-0.6,-0.6,-0.6,-0.6,-0.6,0.4,-0.6,-0.6,-0.5,null,"F",30.26,"F",2]
["RT101",-3.909099999999995,-5.149099999999997,-6.125099999999996,-6.276099999999996,-6.469099999999997,-6.388099999999998,-5.3150999999999975,-5.122099999999996,-4.989099999999997,-7.1290999999999976,-5.687199999999997,null,-10.557900000000004,-6.884900000000002,-3.8429,-1.9939000000000036,-2.009900000000002,-4.5079000000000065,1.4950999999999937,-5.058900000000001,-4.2509000000000015,1.5670999999999964,-3.604500000000003,null,0,0,0,0,0,0,0,0,0,0,0,null,-1.5,-0.5,-1.5,0.5,-1.5,0.5,0.5,-1.5,-1.5,0.5,-0.6,null,"F",23,"F",2]
["SAV101",-1.6829999999999998,-2.2720000000000002,-0.06400000000000006,-2.5060000000000002,-2.901,-3.235999999999999,-2.885,-2.9349999999999987,-2.1519999999999992,-2.9209999999999994,-2.3555,null,-5.523899999999998,-1.1788999999999987,-3.8718999999999966,-5.914899999999999,-4.507899999999999,-3.2758999999999965,1.004100000000001,-2.5158999999999985,-3.5548999999999964,-3.4678999999999967,-3.280799999999998,null,0,0,0,0,0,0,0,0,0,0,0,null,0,0,0,0,0,0,1,0,0,0,0.1,null,"M",20,"F",2]
["SGJ101",-1.742099999999997,-1.231099999999996,-0.8630999999999975,-0.8780999999999963,-1.6530999999999967,-1.319099999999997,-1.9200999999999961,-0.6790999999999965,-2.1730999999999963,-1.8390999999999966,-1.4297999999999966,null,-5.0517,-0.19069999999999965,-5.273700000000002,-2.0147000000000013,-1.2937000000000012,-1.861699999999999,0.29529999999999745,5.2342999999999975,-4.154700000000002,3.762299999999996,-1.0549000000000013,null,-0.3,-0.3,0.7,-0.3,-0.3,-0.3,-0.3,-0.3,-0.3,-0.3,-0.2,null,-1,1,-1,-1,-1,-1,-1,0,-1,0,-0.6,null,"F",26,"F",2]
["SK101",-1.8535000000000004,-0.01950000000000074,-4.072500000000002,-6.186500000000002,-4.693500000000002,-5.528500000000001,-4.761500000000002,-4.091500000000002,-5.779500000000002,-6.501500000000002,-4.348800000000001,null,-2.845799999999997,-1.4027999999999992,2.8762000000000008,-1.0377999999999972,-1.5077999999999996,1.659200000000002,-0.19679999999999964,-2.774799999999999,-1.2627999999999986,-3.0357999999999983,-0.9528999999999985,null,-0.3,-0.3,-0.3,-0.3,-0.3,-0.3,-0.3,-0.3,-0.3,-0.3,-0.29999999999999993,null,-0.7,0.30000000000000004,0.30000000000000004,-0.7,-0.7,0.30000000000000004,1.3,-0.7,-0.7,-0.7,-0.19999999999999996,null,"M",23,"F",2]
["SR101",0.12560000000000038,-0.06739999999999924,-1.0593999999999983,-1.723399999999998,-1.3213999999999988,-1.675399999999998,-2.1153999999999993,-2.6983999999999995,-1.4833999999999996,-2.555399999999999,-1.457399999999999,null,-4.351200000000006,-6.279200000000003,-1.863199999999999,0.7837999999999994,-2.279200000000003,6.5608,8.6648,4.775799999999997,7.3847999999999985,9.360799999999998,2.275799999999998,null,-0.1,-0.1,-0.1,-0.1,-0.1,-0.1,-0.1,-0.1,-0.1,-0.1,-0.09999999999999999,null,1.6,0.6,-0.4,-0.4,-0.4,0.6,0.6,0.6,-0.4,-0.4,0.2000000000000001,null,"F",23,"F",2]
["TN101",-0.5418999999999983,-0.06989999999999696,-0.8368999999999964,0.21010000000000417,-0.6778999999999975,-0.9828999999999972,-1.300899999999995,-1.7168999999999954,0.25110000000000454,-1.3338999999999963,-0.6999999999999964,null,-4.023700000000005,-2.6977000000000046,-2.639700000000005,-4.110700000000005,-2.9997000000000043,-5.503700000000006,-1.3987000000000052,-4.015700000000006,-3.198700000000006,-3.791700000000006,-3.438000000000005,null,0,0,0,0,0,0,0,0,0,0,0,null,0.4,-0.6,0.4,-0.6,-0.6,-0.6,0.4,0.4,0.4,-0.6,-0.09999999999999996,null,"F",21,"F",2]
["TN102",-1.348499999999996,-0.6294999999999966,-1.3084999999999969,0.5875000000000021,-0.22849999999999682,-0.8184999999999967,0.3715000000000046,0.33550000000000324,0.48150000000000404,0.20550000000000423,-0.23519999999999647,null,-3.0340000000000025,2.0349999999999966,-1.5700000000000003,-3.418000000000003,-4.546000000000003,-5.410000000000004,-1.929000000000002,-6.313000000000002,-4.146000000000004,-1.514000000000003,-2.984500000000003,null,0,0,0,0,0,0,0,0,0,0,0,null,-1.2,2.8,-0.19999999999999996,-1.2,-1.2,-1.2,-1.2,-1.2,-1.2,0.8,-0.5000000000000001,null,"F",22,"F",2]
["YS101",1.3181999999999992,0.8541999999999987,0.18319999999999936,-1.1458000000000013,-0.9928000000000008,-0.6498000000000008,-0.5768000000000004,0.8621999999999996,-1.0728000000000009,-1.057800000000002,-0.22780000000000095,null,-1.360999999999997,-1.2589999999999968,2.080000000000002,-2.1459999999999972,0.20400000000000063,-2.997,-3.100999999999999,-1.9959999999999987,-3.546999999999997,1.0920000000000023,-1.3030999999999981,null,0,0,0,0,0,0,0,0,0,0,0,null,2.1,1.1,1.1,0.09999999999999998,1.1,1.1,0.09999999999999998,0.09999999999999998,-0.9,1.1,0.6999999999999998,null,"F",22,"F",2]
["ZP101",-2.652000000000001,-4.1320000000000014,-2.2040000000000006,-2.532,-3.0120000000000005,-2.4840000000000018,-3.8840000000000003,-1.5160000000000018,-6.084,-7.564,-3.6064000000000007,null,-6.972000000000001,-4.004000000000001,-5.125,-7.588000000000001,-6.277000000000001,-7.475999999999999,-3.8759999999999977,-8.899999999999999,-4.603999999999999,-6.972000000000001,-6.1794,null,0,0,0,0,0,0,0,0,0,0,0,null,-0.3,-0.3,0.7,-0.3,0.7,0.7,0.7,-0.3,-0.3,-0.3,0.09999999999999998,null,"F",19,"F",2]

{"sheet":"high BMI-nonex","index":22,"n_rows":35,"n_cols":53,"rows_kept":35}
["ID (reds lack HR data)","%change-c-1","%change-c-2","%change-c-3","%change-c-4","%change-c-5","%change-c-6","%change-c-7","%change-c-8","%change-c-9","%change-c-10","%change-c-avg","congruent","%change-i-1","%change-i-2","%change-i-3","%change-i-4","%change-i-5","%change-i-6","%change-i-7","%change-i-8","%change-i-9","%change-i-10","%change-i-avg","incongruent","diff-err-c-1","diff-err-c-2","diff-err-c-3","diff-err-c-4","diff-err-c-5","diff-err-c-6","diff-err-c-7","diff-err-c-8","diff-err-c-9","diff-err-c-10","avg-change-err-c","avg-err-c","diff-err-i-1","diff-err-i-2","diff-err-i-3","diff-err-i-4","diff-err-i-5","diff-err-i-6","diff-err-i-7","diff-err-i-8","diff-err-i-9","diff-err-i-10","avg-change-err-i","avg-err-i","Gender","BMI","ADD","Paradigm"]
["CN101-nonexercise",-1.0963000000000012,0.3836999999999975,-1.2943000000000016,-2.3353,-1.0073000000000008,-2.167300000000001,-1.167300000000001,-2.9033000000000015,-2.7103,-2.5123000000000015,-1.681000000000001,{"$f":"AVERAGE($L$2:INDEX(L:L,MATCH(9.99999999999999E+307,L:L)))","v":-1.6142382352941178},-3.884799999999995,-3.7877999999999936,3.029200000000003,-5.996799999999993,-0.6357999999999961,-5.051799999999993,-4.187799999999992,-2.4047999999999945,0.5862000000000052,-1.6047999999999902,-2.393899999999994,{"$f":"AVERAGE($X$2:INDEX(X:X,MATCH(9.99999999999999E+307,X:X)))","v":-2.961879411764707},-0.4,0.6,-0.4,-0.4,-0.4,-0.4,-0.4,-0.4,-0.4,-0.4,-0.14999999999999997,{"$f":"AVERAGE($AJ$2:INDEX(AJ:AJ,MATCH(9.99999999999999E+307,AJ:AJ)))","v":0.002941176470588235},4,1.4,1,4,3,-1,2,1,1,3,0.97,{"$f":"AVERAGE($AV$2:INDEX(AV:AV,MATCH(9.99999999999999E+307,AV:AV)))","v":-0.027941176470588223},"F",32,"T",1]
["JF101-nonexercise",0.06910000000000238,0.8511000000000024,-0.48389999999999844,-0.9648999999999983,1.2991000000000028,-1.3078999999999983,-0.971899999999998,-1.5318999999999985,0.44310000000000116,0.4991000000000021,-0.20989999999999806,"stdev",-4.558900000000005,-3.916900000000002,-1.8129000000000026,-3.2999000000000045,-1.380900000000004,1.4820999999999955,-0.9499000000000031,0.37809999999999633,-2.531900000000004,-1.4609000000000023,-1.8052000000000035,"stdev",-0.1,0.9,-0.1,-0.1,2.9,-0.1,-0.1,-0.1,-0.1,-0.1,0.14999999999999997,"stdev",-2,-1.1,-1,-2,0,-2,1,2,-1,-1,-0.355,"stdev","M",30,"T",1]
["JR101-nonexercise",-0.8544000000000018,-2.0404000000000018,0.014599999999997948,-0.4863999999999997,0.3805999999999976,-0.2544000000000004,-1.4734000000000016,-1.1594000000000015,-0.7744,-2.5123999999999995,-0.916000000000001,{"$f":"STDEV($L$2:INDEX(L:L,MATCH(9.99999999999999E+307,L:L)))","v":1.4586778245268857},-5.457500000000007,-0.5645000000000095,-3.270500000000009,-4.954500000000007,-0.44350000000000733,-1.8015000000000043,1.8774999999999906,-1.2345000000000041,0.6774999999999949,-1.2805000000000106,-1.6452000000000073,{"$f":"STDEV($X$2:INDEX(X:X,MATCH(9.99999999999999E+307,X:X)))","v":2.639005449117597},-0.4,-0.4,-0.4,-0.4,-0.4,-0.4,-0.4,-0.4,-0.4,-0.4,-0.19999999999999998,{"$f":"STDEV($AJ$2:INDEX(AJ:AJ,MATCH(9.99999999999999E+307,AJ:AJ)))","v":0.13367825261730645},-1,-0.09999999999999998,-1,0,-1,-1,-1,0,0,0,-0.255,{"$f":"STDEV($AV$2:INDEX(AV:AV,MATCH(9.99999999999999E+307,AV:AV)))","v":0.5248868819652287},"F",27,"F",1]
["SN102-nonexercise",-1.0069000000000052,-2.8559000000000054,-2.8619000000000057,-3.3049000000000053,-3.7759000000000036,-2.840900000000005,-2.686900000000005,-2.3919000000000032,-3.957900000000004,-3.005900000000004,-2.8689000000000044,"n",0.6998000000000033,1.3507999999999996,-3.7132000000000005,5.964800000000004,-0.1852000000000018,-0.8802000000000021,1.0127999999999986,-0.21819999999999595,-0.21819999999999595,0.4217999999999975,0.42350000000000065,"n",0.8,-0.2,-0.2,-0.2,-0.2,-0.2,-0.2,-0.2,-0.2,-0.2,-0.05,"n",3,1.4,0,2,1,6,2,0,2,1,0.9199999999999999,"n","F",28,"F",1]
["TB101-nonexercise",0.8589999999999982,-0.4460000000000015,0.6899999999999977,-0.06100000000000172,0.18900000000000006,-0.2920000000000016,-0.527000000000001,-0.5760000000000005,-0.44500000000000206,-0.697000000000001,-0.13060000000000133,{"$f":"COUNT($L$2:INDEX(L:L,MATCH(9.99999999999999E+307,L:L)))","v":34},-2.4484999999999992,2.145500000000002,-2.0174999999999983,-0.7304999999999993,-1.8324999999999996,3.128499999999999,-2.0504999999999995,-0.011499999999998067,-0.0934999999999988,-0.19549999999999912,-0.4105999999999991,{"$f":"COUNT($X$2:INDEX(X:X,MATCH(9.99999999999999E+307,X:X)))","v":34},0,0,0,0,0,0,0,0,0,0,0,{"$f":"COUNT($AJ$2:INDEX(AJ:AJ,MATCH(9.99999999999999E+307,AJ:AJ)))","v":34},-3,-1.7,-2,-1,-2,-3,-2,1,0,-3,-0.835,{"$f":"COUNT($AV$2:INDEX(AV:AV,MATCH(9.99999999999999E+307,AV:AV)))","v":34},"F",31,"F",1]
["SW101-nonexercise",0.0887999999999991,0.42279999999999873,-0.3542000000000005,-0.7872000000000003,-1.2182000000000013,-0.17020000000000124,-1.0671999999999997,-0.8422000000000001,-0.9382000000000001,-1.9632000000000005,-0.6829000000000006,"se",0.4339000000000013,-3.1341,-0.2790999999999997,-4.193100000000001,-4.911100000000001,-2.8141,-2.5260999999999996,-2.9101,-5.2791,-5.3591000000000015,-3.0972,"se",0.7,-0.3,-0.3,-0.3,-0.3,-0.3,-0.3,-0.3,-0.3,0.7,-0.05000000000000001,"se",0,0.5,2,0,1,0,0,0,1,0,0.225,"se","M",26,"F",1]
["BR102-nonexercise",2.337300000000001,1.5513000000000012,0.9943000000000008,-0.11969999999999814,0.1283000000000012,0.14330000000000176,-0.5386999999999986,-0.7876999999999992,-0.6536999999999988,-1.571699999999998,0.1483000000000013,{"$f":"M4/SQRT(M6)","v":0.25016118308511365},-0.9264999999999972,2.558500000000002,0.5615000000000023,-0.3064999999999998,3.5375000000000014,3.099499999999999,0.8094999999999999,-0.9754999999999967,-2.199499999999997,2.799500000000002,0.8958000000000016,{"$f":"Y4/SQRT(Y6)","v":0.45258570070703896},1,0,0,0,0,0,0,1,0,0,0.1,{"$f":"AK4/SQRT(AK6)","v":0.022925631188190933},0,-0.6,0,0,-1,0,0,-1,-1,-1,-0.22999999999999998,{"$f":"AW4/SQRT(AW6)","v":0.09001735761689976},"M",26,"F",1]
["DJ102-nonexercise",-2.9302000000000064,-2.540200000000006,0.33379999999999654,-2.314200000000003,-2.8662000000000063,-2.9702000000000055,-2.793200000000006,-2.450200000000006,-0.7532000000000032,-1.9142000000000046,-2.119800000000005,"p-value ttest after non-exercise",-4.9780000000000015,4.540999999999993,2.243999999999996,3.0529999999999937,-1.115000000000002,5.285,-4.531000000000002,-3.4120000000000026,-3.054000000000002,-1.7470000000000034,-0.37140000000000306,"p-value ttest after exercise",-0.1,0.9,0.9,-0.1,-0.1,-0.1,-0.1,1.9,0.9,-0.1,0.19999999999999998,"p-value ttest after exercise",3,0.10000000000000009,3,4,3,1,0,3,-2,4,0.9550000000000001,"p-value ttest after exercise","M",29,"F",1]
["FH101-nonexercise",0.058900000000001285,-0.9720999999999993,-1.1560999999999986,-1.8280999999999992,-1.700099999999999,-1.955099999999998,-2.668099999999999,-2.1720999999999986,-1.588099999999999,-2.1340999999999983,-1.6114999999999988,{"$f":"TDIST(ABS(M2)/M8, (M6-1),2)","v":2.5606916460151005E-7},-1.4171999999999976,-0.6571999999999996,-5.057199999999998,0.09580000000000055,-1.873199999999997,-3.434199999999997,-6.863199999999999,-3.985199999999999,-2.049199999999999,-2.112199999999998,-2.7352999999999983,{"$f":"TDIST(ABS(Y2)/Y8, (Y6-1),2)","v":1.9614386136295903E-7},0,0,0,0,0,0,0,0,0,0,0,{"$f":"TDIST(ABS(AK2)/AK8, (AK6-1),2)","v":0.8986965178862834},-1,-0.3999999999999999,0,-2,-1,1,-1,-2,-2,-2,-0.52,{"$f":"TDIST(ABS(AW2)/AW8, (AW6-1),2)","v":0.758210568736638},"F",27,"F",1]
["JL101-nonexercise",0.4759999999999991,0.10099999999999909,0.05299999999999905,-1.1390000000000011,-2.011000000000001,-1.3150000000000013,-2.291000000000002,-1.748000000000001,-1.7710000000000008,-2.9080000000000013,-1.2553000000000012,"high BMI vs normal BMI",-3.7290999999999954,-4.0261,1.8389000000000024,-8.506099999999996,-4.514099999999999,-6.9770999999999965,-1.369099999999996,-3.3200999999999965,-3.457099999999997,-6.1360999999999954,-4.019599999999997,"high BMI vs normal BMI",-0.3,-0.3,0.7,-0.3,-0.3,1.7,-0.3,-0.3,-0.3,-0.3,0,"high BMI vs normal BMI",0,-0.7999999999999998,-3,-5,1,-2,-2,-4,-4,-1,-1.04,"high BMI vs normal BMI","F",27,"F",1]
["SA102-nonexercise",-0.06649999999999778,-0.1524999999999963,-1.0464999999999964,-2.6284999999999954,-2.2804999999999964,-2.699499999999997,-0.6904999999999966,-0.4174999999999969,0.7845000000000049,-1.5724999999999962,-1.0769999999999964,{"$f":"TTEST(L2:L14,'normal BMI-nonex'!L2:L18,2,3)","v":0.3062992298497144},-7.5152,-5.636200000000002,-4.3812,-3.0711999999999975,-5.181199999999997,-3.751199999999997,-2.1531999999999982,-4.586199999999998,-5.083199999999998,-7.350199999999997,-4.870899999999999,{"$f":"TTEST(X2:X14,'normal BMI-nonex'!X2:X18,2,3)","v":0.2606220641779297},0,0,0,0,0,0,0,0,0,0,0,{"$f":"TTEST(AJ2:AJ14,'normal BMI-nonex'!AJ2:AJ18,2,3)","v":0.9746765303084619},-1,0.5,-1,-1,-1,1,-1,1,-1,0,-0.175,{"$f":"TTEST(AV2:AV14,'normal BMI-nonex'!AV2:AV18,2,3)","v":0.5963440149177226},"F",26,"F",1]
["TM101-nonexercise",-0.9148000000000014,-2.5238000000000014,-0.7708000000000013,-2.4018000000000015,-2.9388000000000023,-2.987800000000002,-3.2498000000000022,-4.322800000000001,-3.242800000000001,-2.5718000000000014,-2.592500000000002,null,-7.025599999999994,-4.848599999999994,-6.881599999999995,-7.432599999999994,-5.113599999999995,-2.657599999999995,-0.024599999999992406,-6.297599999999996,-5.320599999999995,-7.183599999999995,-5.278599999999995,null,-0.1,-0.1,0.9,0.9,-0.1,-0.1,-0.1,-0.1,-0.1,0.9,0.09999999999999998,null,3,0.19999999999999996,1,0,-1,-1,-1,0,0,-1,0.010000000000000009,null,"M",26,"F",1]
["TR101-nonexercise",0.2657000000000025,0.3937000000000026,-0.047299999999996345,-1.0072999999999972,-0.022299999999997766,-1.1992999999999974,-1.991299999999999,-1.3582999999999963,-1.8702999999999967,-1.2232999999999983,-0.8059999999999974,null,-4.213599999999996,2.8574000000000055,-2.091599999999996,-2.668599999999998,-1.9415999999999976,-1.325599999999998,0.6594000000000051,-0.06759999999999877,-1.5325999999999986,-1.950599999999998,-1.227499999999997,null,0.9,-0.1,-0.1,-0.1,-0.1,-0.1,-0.1,-0.1,-0.1,-0.1,6.938893903907228e-18,null,3,1.6,1,3,2,2,4,1,0,0,0.8800000000000001,null,"M",27,"F",1]
["CJ101",-3.3857,-2.4426999999999985,-0.40970000000000084,-1.6906999999999996,-2.906699999999999,-1.2746999999999993,-1.2746999999999993,-3.6506999999999987,-3.3076999999999988,-3.4906999999999986,-2.383399999999999,{"$f":"AVERAGE($L$2:INDEX(L:L,MATCH(9.99999999999999E+307,L:L)))","v":-1.6142382352941178},-8.105999999999998,-4.5269999999999975,2.2880000000000003,1.9660000000000046,0.2870000000000026,-4.959999999999997,2.4229999999999983,-0.1609999999999978,-1.0169999999999995,-1.5769999999999982,-1.3383999999999983,{"$f":"AVERAGE($X$2:INDEX(X:X,MATCH(9.99999999999999E+307,X:X)))","v":-2.961879411764707},0,0,0,0,0,0,1,0,0,0,0.1,{"$f":"AVERAGE($AJ$2:INDEX(AJ:AJ,MATCH(9.99999999999999E+307,AJ:AJ)))","v":0.002941176470588235},-0.5,-0.5,1.5,0.5,1.5,-0.5,0.5,0.5,0.5,-0.5,0.3,{"$f":"AVERAGE($AV$2:INDEX(AV:AV,MATCH(9.99999999999999E+307,AV:AV)))","v":-0.027941176470588223},"M",26.78,"F",2]
["CN101",-0.9543000000000035,-0.3533000000000026,-1.6173000000000037,-3.3453000000000035,-2.514300000000002,-3.025300000000003,-2.1293000000000024,-2.5053000000000036,-3.522300000000003,-2.825300000000002,-2.2792000000000026,"stdev",-6.959999999999997,-3.103999999999992,-7.023999999999997,-5.487999999999996,-5.7919999999999945,-6.631999999999994,-8.607999999999997,-6.167999999999996,-6.351999999999997,-8.959999999999997,-6.508799999999996,"stdev",0,0,0,0,0,0,0,0,0,0,0,"stdev",-0.6000000000000001,0.3999999999999999,-1.6,0.3999999999999999,0.3999999999999999,0.3999999999999999,-1.6,-1.6,-1.6,-1.6,-0.7,"stdev","F",32,"T",2]
["JF101",-1.8835999999999977,-1.5715999999999983,-0.714599999999999,-1.1785999999999994,-0.6575999999999986,-0.7485999999999979,-0.8665999999999983,-0.9945999999999984,0.27640000000000065,-1.1645999999999983,-0.9503999999999986,{"$f":"STDEV($L$2:INDEX(L:L,MATCH(9.99999999999999E+307,L:L)))","v":1.4586778245268857},-7.018299999999996,-3.985299999999995,-5.633299999999998,-1.9242999999999952,-3.5162999999999975,-2.969299999999997,-3.4502999999999986,-3.5782999999999987,-3.9762999999999984,-3.3372999999999955,-3.9388999999999967,{"$f":"STDEV($X$2:INDEX(X:X,MATCH(9.99999999999999E+307,X:X)))","v":2.639005449117597},0,0,0,0,0,0,0,0,1,0,0.1,{"$f":"STDEV($AJ$2:INDEX(AJ:AJ,MATCH(9.99999999999999E+307,AJ:AJ)))","v":0.13367825261730645},-0.4,0.6,-0.4,1.6,-0.4,0.6,0.6,-0.4,-0.4,0.6,0.2,{"$f":"STDEV($AV$2:INDEX(AV:AV,MATCH(9.99999999999999E+307,AV:AV)))","v":0.5248868819652287},"M",30,"T",2]
["JR101",-1.394400000000001,-0.6723999999999997,-2.157399999999999,-2.234400000000001,-1.522400000000001,-1.0733999999999995,-2.516400000000001,-1.0084000000000017,-2.2444000000000024,-1.958400000000001,-1.6782000000000008,"n",-4.328300000000006,-3.9573000000000036,1.4527,-0.5973000000000042,2.2956999999999965,-3.7073000000000036,-2.9893,-4.7093000000000025,-5.092300000000002,-5.543300000000002,-2.7176000000000027,"n",0.9,0.9,-0.1,-0.1,0.9,-0.1,-0.1,-0.1,-0.1,-0.1,0.19999999999999996,"n",0.5,1.5,1.5,-0.5,-0.5,-0.5,-0.5,-0.5,-0.5,0.5,0.1,"n","F",27,"F",2]
["SW101",0.085700000000001,1.1727000000000007,0.04370000000000118,0.4347000000000012,0.32470000000000176,0.43670000000000186,0.9957000000000011,0.21270000000000167,0.6117000000000008,1.322700000000001,0.5641000000000013,{"$f":"COUNT($L$2:INDEX(L:L,MATCH(9.99999999999999E+307,L:L)))","v":34},-8.791100000000007,-7.079100000000004,-5.438100000000006,-5.791100000000007,-5.663100000000007,-5.639100000000006,-4.837100000000007,-5.775100000000002,-8.583100000000002,-8.640100000000004,-6.623700000000005,{"$f":"COUNT($X$2:INDEX(X:X,MATCH(9.99999999999999E+307,X:X)))","v":34},0,0,0,0,0,0,0,0,0,0,0,{"$f":"COUNT($AJ$2:INDEX(AJ:AJ,MATCH(9.99999999999999E+307,AJ:AJ)))","v":34},-1.1,-0.10000000000000009,-0.10000000000000009,-1.1,-1.1,-0.10000000000000009,-1.1,0.8999999999999999,-1.1,-1.1,-0.6000000000000002,{"$f":"COUNT($AV$2:INDEX(AV:AV,MATCH(9.99999999999999E+307,AV:AV)))","v":34},"F",28,"F",2]
["TB101",0.44620000000000104,0.026199999999999335,-2.0097999999999985,-1.8817999999999984,-1.7147999999999985,-1.8747999999999987,-2.0337999999999994,-1.162799999999999,-2.7787999999999986,-2.386799999999999,-1.537099999999999,"se",-2.351800000000001,1.4962000000000018,1.4322000000000017,-2.471799999999998,-1.0648000000000017,-3.1128,0.11220000000000141,-1.0797999999999988,1.9202000000000012,-1.3277999999999999,-0.6447999999999994,"se",-0.2,0.8,0.8,-0.2,-0.2,-0.2,0.8,-0.2,0.8,0.8,0.3,"se",2.2,0.19999999999999996,0.19999999999999996,-0.8,1.2,-0.8,0.19999999999999996,0.19999999999999996,1.2,-0.8,0.3000000000000001,"se","F",31,"F",2]
["AA101",-1.5685000000000002,-2.0395000000000003,-2.576500000000001,-2.384500000000001,-1.8955000000000002,-4.0075,-2.4235000000000007,-3.0555000000000003,-3.1275000000000013,-2.7125000000000004,-2.5791000000000013,"se",-4.796399999999998,-2.2683999999999997,-5.724399999999999,-3.6354000000000006,-2.9883999999999986,-3.6433999999999997,-2.7643999999999984,-4.659399999999998,-3.883399999999998,-2.180399999999999,-3.654399999999999,"se",0,0,0,0,0,0,0,0,0,0,0,"se",-0.7,-0.7,-0.7,-0.7,1.3,-0.7,-0.7,1.3,1.3,-0.7,-0.09999999999999994,null,"M",26,"F",2]
["AP102",-1.7439999999999998,-1.2950000000000017,-1.3999999999999986,-2.3919999999999995,-1.9170000000000016,-1.5919999999999987,-1.4170000000000016,-1.7040000000000006,1.3679999999999986,0.4089999999999989,-1.1684000000000005,{"$f":"M17/SQRT(M19)","v":0.25016118308511365},1.257799999999996,-2.2682000000000038,-4.447200000000006,-4.484200000000005,-0.6982000000000035,0.7697999999999965,0.9597999999999942,-1.4122000000000057,-2.5102000000000046,0.14179999999999637,-1.2691000000000046,{"$f":"Y17/SQRT(Y19)","v":0.45258570070703896},-0.2,-0.2,-0.2,-0.2,-0.2,-0.2,-0.2,-0.2,-0.2,-0.2,-0.19999999999999998,{"$f":"AK17/SQRT(AK19)","v":0.022925631188190933},-0.1,-0.1,-0.1,-0.1,-0.1,-0.1,-0.1,-0.1,-0.1,-0.1,-0.09999999999999999,{"$f":"AW17/SQRT(AW19)","v":0.09001735761689976},"F",26,"F",2]
["DS101",0.6668000000000003,-0.23719999999999963,-0.029200000000001225,0.03479999999999883,-0.9972000000000012,-1.5852000000000004,-0.3412000000000006,-1.5732,-1.5031999999999996,-1.5172000000000008,-0.7082000000000004,"change ex- nonex",0.806599999999996,5.107599999999998,2.5505999999999958,2.087599999999995,-1.9784000000000006,-2.1704000000000008,-1.794400000000003,0.5475999999999956,-0.5924000000000049,1.0545999999999935,0.5618999999999964,"change ex- nonex",-0.2,-0.2,-0.2,-0.2,-0.2,2.8,-0.2,-0.2,-0.2,-0.2,0.1,"change ex- nonex",-0.3,0.7,-0.3,-0.3,-0.3,-0.3,-0.3,-0.3,0.7,0.7,0,"change ex- nonex","F",28,"T",2]
["DZ101",-1.3687000000000022,-1.7437000000000022,-1.2077000000000027,1.3032999999999966,3.9762999999999984,4.751299999999997,3.5112999999999985,3.5192999999999977,5.103299999999997,5.031299999999998,2.2875999999999976,{"$f":"AVERAGE($L$2:INDEX(L:L,MATCH(9.99999999999999E+307,L:L)))-'high BMI-nonex'!M15","v":0},-2.1100000000000065,-3.896000000000008,0.44899999999999096,-1.4080000000000084,0.9849999999999923,2.776999999999994,1.5609999999999928,-2.718000000000007,-1.9760000000000062,-0.8960000000000079,-0.7232000000000074,{"$f":"AVERAGE($X$2:INDEX(X:X,MATCH(9.99999999999999E+307,X:X)))-'high BMI-nonex'!Y15","v":0},0,0,0,0,0,0,0,0,0,0,0,{"$f":"AVERAGE($AJ$2:INDEX(AJ:AJ,MATCH(9.99999999999999E+307,AJ:AJ)))-'high BMI-nonex'!AK15","v":0},0.7,-0.3,0.7,-0.3,1.7,-0.3,-0.3,0.7,-0.3,-0.3,0.20000000000000004,{"$f":"AVERAGE($AV$2:INDEX(AV:AV,MATCH(9.99999999999999E+307,AV:AV)))-'high BMI-nonex'!AW15","v":0},"F",25.6,"F",2]
["EJ101",-3.2192000000000007,-2.3622000000000014,-3.6982000000000035,-4.154200000000003,-3.9542,-4.923200000000001,-2.4912000000000027,-3.282200000000003,-2.8342000000000027,-3.2982000000000014,-3.421700000000002,"se of ex and non ex",-6.55650000000001,-7.744500000000013,-2.7265000000000086,-4.398500000000013,-4.75950000000001,-5.109500000000011,-5.926500000000011,-5.369500000000013,-3.383500000000012,-7.278500000000012,-5.325300000000011,"se of ex and non ex",-0.1,-0.1,-0.1,-0.1,-0.1,-0.1,-0.1,-0.1,-0.1,-0.1,-0.09999999999999999,"se of ex and non ex",0.7,-0.3,0.7,0.7,0.7,-0.3,-0.3,-0.3,-0.3,-0.3,0.1,"se of ex and non ex","F",29,"F",2]
["ER101",-0.786999999999999,-0.5,0.16500000000000092,-0.0600000000000005,-0.03599999999999959,-0.3550000000000004,0.1490000000000009,-0.4989999999999988,0.06799999999999962,0.005000000000000782,-0.1849999999999996,{"$f":"SQRT(((M17*M17)/M19)+(('high BMI-nonex'!M17*'high BMI-nonex'!M17)/'high BMI-nonex'!M19))","v":0.3537813378982666},-2.1237000000000066,-1.6347000000000058,-0.7547000000000033,-0.37070000000000647,-4.274700000000006,0.3482999999999947,-1.179700000000004,4.204299999999996,-0.8677000000000064,-2.6517000000000053,-0.9305000000000053,{"$f":"SQRT(((Y17*Y17)/Y19)+(('high BMI-nonex'!Y17*'high BMI-nonex'!Y17)/'high BMI-nonex'!Y19))","v":0.640052836076025},0,0,0,0,0,0,0,1,0,0,0.1,{"$f":"SQRT(((AK17*AK17)/AK19)+(('high BMI-nonex'!AK17*'high BMI-nonex'!AK17)/'high BMI-nonex'!AK19))","v":0.032421738552303236},-0.2,-0.2,1.8,0.8,-0.2,-0.2,-0.2,0.8,1.8,-0.2,0.4,{"$f":"SQRT(((AW17*AW17)/AW19)+(('high BMI-nonex'!AW17*'high BMI-nonex'!AW17)/'high BMI-nonex'!AW19))","v":0.12730376799080867},"F",27,"F",2]
["IH101",-1.2464999999999975,-1.0944999999999965,-0.6934999999999967,-1.7014999999999976,-2.5894999999999975,0.6265000000000036,-2.5894999999999975,-2.3174999999999972,-2.3974999999999973,-1.5894999999999975,-1.5592999999999972,"p-value ttest after exercise",-1.6281000000000034,-8.283100000000005,1.6198999999999941,-3.451100000000004,-5.548100000000005,-6.161100000000005,-0.5241000000000042,-6.868100000000005,-3.356100000000005,-1.6111000000000004,-3.581100000000004,"p-value ttest after exercise",0,0,0,0,0,0,0,0,0,0,0,"p-value ttest after exercise",1.6,-0.3999999999999999,1.6,-1.4,-0.3999999999999999,-1.4,-0.3999999999999999,-1.4,-1.4,-0.3999999999999999,-0.3999999999999999,"p-value ttest after exercise","F",33,"T",2]
["JD101",-3.2691999999999943,-4.116199999999996,-3.0921999999999947,-4.1961999999999975,-1.7701999999999956,-3.572199999999995,-3.9081999999999972,-3.907199999999996,-5.651199999999996,-4.819199999999995,-3.8301999999999956,{"$f":"TDIST(ABS(M15)/M22, (M19-1),2)","v":2.5606916460151005E-7},-3.144300000000001,-1.6163000000000025,-0.8083000000000027,-2.287300000000002,-1.288300000000003,-2.383300000000002,-3.344300000000004,-2.9203000000000046,-3.7363000000000035,1.1366999999999976,-2.039200000000003,{"$f":"TDIST(ABS(Y15)/Y22, (Y19-1),2)","v":1.9614386136295903E-7},0,0,0,0,0,0,1,0,0,0,0.1,{"$f":"TDIST(ABS(AK15)/AK22, (AK19-1),2)","v":0.8986965178862834},-0.2,-0.2,-0.2,-0.2,-0.2,-0.2,-0.2,-0.2,-0.2,0.8,-0.09999999999999998,{"$f":"TDIST(ABS(AW15)/AW22, (AW19-1),2)","v":0.758210568736638},"M",29,"F",2]
["JG101",-3.0424000000000007,-2.6594000000000015,-2.9064000000000014,-2.9154000000000018,-2.8114000000000026,-3.7714,-4.171400000000002,-4.067400000000003,-3.8194000000000017,-3.9074000000000026,-3.407200000000002,"p-value ttest change with exercise vs change with nonex",-3.6259999999999977,-4.683,-2.186,-2.213000000000001,-4.035000000000004,-4.011000000000003,-2.618000000000002,-4.042000000000002,-4.873999999999999,-2.2830000000000013,-3.4571000000000014,"p-value ttest change with exercise vs change with nonex",0,0,0,0,0,0,0,0,0,0,0,"p-value ttest change with exercise vs change with nonex",-0.5,-0.5,-0.5,1.5,0.5,1.5,0.5,-0.5,-1.5,0.5,0.1,"p-value ttest change with exercise vs change with nonex","M",28,"T",2]
["JP101",-1.0299999999999994,-1.302999999999999,-2.134999999999998,-1.2619999999999987,-2.677999999999999,-2.4319999999999986,-2.1499999999999986,-2.804999999999998,-2.8019999999999996,-3.0409999999999986,-2.1637999999999984,{"$f":"TTEST(L15:L35,'high BMI-nonex'!L15:L27,2,3)","v":0.2406655623113782},-7.080500000000001,-10.444500000000005,-7.560500000000005,-1.407500000000006,-5.087500000000006,2.6084999999999994,-9.616500000000002,-1.7125000000000057,-0.4475000000000051,-12.343500000000006,-5.309200000000004,{"$f":"TTEST(X15:X35,'high BMI-nonex'!X15:X27,2,3)","v":0.4391803289656201},0,0,0,0,0,0,0,0,0,0,0,{"$f":"TTEST(AJ15:AJ35,'high BMI-nonex'!AJ15:AJ27,2,3)","v":0.3418781402909954},-0.3,-0.3,-0.3,-0.3,-0.3,-0.3,-0.3,0.7,-0.3,-0.3,-0.2,{"$f":"TTEST(AV15:AV35,'high BMI-nonex'!AV15:AV27,2,3)","v":0.7128036019780245},"F",37,"F",2]
["MD101",-5.166400000000003,-5.189400000000003,-6.596400000000003,-5.726400000000002,-6.5014,-2.269400000000001,-4.3504000000000005,-5.790400000000002,-7.702400000000001,-7.366400000000002,-5.665900000000001,"high BMI vs normal BMI",-4.354599999999998,-5.7806,-5.368600000000001,-6.618600000000001,-4.755599999999998,-4.897600000000001,-2.4756,-3.6525999999999996,-3.3065999999999995,-4.9705999999999975,-4.618099999999999,"high BMI vs normal BMI",0,0,0,0,0,0,0,0,0,0,0,"high BMI vs normal BMI",2.4,0.4,0.4,-0.6,-0.6,1.4,1.4,2.4,0.4,0.4,0.8,"high BMI vs normal BMI","M ",29,"F",2]
["MK101",-0.4549999999999983,-1.3049999999999997,-0.5309999999999988,-2.488999999999999,-1.1289999999999978,-2.2639999999999993,-1.320999999999998,-2.7279999999999998,-1,-1,-1.422199999999999,{"$f":"TTEST(L15:L35,'normal BMI'!L15:L66,2,3)","v":0.22155485449008708},-4.384599999999999,-8.120599999999996,-8.816599999999994,-6.431599999999996,-3.279599999999995,-7.232599999999998,-8.359599999999993,-7.623599999999996,-9.280599999999993,-9.380599999999994,-7.290999999999995,{"$f":"TTEST(X15:X35,'normal BMI'!X15:X66,2,3)","v":0.8445636798884132},-0.4,-0.4,-0.4,-0.4,-0.4,-0.4,-0.4,-0.4,-0.4,-0.4,-0.39999999999999997,{"$f":"TTEST(AJ15:AJ35,'normal BMI'!AJ15:AJ66,2,3)","v":0.5783064450547661},-0.2,-0.2,-0.2,-0.2,0.8,-0.2,-0.2,-0.2,-0.2,0.8,0,{"$f":"TTEST(AV15:AV35,'normal BMI'!AV15:AV66,2,3)","v":0.8694050200457009},"F",31,"F",2]
["OB101",2.0431000000000026,-0.6848999999999954,-3.268899999999995,-6.197899999999997,-4.7488999999999955,-5.348899999999997,-1.2438999999999965,-5.685899999999997,-4.884899999999995,-6.045899999999996,-3.6066999999999965,null,-1.6026000000000096,-10.177600000000005,-14.338600000000007,-11.259600000000006,-11.651600000000009,-13.787600000000005,-8.37960000000001,-14.43460000000001,-10.62660000000001,-20.109600000000007,-11.636800000000008,null,0,0,0,0,0,0,0,0,0,0,0,null,-0.6,-0.6,-0.6,-0.6,-0.6,-0.6,-0.6,0.4,-0.6,-0.6,-0.5,null,"F",30.26,"F",2]
["RB101",-2.9266000000000005,-1.6305999999999976,-1.8065999999999995,-2.9586000000000006,-1.637599999999999,-3.358599999999999,-2.2866,-2.278600000000001,-2.262599999999999,1.5774000000000008,-1.9568999999999996,null,-3.511000000000003,-2.982000000000003,-1.2860000000000014,-1.3440000000000012,-0.36400000000000077,0.9039999999999999,-1.7590000000000003,-3.215,-3.3160000000000025,-3.803000000000001,-2.0676000000000014,null,-0.1,-0.1,-0.1,-0.1,-0.1,-0.1,-0.1,-0.1,-0.1,-0.1,-0.09999999999999999,null,-0.19999999999999996,-1.2,-0.19999999999999996,-0.19999999999999996,-0.19999999999999996,-0.19999999999999996,-1.2,-1.2,-1.2,-1.2,-0.7,null,"F",28.3,"T",2]
["SGJ101",-1.742099999999997,-1.231099999999996,-0.8630999999999975,-0.8780999999999963,-1.6530999999999967,-1.319099999999997,-1.9200999999999961,-0.6790999999999965,-2.1730999999999963,-1.8390999999999966,-1.4297999999999966,null,-5.0517,-0.19069999999999965,-5.273700000000002,-2.0147000000000013,-1.2937000000000012,-1.861699999999999,0.29529999999999745,5.2342999999999975,-4.154700000000002,3.762299999999996,-1.0549000000000013,null,-0.3,-0.3,0.7,-0.3,-0.3,-0.3,-0.3,-0.3,-0.3,-0.3,-0.2,null,-1,1,-1,-1,-1,-1,-1,0,-1,0,-0.6,null,"F",26,"F",2]

{"sheet":"normal BMI-nonex","index":23,"n_rows":70,"n_cols":53,"rows_kept":70}
["ID (reds lack HR data)","%change-c-1","%change-c-2","%change-c-3","%change-c-4","%change-c-5","%change-c-6","%change-c-7","%change-c-8","%change-c-9","%change-c-10","%change-c-avg","congruent","%change-i-1","%change-i-2","%change-i-3","%change-i-4","%change-i-5","%change-i-6","%change-i-7","%change-i-8","%change-i-9","%change-i-10","%change-i-avg","incongruent","diff-err-c-1","diff-err-c-2","diff-err-c-3","diff-err-c-4","diff-err-c-5","diff-err-c-6","diff-err-c-7","diff-err-c-8","diff-err-c-9","diff-err-c-10","avg-change-err-c","avg-err-c","diff-err-i-1","diff-err-i-2","diff-err-i-3","diff-err-i-4","diff-err-i-5","diff-err-i-6","diff-err-i-7","diff-err-i-8","diff-err-i-9","diff-err-i-10","avg-change-err-i","avg-err-i","Gender","BMI","ADD","Paradigm"]
["AA102-nonexercise",0.045300000000001006,-0.9986999999999995,-1.2766999999999982,1.4343000000000004,3.5293000000000028,3.7733000000000025,2.4893,-0.839699999999997,1.3343000000000025,0.8333000000000013,1.0324000000000015,{"$f":"AVERAGE($L$2:INDEX(L:L,MATCH(9.99999999999999E+307,L:L)))","v":-2.3565217391304345},-5.813900000000004,0.052099999999995816,0.2370999999999981,-2.1019000000000077,-3.665900000000004,-1.8699000000000083,-0.130900000000004,-1.9679000000000073,0.6870999999999938,1.778099999999995,-1.2796000000000052,{"$f":"AVERAGE($X$2:INDEX(X:X,MATCH(9.99999999999999E+307,X:X)))","v":-3.343794202898549},-0.7,0.30000000000000004,-0.7,-0.7,0.30000000000000004,0.30000000000000004,-0.7,-0.7,0.30000000000000004,0.30000000000000004,-0.09999999999999999,{"$f":"AVERAGE($AJ$2:INDEX(AJ:AJ,MATCH(9.99999999999999E+307,AJ:AJ)))","v":0.006521739130434787},-2,-0.20000000000000018,1,2,0,-2,-2,0,1,-2,-0.21000000000000002,{"$f":"AVERAGE($AV$2:INDEX(AV:AV,MATCH(9.99999999999999E+307,AV:AV)))","v":-0.02086956521739131},"F",21,"F",1]
["CJ101-nonexercise",-1.185500000000001,-2.0474999999999994,-3.0554999999999986,-3.8575,-4.4085,-3.4654999999999987,-4.1455,-4.657499999999999,-3.531500000000001,-4.4975000000000005,-3.4852,"stdev",-0.18730000000000757,-1.9613000000000085,-2.650300000000005,-3.9123000000000054,-2.2023000000000046,-2.385300000000008,-3.674300000000006,-3.760300000000008,-5.0423000000000044,-4.057300000000005,-2.983300000000006,"stdev",-0.1,-0.1,-0.1,-0.1,-0.1,-0.1,-0.1,-0.1,-0.1,-0.1,-0.049999999999999996,"stdev",0,0,-1,-1,0,0,0,-1,0,0,-0.15,"stdev","M",25,"F",1]
["DD101-nonexercise",-0.9518000000000004,-0.9268000000000001,-1.2558000000000007,-0.7548000000000012,-1.1118000000000006,0.27120000000000033,-1.5678,0.5442,-1.6158000000000001,-1.4478000000000009,-0.8817000000000004,{"$f":"STDEV($L$2:INDEX(L:L,MATCH(9.99999999999999E+307,L:L)))","v":2.2996373079677004},-8.149900000000002,-0.4859000000000009,1.129100000000001,-1.008899999999997,-3.109899999999996,-9.678899999999999,-2.0538999999999987,-3.3018999999999963,-6.734899999999996,-3.262900000000002,-3.6657999999999986,{"$f":"STDEV($X$2:INDEX(X:X,MATCH(9.99999999999999E+307,X:X)))","v":3.67725260242273},0,0,0,0,0,0,0,0,0,0,0,{"$f":"STDEV($AJ$2:INDEX(AJ:AJ,MATCH(9.99999999999999E+307,AJ:AJ)))","v":0.125121424400419},0,0.30000000000000004,-1,1,-1,-1,1,-1,-1,1,-0.085,{"$f":"STDEV($AV$2:INDEX(AV:AV,MATCH(9.99999999999999E+307,AV:AV)))","v":0.48701443127076277},"M",22,"T",1]
["FA102-nonexercise",0.40149999999999864,0.10649999999999693,-0.10150000000000148,-2.4215000000000018,-2.1015000000000033,-0.7175000000000011,-1.534500000000003,-0.029500000000002302,-1.470500000000003,-1.0935000000000024,-0.8962000000000023,"n",-3.243000000000002,-1.820999999999998,-4.2109999999999985,0.08500000000000085,-6.562999999999999,-2.811,0.5410000000000039,-4.186999999999998,-7.411000000000001,1.564,-2.805699999999999,"n",0.9,-0.1,-0.1,-0.1,-0.1,-0.1,-0.1,0.9,-0.1,-0.1,0.05,"n",-1,-1.5,0,-1,-3,-1,-3,-2,-1,-3,-0.825,"n","F",21,"F",1]
["JH102-nonexercise",-0.4320000000000004,0.6219999999999999,-0.005000000000000782,-0.6289999999999996,-1.17,-0.5310000000000006,-1.5009999999999994,-0.5419999999999998,-1.436,-0.979000000000001,-0.6603000000000001,{"$f":"COUNT($L$2:INDEX(L:L,MATCH(9.99999999999999E+307,L:L)))","v":69},-1.072899999999997,-2.075899999999997,-0.5448999999999948,-3.061899999999998,0.6391000000000027,-1.7088999999999963,2.0911000000000044,4.629100000000005,5.323100000000004,1.9311000000000043,0.6149000000000037,{"$f":"COUNT($X$2:INDEX(X:X,MATCH(9.99999999999999E+307,X:X)))","v":69},0,1,0,0,0,0,0,0,0,0,0.05,{"$f":"COUNT($AJ$2:INDEX(AJ:AJ,MATCH(9.99999999999999E+307,AJ:AJ)))","v":69},-1,-1.5,-2,-2,-1,-2,-1,-2,-1,0,-0.675,{"$f":"COUNT($AV$2:INDEX(AV:AV,MATCH(9.99999999999999E+307,AV:AV)))","v":69},"F",19,"F",1]
["MR101-nonexercise",-0.9054000000000002,2.0756000000000014,-0.10439999999999827,0.02260000000000062,-0.9413999999999998,-0.6264000000000003,-0.23440000000000083,-1.0334000000000003,-0.02740000000000009,-1.3233999999999995,-0.30979999999999974,"se",-0.0552000000000028,-1.2312000000000012,-4.543200000000002,-3.0792000000000037,-1.8012000000000015,1.2647999999999975,-1.720200000000002,0.6487999999999978,-1.3222000000000023,-3.9512000000000036,-1.5790000000000024,"se",-0.4,-0.4,-0.4,-0.4,-0.4,-0.4,0.6,-0.4,0.6,-0.4,-0.09999999999999998,"se",1,0.5,1,2,0,1,1,0,0,1,0.375,"se","F",22,"F",1]
["RS101-nonexercise",-0.8392999999999997,-2.0603,-1.7862999999999989,-2.3193,0.05969999999999942,-0.6712999999999987,0.05369999999999919,1.6127000000000002,-1.0352999999999994,-1.5192999999999994,-0.8504999999999997,{"$f":"M4/SQRT(M6)","v":0.27684379910755336},-2.7952000000000012,-3.212200000000003,0.5017999999999958,0.9127999999999972,-1.4082000000000043,-2.2672000000000025,0.13979999999999748,-1.3522000000000034,1.6677999999999962,1.654799999999998,-0.615800000000003,{"$f":"Y4/SQRT(Y6)","v":0.44268919155452524},-0.3,-0.3,0.7,-0.3,2.7,0.7,-0.3,0.7,-0.3,-0.3,0.15000000000000005,{"$f":"AK4/SQRT(AK6)","v":0.01506284941575102},-2,-1.4,-2,-2,-2,-2,-1,-2,-1,-1,-0.82,{"$f":"AW4/SQRT(AW6)","v":0.05862964777361149},"F",25,"F",1]
["JF102-nonexercise",1.6809000000000012,-0.1480999999999959,-1.6440999999999981,-3.433099999999998,-3.2930999999999973,-2.329099999999997,-3.1190999999999978,-2.551099999999998,-3.7220999999999975,-2.7430999999999965,-2.1301999999999977,"p-value ttest after non-exercise",-0.6387,1.3312999999999988,-2.2227000000000032,-6.723700000000001,-2.9587000000000003,-4.374700000000004,-4.3247,1.1662999999999997,-1.834699999999998,-1.5566999999999993,-2.2137000000000007,"p-value ttest after exercise",1,0,0,0,0,0,0,0,0,0,0.05,"p-value ttest after exercise",1,0.2,1,2,0,0,1,1,0,2,0.41,"p-value ttest after exercise","F",23,"F",1]
["KK101-nonexercise",-2.0903999999999954,-1.4103999999999957,-2.630399999999998,-2.105399999999996,-4.106399999999997,-3.4503999999999984,-4.002399999999998,-3.138399999999997,-4.666399999999996,-4.314399999999996,-3.191499999999997,{"$f":"TDIST(ABS(M2)/M8, (M6-1),2)","v":2.5770857241387723E-12},-4.740099999999998,-3.4680999999999997,-3.277100000000001,-3.7331000000000003,-4.443099999999998,-3.6850999999999985,-3.703099999999999,-3.0920999999999985,-3.4970999999999997,-2.037099999999999,-3.5675999999999988,{"$f":"TDIST(ABS(Y2)/Y8, (Y6-1),2)","v":1.4172432914283994E-10},0,0,0,0,0,0,0,0,0,0,0,{"$f":"TDIST(ABS(AK2)/AK8, (AK6-1),2)","v":0.6664078938937752},0,0.2,0,0,0,0,0,2,0,0,0.11000000000000001,{"$f":"TDIST(ABS(AW2)/AW8, (AW6-1),2)","v":0.7229756018258355},"F",20,"T",1]
["KLA101-nonexercise",-1.725200000000001,0.3147999999999982,-1.909200000000002,-2.725200000000001,-2.3572000000000024,-1.2852000000000015,-3.021200000000002,-2.5412000000000017,-2.1092000000000013,-2.310200000000002,-1.9669000000000019,null,-0.7090999999999994,-2.9010999999999996,-5.460100000000001,-7.589100000000002,-4.110100000000003,-3.1651000000000025,-8.347100000000001,-4.020099999999999,-4.333100000000002,-4.955100000000002,-4.559000000000001,null,-0.2,-0.2,-0.2,-0.2,-0.2,-0.2,-0.2,-0.2,1.8,-0.2,0,null,-1,0.10000000000000009,-2,-1,2,0,3,-1,1,-1,5.0000000000000044E-3,null,"M",24,"F",1]
["KV101-nonexercise",1.3522000000000034,0.022200000000005105,-0.2717999999999954,0.4952000000000041,0.8242000000000047,-0.04779999999999518,-1.7927999999999962,-2.1597999999999953,-2.560799999999997,-0.6957999999999949,-0.48349999999999566,null,-2.3704,0.833599999999997,-2.4324000000000012,-1.4964000000000013,-2.4174000000000007,-1.8643999999999998,-3.176400000000001,-1.7604000000000006,-3.368400000000001,-2.416400000000003,-2.0469000000000013,null,0,0,0,0,0,0,0,0,0,0,0,null,0,0.4,0,1,0,0,0,1,0,0,0.12,null,"F",20,"F",1]
["MA101-nonexercise",0.08210000000000406,-1.8258999999999972,-1.1408999999999985,-0.6988999999999983,-1.6278999999999968,-1.3008999999999986,-1.2998999999999974,-2.300899999999997,-1.5078999999999958,-1.099899999999998,-1.2720999999999973,null,-6.302,-7.151000000000003,-5.196000000000005,3.138999999999996,-7.109999999999999,-6.694000000000003,-8.326,-6.774000000000001,-2.6709999999999994,-4.486000000000004,-5.157100000000002,null,0,0,0,0,0,0,1,0,0,0,0.05,null,1,2.1,0,0,1,2,0,0,2,1,0.45499999999999996,null,"M",25,"T",1]
["MT102-nonexercise",-0.30630000000000024,-2.210300000000002,-2.410300000000001,-2.8903000000000016,-2.7223000000000024,-2.793300000000002,-3.298300000000001,-1.915300000000002,-3.1853000000000016,-3.010300000000001,-2.4742000000000015,null,-1.743199999999998,-3.2871999999999986,-3.4151999999999987,-0.49520000000000053,-2.5281999999999982,-1.6552000000000007,-1.270199999999999,-2.5502000000000002,-1.8071999999999981,-3.118199999999998,-2.186999999999999,null,0,0,0,0,0,0,0,0,0,0,0,null,3,0.8,0,0,1,1,0,0,2,0,0.39,null,"F",23,"F",1]
["RA101-nonexercise",-1.4927999999999972,-1.0127999999999986,-2.2727999999999984,-2.1497999999999973,-1.1977999999999973,-2.7967999999999975,-2.5337999999999976,-3.053799999999997,-2.7407999999999983,-2.548799999999998,-2.1799999999999984,null,-4.217199999999998,-2.4162,-5.121199999999998,-1.9192,-1.3762000000000008,-2.1271999999999984,-4.401199999999999,-3.6241999999999983,-2.6402,-6.097200000000001,-3.3939999999999997,null,0,0,0,0,1,0,1,0,0,0,0.1,null,0,0.7,0,1,0,0,1,2,1,1,0.335,null,"F",23,"T",1]
["RO101-nonexercise",-0.28910000000000124,1.0708999999999982,-0.5771000000000015,3.5428999999999995,-1.217100000000002,-0.5610999999999997,-1.9850999999999992,-3.5451000000000015,0.8058999999999976,-4.809100000000001,-0.7564000000000011,null,-5.007399999999997,-4.038399999999996,6.816600000000008,-3.2553999999999945,4.017600000000009,-1.1983999999999924,-6.247399999999992,-2.2953999999999937,-5.127399999999994,-5.686399999999992,-2.2021999999999933,null,-0.3,-0.3,-0.3,0.7,-0.3,-0.3,-0.3,-0.3,-0.3,-0.3,-0.1,null,5,1.5,0,0,0,-4,-3,-2,-3,-4,-0.475,null,"F",24,"F",1]
["TP101-nonexercise",-0.5356999999999985,-3.8307,-5.559699999999999,-6.5676999999999985,-6.3767,-6.3277,-5.654699999999998,-4.375699999999998,-8.247699999999998,-9.543699999999998,-5.701999999999998,null,-3.0896000000000043,-4.153600000000004,-4.3446,-0.9626000000000019,-4.089600000000004,-0.9136000000000024,-3.0185999999999993,-3.7306000000000026,-1.401600000000002,-1.1066000000000003,-2.681100000000002,null,0,0,0,0,0,0,0,1,0,0,0.05,null,-1,0.3999999999999999,0,1,1,1,-1,4,4,0,0.47000000000000003,null,"F",20,"F",1]
["YS102-nonexercise",-2.2013999999999996,-2.7493999999999996,-2.045399999999999,-1.1333999999999982,-2.8773999999999997,-2.7733999999999988,-3.4773999999999994,-1.1153999999999993,-3.0543999999999993,-3.933399999999999,-2.5361,null,-13.841800000000003,-12.857800000000001,-6.937800000000003,-7.194800000000001,-6.201799999999999,-3.0748000000000033,-10.201800000000002,-9.5058,-5.752800000000001,-10.919800000000002,-8.648900000000003,null,-0.1,-0.1,-0.1,-0.1,-0.1,-0.1,-0.1,0.9,-0.1,-0.1,0,null,-1,-1.4,-4,-2,-3,-3,1,1,-2,-1,-0.77,null,"M",23,"F",1]
["AA102",-2.039900000000003,-2.8479000000000028,-2.1959000000000017,-4.177900000000005,-1.8279000000000032,-2.779900000000005,-2.1489000000000047,-1.5709000000000017,-3.291900000000002,-2.8129000000000026,-2.569400000000003,{"$f":"AVERAGE($L$2:INDEX(L:L,MATCH(9.99999999999999E+307,L:L)))","v":-2.3565217391304345},-8.203400000000006,-1.867400000000007,-1.8514000000000053,-2.050400000000007,-3.588400000000007,-6.099400000000006,-3.6344000000000065,-5.875400000000006,-0.13740000000000663,2.21459999999999,-3.109300000000007,{"$f":"AVERAGE($X$2:INDEX(X:X,MATCH(9.99999999999999E+307,X:X)))","v":-3.343794202898549},0.9,0.9,-0.1,0.9,-0.1,0.9,0.9,0.9,-0.1,0.9,0.6000000000000001,{"$f":"AVERAGE($AJ$2:INDEX(AJ:AJ,MATCH(9.99999999999999E+307,AJ:AJ)))","v":0.006521739130434787},0.8999999999999999,-1.1,0.8999999999999999,-0.10000000000000009,-0.10000000000000009,-2.1,-2.1,-2.1,-1.1,0.8999999999999999,-0.6,{"$f":"AVERAGE($AV$2:INDEX(AV:AV,MATCH(9.99999999999999E+307,AV:AV)))","v":-0.02086956521739131},"F",21,"F",2]
["DD101",0.5299999999999994,-0.8209999999999997,-1.0649999999999995,-1.9290000000000003,-1.3130000000000006,-1.783999999999999,-0.4689999999999994,-0.6349999999999998,-1.472999999999999,-1.6479999999999997,-1.0606999999999998,"stdev",-8.575300000000006,-8.590300000000006,-9.294300000000007,-7.853300000000004,-8.919300000000007,-6.414300000000004,-5.282300000000006,-10.006300000000003,-10.040300000000009,-6.732300000000009,-8.170800000000005,"stdev",0,0,0,0,0,0,0,0,0,0,0,"stdev",-0.10000000000000009,-1.1,-1.1,-0.10000000000000009,-0.10000000000000009,-1.1,-1.1,-0.10000000000000009,-0.10000000000000009,-0.10000000000000009,-0.5,"stdev","M",23,"T",2]
["FA102",0.04680000000000106,1.8818000000000001,-0.27119999999999855,0.8298000000000005,-0.20319999999999894,-0.5381999999999998,1.9528000000000016,-0.3581999999999983,0.655800000000001,1.7158000000000015,0.571200000000001,{"$f":"STDEV($L$2:INDEX(L:L,MATCH(9.99999999999999E+307,L:L)))","v":2.2996373079677004},-1.3236999999999988,-1.8176999999999985,0.47630000000000194,1.5702999999999996,0.1363000000000021,-1.4426999999999985,-1.6496999999999993,7.5383,1.3573000000000022,1.5962999999999994,0.644100000000001,{"$f":"STDEV($X$2:INDEX(X:X,MATCH(9.99999999999999E+307,X:X)))","v":3.67725260242273},-0.1,0.9,-0.1,0.9,-0.1,-0.1,-0.1,-0.1,1.9,0.9,0.39999999999999997,{"$f":"STDEV($AJ$2:INDEX(AJ:AJ,MATCH(9.99999999999999E+307,AJ:AJ)))","v":0.125121424400419},0,-1,2,3,2,2,-1,5,1,3,1.6,{"$f":"STDEV($AV$2:INDEX(AV:AV,MATCH(9.99999999999999E+307,AV:AV)))","v":0.48701443127076277},"F",21,"F",2]
["JH102",-1.6064999999999987,-1.9085,-2.2264999999999997,-1.2584999999999997,-2.3765,-2.0924999999999994,-2.0554999999999986,-1.6914999999999996,-2.4274999999999984,-1.4565000000000001,-1.9099999999999995,"n",-1.0425000000000004,-5.6525,-4.984500000000001,-3.730500000000003,-0.9905000000000008,0.16249999999999787,-3.146500000000003,0.1454999999999984,-0.9555000000000007,-4.080500000000001,-2.427500000000001,"n",-0.1,-0.1,-0.1,-0.1,-0.1,-0.1,-0.1,-0.1,-0.1,-0.1,-0.09999999999999999,"n",-0.4,-0.4,-0.4,-0.4,-0.4,-0.4,-0.4,0.6,-0.4,0.6,-0.19999999999999996,"n","F",19,"F",2]
["MR101",0.7879000000000005,-1.5320999999999998,-1.653100000000002,-1.6611000000000011,-2.5411,-2.5901000000000014,-2.1981,-3.020100000000001,-2.9261000000000017,-3.3161000000000005,-2.0650000000000004,{"$f":"COUNT($L$2:INDEX(L:L,MATCH(9.99999999999999E+307,L:L)))","v":69},-5.402300000000004,-7.627300000000002,-3.4913000000000025,-0.6433000000000035,-4.6433000000000035,-3.2753000000000014,-3.7253000000000043,-5.068300000000004,-6.163300000000003,-6.9323000000000015,-4.697200000000002,{"$f":"COUNT($X$2:INDEX(X:X,MATCH(9.99999999999999E+307,X:X)))","v":69},0,0,0,0,0,0,0,0,0,0,0,{"$f":"COUNT($AJ$2:INDEX(AJ:AJ,MATCH(9.99999999999999E+307,AJ:AJ)))","v":69},0.7,-0.3,1.7,1.7,1.7,1.7,1.7,-0.3,-0.3,0.7,0.8999999999999998,{"$f":"COUNT($AV$2:INDEX(AV:AV,MATCH(9.99999999999999E+307,AV:AV)))","v":69},"F",22,"F",2]
["RS101",-8.411999999999995,-9.364999999999995,-11.238999999999994,-12.287999999999997,-9.646999999999995,-9.617999999999995,-11.752999999999997,-10.605999999999995,-9.601999999999997,-8.347999999999995,-10.087799999999998,"se",2.0245999999999995,-9.3874,-8.9134,-6.692399999999999,-8.9374,-5.9974000000000025,-6.5564,-7.397400000000001,-6.7104,-4.004400000000004,-6.257200000000001,"se",0,0,0,0,0,0,0,0,0,0,0,"se",1.4,0.4,0.4,0.4,-0.6,0.4,-0.6,-0.6,0.4,2.4,0.3999999999999999,"se","F",25,"F",2]
["SN102",0.061599999999998545,-1.6364000000000019,-1.4193999999999996,-3.1244000000000014,-1.708400000000001,-1.8764000000000003,0.0686,0.10060000000000002,-1.6274000000000015,-1.6354000000000006,-1.2797000000000007,"se",2.0245999999999995,-9.3874,-8.9134,-6.692399999999999,-8.9374,-5.9974000000000025,-6.5564,-7.397400000000001,-6.7104,-4.004400000000004,-6.257200000000001,"se",0,0,0,0,0,0,0,0,0,0,0,"se",1.4,0.4,0.4,0.4,-0.6,0.4,-0.6,-0.6,0.4,2.4,0.3999999999999999,"se","F",25,"F",2]
["AI101",-1.7362000000000002,-4.246199999999998,-4.254199999999997,-4.372199999999999,-3.668199999999999,-5.222199999999999,-4.406199999999998,-6.062199999999999,-6.557199999999998,-6.013199999999999,-4.653799999999999,{"$f":"M21/SQRT(M23)","v":0.27684379910755336},-0.3783999999999992,-3.124399999999998,-2.0993999999999993,-2.9954,-1.8833999999999982,-2.9483999999999995,-2.124399999999998,-0.8443999999999967,-1.6923999999999992,-2.1793999999999976,-2.0269999999999984,{"$f":"Y21/SQRT(Y23)","v":0.44268919155452524},0,0,0,0,0,0,0,0,0,0,0,{"$f":"AK21/SQRT(AK23)","v":0.01506284941575102},-0.3,0.7,1.7,0.7,1.7,-0.3,-0.3,-0.3,-0.3,0.7,0.4000000000000001,{"$f":"AW21/SQRT(AW23)","v":0.05862964777361149},"F",20,"T",2]
["AK101",-1.4898999999999987,-3.0889000000000006,-3.1778999999999993,-3.0558999999999994,-3.642899999999999,-5.1129,-4.0579,-4.4649,-4.4338999999999995,-5.3369,-3.7861999999999996,"change ex- nonex",-3.8750999999999998,-6.591100000000001,-6.466100000000001,-1.5771000000000015,-4.147100000000002,0.3569000000000031,-2.795099999999998,-3.251100000000001,-4.906099999999999,-5.459099999999999,-3.8710999999999998,"change ex- nonex",0,0,0,0,0,0,0,0,0,0,0,"change ex- nonex",-0.2,-0.2,-0.2,-0.2,-0.2,-0.2,-0.2,-0.2,-0.2,-0.2,-0.19999999999999998,"change ex- nonex","F",19,"F",2]
["AMP101",-3.3124000000000002,-3.1693999999999996,-2.203400000000002,-2.673400000000001,-4.071400000000001,-3.775400000000001,-3.041400000000003,-3.3933999999999997,-3.4664,-2.993400000000001,-3.210000000000001,{"$f":"AVERAGE($L$2:INDEX(L:L,MATCH(9.99999999999999E+307,L:L)))-'normal BMI-nonex'!M19","v":0},-2.6395000000000017,2.296499999999998,-4.7225,-5.9765000000000015,-3.968499999999999,-4.224499999999999,-1.0545000000000009,-1.3374999999999986,-2.8805000000000014,-4.4955,-2.9003000000000005,{"$f":"AVERAGE($X$2:INDEX(X:X,MATCH(9.99999999999999E+307,X:X)))-'normal BMI-nonex'!Y19","v":0},0,0,0,0,0,0,0,0,0,0,0,{"$f":"AVERAGE($AJ$2:INDEX(AJ:AJ,MATCH(9.99999999999999E+307,AJ:AJ)))-'normal BMI-nonex'!AK19","v":0},0,1,0,0,0,0,1,0,0,0,0.2,{"$f":"AVERAGE($AV$2:INDEX(AV:AV,MATCH(9.99999999999999E+307,AV:AV)))-'normal BMI-nonex'!AW19","v":0},"F",21.97,"F",2]
["AP101",-3.669599999999999,0.08040000000000092,-1.7896,1.112400000000001,0.436399999999999,-2.3785999999999987,-0.21359999999999957,-0.8016000000000005,0.34639999999999915,3.6494,-0.3227999999999998,"se of ex and non ex",3.044699999999999,-6.798299999999998,-2.2182999999999993,-5.642299999999999,-3.7882999999999996,-6.927299999999995,-3.412299999999995,-7.564299999999996,-4.0623000000000005,-7.972299999999997,-4.534099999999998,"se of ex and non ex",0,0,0,0,0,0,0,0,0,0,0,"se of ex and non ex",3.7,-0.3,1.7,-0.3,-0.3,-0.3,-0.3,0.7,0.7,0.7,0.6000000000000002,"se of ex and non ex","F",22,"F",2]
["AS102",-0.1685000000000052,-2.0815000000000037,-1.2935000000000052,-0.8375000000000021,-1.6105000000000018,-1.425500000000003,-3.329500000000003,-4.260500000000004,-2.659500000000003,-4.300500000000003,-2.1967000000000034,{"$f":"SQRT(((M21*M21)/M23)+(('normal BMI-nonex'!M21*'normal BMI-nonex'!M21)/'normal BMI-nonex'!M23))","v":0.3915162553567945},-3.5245000000000033,-2.9395000000000024,-5.5794999999999995,-3.3644999999999996,-6.1785,-0.5065000000000026,-2.2515,-5.2515,-5.1465,-4.147500000000001,-3.8890000000000007,{"$f":"SQRT(((Y21*Y21)/Y23)+(('normal BMI-nonex'!Y21*'normal BMI-nonex'!Y21)/'normal BMI-nonex'!Y23))","v":0.6260570586123906},-0.1,-0.1,-0.1,-0.1,-0.1,-0.1,1.9,-0.1,-0.1,-0.1,0.09999999999999996,{"$f":"SQRT(((AK21*AK21)/AK23)+(('normal BMI-nonex'!AK21*'normal BMI-nonex'!AK21)/'normal BMI-nonex'!AK23))","v":0.021302085931738744},1.5,0.5,-0.5,-0.5,-0.5,1.5,-0.5,-0.5,-0.5,-0.5,0,{"$f":"SQRT(((AW21*AW21)/AW23)+(('normal BMI-nonex'!AW21*'normal BMI-nonex'!AW21)/'normal BMI-nonex'!AW23))","v":0.0829148430385989},"F",22,"F",2]
["BH101",-3.137600000000001,-2.093600000000002,-1.7646000000000015,-1.1986000000000008,-3.7066000000000017,-2.574600000000002,-2.8866000000000014,-2.798600000000002,-3.861600000000001,-3.896600000000001,-2.791900000000001,"p-value ttest after exercise",-6.191700000000001,-3.1936999999999998,-4.104700000000001,-2.992700000000003,-4.148700000000002,-3.8277,-3.5427,-3.6357,-3.692700000000002,-3.7947000000000024,-3.9125000000000014,"p-value ttest after exercise",1,0,0,0,0,0,0,0,0,0,0.1,"p-value ttest after exercise",-0.6,0.4,1.4,-0.6,0.4,0.4,1.4,-0.6,-0.6,2.4,0.39999999999999997,"p-value ttest after exercise","F",19,"F",2]
["CC101",-2.0967000000000002,-2.7447000000000017,-2.3507000000000016,-2.5927000000000007,-2.508700000000001,-2.1477000000000004,-2.066700000000001,-2.3087000000000018,-0.49370000000000047,-3.518700000000001,-2.2829000000000006,{"$f":"TDIST(ABS(M19)/M26, (M23-1),2)","v":2.5770857241387723E-12},-7.575800000000001,-8.582799999999999,-9.0458,-3.599800000000002,-6.837800000000001,-8.5488,-8.837800000000001,-9.358800000000002,-9.462800000000001,-12.023800000000001,-8.3874,{"$f":"TDIST(ABS(Y19)/Y26, (Y23-1),2)","v":1.4172432914283994E-10},0,0,0,0,0,0,0,0,0,0,0,{"$f":"TDIST(ABS(AK19)/AK26, (AK23-1),2)","v":0.6664078938937752},0,-2,0,-2,-1,-2,-2,0,-2,-1,-1.2,{"$f":"TDIST(ABS(AW19)/AW26, (AW23-1),2)","v":0.7229756018258355},"F",21,"T",2]
["DE101",-2.3866999999999976,-0.7396999999999991,-1.6786999999999992,-0.5946999999999996,-1.7766999999999982,-0.24769999999999825,-2.0427,-2.5626999999999995,-2.7407000000000004,-2.1327,-1.6902999999999992,"p-value ttest change with exercise vs change with nonex",-0.8170999999999964,0.14290000000000447,-3.625099999999996,-5.106099999999998,-6.166099999999997,-2.098099999999995,-4.121099999999998,-5.339099999999995,-2.9780999999999977,-2.4080999999999975,-3.2515999999999963,"p-value ttest change with exercise vs change with nonex",0,0,0,0,0,0,0,0,0,0,0,"p-value ttest change with exercise vs change with nonex",1.6,0.6,-0.4,-0.4,-0.4,-0.4,-0.4,-0.4,-0.4,0.6,0,"p-value ttest change with exercise vs change with nonex","F",25,"T",2]
["DI101",-4.084799999999998,-2.7907999999999973,-2.965799999999998,-4.277799999999999,-2.996799999999997,-2.2277999999999984,-2.9647999999999968,-2.091799999999999,-2.9567999999999977,0.7782000000000018,-2.657899999999998,{"$f":"TTEST(L19:L70,'normal BMI-nonex'!L19:L35,2,3)","v":0.8786033634770763},-7.964599999999997,-6.287599999999998,-6.136599999999994,-6.2405999999999935,-8.351599999999998,-6.083599999999997,-6.743599999999997,-7.685599999999997,-6.116599999999998,-4.805599999999998,-6.641599999999997,{"$f":"TTEST(X19:X70,'normal BMI-nonex'!X19:X35,2,3)","v":0.3087400750119089},0,0,0,0,0,0,0,0,0,0,0,{"$f":"TTEST(AJ19:AJ70,'normal BMI-nonex'!AJ19:AJ35,2,3)","v":0.17244903421125446},-1.1,0.8999999999999999,-0.10000000000000009,-1.1,-1.1,0.8999999999999999,-0.10000000000000009,-1.1,-1.1,0.8999999999999999,-0.3000000000000001,{"$f":"TTEST(AV19:AV70,'normal BMI-nonex'!AV19:AV35,2,3)","v":0.628770883110898},"F",23,"F",2]
["DJ101",-1.6068000000000016,1.5451999999999977,0.25619999999999976,-1.1108000000000011,-1.0948000000000029,2.336199999999998,-0.7667999999999999,-0.3998000000000026,-0.038800000000001944,0.7362000000000002,-0.014400000000001434,null,-3.4695999999999927,-7.060599999999994,-3.684599999999989,-4.060599999999994,1.626400000000011,-3.877599999999994,-2.069599999999994,-7.268599999999992,-1.7005999999999872,-4.20559999999999,-3.5770999999999917,null,0,0,0,0,0,0,0,0,0,1,0.1,null,-0.10000000000000009,-1.1,-1.1,-0.10000000000000009,-0.10000000000000009,-0.10000000000000009,0.8999999999999999,-1.1,-1.1,-1.1,-0.5000000000000001,null,"F",23,"T",2]
["DP101",-2.2117999999999967,-2.492799999999999,0.027200000000000557,-4.204799999999999,-1.5427999999999962,3.8572000000000024,-4.123799999999999,-2.861799999999999,-1.1067999999999962,-4.726799999999997,-1.9386999999999979,null,-1.0238000000000014,-3.230800000000002,-1.3278000000000034,3.1522000000000006,-1.0488,-3.7118000000000038,-0.4397999999999982,-1.8318000000000012,-35.4318,3.336199999999998,-4.155800000000001,null,-0.3,-0.3,-0.3,-0.3,-0.3,0.7,-0.3,-0.3,-0.3,-0.3,-0.2,null,-0.9,-0.9,1.1,0.09999999999999998,-0.9,0.09999999999999998,0.09999999999999998,-0.9,1.1,-0.9,-0.19999999999999996,null,"M",25,"F",2]
["DST102",-2.3280999999999974,-1.8720999999999979,-1.423099999999998,-2.553099999999997,-2.439099999999998,-1.9280999999999988,-2.7680999999999987,-2.9290999999999983,-1.8480999999999987,-2.8160999999999987,-2.2904999999999984,null,-7.153199999999998,-7.545199999999998,-0.8151999999999973,-4.577199999999998,-4.9132,-1.5761999999999965,-4.377199999999998,-3.4091999999999985,-1.7121999999999993,-3.4171999999999976,-3.949599999999998,null,0,0,0,0,0,0,0,0,0,0,0,null,-0.3,-0.3,1.7,1.7,-0.3,-0.3,-0.3,0.7,0.7,-0.3,0.3,null,"F",18,"F",2]
["DT101",-7.192299999999996,-7.960299999999997,-10.936299999999997,-10.720299999999996,-12.168299999999997,-9.896299999999997,-11.817299999999996,-10.855299999999996,-9.632299999999997,-7.871299999999998,-9.904999999999998,null,-2.9343000000000004,-2.581299999999999,-0.16529999999999845,-0.15729999999999933,-2.5333000000000006,-1.9492999999999974,-3.429299999999998,-2.6843000000000004,-3.2133000000000003,-2.621299999999998,-2.226899999999999,null,0,0,0,0,0,0,0,0,0,0,0,null,1.1,1.1,1.1,0.09999999999999998,-0.9,0.09999999999999998,-0.9,1.1,-0.9,-0.9,0.10000000000000009,null,"M",22,"F",2]
["DY101",-3.310399999999998,-3.3493999999999957,-3.629399999999997,-4.950399999999998,-5.212399999999999,-5.348399999999998,-3.9423999999999957,-4.7823999999999955,-6.605399999999998,-7.174399999999997,-4.830499999999997,null,-19.247,-38.248000000000005,-33.192,-37.912,-26.168000000000006,-18.072000000000003,-33.576,-27.823999999999998,-15.616,-13.680000000000007,-26.353500000000004,null,0,0,0,0,0,0,1,0,0,0,0.1,null,-0.5,-0.5,-1.5,-2.5,-1.5,-1.5,-2.5,-0.5,1.5,11.5,0.2,null,"M",25,"T",2]
["EC101",-5.084900000000001,-7.3408999999999995,-5.0609,-7.3729,-7.036899999999999,-5.876899999999999,-5.602899999999998,-6.228899999999999,-6.668899999999999,-7.9779,-6.425199999999999,null,-1.279200000000003,-0.9032000000000018,-2.6472000000000016,2.2407999999999966,1.1767999999999965,0.9037999999999968,2.472799999999996,2.5127999999999986,-0.10320000000000462,2.0487999999999964,0.642299999999997,null,-0.1,-0.1,-0.1,-0.1,-0.1,-0.1,-0.1,-0.1,-0.1,-0.1,-0.09999999999999999,null,-0.5,1.5,1.5,-0.5,-0.5,-0.5,-0.5,-0.5,-0.5,0.5,0,null,"M",20,"F",2]
["EF101",-0.9801999999999964,-2.5891999999999964,-1.370199999999997,-1.9011999999999958,-0.9231999999999978,-0.08219999999999672,-0.26519999999999655,-1.633199999999995,-1.1641999999999975,-3.133199999999997,-1.4041999999999966,null,-1.1101999999999919,-1.760199999999994,-1.4241999999999955,2.9048000000000087,-0.6561999999999912,-0.9191999999999965,-1.9201999999999941,-2.175199999999993,-0.23219999999999175,-5.604199999999995,-1.2896999999999934,null,0,0,0,0,0,0,0,0,0,0,0,null,1.5,0.5,-0.5,-0.5,-0.5,-0.5,-0.5,0.5,-0.5,-0.5,-0.1,null,"F",21,"F",2]
["FA101",-1.729499999999998,-3.426499999999997,-1.753499999999999,-0.4734999999999978,-1.4504999999999981,-2.3215000000000003,-0.729499999999998,-0.8004999999999995,-1.0254999999999974,-1.6574999999999989,-1.5367999999999984,null,-2.4239000000000033,-3.9829000000000008,-1.2159000000000013,-1.9679000000000038,-0.17590000000000217,-0.5279000000000025,-2.8079000000000036,0.48809999999999576,0.04809999999999803,-0.255900000000004,-1.2822000000000027,null,0,0,0,0,0,0,0,0,0,0,0,null,-0.6,-0.6,-0.6,1.4,-0.6,0.4,-0.6,0.4,-0.6,-0.6,-0.19999999999999996,null,"M",23,"F",2]
["GH101",-1.3744999999999976,-1.827499999999997,-2.4064999999999976,-2.516499999999997,-3.2064999999999984,-2.790499999999998,-2.3904999999999976,-3.8154999999999983,-3.2464999999999975,-3.4134999999999973,-2.6987999999999976,null,-6.769399999999997,-7.706399999999995,-3.7933999999999983,-2.6494,-0.2744,2.462600000000002,3.5746000000000038,-0.7053999999999974,-1.8263999999999996,-3.882399999999997,-2.156999999999998,null,0,0,0,0,0,0,0,0,0,0,0,null,-0.7,-0.7,-0.7,1.3,1.3,-0.7,1.3,1.3,1.3,-0.7,0.3,null,"M",20,"F",2]
["GS101",-1.1723,-0.4842999999999993,-0.805299999999999,0.16469999999999985,-1.4612999999999996,-0.4853000000000005,-0.7073,-1.2933000000000003,-1.228299999999999,-0.5243000000000002,-0.7996999999999999,null,-2.7923999999999936,5.424600000000005,-4.08039999999999,-6.969399999999993,-3.2963999999999913,-2.6873999999999896,-8.64439999999999,3.67260000000001,-6.729399999999991,-1.456399999999995,-2.755899999999992,null,0,0,0,0,0,0,0,0,0,0,0,null,-0.1,-0.1,-0.1,-0.1,-0.1,-0.1,-0.1,-0.1,-0.1,-0.1,-0.09999999999999999,null,"M",25,"F",2]
["HR101",1.9023000000000003,-0.7387000000000015,-0.31569999999999965,-4.226700000000001,-3.8747000000000007,-3.0357000000000003,-3.7226999999999997,-3.0756999999999994,-3.1556999999999995,1.9963000000000015,-1.8247,null,-6.065199999999997,1.7408000000000001,-3.472200000000001,-3.863199999999999,-5.785199999999996,-4.745199999999997,-0.6411999999999978,-2.4161999999999964,-6.2012,-5.281199999999998,-3.6729999999999983,null,0,0,0,0,0,0,0,0,0,0,0,null,0.5,-0.5,-0.5,0.5,-0.5,-0.5,-0.5,0.5,-0.5,-0.5,-0.2,null,"F",25,"F",2]
["IF101",-0.9670000000000023,-1.4540000000000006,-1.379999999999999,-1.7090000000000014,-2.843,-2.0549999999999997,-1.1660000000000004,-2.1340000000000003,-0.48600000000000065,-1.3820000000000014,-1.5576000000000005,null,1.755500000000005,-2.4044999999999987,-3.540499999999998,-1.4924999999999962,-2.6844999999999963,-1.6124999999999972,-2.731499999999997,-1.1404999999999994,1.4284999999999997,-3.1404999999999994,-1.5562999999999978,null,0,0,0,0,0,0,0,0,0,0,0,null,2.4,0.4,0.4,1.4,-0.6,-0.6,0.4,0.4,-0.6,-0.6,0.29999999999999993,null,"M",16,"T",2]
["IG101",-3.355699999999999,-2.3366999999999987,-1.8566999999999982,-1.8246999999999982,-2.3606999999999996,-2.4906999999999986,-2.0806999999999984,-3.4506999999999994,-2.608699999999999,-1.2166999999999994,-2.358199999999999,null,-8.418799999999994,-8.578799999999994,-5.9687999999999946,-9.337799999999994,-8.705799999999996,-7.114799999999995,-9.416799999999995,-11.055799999999994,-4.413799999999995,-5.0667999999999935,-7.807799999999995,null,0,0,0,0,0,0,0,0,0,0,0,null,-0.7,-0.7,0.30000000000000004,-0.7,0.30000000000000004,-0.7,-0.7,-0.7,-0.7,-0.7,-0.5,null,"F",19.53,"F",2]
["IOD101",-0.20039999999999836,-2.0333999999999968,-0.6423999999999985,-2.066399999999998,-1.5063999999999957,-3.994399999999999,-1.0523999999999987,-2.747399999999999,-2.842399999999998,-3.4263999999999974,-2.051199999999998,null,-5.4072,-6.0242,-4.7592,-4.215199999999999,-2.7912,-7.2392,-5.655200000000001,0.7528000000000006,1.9127999999999972,-0.39920000000000044,-3.3825000000000003,null,0,0,0,0,0,0,0,0,0,0,0,null,-1.3,-1.3,-1.3,-0.30000000000000004,0.7,-1.3,-0.30000000000000004,1.7,1.7,0.7,-0.09999999999999995,null,"F",21,"F",2]
["JB101",-1.7490999999999985,-1.3650999999999982,1.017900000000001,-1.3581000000000003,-2.046099999999999,-0.4850999999999992,0.07489999999999952,-1.9741,-1.9490999999999996,-2.0770999999999997,-1.1910999999999994,null,-3.098399999999998,-1.7003999999999948,1.2916000000000025,1.867600000000003,-1.980399999999996,-1.2283999999999935,1.0276000000000067,0.195600000000006,4.452600000000004,4.6766000000000005,0.550400000000004,null,0,0,0,0,0,0,0,0,0,0,0,null,-0.8,-0.8,-0.8,1.2,-0.8,2.2,1.2,0.19999999999999996,0.19999999999999996,1.2,0.29999999999999993,null,"F",19,"F",2]
["JC102",0.49409999999999954,-0.8739000000000008,-2.113900000000001,-1.2969000000000008,-1.2429000000000006,-1.2109000000000005,-2.246900000000002,0.2940999999999985,-1.5459000000000014,-0.34690000000000154,-1.009000000000001,null,-3.4322999999999944,-1.7532999999999959,-3.2802999999999933,-3.360299999999995,-2.016299999999994,-3.9612999999999943,-5.160299999999996,-5.888299999999994,-5.120299999999993,-0.28829999999999245,-3.4260999999999937,null,-0.4,-0.4,-0.4,-0.4,-0.4,-0.4,-0.4,-0.4,-0.4,-0.4,-0.39999999999999997,null,0.4,1.4,-0.6,-0.6,0.4,-0.6,-0.6,-0.6,-0.6,1.4,0,null,"F",24,"F",2]
["JM101",-2.281200000000002,-2.5542000000000016,-2.811200000000003,-1.8512000000000022,-1.4872000000000014,-3.162200000000002,-0.6822000000000017,-2.066200000000002,-2.066200000000002,-2.4742000000000033,-2.143600000000002,null,-1.0425000000000004,-5.6525,-4.984500000000001,-3.730500000000003,-0.9905000000000008,0.16249999999999787,-3.146500000000003,0.1454999999999984,-0.9555000000000007,-4.080500000000001,-2.427500000000001,null,-0.1,-0.1,-0.1,-0.1,-0.1,-0.1,-0.1,-0.1,-0.1,-0.1,-0.09999999999999999,null,-0.4,-0.4,-0.4,-0.4,-0.4,-0.4,-0.4,0.6,-0.4,0.6,-0.19999999999999996,null,"F",25,"F",2]
["JS102",-1.7512999999999987,1.5927000000000007,-0.18029999999999902,-0.07529999999999859,-0.7863000000000007,-2.0503,0.5976999999999997,0.6857000000000006,-4.2273,-4.0512999999999995,-1.0245999999999995,null,-3.960000000000001,-5.559000000000001,-3.6400000000000006,-4.018000000000001,-6.327000000000002,-4.368000000000002,-5.536000000000001,-5.388000000000002,-4.255000000000003,0.9929999999999986,-4.205800000000001,null,0,0,0,0,0,0,0,0,0,0,0,null,-0.5,-0.5,-0.5,-0.5,-0.5,-0.5,-0.5,-0.5,-0.5,0.5,-0.4,null,"M",20,"F",2]
["KM101",-1.7011000000000003,-0.9330999999999996,-0.013100000000001444,1.9709000000000003,-2.9731000000000005,-0.8301000000000016,0.9378999999999991,0.7308999999999983,-0.4620999999999995,-1.8771000000000004,-0.5150000000000006,null,5.481999999999992,-0.03800000000000381,2.7469999999999963,0.41099999999999426,-2.9640000000000057,-2.845000000000006,0.6029999999999944,-3.5260000000000034,-1.5900000000000034,1.112999999999996,-0.0607000000000049,null,0,0,0,0,0,0,0,0,0,0,0,null,1.7,-0.3,-0.3,-0.3,-0.3,0.7,0.7,-0.3,0.7,1.7,0.4,null,"F",17,"T",2]
["KP101",-2.889300000000002,-3.8373000000000026,-3.2413000000000025,-3.0333000000000006,-3.2173000000000016,-3.984300000000001,-3.6173,-4.392300000000002,-2.3613,-2.6403000000000034,-3.3214000000000015,null,-2.7816000000000045,-3.3256000000000014,-2.0046000000000035,4.9313999999999965,-0.9416000000000011,8.683399999999999,-0.1566000000000045,3.2023999999999972,1.0753999999999948,-4.932600000000001,0.37499999999999717,null,-0.2,-0.2,-0.2,-0.2,-0.2,-0.2,-0.2,0.8,-0.2,-0.2,-0.09999999999999998,null,0.6,0.6,-0.4,1.6,-0.4,-0.4,-0.4,-0.4,0.6,-0.4,0.1,null,"M",24,"F",2]
["LB101",-0.9487999999999985,-2.7227999999999994,0.2181999999999995,-1.046800000000001,-1.982800000000001,-1.671800000000001,-2.5107999999999997,-3.5578000000000003,-1.5747999999999998,-2.8718000000000004,-1.8670000000000002,null,-6.980199999999996,-6.109199999999998,5.827800000000003,-5.116199999999999,-5.965199999999996,-1.8441999999999972,-4.682199999999998,-3.724199999999996,-1.181199999999997,-3.0041999999999973,-3.2778999999999967,null,0,0,0,0,0,0,0,0,0,0,0,null,-0.6,1.4,3.4,-0.6,-0.6,0.4,-0.6,0.4,-0.6,-0.6,0.19999999999999996,null,"M",24,"F",2]
["LT101",-8.5149,-7.432900000000002,-7.831900000000001,-8.977900000000002,-9.858900000000002,-8.265900000000002,-9.064900000000002,-8.025900000000002,-9.318900000000001,-9.648900000000001,-8.694100000000002,null,0.30860000000000554,-2.2603999999999935,2.955600000000004,-5.540399999999995,-0.6203999999999965,3.0866000000000042,3.8366000000000042,0.49260000000000304,0.9326000000000079,5.268600000000006,0.8460000000000051,null,0,0,0,0,0,0,0,0,0,0,0,null,1.1,-0.9,-0.9,-0.9,-0.9,-0.9,-0.9,1.1,-0.9,-0.9,-0.5,null,"F",22,"F",2]
["MT101",-4.4894,-7.417400000000001,-8.6384,-10.7104,-9.799400000000002,-9.0304,-9.918400000000002,-10.671400000000002,-10.551400000000001,-10.110400000000002,-9.133700000000001,null,-1.3780999999999999,2.1819000000000024,-0.8430999999999997,0.655899999999999,-3.057100000000002,-0.9390999999999998,-1.8340999999999994,-4.770099999999999,-3.2021000000000015,-3.2021000000000015,-1.6388000000000003,null,0,0,0,0,0,0,0,0,0,0,0,null,-1,-1,-1,-1,0,-1,-1,0,0,-1,-0.7,null,"F",22,"F",2]
["NV101",-0.6401999999999965,-1.0551999999999957,-1.3841999999999963,-1.1601999999999961,-1.7711999999999968,-2.032199999999998,-1.1311999999999962,-1.543199999999997,-2.1751999999999967,-2.3211999999999975,-1.5213999999999968,null,-1.3780999999999999,2.1819000000000024,-0.8430999999999997,0.655899999999999,-3.057100000000002,-0.9390999999999998,-1.8340999999999994,-4.770099999999999,-3.2021000000000015,-3.2021000000000015,-1.6388000000000003,null,0,0,0,0,0,0,0,0,0,0,0,null,-1,-1,-1,-1,0,-1,-1,0,0,-1,-0.7,null,"F",24,"F",2]
["OA101",-0.1556000000000033,-1.1956000000000024,-1.2996000000000016,-0.4846000000000039,-0.1656000000000013,-1.9146000000000036,-0.5476000000000028,-1.2036000000000016,-0.8996000000000031,-2.492600000000003,-1.0359000000000027,null,-1.7780999999999985,-0.891099999999998,-2.356099999999998,-3.8050999999999995,-1.6800999999999995,3.8119000000000014,-1.043099999999999,-3.9000999999999983,-2.949099999999998,-4.236099999999997,-1.8826999999999985,null,0,0,0,0,0,0,0,0,0,0,0,null,-0.2,-0.2,-0.2,-0.2,0.8,0.8,-0.2,-0.2,-0.2,-0.2,0,null,"M",25,"F",2]
["PM101",-1.152800000000001,-0.042800000000001504,-1.1178000000000008,-1.1468000000000007,-1.8188000000000013,-1.6468000000000007,-0.35380000000000145,-1.5368000000000013,-2.176800000000002,-2.0828000000000007,-1.3076000000000012,null,-2.2295000000000016,0.8904999999999959,6.017499999999998,-3.140500000000003,-0.3505000000000038,-1.525500000000001,6.738499999999995,8.914499999999997,2.970499999999994,-2.2055000000000042,1.6079999999999965,null,0,0,0,0,0,0,0,0,0,0,0,null,0,0,0,0,0,0,2,0,0,0,0.2,null,"M",23,"T",2]
["RK101",-1.196399999999997,-1.0363999999999969,-2.004399999999997,-2.541399999999996,-1.8053999999999952,-1.7003999999999984,-1.2123999999999953,-2.2373999999999974,-0.06039999999999779,-2.6683999999999983,-1.646299999999997,null,-5.990499999999997,-1.8144999999999953,-8.765499999999996,-9.622499999999995,-6.2464999999999975,-5.949499999999993,-8.077499999999993,-8.021499999999996,-2.5744999999999933,-2.710499999999996,-5.977299999999995,null,0,0,0,0,0,0,0,0,0,0,0,null,-1.2,-0.19999999999999996,-0.19999999999999996,-1.2,-1.2,-1.2,-0.19999999999999996,-0.19999999999999996,-1.2,-1.2,-0.8,null,"F",21,"T",2]
["RT101",-3.909099999999995,-5.149099999999997,-6.125099999999996,-6.276099999999996,-6.469099999999997,-6.388099999999998,-5.3150999999999975,-5.122099999999996,-4.989099999999997,-7.1290999999999976,-5.687199999999997,null,-10.557900000000004,-6.884900000000002,-3.8429,-1.9939000000000036,-2.009900000000002,-4.5079000000000065,1.4950999999999937,-5.058900000000001,-4.2509000000000015,1.5670999999999964,-3.604500000000003,null,0,0,0,0,0,0,0,0,0,0,0,null,-1.5,-0.5,-1.5,0.5,-1.5,0.5,0.5,-1.5,-1.5,0.5,-0.6,null,"F",23,"F",2]
["SAV101",-1.6829999999999998,-2.2720000000000002,-0.06400000000000006,-2.5060000000000002,-2.901,-3.235999999999999,-2.885,-2.9349999999999987,-2.1519999999999992,-2.9209999999999994,-2.3555,null,-5.523899999999998,-1.1788999999999987,-3.8718999999999966,-5.914899999999999,-4.507899999999999,-3.2758999999999965,1.004100000000001,-2.5158999999999985,-3.5548999999999964,-3.4678999999999967,-3.280799999999998,null,0,0,0,0,0,0,0,0,0,0,0,null,0,0,0,0,0,0,1,0,0,0,0.1,null,"M",20,"F",2]
["SK101",-1.8535000000000004,-0.01950000000000074,-4.072500000000002,-6.186500000000002,-4.693500000000002,-5.528500000000001,-4.761500000000002,-4.091500000000002,-5.779500000000002,-6.501500000000002,-4.348800000000001,null,-2.845799999999997,-1.4027999999999992,2.8762000000000008,-1.0377999999999972,-1.5077999999999996,1.659200000000002,-0.19679999999999964,-2.774799999999999,-1.2627999999999986,-3.0357999999999983,-0.9528999999999985,null,-0.3,-0.3,-0.3,-0.3,-0.3,-0.3,-0.3,-0.3,-0.3,-0.3,-0.29999999999999993,null,-0.7,0.30000000000000004,0.30000000000000004,-0.7,-0.7,0.30000000000000004,1.3,-0.7,-0.7,-0.7,-0.19999999999999996,null,"M",23,"F",2]
["SN101",-1.8928000000000011,-0.7397999999999989,0.3951999999999991,-0.08480000000000132,0.052199999999999136,-0.1647999999999996,3.2752000000000017,2.9952000000000005,0.3152000000000008,3.8751999999999995,0.8026,null,-1.8108000000000004,-7.021799999999999,-12.218800000000002,-8.7928,-9.546799999999998,0.6112000000000037,-11.638799999999996,-8.4028,-8.896799999999999,-11.398800000000001,-7.911699999999999,null,1.4,1.4,-0.6,-0.6,-0.6,0.4,-0.6,1.4,0.4,0.4,0.29999999999999993,null,1.3,0.30000000000000004,-1.7,0.30000000000000004,2.3,5.3,0.30000000000000004,0.30000000000000004,2.3,0.30000000000000004,1.1,null,"F",20,"T",2]
["SR101",0.12560000000000038,-0.06739999999999924,-1.0593999999999983,-1.723399999999998,-1.3213999999999988,-1.675399999999998,-2.1153999999999993,-2.6983999999999995,-1.4833999999999996,-2.555399999999999,-1.457399999999999,null,-4.351200000000006,-6.279200000000003,-1.863199999999999,0.7837999999999994,-2.279200000000003,6.5608,8.6648,4.775799999999997,7.3847999999999985,9.360799999999998,2.275799999999998,null,-0.1,-0.1,-0.1,-0.1,-0.1,-0.1,-0.1,-0.1,-0.1,-0.1,-0.09999999999999999,null,1.6,0.6,-0.4,-0.4,-0.4,0.6,0.6,0.6,-0.4,-0.4,0.2000000000000001,null,"F",23,"F",2]
["TN101",-0.5418999999999983,-0.06989999999999696,-0.8368999999999964,0.21010000000000417,-0.6778999999999975,-0.9828999999999972,-1.300899999999995,-1.7168999999999954,0.25110000000000454,-1.3338999999999963,-0.6999999999999964,null,-4.023700000000005,-2.6977000000000046,-2.639700000000005,-4.110700000000005,-2.9997000000000043,-5.503700000000006,-1.3987000000000052,-4.015700000000006,-3.198700000000006,-3.791700000000006,-3.438000000000005,null,0,0,0,0,0,0,0,0,0,0,0,null,0.4,-0.6,0.4,-0.6,-0.6,-0.6,0.4,0.4,0.4,-0.6,-0.09999999999999996,null,"F",21,"F",2]
["TN102",-1.348499999999996,-0.6294999999999966,-1.3084999999999969,0.5875000000000021,-0.22849999999999682,-0.8184999999999967,0.3715000000000046,0.33550000000000324,0.48150000000000404,0.20550000000000423,-0.23519999999999647,null,-3.0340000000000025,2.0349999999999966,-1.5700000000000003,-3.418000000000003,-4.546000000000003,-5.410000000000004,-1.929000000000002,-6.313000000000002,-4.146000000000004,-1.514000000000003,-2.984500000000003,null,0,0,0,0,0,0,0,0,0,0,0,null,-1.2,2.8,-0.19999999999999996,-1.2,-1.2,-1.2,-1.2,-1.2,-1.2,0.8,-0.5000000000000001,null,"F",22,"F",2]
["YS101",1.3181999999999992,0.8541999999999987,0.18319999999999936,-1.1458000000000013,-0.9928000000000008,-0.6498000000000008,-0.5768000000000004,0.8621999999999996,-1.0728000000000009,-1.057800000000002,-0.22780000000000095,null,-1.360999999999997,-1.2589999999999968,2.080000000000002,-2.1459999999999972,0.20400000000000063,-2.997,-3.100999999999999,-1.9959999999999987,-3.546999999999997,1.0920000000000023,-1.3030999999999981,null,0,0,0,0,0,0,0,0,0,0,0,null,2.1,1.1,1.1,0.09999999999999998,1.1,1.1,0.09999999999999998,0.09999999999999998,-0.9,1.1,0.6999999999999998,null,"F",22,"F",2]
["ZP101",-2.652000000000001,-4.1320000000000014,-2.2040000000000006,-2.532,-3.0120000000000005,-2.4840000000000018,-3.8840000000000003,-1.5160000000000018,-6.084,-7.564,-3.6064000000000007,null,-6.972000000000001,-4.004000000000001,-5.125,-7.588000000000001,-6.277000000000001,-7.475999999999999,-3.8759999999999977,-8.899999999999999,-4.603999999999999,-6.972000000000001,-6.1794,null,0,0,0,0,0,0,0,0,0,0,0,null,-0.3,-0.3,0.7,-0.3,0.7,0.7,0.7,-0.3,-0.3,-0.3,0.09999999999999998,null,"F",19,"F",2]

{"sheet":"int","index":24,"n_rows":74,"n_cols":27,"rows_kept":74}
[{"$f":"analysis!A1","v":"ID (reds lack HR data)"},"%HR-c-1","%HR-c-2","%HR-c-3","%HR-c-4","%HR-c-5","%HR-c-6","%HR-c-7","%HR-c-8","%HR-c-9","%HR-c-10","avg-change-hr-c","congruent","%HR-i-1","%HR-i-2","%HR-i-3","%HR-i-4","%HR-i-5","%HR-i-6","%HR-i-7","%HR-i-8","%HR-i-9","%HR-i-10","avg%HR-i","incongruent","%change-c-avg","%change-i-avg"]
[{"$f":"analysis!A2","v":"AA102"},{"$f":"(((analysis!CW2-analysis!CV2)*100/ABS(analysis!CV2)))","v":33.583021223470666},{"$f":"(((analysis!CX2-analysis!CV2)*100/ABS(analysis!CV2)))","v":32.33458177278403},{"$f":"(((analysis!CY2-analysis!CV2)*100/ABS(analysis!CV2)))","v":23.595505617977537},{"$f":"(((analysis!CZ2-analysis!CV2)*100/ABS(analysis!CV2)))","v":18.60174781523097},{"$f":"(((analysis!DA2-analysis!CV2)*100/ABS(analysis!CV2)))","v":24.843945068664176},{"$f":"(((analysis!DB2-analysis!CV2)*100/ABS(analysis!CV2)))","v":21.09862671660425},{"$f":"(((analysis!DC2-analysis!CV2)*100/ABS(analysis!CV2)))","v":19.85018726591761},{"$f":"(((analysis!DD2-analysis!CV2)*100/ABS(analysis!CV2)))","v":17.353308364544326},{"$f":"(((analysis!DE2-analysis!CV2)*100/ABS(analysis!CV2)))","v":21.09862671660425},{"$f":"(((analysis!DF2-analysis!CV2)*100/ABS(analysis!CV2)))","v":11.11111111111112},{"$f":"AVERAGE(B2:K2)","v":22.347066167290894},{"$f":"AVERAGE($L$2:INDEX(L:L,MATCH(9.99999999999999E+307,L:L)))","v":13.751508064685183},{"$f":"((analysis!DS2-analysis!DR2)*100/ABS(analysis!DR2))","v":26.04042806183116},{"$f":"((analysis!DT2-analysis!DR2)*100/ABS(analysis!DR2))","v":16.527942925089185},{"$f":"((analysis!DU2-analysis!DR2)*100/ABS(analysis!DR2))","v":16.527942925089185},{"$f":"((analysis!DV2-analysis!DR2)*100/ABS(analysis!DR2))","v":15.338882282996439},{"$f":"((analysis!DW2-analysis!DR2)*100/ABS(analysis!DR2))","v":14.149821640903692},{"$f":"((analysis!DX2-analysis!DR2)*100/ABS(analysis!DR2))","v":18.90606420927468},{"$f":"((analysis!DY2-analysis!DR2)*100/ABS(analysis!DR2))","v":18.90606420927468},{"$f":"((analysis!DZ2-analysis!DR2)*100/ABS(analysis!DR2))","v":16.527942925089185},{"$f":"((analysis!EA2-analysis!DR2)*100/ABS(analysis!DR2))","v":10.582639714625452},{"$f":"((analysis!EB2-analysis!DR2)*100/ABS(analysis!DR2))","v":9.393579072532706},{"$f":"AVERAGE(N2:W2)","v":16.290130796670635},{"$f":"AVERAGE($X$2:INDEX(X:X,MATCH(9.99999999999999E+307,X:X)))","v":12.660792966701079},-2.569400000000003,-3.109300000000007]
[{"$f":"analysis!A3","v":"CJ101"},{"$f":"(((analysis!CW3-analysis!CV3)*100/ABS(analysis!CV3)))","v":24.04580152671756},{"$f":"(((analysis!CX3-analysis!CV3)*100/ABS(analysis!CV3)))","v":18.320610687022903},{"$f":"(((analysis!CY3-analysis!CV3)*100/ABS(analysis!CV3)))","v":18.320610687022903},{"$f":"(((analysis!CZ3-analysis!CV3)*100/ABS(analysis!CV3)))","v":16.412213740458018},{"$f":"(((analysis!DA3-analysis!CV3)*100/ABS(analysis!CV3)))","v":10.687022900763361},{"$f":"(((analysis!DB3-analysis!CV3)*100/ABS(analysis!CV3)))","v":11.641221374045804},{"$f":"(((analysis!DC3-analysis!CV3)*100/ABS(analysis!CV3)))","v":-1.7175572519083944},{"$f":"(((analysis!DD3-analysis!CV3)*100/ABS(analysis!CV3)))","v":15.458015267175576},{"$f":"(((analysis!DE3-analysis!CV3)*100/ABS(analysis!CV3)))","v":14.503816793893133},{"$f":"(((analysis!DF3-analysis!CV3)*100/ABS(analysis!CV3)))","v":-5.5343511450381655},{"$f":"AVERAGE(B3:K3)","v":12.21374045801527},"stdev",{"$f":"((analysis!DS3-analysis!DR3)*100/ABS(analysis!DR3))","v":23.287671232876708},{"$f":"((analysis!DT3-analysis!DR3)*100/ABS(analysis!DR3))","v":17.416829745596868},{"$f":"((analysis!DU3-analysis!DR3)*100/ABS(analysis!DR3))","v":19.37377690802348},{"$f":"((analysis!DV3-analysis!DR3)*100/ABS(analysis!DR3))","v":15.459882583170252},{"$f":"((analysis!DW3-analysis!DR3)*100/ABS(analysis!DR3))","v":9.589041095890408},{"$f":"((analysis!DX3-analysis!DR3)*100/ABS(analysis!DR3))","v":0.782778864970643},{"$f":"((analysis!DY3-analysis!DR3)*100/ABS(analysis!DR3))","v":15.459882583170252},{"$f":"((analysis!DZ3-analysis!DR3)*100/ABS(analysis!DR3))","v":8.6105675146771},{"$f":"((analysis!EA3-analysis!DR3)*100/ABS(analysis!DR3))","v":15.459882583170252},{"$f":"((analysis!EB3-analysis!DR3)*100/ABS(analysis!DR3))","v":11.545988258317022},{"$f":"AVERAGE(N3:W3)","v":13.6986301369863},"stdev",-2.383399999999999,-1.3383999999999983]
[{"$f":"analysis!A4","v":"CN101"},{"$f":"(((analysis!CW4-analysis!CV4)*100/ABS(analysis!CV4)))","v":21.73913043478261},{"$f":"(((analysis!CX4-analysis!CV4)*100/ABS(analysis!CV4)))","v":33.69565217391305},{"$f":"(((analysis!CY4-analysis!CV4)*100/ABS(analysis!CV4)))","v":32.608695652173914},{"$f":"(((analysis!CZ4-analysis!CV4)*100/ABS(analysis!CV4)))","v":30.434782608695652},{"$f":"(((analysis!DA4-analysis!CV4)*100/ABS(analysis!CV4)))","v":28.26086956521739},{"$f":"(((analysis!DB4-analysis!CV4)*100/ABS(analysis!CV4)))","v":26.08695652173913},{"$f":"(((analysis!DC4-analysis!CV4)*100/ABS(analysis!CV4)))","v":15.217391304347826},{"$f":"(((analysis!DD4-analysis!CV4)*100/ABS(analysis!CV4)))","v":19.565217391304348},{"$f":"(((analysis!DE4-analysis!CV4)*100/ABS(analysis!CV4)))","v":14.130434782608695},{"$f":"(((analysis!DF4-analysis!CV4)*100/ABS(analysis!CV4)))","v":19.565217391304348},24.130434782608695,{"$f":"STDEV($L$2:INDEX(L:L,MATCH(9.99999999999999E+307,L:L)))","v":11.78443148129181},{"$f":"((analysis!DS4-analysis!DR4)*100/ABS(analysis!DR4))","v":38.16534541336354},{"$f":"((analysis!DT4-analysis!DR4)*100/ABS(analysis!DR4))","v":30.237825594563994},{"$f":"((analysis!DU4-analysis!DR4)*100/ABS(analysis!DR4))","v":30.237825594563994},{"$f":"((analysis!DV4-analysis!DR4)*100/ABS(analysis!DR4))","v":25.707814269535678},{"$f":"((analysis!DW4-analysis!DR4)*100/ABS(analysis!DR4))","v":29.105322763306916},{"$f":"((analysis!DX4-analysis!DR4)*100/ABS(analysis!DR4))","v":25.707814269535678},{"$f":"((analysis!DY4-analysis!DR4)*100/ABS(analysis!DR4))","v":27.972819932049838},{"$f":"((analysis!DZ4-analysis!DR4)*100/ABS(analysis!DR4))","v":24.5753114382786},{"$f":"((analysis!EA4-analysis!DR4)*100/ABS(analysis!DR4))","v":23.442808607021522},{"$f":"((analysis!EB4-analysis!DR4)*100/ABS(analysis!DR4))","v":29.105322763306916},28.425821064552668,{"$f":"STDEV($X$2:INDEX(X:X,MATCH(9.99999999999999E+307,X:X)))","v":10.638860006775838},-2.2792000000000026,-6.508799999999996]
[{"$f":"analysis!A5","v":"DD101"},{"$f":"(((analysis!CW5-analysis!CV5)*100/ABS(analysis!CV5)))","v":20.689655172413786},{"$f":"(((analysis!CX5-analysis!CV5)*100/ABS(analysis!CV5)))","v":15.384615384615378},{"$f":"(((analysis!CY5-analysis!CV5)*100/ABS(analysis!CV5)))","v":23.34217506631299},{"$f":"(((analysis!CZ5-analysis!CV5)*100/ABS(analysis!CV5)))","v":23.34217506631299},{"$f":"(((analysis!DA5-analysis!CV5)*100/ABS(analysis!CV5)))","v":12.732095490716173},{"$f":"(((analysis!DB5-analysis!CV5)*100/ABS(analysis!CV5)))","v":23.34217506631299},{"$f":"(((analysis!DC5-analysis!CV5)*100/ABS(analysis!CV5)))","v":10.079575596816968},{"$f":"(((analysis!DD5-analysis!CV5)*100/ABS(analysis!CV5)))","v":23.34217506631299},{"$f":"(((analysis!DE5-analysis!CV5)*100/ABS(analysis!CV5)))","v":19.363395225464185},{"$f":"(((analysis!DF5-analysis!CV5)*100/ABS(analysis!CV5)))","v":11.40583554376657},18.3023872679045,"n",{"$f":"((analysis!DS5-analysis!DR5)*100/ABS(analysis!DR5))","v":19.302949061662208},{"$f":"((analysis!DT5-analysis!DR5)*100/ABS(analysis!DR5))","v":15.281501340482581},{"$f":"((analysis!DU5-analysis!DR5)*100/ABS(analysis!DR5))","v":20.643431635388747},{"$f":"((analysis!DV5-analysis!DR5)*100/ABS(analysis!DR5))","v":16.62198391420912},{"$f":"((analysis!DW5-analysis!DR5)*100/ABS(analysis!DR5))","v":11.260053619302958},{"$f":"((analysis!DX5-analysis!DR5)*100/ABS(analysis!DR5))","v":20.643431635388747},{"$f":"((analysis!DY5-analysis!DR5)*100/ABS(analysis!DR5))","v":5.898123324396791},{"$f":"((analysis!DZ5-analysis!DR5)*100/ABS(analysis!DR5))","v":8.579088471849873},{"$f":"((analysis!EA5-analysis!DR5)*100/ABS(analysis!DR5))","v":9.919571045576415},{"$f":"((analysis!EB5-analysis!DR5)*100/ABS(analysis!DR5))","v":8.579088471849873},13.672922252010732,"n",-1.0606999999999998,-8.170800000000005]
[{"$f":"analysis!A6","v":"FA102"},{"$f":"(((analysis!CW6-analysis!CV6)*100/ABS(analysis!CV6)))","v":-0.9324009324009291},{"$f":"(((analysis!CX6-analysis!CV6)*100/ABS(analysis!CV6)))","v":1.3986013986014019},{"$f":"(((analysis!CY6-analysis!CV6)*100/ABS(analysis!CV6)))","v":-0.9324009324009291},{"$f":"(((analysis!CZ6-analysis!CV6)*100/ABS(analysis!CV6)))","v":11.888111888111892},{"$f":"(((analysis!DA6-analysis!CV6)*100/ABS(analysis!CV6)))","v":-4.428904428904426},{"$f":"(((analysis!DB6-analysis!CV6)*100/ABS(analysis!CV6)))","v":-11.42191142191142},{"$f":"(((analysis!DC6-analysis!CV6)*100/ABS(analysis!CV6)))","v":-9.090909090909088},{"$f":"(((analysis!DD6-analysis!CV6)*100/ABS(analysis!CV6)))","v":-2.097902097902095},{"$f":"(((analysis!DE6-analysis!CV6)*100/ABS(analysis!CV6)))","v":0.23310023310023642},{"$f":"(((analysis!DF6-analysis!CV6)*100/ABS(analysis!CV6)))","v":-2.097902097902095},-1.7482517482517452,{"$f":"COUNT($L$2:INDEX(L:L,MATCH(9.99999999999999E+307,L:L)))","v":68},{"$f":"((analysis!DS6-analysis!DR6)*100/ABS(analysis!DR6))","v":10.458284371327856},{"$f":"((analysis!DT6-analysis!DR6)*100/ABS(analysis!DR6))","v":1.0575793184488904},{"$f":"((analysis!DU6-analysis!DR6)*100/ABS(analysis!DR6))","v":4.5828437132785025},{"$f":"((analysis!DV6-analysis!DR6)*100/ABS(analysis!DR6))","v":-3.642773207990593},{"$f":"((analysis!DW6-analysis!DR6)*100/ABS(analysis!DR6))","v":-2.467685076380722},{"$f":"((analysis!DX6-analysis!DR6)*100/ABS(analysis!DR6))","v":-3.642773207990593},{"$f":"((analysis!DY6-analysis!DR6)*100/ABS(analysis!DR6))","v":4.5828437132785025},{"$f":"((analysis!DZ6-analysis!DR6)*100/ABS(analysis!DR6))","v":-2.467685076380722},{"$f":"((analysis!EA6-analysis!DR6)*100/ABS(analysis!DR6))","v":6.933019976498245},{"$f":"((analysis!EB6-analysis!DR6)*100/ABS(analysis!DR6))","v":-5.992949471210334},0.9400705052879033,{"$f":"COUNT($X$2:INDEX(X:X,MATCH(9.99999999999999E+307,X:X)))","v":68},0.571200000000001,0.644100000000001]
[{"$f":"analysis!A7","v":"JF101"},{"$f":"(((analysis!CW7-analysis!CV7)*100/ABS(analysis!CV7)))","v":27.80898876404494},{"$f":"(((analysis!CX7-analysis!CV7)*100/ABS(analysis!CV7)))","v":24.999999999999996},{"$f":"(((analysis!CY7-analysis!CV7)*100/ABS(analysis!CV7)))","v":19.38202247191011},{"$f":"(((analysis!CZ7-analysis!CV7)*100/ABS(analysis!CV7)))","v":20.78651685393258},{"$f":"(((analysis!DA7-analysis!CV7)*100/ABS(analysis!CV7)))","v":13.76404494382022},{"$f":"(((analysis!DB7-analysis!CV7)*100/ABS(analysis!CV7)))","v":16.573033707865164},{"$f":"(((analysis!DC7-analysis!CV7)*100/ABS(analysis!CV7)))","v":12.359550561797748},{"$f":"(((analysis!DD7-analysis!CV7)*100/ABS(analysis!CV7)))","v":12.359550561797748},{"$f":"(((analysis!DE7-analysis!CV7)*100/ABS(analysis!CV7)))","v":15.168539325842692},{"$f":"(((analysis!DF7-analysis!CV7)*100/ABS(analysis!CV7)))","v":16.573033707865164},17.977528089887638,"se",{"$f":"((analysis!DS7-analysis!DR7)*100/ABS(analysis!DR7))","v":30.057803468208085},{"$f":"((analysis!DT7-analysis!DR7)*100/ABS(analysis!DR7))","v":27.167630057803464},{"$f":"((analysis!DU7-analysis!DR7)*100/ABS(analysis!DR7))","v":22.83236994219653},{"$f":"((analysis!DV7-analysis!DR7)*100/ABS(analysis!DR7))","v":17.05202312138728},{"$f":"((analysis!DW7-analysis!DR7)*100/ABS(analysis!DR7))","v":27.167630057803464},{"$f":"((analysis!DX7-analysis!DR7)*100/ABS(analysis!DR7))","v":19.942196531791904},{"$f":"((analysis!DY7-analysis!DR7)*100/ABS(analysis!DR7))","v":18.49710982658959},{"$f":"((analysis!DZ7-analysis!DR7)*100/ABS(analysis!DR7))","v":18.49710982658959},{"$f":"((analysis!EA7-analysis!DR7)*100/ABS(analysis!DR7))","v":21.387283236994215},{"$f":"((analysis!EB7-analysis!DR7)*100/ABS(analysis!DR7))","v":17.05202312138728},21.96531791907514,"se",-0.9503999999999986,-3.9388999999999967]
[{"$f":"analysis!A8","v":"JH102"},{"$f":"(((analysis!CW8-analysis!CV8)*100/ABS(analysis!CV8)))","v":32.589838909541506},{"$f":"(((analysis!CX8-analysis!CV8)*100/ABS(analysis!CV8)))","v":25.154894671623293},{"$f":"(((analysis!CY8-analysis!CV8)*100/ABS(analysis!CV8)))","v":20.198265179677815},{"$f":"(((analysis!CZ8-analysis!CV8)*100/ABS(analysis!CV8)))","v":17.719950433705076},{"$f":"(((analysis!DA8-analysis!CV8)*100/ABS(analysis!CV8)))","v":32.589838909541506},{"$f":"(((analysis!DB8-analysis!CV8)*100/ABS(analysis!CV8)))","v":16.480793060718707},{"$f":"(((analysis!DC8-analysis!CV8)*100/ABS(analysis!CV8)))","v":30.111524163568767},{"$f":"(((analysis!DD8-analysis!CV8)*100/ABS(analysis!CV8)))","v":11.524163568773231},{"$f":"(((analysis!DE8-analysis!CV8)*100/ABS(analysis!CV8)))","v":17.719950433705076},{"$f":"(((analysis!DF8-analysis!CV8)*100/ABS(analysis!CV8)))","v":20.198265179677815},22.428748451053274,{"$f":"M4/SQRT(M6)","v":1.4290722275064742},{"$f":"((analysis!DS8-analysis!DR8)*100/ABS(analysis!DR8))","v":14.547537227949602},{"$f":"((analysis!DT8-analysis!DR8)*100/ABS(analysis!DR8))","v":4.238258877434139},{"$f":"((analysis!DU8-analysis!DR8)*100/ABS(analysis!DR8))","v":13.402061855670107},{"$f":"((analysis!DV8-analysis!DR8)*100/ABS(analysis!DR8))","v":4.238258877434139},{"$f":"((analysis!DW8-analysis!DR8)*100/ABS(analysis!DR8))","v":8.820160366552122},{"$f":"((analysis!DX8-analysis!DR8)*100/ABS(analysis!DR8))","v":-10.65292096219931},{"$f":"((analysis!DY8-analysis!DR8)*100/ABS(analysis!DR8))","v":7.674684994272626},{"$f":"((analysis!DZ8-analysis!DR8)*100/ABS(analysis!DR8))","v":8.820160366552122},{"$f":"((analysis!EA8-analysis!DR8)*100/ABS(analysis!DR8))","v":-27.83505154639175},{"$f":"((analysis!EB8-analysis!DR8)*100/ABS(analysis!DR8))","v":1.9473081328751465},2.520045819014895,{"$f":"Y4/SQRT(Y6)","v":1.2901512807087117},-1.9099999999999995,-2.427500000000001]
[{"$f":"analysis!A9","v":"JR101"},{"$f":"(((analysis!CW9-analysis!CV9)*100/ABS(analysis!CV9)))","v":17.37089201877934},{"$f":"(((analysis!CX9-analysis!CV9)*100/ABS(analysis!CV9)))","v":15.023474178403752},{"$f":"(((analysis!CY9-analysis!CV9)*100/ABS(analysis!CV9)))","v":15.023474178403752},{"$f":"(((analysis!CZ9-analysis!CV9)*100/ABS(analysis!CV9)))","v":10.328638497652578},{"$f":"(((analysis!DA9-analysis!CV9)*100/ABS(analysis!CV9)))","v":12.676056338028166},{"$f":"(((analysis!DB9-analysis!CV9)*100/ABS(analysis!CV9)))","v":10.328638497652578},{"$f":"(((analysis!DC9-analysis!CV9)*100/ABS(analysis!CV9)))","v":16.197183098591545},{"$f":"(((analysis!DD9-analysis!CV9)*100/ABS(analysis!CV9)))","v":26.760563380281685},{"$f":"(((analysis!DE9-analysis!CV9)*100/ABS(analysis!CV9)))","v":6.807511737089199},{"$f":"(((analysis!DF9-analysis!CV9)*100/ABS(analysis!CV9)))","v":9.154929577464786},13.96713615023474,"change in ex-nonex-c",{"$f":"((analysis!DS9-analysis!DR9)*100/ABS(analysis!DR9))","v":19.526627218934912},{"$f":"((analysis!DT9-analysis!DR9)*100/ABS(analysis!DR9))","v":15.976331360946746},{"$f":"((analysis!DU9-analysis!DR9)*100/ABS(analysis!DR9))","v":15.976331360946746},{"$f":"((analysis!DV9-analysis!DR9)*100/ABS(analysis!DR9))","v":15.976331360946746},{"$f":"((analysis!DW9-analysis!DR9)*100/ABS(analysis!DR9))","v":8.875739644970414},{"$f":"((analysis!DX9-analysis!DR9)*100/ABS(analysis!DR9))","v":21.893491124260354},{"$f":"((analysis!DY9-analysis!DR9)*100/ABS(analysis!DR9))","v":13.609467455621301},{"$f":"((analysis!DZ9-analysis!DR9)*100/ABS(analysis!DR9))","v":19.526627218934912},{"$f":"((analysis!EA9-analysis!DR9)*100/ABS(analysis!DR9))","v":13.609467455621301},{"$f":"((analysis!EB9-analysis!DR9)*100/ABS(analysis!DR9))","v":12.42603550295858},15.7396449704142,"change in ex-nonex-i",-1.6782000000000008,-2.7176000000000027]
[{"$f":"analysis!A10","v":"MR101"},{"$f":"(((analysis!CW10-analysis!CV10)*100/ABS(analysis!CV10)))","v":16.7076167076167},{"$f":"(((analysis!CX10-analysis!CV10)*100/ABS(analysis!CV10)))","v":20.393120393120387},{"$f":"(((analysis!CY10-analysis!CV10)*100/ABS(analysis!CV10)))","v":9.336609336609328},{"$f":"(((analysis!CZ10-analysis!CV10)*100/ABS(analysis!CV10)))","v":6.879606879606873},{"$f":"(((analysis!DA10-analysis!CV10)*100/ABS(analysis!CV10)))","v":14.250614250614245},{"$f":"(((analysis!DB10-analysis!CV10)*100/ABS(analysis!CV10)))","v":13.022113022113016},{"$f":"(((analysis!DC10-analysis!CV10)*100/ABS(analysis!CV10)))","v":0.7371007371007301},{"$f":"(((analysis!DD10-analysis!CV10)*100/ABS(analysis!CV10)))","v":4.422604422604415},{"$f":"(((analysis!DE10-analysis!CV10)*100/ABS(analysis!CV10)))","v":8.1081081081081},{"$f":"(((analysis!DF10-analysis!CV10)*100/ABS(analysis!CV10)))","v":8.1081081081081},10.19656019656019,{"$f":"AVERAGE($L$2:INDEX(L:L,MATCH(9.99999999999999E+307,L:L)))-intnonex!M2","v":19.47691946861702},{"$f":"((analysis!DS10-analysis!DR10)*100/ABS(analysis!DR10))","v":4.651162790697675},{"$f":"((analysis!DT10-analysis!DR10)*100/ABS(analysis!DR10))","v":11.627906976744185},{"$f":"((analysis!DU10-analysis!DR10)*100/ABS(analysis!DR10))","v":10.465116279069768},{"$f":"((analysis!DV10-analysis!DR10)*100/ABS(analysis!DR10))","v":3.488372093023256},{"$f":"((analysis!DW10-analysis!DR10)*100/ABS(analysis!DR10))","v":3.488372093023256},{"$f":"((analysis!DX10-analysis!DR10)*100/ABS(analysis!DR10))","v":5.813953488372093},{"$f":"((analysis!DY10-analysis!DR10)*100/ABS(analysis!DR10))","v":6.976744186046512},{"$f":"((analysis!DZ10-analysis!DR10)*100/ABS(analysis!DR10))","v":3.488372093023256},{"$f":"((analysis!EA10-analysis!DR10)*100/ABS(analysis!DR10))","v":9.30232558139535},{"$f":"((analysis!EB10-analysis!DR10)*100/ABS(analysis!DR10))","v":8.13953488372093},6.7441860465116275,{"$f":"AVERAGE($X$2:INDEX(X:X,MATCH(9.99999999999999E+307,X:X)))-intnonex!Y2","v":18.85582901468895},-2.0650000000000004,-4.697200000000002]
[{"$f":"analysis!A11","v":"RS101"},{"$f":"(((analysis!CW11-analysis!CV11)*100/ABS(analysis!CV11)))","v":11.111111111111114},{"$f":"(((analysis!CX11-analysis!CV11)*100/ABS(analysis!CV11)))","v":20.27491408934708},{"$f":"(((analysis!CY11-analysis!CV11)*100/ABS(analysis!CV11)))","v":12.25658648339061},{"$f":"(((analysis!CZ11-analysis!CV11)*100/ABS(analysis!CV11)))","v":27.14776632302406},{"$f":"(((analysis!DA11-analysis!CV11)*100/ABS(analysis!CV11)))","v":17.98396334478809},{"$f":"(((analysis!DB11-analysis!CV11)*100/ABS(analysis!CV11)))","v":6.52920962199313},{"$f":"(((analysis!DC11-analysis!CV11)*100/ABS(analysis!CV11)))","v":17.98396334478809},{"$f":"(((analysis!DD11-analysis!CV11)*100/ABS(analysis!CV11)))","v":13.402061855670107},{"$f":"(((analysis!DE11-analysis!CV11)*100/ABS(analysis!CV11)))","v":-6.071019473081327},{"$f":"(((analysis!DF11-analysis!CV11)*100/ABS(analysis!CV11)))","v":-0.3436426116838456},12.027491408934713,"SE ex non-ex",{"$f":"((analysis!DS11-analysis!DR11)*100/ABS(analysis!DR11))","v":5.204872646733115},{"$f":"((analysis!DT11-analysis!DR11)*100/ABS(analysis!DR11))","v":11.849390919158363},{"$f":"((analysis!DU11-analysis!DR11)*100/ABS(analysis!DR11))","v":19.601328903654487},{"$f":"((analysis!DV11-analysis!DR11)*100/ABS(analysis!DR11))","v":11.849390919158363},{"$f":"((analysis!DW11-analysis!DR11)*100/ABS(analysis!DR11))","v":14.064230343300114},{"$f":"((analysis!DX11-analysis!DR11)*100/ABS(analysis!DR11))","v":12.956810631229239},{"$f":"((analysis!DY11-analysis!DR11)*100/ABS(analysis!DR11))","v":-8.084163898117383},{"$f":"((analysis!DZ11-analysis!DR11)*100/ABS(analysis!DR11))","v":11.849390919158363},{"$f":"((analysis!EA11-analysis!DR11)*100/ABS(analysis!DR11))","v":-2.547065337763009},{"$f":"((analysis!EB11-analysis!DR11)*100/ABS(analysis!DR11))","v":-5.8693244739756345},7.087486157253602,"SE ex non-ex",-10.087799999999998,-6.257200000000001]
[{"$f":"analysis!A12","v":"SN102"},{"$f":"(((analysis!CW12-analysis!CV12)*100/ABS(analysis!CV12)))","v":27.551020408163257},{"$f":"(((analysis!CX12-analysis!CV12)*100/ABS(analysis!CV12)))","v":26.275510204081623},{"$f":"(((analysis!CY12-analysis!CV12)*100/ABS(analysis!CV12)))","v":16.071428571428566},{"$f":"(((analysis!CZ12-analysis!CV12)*100/ABS(analysis!CV12)))","v":13.5204081632653},{"$f":"(((analysis!DA12-analysis!CV12)*100/ABS(analysis!CV12)))","v":16.071428571428566},{"$f":"(((analysis!DB12-analysis!CV12)*100/ABS(analysis!CV12)))","v":14.795918367346932},{"$f":"(((analysis!DC12-analysis!CV12)*100/ABS(analysis!CV12)))","v":4.59183673469387},{"$f":"(((analysis!DD12-analysis!CV12)*100/ABS(analysis!CV12)))","v":5.867346938775502},{"$f":"(((analysis!DE12-analysis!CV12)*100/ABS(analysis!CV12)))","v":14.795918367346932},{"$f":"(((analysis!DF12-analysis!CV12)*100/ABS(analysis!CV12)))","v":14.795918367346932},15.433673469387747,{"$f":"SQRT(((M4*M4)/M6)+((PlotArray1nonex!M4*PlotArray1nonex!M4)/PlotArray1nonex!M6))","v":1.828214217779775},{"$f":"((analysis!DS12-analysis!DR12)*100/ABS(analysis!DR12))","v":27.741935483870968},{"$f":"((analysis!DT12-analysis!DR12)*100/ABS(analysis!DR12))","v":26.451612903225808},{"$f":"((analysis!DU12-analysis!DR12)*100/ABS(analysis!DR12))","v":13.548387096774194},{"$f":"((analysis!DV12-analysis!DR12)*100/ABS(analysis!DR12))","v":14.838709677419354},{"$f":"((analysis!DW12-analysis!DR12)*100/ABS(analysis!DR12))","v":17.419354838709676},{"$f":"((analysis!DX12-analysis!DR12)*100/ABS(analysis!DR12))","v":18.70967741935484},{"$f":"((analysis!DY12-analysis!DR12)*100/ABS(analysis!DR12))","v":18.70967741935484},{"$f":"((analysis!DZ12-analysis!DR12)*100/ABS(analysis!DR12))","v":10.96774193548387},{"$f":"((analysis!EA12-analysis!DR12)*100/ABS(analysis!DR12))","v":10.96774193548387},{"$f":"((analysis!EB12-analysis!DR12)*100/ABS(analysis!DR12))","v":9.67741935483871},16.903225806451616,{"$f":"SQRT(((Y4*Y4)/Y6)+((PlotArray1nonex!Y4*PlotArray1nonex!Y4)/PlotArray1nonex!Y6))","v":1.6006992681313006},-1.2797000000000007,-6.257200000000001]
[{"$f":"analysis!A13","v":"TB101"},{"$f":"(((analysis!CW13-analysis!CV13)*100/ABS(analysis!CV13)))","v":1.5452538631346642},{"$f":"(((analysis!CX13-analysis!CV13)*100/ABS(analysis!CV13)))","v":2.6490066225165627},{"$f":"(((analysis!CY13-analysis!CV13)*100/ABS(analysis!CV13)))","v":1.5452538631346642},{"$f":"(((analysis!CZ13-analysis!CV13)*100/ABS(analysis!CV13)))","v":0.4415011037527657},{"$f":"(((analysis!DA13-analysis!CV13)*100/ABS(analysis!CV13)))","v":-2.8697571743929298},{"$f":"(((analysis!DB13-analysis!CV13)*100/ABS(analysis!CV13)))","v":2.6490066225165627},{"$f":"(((analysis!DC13-analysis!CV13)*100/ABS(analysis!CV13)))","v":-2.8697571743929298},{"$f":"(((analysis!DD13-analysis!CV13)*100/ABS(analysis!CV13)))","v":4.856512141280359},{"$f":"(((analysis!DE13-analysis!CV13)*100/ABS(analysis!CV13)))","v":1.5452538631346642},{"$f":"(((analysis!DF13-analysis!CV13)*100/ABS(analysis!CV13)))","v":-0.6622516556291328},0.8830022075055253,"p-value ttest after exercise",{"$f":"((analysis!DS13-analysis!DR13)*100/ABS(analysis!DR13))","v":6.285714285714286},{"$f":"((analysis!DT13-analysis!DR13)*100/ABS(analysis!DR13))","v":4},{"$f":"((analysis!DU13-analysis!DR13)*100/ABS(analysis!DR13))","v":5.142857142857143},{"$f":"((analysis!DV13-analysis!DR13)*100/ABS(analysis!DR13))","v":7.428571428571429},{"$f":"((analysis!DW13-analysis!DR13)*100/ABS(analysis!DR13))","v":4},{"$f":"((analysis!DX13-analysis!DR13)*100/ABS(analysis!DR13))","v":5.142857142857143},{"$f":"((analysis!DY13-analysis!DR13)*100/ABS(analysis!DR13))","v":4},{"$f":"((analysis!DZ13-analysis!DR13)*100/ABS(analysis!DR13))","v":2.857142857142857},{"$f":"((analysis!EA13-analysis!DR13)*100/ABS(analysis!DR13))","v":5.142857142857143},{"$f":"((analysis!EB13-analysis!DR13)*100/ABS(analysis!DR13))","v":7.428571428571429},5.142857142857143,"p-value ttest after exercise",-1.537099999999999,-0.6447999999999994]
[{"$f":"analysis!A14","v":"SW101"},{"$f":"(((analysis!CW14-analysis!CV14)*100/ABS(analysis!CV14)))","v":18.421052631578945},{"$f":"(((analysis!CX14-analysis!CV14)*100/ABS(analysis!CV14)))","v":19.51754385964912},{"$f":"(((analysis!CY14-analysis!CV14)*100/ABS(analysis!CV14)))","v":11.842105263157892},{"$f":"(((analysis!CZ14-analysis!CV14)*100/ABS(analysis!CV14)))","v":19.51754385964912},{"$f":"(((analysis!DA14-analysis!CV14)*100/ABS(analysis!CV14)))","v":11.842105263157892},{"$f":"(((analysis!DB14-analysis!CV14)*100/ABS(analysis!CV14)))","v":16.228070175438592},{"$f":"(((analysis!DC14-analysis!CV14)*100/ABS(analysis!CV14)))","v":11.842105263157892},{"$f":"(((analysis!DD14-analysis!CV14)*100/ABS(analysis!CV14)))","v":15.131578947368418},{"$f":"(((analysis!DE14-analysis!CV14)*100/ABS(analysis!CV14)))","v":15.131578947368418},{"$f":"(((analysis!DF14-analysis!CV14)*100/ABS(analysis!CV14)))","v":18.421052631578945},15.78947368421052,{"$f":"TTEST(analysis!CV2:CV74,analysis!DG2:DG74,2,1)","v":1.499886818343379e-14},{"$f":"((analysis!DS14-analysis!DR14)*100/ABS(analysis!DR14))","v":23.147092360319267},{"$f":"((analysis!DT14-analysis!DR14)*100/ABS(analysis!DR14))","v":22.006841505131124},{"$f":"((analysis!DU14-analysis!DR14)*100/ABS(analysis!DR14))","v":19.726339794754843},{"$f":"((analysis!DV14-analysis!DR14)*100/ABS(analysis!DR14))","v":18.5860889395667},{"$f":"((analysis!DW14-analysis!DR14)*100/ABS(analysis!DR14))","v":22.006841505131124},{"$f":"((analysis!DX14-analysis!DR14)*100/ABS(analysis!DR14))","v":22.006841505131124},{"$f":"((analysis!DY14-analysis!DR14)*100/ABS(analysis!DR14))","v":20.866590649942985},{"$f":"((analysis!DZ14-analysis!DR14)*100/ABS(analysis!DR14))","v":12.884834663625995},{"$f":"((analysis!EA14-analysis!DR14)*100/ABS(analysis!DR14))","v":6.043329532497147},{"$f":"((analysis!EB14-analysis!DR14)*100/ABS(analysis!DR14))","v":17.44583808437856},18.47206385404789,{"$f":"TTEST(analysis!DR2:DR74,analysis!EC2:EC74,2,1)","v":1.2228418636276983E-14},0.5641000000000013,-6.623700000000005]
[{"$f":"analysis!A15","v":"AA101"},{"$f":"(((analysis!CW15-analysis!CV15)*100/ABS(analysis!CV15)))","v":17.142857142857142},{"$f":"(((analysis!CX15-analysis!CV15)*100/ABS(analysis!CV15)))","v":16.19047619047619},{"$f":"(((analysis!CY15-analysis!CV15)*100/ABS(analysis!CV15)))","v":11.428571428571429},{"$f":"(((analysis!CZ15-analysis!CV15)*100/ABS(analysis!CV15)))","v":9.523809523809524},{"$f":"(((analysis!DA15-analysis!CV15)*100/ABS(analysis!CV15)))","v":2.857142857142857},{"$f":"(((analysis!DB15-analysis!CV15)*100/ABS(analysis!CV15)))","v":9.523809523809524},{"$f":"(((analysis!DC15-analysis!CV15)*100/ABS(analysis!CV15)))","v":1.9047619047619047},{"$f":"(((analysis!DD15-analysis!CV15)*100/ABS(analysis!CV15)))","v":3.8095238095238093},{"$f":"(((analysis!DE15-analysis!CV15)*100/ABS(analysis!CV15)))","v":-0.9523809523809523},{"$f":"(((analysis!DF15-analysis!CV15)*100/ABS(analysis!CV15)))","v":0},7.1428571428571415,"p-value ttest change with exercise vs change with nonex",{"$f":"((analysis!DS15-analysis!DR15)*100/ABS(analysis!DR15))","v":16.97027804410355},{"$f":"((analysis!DT15-analysis!DR15)*100/ABS(analysis!DR15))","v":10.258868648130395},{"$f":"((analysis!DU15-analysis!DR15)*100/ABS(analysis!DR15))","v":5.465004793863857},{"$f":"((analysis!DV15-analysis!DR15)*100/ABS(analysis!DR15))","v":1.629913710450626},{"$f":"((analysis!DW15-analysis!DR15)*100/ABS(analysis!DR15))","v":1.629913710450626},{"$f":"((analysis!DX15-analysis!DR15)*100/ABS(analysis!DR15))","v":0.6711409395973181},{"$f":"((analysis!DY15-analysis!DR15)*100/ABS(analysis!DR15))","v":-8.91658676893576},{"$f":"((analysis!DZ15-analysis!DR15)*100/ABS(analysis!DR15))","v":1.629913710450626},{"$f":"((analysis!EA15-analysis!DR15)*100/ABS(analysis!DR15))","v":-2.205177372962605},{"$f":"((analysis!EB15-analysis!DR15)*100/ABS(analysis!DR15))","v":5.465004793863857},3.259827420901248,"p-value ttest change with exercise vs change with nonex",-2.5791000000000013,-3.654399999999999]
[{"$f":"analysis!A16","v":"AI101"},{"$f":"(((analysis!CW16-analysis!CV16)*100/ABS(analysis!CV16)))","v":2.833158447009447},{"$f":"(((analysis!CX16-analysis!CV16)*100/ABS(analysis!CV16)))","v":-3.4627492130115396},{"$f":"(((analysis!CY16-analysis!CV16)*100/ABS(analysis!CV16)))","v":-0.31479538300104637},{"$f":"(((analysis!CZ16-analysis!CV16)*100/ABS(analysis!CV16)))","v":-1.3641133263378775},{"$f":"(((analysis!DA16-analysis!CV16)*100/ABS(analysis!CV16)))","v":-1.3641133263378775},{"$f":"(((analysis!DB16-analysis!CV16)*100/ABS(analysis!CV16)))","v":-2.4134312696747084},{"$f":"(((analysis!DC16-analysis!CV16)*100/ABS(analysis!CV16)))","v":1.783840503672616},{"$f":"(((analysis!DD16-analysis!CV16)*100/ABS(analysis!CV16)))","v":-2.4134312696747084},{"$f":"(((analysis!DE16-analysis!CV16)*100/ABS(analysis!CV16)))","v":-2.4134312696747084},{"$f":"(((analysis!DF16-analysis!CV16)*100/ABS(analysis!CV16)))","v":-0.31479538300104637},-0.944386149003145,{"$f":"TTEST(L2:L74,intnonex!L2:L30,2,3)","v":3.0397820265751776E-15},{"$f":"((analysis!DS16-analysis!DR16)*100/ABS(analysis!DR16))","v":-0.41493775933610544},{"$f":"((analysis!DT16-analysis!DR16)*100/ABS(analysis!DR16))","v":1.6597510373443924},{"$f":"((analysis!DU16-analysis!DR16)*100/ABS(analysis!DR16))","v":3.73443983402489},{"$f":"((analysis!DV16-analysis!DR16)*100/ABS(analysis!DR16))","v":10.995850622406634},{"$f":"((analysis!DW16-analysis!DR16)*100/ABS(analysis!DR16))","v":0.6224066390041434},{"$f":"((analysis!DX16-analysis!DR16)*100/ABS(analysis!DR16))","v":-6.639004149377599},{"$f":"((analysis!DY16-analysis!DR16)*100/ABS(analysis!DR16))","v":-11.825726141078842},{"$f":"((analysis!DZ16-analysis!DR16)*100/ABS(analysis!DR16))","v":-3.526970954356852},{"$f":"((analysis!EA16-analysis!DR16)*100/ABS(analysis!DR16))","v":1.6597510373443924},{"$f":"((analysis!EB16-analysis!DR16)*100/ABS(analysis!DR16))","v":-7.676348547717848},-1.1410788381742794,{"$f":"TTEST(X2:X74,PlotArray1nonex!X2:X30,2,3)","v":9.699532393889767e-22},-4.653799999999999,-2.0269999999999984]
[{"$f":"analysis!A17","v":"AK101"},{"$f":"(((analysis!CW17-analysis!CV17)*100/ABS(analysis!CV17)))","v":15.165336374002278},{"$f":"(((analysis!CX17-analysis!CV17)*100/ABS(analysis!CV17)))","v":0.34207525655643917},{"$f":"(((analysis!CY17-analysis!CV17)*100/ABS(analysis!CV17)))","v":0.34207525655643917},{"$f":"(((analysis!CZ17-analysis!CV17)*100/ABS(analysis!CV17)))","v":11.744583808437854},{"$f":"(((analysis!DA17-analysis!CV17)*100/ABS(analysis!CV17)))","v":2.622576966932722},{"$f":"(((analysis!DB17-analysis!CV17)*100/ABS(analysis!CV17)))","v":2.622576966932722},{"$f":"(((analysis!DC17-analysis!CV17)*100/ABS(analysis!CV17)))","v":2.622576966932722},{"$f":"(((analysis!DD17-analysis!CV17)*100/ABS(analysis!CV17)))","v":2.622576966932722},{"$f":"(((analysis!DE17-analysis!CV17)*100/ABS(analysis!CV17)))","v":-6.499429874572408},{"$f":"(((analysis!DF17-analysis!CV17)*100/ABS(analysis!CV17)))","v":-3.078677309007985},2.85062713797035,"pearson HR RT",{"$f":"((analysis!DS17-analysis!DR17)*100/ABS(analysis!DR17))","v":-7.344632768361582},{"$f":"((analysis!DT17-analysis!DR17)*100/ABS(analysis!DR17))","v":1.694915254237288},{"$f":"((analysis!DU17-analysis!DR17)*100/ABS(analysis!DR17))","v":-0.5649717514124294},{"$f":"((analysis!DV17-analysis!DR17)*100/ABS(analysis!DR17))","v":-2.824858757062147},{"$f":"((analysis!DW17-analysis!DR17)*100/ABS(analysis!DR17))","v":1.694915254237288},{"$f":"((analysis!DX17-analysis!DR17)*100/ABS(analysis!DR17))","v":1.694915254237288},{"$f":"((analysis!DY17-analysis!DR17)*100/ABS(analysis!DR17))","v":1.694915254237288},{"$f":"((analysis!DZ17-analysis!DR17)*100/ABS(analysis!DR17))","v":1.694915254237288},{"$f":"((analysis!EA17-analysis!DR17)*100/ABS(analysis!DR17))","v":-3.9548022598870056},{"$f":"((analysis!EB17-analysis!DR17)*100/ABS(analysis!DR17))","v":-3.9548022598870056},-1.0169491525423728,"pearson HR RT",-3.7861999999999996,-3.8710999999999998]
[{"$f":"analysis!A18","v":"AMP101"},{"$f":"(((analysis!CW18-analysis!CV18)*100/ABS(analysis!CV18)))","v":9.051254089422025},{"$f":"(((analysis!CX18-analysis!CV18)*100/ABS(analysis!CV18)))","v":4.689203925845144},{"$f":"(((analysis!CY18-analysis!CV18)*100/ABS(analysis!CV18)))","v":15.594329334787346},{"$f":"(((analysis!CZ18-analysis!CV18)*100/ABS(analysis!CV18)))","v":-1.8538713195201775},{"$f":"(((analysis!DA18-analysis!CV18)*100/ABS(analysis!CV18)))","v":10.141766630316246},{"$f":"(((analysis!DB18-analysis!CV18)*100/ABS(analysis!CV18)))","v":4.689203925845144},{"$f":"(((analysis!DC18-analysis!CV18)*100/ABS(analysis!CV18)))","v":5.779716466739365},{"$f":"(((analysis!DD18-analysis!CV18)*100/ABS(analysis!CV18)))","v":9.051254089422025},{"$f":"(((analysis!DE18-analysis!CV18)*100/ABS(analysis!CV18)))","v":-7.306434023991278},{"$f":"(((analysis!DF18-analysis!CV18)*100/ABS(analysis!CV18)))","v":3.5986913849509237},5.343511450381676,{"$f":"PEARSON(L2:L74,PlotArray1!L2:L74)","v":-1.5130999181761379E-4},{"$f":"((analysis!DS18-analysis!DR18)*100/ABS(analysis!DR18))","v":8.597285067873296},{"$f":"((analysis!DT18-analysis!DR18)*100/ABS(analysis!DR18))","v":11.990950226244339},{"$f":"((analysis!DU18-analysis!DR18)*100/ABS(analysis!DR18))","v":8.597285067873296},{"$f":"((analysis!DV18-analysis!DR18)*100/ABS(analysis!DR18))","v":14.253393665158365},{"$f":"((analysis!DW18-analysis!DR18)*100/ABS(analysis!DR18))","v":11.990950226244339},{"$f":"((analysis!DX18-analysis!DR18)*100/ABS(analysis!DR18))","v":10.859728506787324},{"$f":"((analysis!DY18-analysis!DR18)*100/ABS(analysis!DR18))","v":14.253393665158365},{"$f":"((analysis!DZ18-analysis!DR18)*100/ABS(analysis!DR18))","v":13.122171945701352},{"$f":"((analysis!EA18-analysis!DR18)*100/ABS(analysis!DR18))","v":13.122171945701352},{"$f":"((analysis!EB18-analysis!DR18)*100/ABS(analysis!DR18))","v":9.728506787330309},11.651583710407234,{"$f":"PEARSON(X2:X74,PlotArray1!X2:X74)","v":-0.31546301454901227},-3.210000000000001,-2.9003000000000005]
[{"$f":"analysis!A19","v":"AP101"},{"$f":"(((analysis!CW19-analysis!CV19)*100/ABS(analysis!CV19)))","v":-2.7459954233409674},{"$f":"(((analysis!CX19-analysis!CV19)*100/ABS(analysis!CV19)))","v":-6.178489702517169},{"$f":"(((analysis!CY19-analysis!CV19)*100/ABS(analysis!CV19)))","v":-0.45766590389016665},{"$f":"(((analysis!CZ19-analysis!CV19)*100/ABS(analysis!CV19)))","v":-1.601830663615567},{"$f":"(((analysis!DA19-analysis!CV19)*100/ABS(analysis!CV19)))","v":0.6864988558352337},{"$f":"(((analysis!DB19-analysis!CV19)*100/ABS(analysis!CV19)))","v":5.263157894736835},{"$f":"(((analysis!DC19-analysis!CV19)*100/ABS(analysis!CV19)))","v":5.263157894736835},{"$f":"(((analysis!DD19-analysis!CV19)*100/ABS(analysis!CV19)))","v":-0.45766590389016665},{"$f":"(((analysis!DE19-analysis!CV19)*100/ABS(analysis!CV19)))","v":8.695652173913036},{"$f":"(((analysis!DF19-analysis!CV19)*100/ABS(analysis!CV19)))","v":8.695652173913036},1.7162471395880938,"R squared",{"$f":"((analysis!DS19-analysis!DR19)*100/ABS(analysis!DR19))","v":-5.574516496018209},{"$f":"((analysis!DT19-analysis!DR19)*100/ABS(analysis!DR19))","v":-4.436860068259392},{"$f":"((analysis!DU19-analysis!DR19)*100/ABS(analysis!DR19))","v":10.352673492605225},{"$f":"((analysis!DV19-analysis!DR19)*100/ABS(analysis!DR19))","v":2.3890784982935087},{"$f":"((analysis!DW19-analysis!DR19)*100/ABS(analysis!DR19))","v":1.251422070534692},{"$f":"((analysis!DX19-analysis!DR19)*100/ABS(analysis!DR19))","v":10.352673492605225},{"$f":"((analysis!DY19-analysis!DR19)*100/ABS(analysis!DR19))","v":4.664391353811142},{"$f":"((analysis!DZ19-analysis!DR19)*100/ABS(analysis!DR19))","v":0.11376564277587521},{"$f":"((analysis!EA19-analysis!DR19)*100/ABS(analysis!DR19))","v":1.251422070534692},{"$f":"((analysis!EB19-analysis!DR19)*100/ABS(analysis!DR19))","v":-3.299203640500575},1.7064846416382182,"R squared",-0.3227999999999998,-4.534099999999998]
[{"$f":"analysis!A20","v":"AP102"},{"$f":"(((analysis!CW20-analysis!CV20)*100/ABS(analysis!CV20)))","v":26.303592120509855},{"$f":"(((analysis!CX20-analysis!CV20)*100/ABS(analysis!CV20)))","v":21.66859791425261},{"$f":"(((analysis!CY20-analysis!CV20)*100/ABS(analysis!CV20)))","v":21.66859791425261},{"$f":"(((analysis!CZ20-analysis!CV20)*100/ABS(analysis!CV20)))","v":20.5098493626883},{"$f":"(((analysis!DA20-analysis!CV20)*100/ABS(analysis!CV20)))","v":12.398609501738125},{"$f":"(((analysis!DB20-analysis!CV20)*100/ABS(analysis!CV20)))","v":10.081112398609505},{"$f":"(((analysis!DC20-analysis!CV20)*100/ABS(analysis!CV20)))","v":5.446118192352263},{"$f":"(((analysis!DD20-analysis!CV20)*100/ABS(analysis!CV20)))","v":11.239860950173815},{"$f":"(((analysis!DE20-analysis!CV20)*100/ABS(analysis!CV20)))","v":1.9698725376593313},{"$f":"(((analysis!DF20-analysis!CV20)*100/ABS(analysis!CV20)))","v":6.604866743916573},13.7891077636153,{"$f":"M18*M18","v":2.2894713623846352E-8},{"$f":"((analysis!DS20-analysis!DR20)*100/ABS(analysis!DR20))","v":12.268518518518512},{"$f":"((analysis!DT20-analysis!DR20)*100/ABS(analysis!DR20))","v":16.89814814814814},{"$f":"((analysis!DU20-analysis!DR20)*100/ABS(analysis!DR20))","v":14.583333333333327},{"$f":"((analysis!DV20-analysis!DR20)*100/ABS(analysis!DR20))","v":12.268518518518512},{"$f":"((analysis!DW20-analysis!DR20)*100/ABS(analysis!DR20))","v":13.42592592592592},{"$f":"((analysis!DX20-analysis!DR20)*100/ABS(analysis!DR20))","v":5.324074074074067},{"$f":"((analysis!DY20-analysis!DR20)*100/ABS(analysis!DR20))","v":12.268518518518512},{"$f":"((analysis!DZ20-analysis!DR20)*100/ABS(analysis!DR20))","v":11.111111111111104},{"$f":"((analysis!EA20-analysis!DR20)*100/ABS(analysis!DR20))","v":3.0092592592592524},{"$f":"((analysis!EB20-analysis!DR20)*100/ABS(analysis!DR20))","v":6.481481481481475},10.763888888888882,{"$f":"Y18*Y18","v":0.09951691354835032},-1.1684000000000005,-1.2691000000000046]
[{"$f":"analysis!A21","v":"AS102"},{"$f":"(((analysis!CW21-analysis!CV21)*100/ABS(analysis!CV21)))","v":26.005361930294914},{"$f":"(((analysis!CX21-analysis!CV21)*100/ABS(analysis!CV21)))","v":20.643431635388747},{"$f":"(((analysis!CY21-analysis!CV21)*100/ABS(analysis!CV21)))","v":27.345844504021457},{"$f":"(((analysis!CZ21-analysis!CV21)*100/ABS(analysis!CV21)))","v":15.281501340482581},{"$f":"(((analysis!DA21-analysis!CV21)*100/ABS(analysis!CV21)))","v":21.98391420911529},{"$f":"(((analysis!DB21-analysis!CV21)*100/ABS(analysis!CV21)))","v":19.302949061662208},{"$f":"(((analysis!DC21-analysis!CV21)*100/ABS(analysis!CV21)))","v":21.98391420911529},{"$f":"(((analysis!DD21-analysis!CV21)*100/ABS(analysis!CV21)))","v":23.32439678284183},{"$f":"(((analysis!DE21-analysis!CV21)*100/ABS(analysis!CV21)))","v":9.919571045576415},{"$f":"(((analysis!DF21-analysis!CV21)*100/ABS(analysis!CV21)))","v":16.62198391420912},20.241286863270787,null,{"$f":"((analysis!DS21-analysis!DR21)*100/ABS(analysis!DR21))","v":24.508519003931852},{"$f":"((analysis!DT21-analysis!DR21)*100/ABS(analysis!DR21))","v":23.19790301441678},{"$f":"((analysis!DU21-analysis!DR21)*100/ABS(analysis!DR21))","v":20.576671035386635},{"$f":"((analysis!DV21-analysis!DR21)*100/ABS(analysis!DR21))","v":17.955439056356493},{"$f":"((analysis!DW21-analysis!DR21)*100/ABS(analysis!DR21))","v":16.64482306684142},{"$f":"((analysis!DX21-analysis!DR21)*100/ABS(analysis!DR21))","v":24.508519003931852},{"$f":"((analysis!DY21-analysis!DR21)*100/ABS(analysis!DR21))","v":11.40235910878113},{"$f":"((analysis!DZ21-analysis!DR21)*100/ABS(analysis!DR21))","v":23.19790301441678},{"$f":"((analysis!EA21-analysis!DR21)*100/ABS(analysis!DR21))","v":14.023591087811274},{"$f":"((analysis!EB21-analysis!DR21)*100/ABS(analysis!DR21))","v":20.576671035386635},19.659239842726087,null,-2.1967000000000034,-3.8890000000000007]
[{"$f":"analysis!A22","v":"BH101"},{"$f":"(((analysis!CW22-analysis!CV22)*100/ABS(analysis!CV22)))","v":{"$error":"#DIV/0!"}},{"$f":"(((analysis!CX22-analysis!CV22)*100/ABS(analysis!CV22)))","v":{"$error":"#DIV/0!"}},{"$f":"(((analysis!CY22-analysis!CV22)*100/ABS(analysis!CV22)))","v":{"$error":"#DIV/0!"}},{"$f":"(((analysis!CZ22-analysis!CV22)*100/ABS(analysis!CV22)))","v":{"$error":"#DIV/0!"}},{"$f":"(((analysis!DA22-analysis!CV22)*100/ABS(analysis!CV22)))","v":{"$error":"#DIV/0!"}},{"$f":"(((analysis!DB22-analysis!CV22)*100/ABS(analysis!CV22)))","v":{"$error":"#DIV/0!"}},{"$f":"(((analysis!DC22-analysis!CV22)*100/ABS(analysis!CV22)))","v":{"$error":"#DIV/0!"}},{"$f":"(((analysis!DD22-analysis!CV22)*100/ABS(analysis!CV22)))","v":{"$error":"#DIV/0!"}},{"$f":"(((analysis!DE22-analysis!CV22)*100/ABS(analysis!CV22)))","v":{"$error":"#DIV/0!"}},{"$f":"(((analysis!DF22-analysis!CV22)*100/ABS(analysis!CV22)))","v":{"$error":"#DIV/0!"}},null,null,{"$f":"((analysis!DS22-analysis!DR22)*100/ABS(analysis!DR22))","v":{"$error":"#DIV/0!"}},{"$f":"((analysis!DT22-analysis!DR22)*100/ABS(analysis!DR22))","v":{"$error":"#DIV/0!"}},{"$f":"((analysis!DU22-analysis!DR22)*100/ABS(analysis!DR22))","v":{"$error":"#DIV/0!"}},{"$f":"((analysis!DV22-analysis!DR22)*100/ABS(analysis!DR22))","v":{"$error":"#DIV/0!"}},{"$f":"((analysis!DW22-analysis!DR22)*100/ABS(analysis!DR22))","v":{"$error":"#DIV/0!"}},{"$f":"((analysis!DX22-analysis!DR22)*100/ABS(analysis!DR22))","v":{"$error":"#DIV/0!"}},{"$f":"((analysis!DY22-analysis!DR22)*100/ABS(analysis!DR22))","v":{"$error":"#DIV/0!"}},{"$f":"((analysis!DZ22-analysis!DR22)*100/ABS(analysis!DR22))","v":{"$error":"#DIV/0!"}},{"$f":"((analysis!EA22-analysis!DR22)*100/ABS(analysis!DR22))","v":{"$error":"#DIV/0!"}},{"$f":"((analysis!EB22-analysis!DR22)*100/ABS(analysis!DR22))","v":{"$error":"#DIV/0!"}},null,null,-2.791900000000001,-3.9125000000000014]
[{"$f":"analysis!A23","v":"CC101"},{"$f":"(((analysis!CW23-analysis!CV23)*100/ABS(analysis!CV23)))","v":21.348314606741575},{"$f":"(((analysis!CX23-analysis!CV23)*100/ABS(analysis!CV23)))","v":-84.26966292134831},{"$f":"(((analysis!CY23-analysis!CV23)*100/ABS(analysis!CV23)))","v":16.853932584269664},{"$f":"(((analysis!CZ23-analysis!CV23)*100/ABS(analysis!CV23)))","v":21.348314606741575},{"$f":"(((analysis!DA23-analysis!CV23)*100/ABS(analysis!CV23)))","v":20.224719101123597},{"$f":"(((analysis!DB23-analysis!CV23)*100/ABS(analysis!CV23)))","v":19.10112359550562},{"$f":"(((analysis!DC23-analysis!CV23)*100/ABS(analysis!CV23)))","v":17.97752808988764},{"$f":"(((analysis!DD23-analysis!CV23)*100/ABS(analysis!CV23)))","v":25.84269662921348},{"$f":"(((analysis!DE23-analysis!CV23)*100/ABS(analysis!CV23)))","v":20.224719101123597},{"$f":"(((analysis!DF23-analysis!CV23)*100/ABS(analysis!CV23)))","v":16.853932584269664},9.55056179775281,null,{"$f":"((analysis!DS23-analysis!DR23)*100/ABS(analysis!DR23))","v":22.146118721461193},{"$f":"((analysis!DT23-analysis!DR23)*100/ABS(analysis!DR23))","v":22.146118721461193},{"$f":"((analysis!DU23-analysis!DR23)*100/ABS(analysis!DR23))","v":17.579908675799093},{"$f":"((analysis!DV23-analysis!DR23)*100/ABS(analysis!DR23))","v":18.72146118721462},{"$f":"((analysis!DW23-analysis!DR23)*100/ABS(analysis!DR23))","v":17.579908675799093},{"$f":"((analysis!DX23-analysis!DR23)*100/ABS(analysis!DR23))","v":27.853881278538818},{"$f":"((analysis!DY23-analysis!DR23)*100/ABS(analysis!DR23))","v":21.00456621004567},{"$f":"((analysis!DZ23-analysis!DR23)*100/ABS(analysis!DR23))","v":18.72146118721462},{"$f":"((analysis!EA23-analysis!DR23)*100/ABS(analysis!DR23))","v":21.00456621004567},{"$f":"((analysis!EB23-analysis!DR23)*100/ABS(analysis!DR23))","v":21.00456621004567},20.776255707762566,null,-2.2829000000000006,-8.3874]
[{"$f":"analysis!A24","v":"DE101"},{"$f":"(((analysis!CW24-analysis!CV24)*100/ABS(analysis!CV24)))","v":14.541832669322703},{"$f":"(((analysis!CX24-analysis!CV24)*100/ABS(analysis!CV24)))","v":15.537848605577684},{"$f":"(((analysis!CY24-analysis!CV24)*100/ABS(analysis!CV24)))","v":13.545816733067724},{"$f":"(((analysis!CZ24-analysis!CV24)*100/ABS(analysis!CV24)))","v":10.557768924302783},{"$f":"(((analysis!DA24-analysis!CV24)*100/ABS(analysis!CV24)))","v":8.565737051792823},{"$f":"(((analysis!DB24-analysis!CV24)*100/ABS(analysis!CV24)))","v":12.549800796812743},{"$f":"(((analysis!DC24-analysis!CV24)*100/ABS(analysis!CV24)))","v":8.565737051792823},{"$f":"(((analysis!DD24-analysis!CV24)*100/ABS(analysis!CV24)))","v":12.549800796812743},{"$f":"(((analysis!DE24-analysis!CV24)*100/ABS(analysis!CV24)))","v":7.569721115537843},{"$f":"(((analysis!DF24-analysis!CV24)*100/ABS(analysis!CV24)))","v":6.573705179282863},11.055776892430275,null,{"$f":"((analysis!DS24-analysis!DR24)*100/ABS(analysis!DR24))","v":13.360323886639678},{"$f":"((analysis!DT24-analysis!DR24)*100/ABS(analysis!DR24))","v":11.33603238866397},{"$f":"((analysis!DU24-analysis!DR24)*100/ABS(analysis!DR24))","v":10.323886639676116},{"$f":"((analysis!DV24-analysis!DR24)*100/ABS(analysis!DR24))","v":17.408906882591097},{"$f":"((analysis!DW24-analysis!DR24)*100/ABS(analysis!DR24))","v":12.348178137651825},{"$f":"((analysis!DX24-analysis!DR24)*100/ABS(analysis!DR24))","v":8.299595141700408},{"$f":"((analysis!DY24-analysis!DR24)*100/ABS(analysis!DR24))","v":11.33603238866397},{"$f":"((analysis!DZ24-analysis!DR24)*100/ABS(analysis!DR24))","v":10.323886639676116},{"$f":"((analysis!EA24-analysis!DR24)*100/ABS(analysis!DR24))","v":3.2388663967611366},{"$f":"((analysis!EB24-analysis!DR24)*100/ABS(analysis!DR24))","v":1.214574898785428},9.919028340080974,null,-1.6902999999999992,-3.2515999999999963]
[{"$f":"analysis!A25","v":"DI101"},{"$f":"(((analysis!CW25-analysis!CV25)*100/ABS(analysis!CV25)))","v":40.08321775312068},{"$f":"(((analysis!CX25-analysis!CV25)*100/ABS(analysis!CV25)))","v":34.53536754507629},{"$f":"(((analysis!CY25-analysis!CV25)*100/ABS(analysis!CV25)))","v":28.98751733703191},{"$f":"(((analysis!CZ25-analysis!CV25)*100/ABS(analysis!CV25)))","v":44.24410540915396},{"$f":"(((analysis!DA25-analysis!CV25)*100/ABS(analysis!CV25)))","v":40.08321775312068},{"$f":"(((analysis!DB25-analysis!CV25)*100/ABS(analysis!CV25)))","v":23.439667128987526},{"$f":"(((analysis!DC25-analysis!CV25)*100/ABS(analysis!CV25)))","v":33.1484049930652},{"$f":"(((analysis!DD25-analysis!CV25)*100/ABS(analysis!CV25)))","v":30.374479889043005},{"$f":"(((analysis!DE25-analysis!CV25)*100/ABS(analysis!CV25)))","v":23.439667128987526},{"$f":"(((analysis!DF25-analysis!CV25)*100/ABS(analysis!CV25)))","v":28.98751733703191},32.73231622746187,null,{"$f":"((analysis!DS25-analysis!DR25)*100/ABS(analysis!DR25))","v":22.395833333333336},{"$f":"((analysis!DT25-analysis!DR25)*100/ABS(analysis!DR25))","v":21.093750000000004},{"$f":"((analysis!DU25-analysis!DR25)*100/ABS(analysis!DR25))","v":32.81250000000001},{"$f":"((analysis!DV25-analysis!DR25)*100/ABS(analysis!DR25))","v":22.395833333333336},{"$f":"((analysis!DW25-analysis!DR25)*100/ABS(analysis!DR25))","v":18.489583333333336},{"$f":"((analysis!DX25-analysis!DR25)*100/ABS(analysis!DR25))","v":21.093750000000004},{"$f":"((analysis!DY25-analysis!DR25)*100/ABS(analysis!DR25))","v":8.07291666666667},{"$f":"((analysis!DZ25-analysis!DR25)*100/ABS(analysis!DR25))","v":14.583333333333337},{"$f":"((analysis!EA25-analysis!DR25)*100/ABS(analysis!DR25))","v":17.187500000000004},{"$f":"((analysis!EB25-analysis!DR25)*100/ABS(analysis!DR25))","v":1.5625000000000038},17.968750000000004,null,-2.657899999999998,-6.641599999999997]
[{"$f":"analysis!A26","v":"DJ101"},{"$f":"(((analysis!CW26-analysis!CV26)*100/ABS(analysis!CV26)))","v":36.24678663239075},{"$f":"(((analysis!CX26-analysis!CV26)*100/ABS(analysis!CV26)))","v":29.820051413881757},{"$f":"(((analysis!CY26-analysis!CV26)*100/ABS(analysis!CV26)))","v":32.39074550128535},{"$f":"(((analysis!CZ26-analysis!CV26)*100/ABS(analysis!CV26)))","v":34.961439588688954},{"$f":"(((analysis!DA26-analysis!CV26)*100/ABS(analysis!CV26)))","v":32.39074550128535},{"$f":"(((analysis!DB26-analysis!CV26)*100/ABS(analysis!CV26)))","v":13.110539845758359},{"$f":"(((analysis!DC26-analysis!CV26)*100/ABS(analysis!CV26)))","v":34.961439588688954},{"$f":"(((analysis!DD26-analysis!CV26)*100/ABS(analysis!CV26)))","v":29.820051413881757},{"$f":"(((analysis!DE26-analysis!CV26)*100/ABS(analysis!CV26)))","v":25.964010282776353},{"$f":"(((analysis!DF26-analysis!CV26)*100/ABS(analysis!CV26)))","v":6.68380462724936},27.634961439588693,null,{"$f":"((analysis!DS26-analysis!DR26)*100/ABS(analysis!DR26))","v":15.853658536585366},{"$f":"((analysis!DT26-analysis!DR26)*100/ABS(analysis!DR26))","v":23.170731707317074},{"$f":"((analysis!DU26-analysis!DR26)*100/ABS(analysis!DR26))","v":17.073170731707318},{"$f":"((analysis!DV26-analysis!DR26)*100/ABS(analysis!DR26))","v":20.73170731707317},{"$f":"((analysis!DW26-analysis!DR26)*100/ABS(analysis!DR26))","v":21.951219512195124},{"$f":"((analysis!DX26-analysis!DR26)*100/ABS(analysis!DR26))","v":21.951219512195124},{"$f":"((analysis!DY26-analysis!DR26)*100/ABS(analysis!DR26))","v":17.073170731707318},{"$f":"((analysis!DZ26-analysis!DR26)*100/ABS(analysis!DR26))","v":18.29268292682927},{"$f":"((analysis!EA26-analysis!DR26)*100/ABS(analysis!DR26))","v":13.414634146341463},{"$f":"((analysis!EB26-analysis!DR26)*100/ABS(analysis!DR26))","v":10.975609756097562},18.048780487804876,null,-0.014400000000001434,-3.5770999999999917]
[{"$f":"analysis!A27","v":"DP101"},{"$f":"(((analysis!CW27-analysis!CV27)*100/ABS(analysis!CV27)))","v":16.766467065868266},{"$f":"(((analysis!CX27-analysis!CV27)*100/ABS(analysis!CV27)))","v":7.784431137724555},{"$f":"(((analysis!CY27-analysis!CV27)*100/ABS(analysis!CV27)))","v":10.77844311377246},{"$f":"(((analysis!CZ27-analysis!CV27)*100/ABS(analysis!CV27)))","v":13.772455089820363},{"$f":"(((analysis!DA27-analysis!CV27)*100/ABS(analysis!CV27)))","v":1.796407185628747},{"$f":"(((analysis!DB27-analysis!CV27)*100/ABS(analysis!CV27)))","v":-4.191616766467062},{"$f":"(((analysis!DC27-analysis!CV27)*100/ABS(analysis!CV27)))","v":6.287425149700604},{"$f":"(((analysis!DD27-analysis!CV27)*100/ABS(analysis!CV27)))","v":10.77844311377246},{"$f":"(((analysis!DE27-analysis!CV27)*100/ABS(analysis!CV27)))","v":9.281437125748507},{"$f":"(((analysis!DF27-analysis!CV27)*100/ABS(analysis!CV27)))","v":6.287425149700604},7.93413173652695,null,{"$f":"((analysis!DS27-analysis!DR27)*100/ABS(analysis!DR27))","v":15.097159940209258},{"$f":"((analysis!DT27-analysis!DR27)*100/ABS(analysis!DR27))","v":10.612855007473833},{"$f":"((analysis!DU27-analysis!DR27)*100/ABS(analysis!DR27))","v":10.612855007473833},{"$f":"((analysis!DV27-analysis!DR27)*100/ABS(analysis!DR27))","v":13.602391629297449},{"$f":"((analysis!DW27-analysis!DR27)*100/ABS(analysis!DR27))","v":6.128550074738406},{"$f":"((analysis!DX27-analysis!DR27)*100/ABS(analysis!DR27))","v":12.10762331838564},{"$f":"((analysis!DY27-analysis!DR27)*100/ABS(analysis!DR27))","v":12.10762331838564},{"$f":"((analysis!DZ27-analysis!DR27)*100/ABS(analysis!DR27))","v":10.612855007473833},{"$f":"((analysis!EA27-analysis!DR27)*100/ABS(analysis!DR27))","v":9.118086696562024},{"$f":"((analysis!EB27-analysis!DR27)*100/ABS(analysis!DR27))","v":1.6442451420029809},10.16442451420029,null,-1.9386999999999979,-4.155800000000001]
[{"$f":"analysis!A28","v":"DS101"},{"$f":"(((analysis!CW28-analysis!CV28)*100/ABS(analysis!CV28)))","v":34.16320885200554},{"$f":"(((analysis!CX28-analysis!CV28)*100/ABS(analysis!CV28)))","v":41.07883817427387},{"$f":"(((analysis!CY28-analysis!CV28)*100/ABS(analysis!CV28)))","v":50.76071922544953},{"$f":"(((analysis!CZ28-analysis!CV28)*100/ABS(analysis!CV28)))","v":27.24757952973721},{"$f":"(((analysis!DA28-analysis!CV28)*100/ABS(analysis!CV28)))","v":36.929460580912874},{"$f":"(((analysis!DB28-analysis!CV28)*100/ABS(analysis!CV28)))","v":38.312586445366534},{"$f":"(((analysis!DC28-analysis!CV28)*100/ABS(analysis!CV28)))","v":20.331950207468882},{"$f":"(((analysis!DD28-analysis!CV28)*100/ABS(analysis!CV28)))","v":35.54633471645921},{"$f":"(((analysis!DE28-analysis!CV28)*100/ABS(analysis!CV28)))","v":34.16320885200554},{"$f":"(((analysis!DF28-analysis!CV28)*100/ABS(analysis!CV28)))","v":18.948824343015218},33.74827109266944,null,{"$f":"((analysis!DS28-analysis!DR28)*100/ABS(analysis!DR28))","v":58.273381294964025},{"$f":"((analysis!DT28-analysis!DR28)*100/ABS(analysis!DR28))","v":53.9568345323741},{"$f":"((analysis!DU28-analysis!DR28)*100/ABS(analysis!DR28))","v":36.69064748201439},{"$f":"((analysis!DV28-analysis!DR28)*100/ABS(analysis!DR28))","v":29.496402877697843},{"$f":"((analysis!DW28-analysis!DR28)*100/ABS(analysis!DR28))","v":36.69064748201439},{"$f":"((analysis!DX28-analysis!DR28)*100/ABS(analysis!DR28))","v":19.424460431654676},{"$f":"((analysis!DY28-analysis!DR28)*100/ABS(analysis!DR28))","v":30.93525179856115},{"$f":"((analysis!DZ28-analysis!DR28)*100/ABS(analysis!DR28))","v":39.568345323741006},{"$f":"((analysis!EA28-analysis!DR28)*100/ABS(analysis!DR28))","v":28.057553956834532},{"$f":"((analysis!EB28-analysis!DR28)*100/ABS(analysis!DR28))","v":49.64028776978417},38.273381294964025,null,-0.7082000000000004,0.5618999999999964]
[{"$f":"analysis!A29","v":"DST102"},{"$f":"(((analysis!CW29-analysis!CV29)*100/ABS(analysis!CV29)))","v":16.666666666666668},{"$f":"(((analysis!CX29-analysis!CV29)*100/ABS(analysis!CV29)))","v":10.784313725490197},{"$f":"(((analysis!CY29-analysis!CV29)*100/ABS(analysis!CV29)))","v":11.764705882352942},{"$f":"(((analysis!CZ29-analysis!CV29)*100/ABS(analysis!CV29)))","v":10.784313725490197},{"$f":"(((analysis!DA29-analysis!CV29)*100/ABS(analysis!CV29)))","v":9.803921568627452},{"$f":"(((analysis!DB29-analysis!CV29)*100/ABS(analysis!CV29)))","v":8.823529411764707},{"$f":"(((analysis!DC29-analysis!CV29)*100/ABS(analysis!CV29)))","v":4.901960784313726},{"$f":"(((analysis!DD29-analysis!CV29)*100/ABS(analysis!CV29)))","v":7.8431372549019605},{"$f":"(((analysis!DE29-analysis!CV29)*100/ABS(analysis!CV29)))","v":2.9411764705882355},{"$f":"(((analysis!DF29-analysis!CV29)*100/ABS(analysis!CV29)))","v":2.9411764705882355},8.72549019607843,null,{"$f":"((analysis!DS29-analysis!DR29)*100/ABS(analysis!DR29))","v":17.352056168505513},{"$f":"((analysis!DT29-analysis!DR29)*100/ABS(analysis!DR29))","v":10.330992978936807},{"$f":"((analysis!DU29-analysis!DR29)*100/ABS(analysis!DR29))","v":12.337011033099296},{"$f":"((analysis!DV29-analysis!DR29)*100/ABS(analysis!DR29))","v":4.312938816449345},{"$f":"((analysis!DW29-analysis!DR29)*100/ABS(analysis!DR29))","v":1.303911735205614},{"$f":"((analysis!DX29-analysis!DR29)*100/ABS(analysis!DR29))","v":12.337011033099296},{"$f":"((analysis!DY29-analysis!DR29)*100/ABS(analysis!DR29))","v":8.32497492477432},{"$f":"((analysis!DZ29-analysis!DR29)*100/ABS(analysis!DR29))","v":13.340020060180539},{"$f":"((analysis!EA29-analysis!DR29)*100/ABS(analysis!DR29))","v":13.340020060180539},{"$f":"((analysis!EB29-analysis!DR29)*100/ABS(analysis!DR29))","v":13.340020060180539},10.63189568706118,null,-2.2904999999999984,-3.949599999999998]
[{"$f":"analysis!A30","v":"DT101"},{"$f":"(((analysis!CW30-analysis!CV30)*100/ABS(analysis!CV30)))","v":32.54593175853017},{"$f":"(((analysis!CX30-analysis!CV30)*100/ABS(analysis!CV30)))","v":29.921259842519678},{"$f":"(((analysis!CY30-analysis!CV30)*100/ABS(analysis!CV30)))","v":28.60892388451443},{"$f":"(((analysis!CZ30-analysis!CV30)*100/ABS(analysis!CV30)))","v":27.29658792650918},{"$f":"(((analysis!DA30-analysis!CV30)*100/ABS(analysis!CV30)))","v":29.921259842519678},{"$f":"(((analysis!DB30-analysis!CV30)*100/ABS(analysis!CV30)))","v":29.921259842519678},{"$f":"(((analysis!DC30-analysis!CV30)*100/ABS(analysis!CV30)))","v":29.921259842519678},{"$f":"(((analysis!DD30-analysis!CV30)*100/ABS(analysis!CV30)))","v":23.359580052493435},{"$f":"(((analysis!DE30-analysis!CV30)*100/ABS(analysis!CV30)))","v":31.233595800524927},{"$f":"(((analysis!DF30-analysis!CV30)*100/ABS(analysis!CV30)))","v":25.984251968503933},28.87139107611548,null,{"$f":"((analysis!DS30-analysis!DR30)*100/ABS(analysis!DR30))","v":21.365360303413407},{"$f":"((analysis!DT30-analysis!DR30)*100/ABS(analysis!DR30))","v":22.629582806573964},{"$f":"((analysis!DU30-analysis!DR30)*100/ABS(analysis!DR30))","v":23.89380530973452},{"$f":"((analysis!DV30-analysis!DR30)*100/ABS(analysis!DR30))","v":21.365360303413407},{"$f":"((analysis!DW30-analysis!DR30)*100/ABS(analysis!DR30))","v":28.950695322376745},{"$f":"((analysis!DX30-analysis!DR30)*100/ABS(analysis!DR30))","v":16.308470290771183},{"$f":"((analysis!DY30-analysis!DR30)*100/ABS(analysis!DR30))","v":26.422250316055635},{"$f":"((analysis!DZ30-analysis!DR30)*100/ABS(analysis!DR30))","v":21.365360303413407},{"$f":"((analysis!EA30-analysis!DR30)*100/ABS(analysis!DR30))","v":20.10113780025285},{"$f":"((analysis!EB30-analysis!DR30)*100/ABS(analysis!DR30))","v":20.10113780025285},22.250316055625795,null,-9.904999999999998,-2.226899999999999]
[{"$f":"analysis!A31","v":"DY101"},{"$f":"(((analysis!CW31-analysis!CV31)*100/ABS(analysis!CV31)))","v":-2.51916757940854},{"$f":"(((analysis!CX31-analysis!CV31)*100/ABS(analysis!CV31)))","v":10.624315443592554},{"$f":"(((analysis!CY31-analysis!CV31)*100/ABS(analysis!CV31)))","v":8.43373493975904},{"$f":"(((analysis!CZ31-analysis!CV31)*100/ABS(analysis!CV31)))","v":-0.32858707557502426},{"$f":"(((analysis!DA31-analysis!CV31)*100/ABS(analysis!CV31)))","v":9.529025191675798},{"$f":"(((analysis!DB31-analysis!CV31)*100/ABS(analysis!CV31)))","v":0.7667031763417337},{"$f":"(((analysis!DC31-analysis!CV31)*100/ABS(analysis!CV31)))","v":-10.186199342825846},{"$f":"(((analysis!DD31-analysis!CV31)*100/ABS(analysis!CV31)))","v":7.338444687842281},{"$f":"(((analysis!DE31-analysis!CV31)*100/ABS(analysis!CV31)))","v":-0.32858707557502426},{"$f":"(((analysis!DF31-analysis!CV31)*100/ABS(analysis!CV31)))","v":9.529025191675798},3.285870755750276,null,{"$f":"((analysis!DS31-analysis!DR31)*100/ABS(analysis!DR31))","v":1.1591148577449886},{"$f":"((analysis!DT31-analysis!DR31)*100/ABS(analysis!DR31))","v":3.2665964172813426},{"$f":"((analysis!DU31-analysis!DR31)*100/ABS(analysis!DR31))","v":-13.593256059009487},{"$f":"((analysis!DV31-analysis!DR31)*100/ABS(analysis!DR31))","v":4.320337197049519},{"$f":"((analysis!DW31-analysis!DR31)*100/ABS(analysis!DR31))","v":0.10537407797681171},{"$f":"((analysis!DX31-analysis!DR31)*100/ABS(analysis!DR31))","v":-11.485774499473134},{"$f":"((analysis!DY31-analysis!DR31)*100/ABS(analysis!DR31))","v":-3.055848261327719},{"$f":"((analysis!DZ31-analysis!DR31)*100/ABS(analysis!DR31))","v":-4.109589041095896},{"$f":"((analysis!EA31-analysis!DR31)*100/ABS(analysis!DR31))","v":3.2665964172813426},{"$f":"((analysis!EB31-analysis!DR31)*100/ABS(analysis!DR31))","v":4.320337197049519},-1.5806111696522713,null,-4.830499999999997,-26.353500000000004]
[{"$f":"analysis!A32","v":"DZ101"},{"$f":"(((analysis!CW32-analysis!CV32)*100/ABS(analysis!CV32)))","v":35.65891472868216},{"$f":"(((analysis!CX32-analysis!CV32)*100/ABS(analysis!CV32)))","v":38.24289405684754},{"$f":"(((analysis!CY32-analysis!CV32)*100/ABS(analysis!CV32)))","v":35.65891472868216},{"$f":"(((analysis!CZ32-analysis!CV32)*100/ABS(analysis!CV32)))","v":36.95090439276485},{"$f":"(((analysis!DA32-analysis!CV32)*100/ABS(analysis!CV32)))","v":33.074935400516786},{"$f":"(((analysis!DB32-analysis!CV32)*100/ABS(analysis!CV32)))","v":34.36692506459948},{"$f":"(((analysis!DC32-analysis!CV32)*100/ABS(analysis!CV32)))","v":30.490956072351413},{"$f":"(((analysis!DD32-analysis!CV32)*100/ABS(analysis!CV32)))","v":29.198966408268724},{"$f":"(((analysis!DE32-analysis!CV32)*100/ABS(analysis!CV32)))","v":42.1188630490956},{"$f":"(((analysis!DF32-analysis!CV32)*100/ABS(analysis!CV32)))","v":30.490956072351413},34.62532299741601,null,{"$f":"((analysis!DS32-analysis!DR32)*100/ABS(analysis!DR32))","v":33.66960907944515},{"$f":"((analysis!DT32-analysis!DR32)*100/ABS(analysis!DR32))","v":33.66960907944515},{"$f":"((analysis!DU32-analysis!DR32)*100/ABS(analysis!DR32))","v":31.147540983606564},{"$f":"((analysis!DV32-analysis!DR32)*100/ABS(analysis!DR32))","v":29.88650693568727},{"$f":"((analysis!DW32-analysis!DR32)*100/ABS(analysis!DR32))","v":32.40857503152586},{"$f":"((analysis!DX32-analysis!DR32)*100/ABS(analysis!DR32))","v":24.842370744010093},{"$f":"((analysis!DY32-analysis!DR32)*100/ABS(analysis!DR32))","v":27.36443883984868},{"$f":"((analysis!DZ32-analysis!DR32)*100/ABS(analysis!DR32))","v":37.45271122320303},{"$f":"((analysis!EA32-analysis!DR32)*100/ABS(analysis!DR32))","v":32.40857503152586},{"$f":"((analysis!EB32-analysis!DR32)*100/ABS(analysis!DR32))","v":24.842370744010093},30.76923076923078,null,2.2875999999999976,-0.7232000000000074]
[{"$f":"analysis!A33","v":"EC101"},{"$f":"(((analysis!CW33-analysis!CV33)*100/ABS(analysis!CV33)))","v":{"$error":"#DIV/0!"}},{"$f":"(((analysis!CX33-analysis!CV33)*100/ABS(analysis!CV33)))","v":{"$error":"#DIV/0!"}},{"$f":"(((analysis!CY33-analysis!CV33)*100/ABS(analysis!CV33)))","v":{"$error":"#DIV/0!"}},{"$f":"(((analysis!CZ33-analysis!CV33)*100/ABS(analysis!CV33)))","v":{"$error":"#DIV/0!"}},{"$f":"(((analysis!DA33-analysis!CV33)*100/ABS(analysis!CV33)))","v":{"$error":"#DIV/0!"}},{"$f":"(((analysis!DB33-analysis!CV33)*100/ABS(analysis!CV33)))","v":{"$error":"#DIV/0!"}},{"$f":"(((analysis!DC33-analysis!CV33)*100/ABS(analysis!CV33)))","v":{"$error":"#DIV/0!"}},{"$f":"(((analysis!DD33-analysis!CV33)*100/ABS(analysis!CV33)))","v":{"$error":"#DIV/0!"}},{"$f":"(((analysis!DE33-analysis!CV33)*100/ABS(analysis!CV33)))","v":{"$error":"#DIV/0!"}},{"$f":"(((analysis!DF33-analysis!CV33)*100/ABS(analysis!CV33)))","v":{"$error":"#DIV/0!"}},null,null,{"$f":"((analysis!DS33-analysis!DR33)*100/ABS(analysis!DR33))","v":{"$error":"#DIV/0!"}},{"$f":"((analysis!DT33-analysis!DR33)*100/ABS(analysis!DR33))","v":{"$error":"#DIV/0!"}},{"$f":"((analysis!DU33-analysis!DR33)*100/ABS(analysis!DR33))","v":{"$error":"#DIV/0!"}},{"$f":"((analysis!DV33-analysis!DR33)*100/ABS(analysis!DR33))","v":{"$error":"#DIV/0!"}},{"$f":"((analysis!DW33-analysis!DR33)*100/ABS(analysis!DR33))","v":{"$error":"#DIV/0!"}},{"$f":"((analysis!DX33-analysis!DR33)*100/ABS(analysis!DR33))","v":{"$error":"#DIV/0!"}},{"$f":"((analysis!DY33-analysis!DR33)*100/ABS(analysis!DR33))","v":{"$error":"#DIV/0!"}},{"$f":"((analysis!DZ33-analysis!DR33)*100/ABS(analysis!DR33))","v":{"$error":"#DIV/0!"}},{"$f":"((analysis!EA33-analysis!DR33)*100/ABS(analysis!DR33))","v":{"$error":"#DIV/0!"}},{"$f":"((analysis!EB33-analysis!DR33)*100/ABS(analysis!DR33))","v":{"$error":"#DIV/0!"}},null,null,-6.425199999999999,0.642299999999997]
[{"$f":"analysis!A34","v":"EF101"},{"$f":"(((analysis!CW34-analysis!CV34)*100/ABS(analysis!CV34)))","v":42.708333333333336},{"$f":"(((analysis!CX34-analysis!CV34)*100/ABS(analysis!CV34)))","v":40.625},{"$f":"(((analysis!CY34-analysis!CV34)*100/ABS(analysis!CV34)))","v":37.5},{"$f":"(((analysis!CZ34-analysis!CV34)*100/ABS(analysis!CV34)))","v":33.333333333333336},{"$f":"(((analysis!DA34-analysis!CV34)*100/ABS(analysis!CV34)))","v":34.375},{"$f":"(((analysis!DB34-analysis!CV34)*100/ABS(analysis!CV34)))","v":32.291666666666664},{"$f":"(((analysis!DC34-analysis!CV34)*100/ABS(analysis!CV34)))","v":31.25},{"$f":"(((analysis!DD34-analysis!CV34)*100/ABS(analysis!CV34)))","v":29.166666666666668},{"$f":"(((analysis!DE34-analysis!CV34)*100/ABS(analysis!CV34)))","v":25},{"$f":"(((analysis!DF34-analysis!CV34)*100/ABS(analysis!CV34)))","v":32.291666666666664},33.85416666666667,null,{"$f":"((analysis!DS34-analysis!DR34)*100/ABS(analysis!DR34))","v":41.5478615071283},{"$f":"((analysis!DT34-analysis!DR34)*100/ABS(analysis!DR34))","v":43.58452138492871},{"$f":"((analysis!DU34-analysis!DR34)*100/ABS(analysis!DR34))","v":39.5112016293279},{"$f":"((analysis!DV34-analysis!DR34)*100/ABS(analysis!DR34))","v":26.27291242362525},{"$f":"((analysis!DW34-analysis!DR34)*100/ABS(analysis!DR34))","v":29.32790224032586},{"$f":"((analysis!DX34-analysis!DR34)*100/ABS(analysis!DR34))","v":34.41955193482688},{"$f":"((analysis!DY34-analysis!DR34)*100/ABS(analysis!DR34))","v":32.382892057026474},{"$f":"((analysis!DZ34-analysis!DR34)*100/ABS(analysis!DR34))","v":37.47454175152749},{"$f":"((analysis!EA34-analysis!DR34)*100/ABS(analysis!DR34))","v":27.291242362525452},{"$f":"((analysis!EB34-analysis!DR34)*100/ABS(analysis!DR34))","v":37.47454175152749},34.92871690427698,null,-1.4041999999999966,-1.2896999999999934]
[{"$f":"analysis!A35","v":"EJ101"},{"$f":"(((analysis!CW35-analysis!CV35)*100/ABS(analysis!CV35)))","v":25.88235294117647},{"$f":"(((analysis!CX35-analysis!CV35)*100/ABS(analysis!CV35)))","v":28.235294117647058},{"$f":"(((analysis!CY35-analysis!CV35)*100/ABS(analysis!CV35)))","v":14.117647058823529},{"$f":"(((analysis!CZ35-analysis!CV35)*100/ABS(analysis!CV35)))","v":11.764705882352942},{"$f":"(((analysis!DA35-analysis!CV35)*100/ABS(analysis!CV35)))","v":11.764705882352942},{"$f":"(((analysis!DB35-analysis!CV35)*100/ABS(analysis!CV35)))","v":17.647058823529413},{"$f":"(((analysis!DC35-analysis!CV35)*100/ABS(analysis!CV35)))","v":9.411764705882353},{"$f":"(((analysis!DD35-analysis!CV35)*100/ABS(analysis!CV35)))","v":16.470588235294116},{"$f":"(((analysis!DE35-analysis!CV35)*100/ABS(analysis!CV35)))","v":15.294117647058824},{"$f":"(((analysis!DF35-analysis!CV35)*100/ABS(analysis!CV35)))","v":14.117647058823529},16.470588235294116,null,{"$f":"((analysis!DS35-analysis!DR35)*100/ABS(analysis!DR35))","v":35.23573200992556},{"$f":"((analysis!DT35-analysis!DR35)*100/ABS(analysis!DR35))","v":27.79156327543425},{"$f":"((analysis!DU35-analysis!DR35)*100/ABS(analysis!DR35))","v":29.032258064516135},{"$f":"((analysis!DV35-analysis!DR35)*100/ABS(analysis!DR35))","v":27.79156327543425},{"$f":"((analysis!DW35-analysis!DR35)*100/ABS(analysis!DR35))","v":31.51364764267991},{"$f":"((analysis!DX35-analysis!DR35)*100/ABS(analysis!DR35))","v":27.79156327543425},{"$f":"((analysis!DY35-analysis!DR35)*100/ABS(analysis!DR35))","v":27.79156327543425},{"$f":"((analysis!DZ35-analysis!DR35)*100/ABS(analysis!DR35))","v":19.10669975186105},{"$f":"((analysis!EA35-analysis!DR35)*100/ABS(analysis!DR35))","v":26.550868486352364},{"$f":"((analysis!EB35-analysis!DR35)*100/ABS(analysis!DR35))","v":33.99503722084368},28.66004962779157,null,-3.421700000000002,-5.325300000000011]
[{"$f":"analysis!A36","v":"ER101"},{"$f":"(((analysis!CW36-analysis!CV36)*100/ABS(analysis!CV36)))","v":-11.11111111111111},{"$f":"(((analysis!CX36-analysis!CV36)*100/ABS(analysis!CV36)))","v":1.3888888888888888},{"$f":"(((analysis!CY36-analysis!CV36)*100/ABS(analysis!CV36)))","v":1.3888888888888888},{"$f":"(((analysis!CZ36-analysis!CV36)*100/ABS(analysis!CV36)))","v":-1.3888888888888888},{"$f":"(((analysis!DA36-analysis!CV36)*100/ABS(analysis!CV36)))","v":0},{"$f":"(((analysis!DB36-analysis!CV36)*100/ABS(analysis!CV36)))","v":2.7777777777777777},{"$f":"(((analysis!DC36-analysis!CV36)*100/ABS(analysis!CV36)))","v":1.3888888888888888},{"$f":"(((analysis!DD36-analysis!CV36)*100/ABS(analysis!CV36)))","v":1.3888888888888888},{"$f":"(((analysis!DE36-analysis!CV36)*100/ABS(analysis!CV36)))","v":-9.722222222222221},{"$f":"(((analysis!DF36-analysis!CV36)*100/ABS(analysis!CV36)))","v":-5.555555555555555},-1.9444444444444442,null,{"$f":"((analysis!DS36-analysis!DR36)*100/ABS(analysis!DR36))","v":-2.097902097902098},{"$f":"((analysis!DT36-analysis!DR36)*100/ABS(analysis!DR36))","v":7.6923076923076925},{"$f":"((analysis!DU36-analysis!DR36)*100/ABS(analysis!DR36))","v":3.4965034965034967},{"$f":"((analysis!DV36-analysis!DR36)*100/ABS(analysis!DR36))","v":-0.6993006993006993},{"$f":"((analysis!DW36-analysis!DR36)*100/ABS(analysis!DR36))","v":2.097902097902098},{"$f":"((analysis!DX36-analysis!DR36)*100/ABS(analysis!DR36))","v":4.895104895104895},{"$f":"((analysis!DY36-analysis!DR36)*100/ABS(analysis!DR36))","v":2.097902097902098},{"$f":"((analysis!DZ36-analysis!DR36)*100/ABS(analysis!DR36))","v":-3.4965034965034967},{"$f":"((analysis!EA36-analysis!DR36)*100/ABS(analysis!DR36))","v":-6.293706293706293},{"$f":"((analysis!EB36-analysis!DR36)*100/ABS(analysis!DR36))","v":-4.895104895104895},0.27972027972027985,null,-0.1849999999999996,-0.9305000000000053]
[{"$f":"analysis!A37","v":"FA101"},{"$f":"(((analysis!CW37-analysis!CV37)*100/ABS(analysis!CV37)))","v":9.544468546637741},{"$f":"(((analysis!CX37-analysis!CV37)*100/ABS(analysis!CV37)))","v":9.544468546637741},{"$f":"(((analysis!CY37-analysis!CV37)*100/ABS(analysis!CV37)))","v":6.290672451193056},{"$f":"(((analysis!CZ37-analysis!CV37)*100/ABS(analysis!CV37)))","v":17.136659436008674},{"$f":"(((analysis!DA37-analysis!CV37)*100/ABS(analysis!CV37)))","v":13.882863340563988},{"$f":"(((analysis!DB37-analysis!CV37)*100/ABS(analysis!CV37)))","v":4.121475054229932},{"$f":"(((analysis!DC37-analysis!CV37)*100/ABS(analysis!CV37)))","v":6.290672451193056},{"$f":"(((analysis!DD37-analysis!CV37)*100/ABS(analysis!CV37)))","v":11.713665943600866},{"$f":"(((analysis!DE37-analysis!CV37)*100/ABS(analysis!CV37)))","v":10.629067245119304},{"$f":"(((analysis!DF37-analysis!CV37)*100/ABS(analysis!CV37)))","v":5.206073752711493},9.436008676789584,null,{"$f":"((analysis!DS37-analysis!DR37)*100/ABS(analysis!DR37))","v":4.575163398692814},{"$f":"((analysis!DT37-analysis!DR37)*100/ABS(analysis!DR37))","v":10.02178649237473},{"$f":"((analysis!DU37-analysis!DR37)*100/ABS(analysis!DR37))","v":16.557734204793032},{"$f":"((analysis!DV37-analysis!DR37)*100/ABS(analysis!DR37))","v":8.932461873638347},{"$f":"((analysis!DW37-analysis!DR37)*100/ABS(analysis!DR37))","v":7.843137254901963},{"$f":"((analysis!DX37-analysis!DR37)*100/ABS(analysis!DR37))","v":5.664488017429196},{"$f":"((analysis!DY37-analysis!DR37)*100/ABS(analysis!DR37))","v":8.932461873638347},{"$f":"((analysis!DZ37-analysis!DR37)*100/ABS(analysis!DR37))","v":6.75381263616558},{"$f":"((analysis!EA37-analysis!DR37)*100/ABS(analysis!DR37))","v":11.111111111111114},{"$f":"((analysis!EB37-analysis!DR37)*100/ABS(analysis!DR37))","v":5.664488017429196},8.60566448801743,null,-1.5367999999999984,-1.2822000000000027]
[{"$f":"analysis!A38","v":"GH101"},{"$f":"(((analysis!CW38-analysis!CV38)*100/ABS(analysis!CV38)))","v":7.336956521739139},{"$f":"(((analysis!CX38-analysis!CV38)*100/ABS(analysis!CV38)))","v":0.543478260869573},{"$f":"(((analysis!CY38-analysis!CV38)*100/ABS(analysis!CV38)))","v":0.543478260869573},{"$f":"(((analysis!CZ38-analysis!CV38)*100/ABS(analysis!CV38)))","v":8.695652173913052},{"$f":"(((analysis!DA38-analysis!CV38)*100/ABS(analysis!CV38)))","v":-2.173913043478253},{"$f":"(((analysis!DB38-analysis!CV38)*100/ABS(analysis!CV38)))","v":8.695652173913052},{"$f":"(((analysis!DC38-analysis!CV38)*100/ABS(analysis!CV38)))","v":4.619565217391313},{"$f":"(((analysis!DD38-analysis!CV38)*100/ABS(analysis!CV38)))","v":12.771739130434792},{"$f":"(((analysis!DE38-analysis!CV38)*100/ABS(analysis!CV38)))","v":15.489130434782616},{"$f":"(((analysis!DF38-analysis!CV38)*100/ABS(analysis!CV38)))","v":10.054347826086966},6.657608695652182,null,{"$f":"((analysis!DS38-analysis!DR38)*100/ABS(analysis!DR38))","v":17.985611510791365},{"$f":"((analysis!DT38-analysis!DR38)*100/ABS(analysis!DR38))","v":5.0359712230215825},{"$f":"((analysis!DU38-analysis!DR38)*100/ABS(analysis!DR38))","v":16.546762589928058},{"$f":"((analysis!DV38-analysis!DR38)*100/ABS(analysis!DR38))","v":15.107913669064748},{"$f":"((analysis!DW38-analysis!DR38)*100/ABS(analysis!DR38))","v":6.474820143884892},{"$f":"((analysis!DX38-analysis!DR38)*100/ABS(analysis!DR38))","v":15.107913669064748},{"$f":"((analysis!DY38-analysis!DR38)*100/ABS(analysis!DR38))","v":20.863309352517987},{"$f":"((analysis!DZ38-analysis!DR38)*100/ABS(analysis!DR38))","v":20.863309352517987},{"$f":"((analysis!EA38-analysis!DR38)*100/ABS(analysis!DR38))","v":6.474820143884892},{"$f":"((analysis!EB38-analysis!DR38)*100/ABS(analysis!DR38))","v":25.179856115107913},14.964028776978418,null,-2.6987999999999976,-2.156999999999998]
[{"$f":"analysis!A39","v":"GS101"},{"$f":"(((analysis!CW39-analysis!CV39)*100/ABS(analysis!CV39)))","v":3.2204789430223006},{"$f":"(((analysis!CX39-analysis!CV39)*100/ABS(analysis!CV39)))","v":-2.5598678777869486},{"$f":"(((analysis!CY39-analysis!CV39)*100/ABS(analysis!CV39)))","v":0.7431874483897652},{"$f":"(((analysis!CZ39-analysis!CV39)*100/ABS(analysis!CV39)))","v":-0.08257638315441315},{"$f":"(((analysis!DA39-analysis!CV39)*100/ABS(analysis!CV39)))","v":0.7431874483897652},{"$f":"(((analysis!DB39-analysis!CV39)*100/ABS(analysis!CV39)))","v":-6.68868703550784},{"$f":"(((analysis!DC39-analysis!CV39)*100/ABS(analysis!CV39)))","v":-5.037159372419484},{"$f":"(((analysis!DD39-analysis!CV39)*100/ABS(analysis!CV39)))","v":-1.73410404624277},{"$f":"(((analysis!DE39-analysis!CV39)*100/ABS(analysis!CV39)))","v":2.394715111478122},{"$f":"(((analysis!DF39-analysis!CV39)*100/ABS(analysis!CV39)))","v":-9.165978530140377},-1.8166804293971879,null,{"$f":"((analysis!DS39-analysis!DR39)*100/ABS(analysis!DR39))","v":5.9947871416159915},{"$f":"((analysis!DT39-analysis!DR39)*100/ABS(analysis!DR39))","v":4.257167680278024},{"$f":"((analysis!DU39-analysis!DR39)*100/ABS(analysis!DR39))","v":3.388357949609041},{"$f":"((analysis!DV39-analysis!DR39)*100/ABS(analysis!DR39))","v":2.519548218940057},{"$f":"((analysis!DW39-analysis!DR39)*100/ABS(analysis!DR39))","v":3.388357949609041},{"$f":"((analysis!DX39-analysis!DR39)*100/ABS(analysis!DR39))","v":3.388357949609041},{"$f":"((analysis!DY39-analysis!DR39)*100/ABS(analysis!DR39))","v":4.257167680278024},{"$f":"((analysis!DZ39-analysis!DR39)*100/ABS(analysis!DR39))","v":-1.8245004344048605},{"$f":"((analysis!EA39-analysis!DR39)*100/ABS(analysis!DR39))","v":-2.6933101650738442},{"$f":"((analysis!EB39-analysis!DR39)*100/ABS(analysis!DR39))","v":-4.430929626411811},1.8245004344048705,null,-0.7996999999999999,-2.755899999999992]
[{"$f":"analysis!A40","v":"HR101"},{"$f":"(((analysis!CW40-analysis!CV40)*100/ABS(analysis!CV40)))","v":6.852497096399542},{"$f":"(((analysis!CX40-analysis!CV40)*100/ABS(analysis!CV40)))","v":4.529616724738683},{"$f":"(((analysis!CY40-analysis!CV40)*100/ABS(analysis!CV40)))","v":6.852497096399542},{"$f":"(((analysis!CZ40-analysis!CV40)*100/ABS(analysis!CV40)))","v":6.852497096399542},{"$f":"(((analysis!DA40-analysis!CV40)*100/ABS(analysis!CV40)))","v":-0.11614401858303638},{"$f":"(((analysis!DB40-analysis!CV40)*100/ABS(analysis!CV40)))","v":1.0452961672473935},{"$f":"(((analysis!DC40-analysis!CV40)*100/ABS(analysis!CV40)))","v":-0.11614401858303638},{"$f":"(((analysis!DD40-analysis!CV40)*100/ABS(analysis!CV40)))","v":-4.761904761904756},{"$f":"(((analysis!DE40-analysis!CV40)*100/ABS(analysis!CV40)))","v":-1.2775842044134662},{"$f":"(((analysis!DF40-analysis!CV40)*100/ABS(analysis!CV40)))","v":1.0452961672473935},2.0905923344947803,null,{"$f":"((analysis!DS40-analysis!DR40)*100/ABS(analysis!DR40))","v":12.305854241338109},{"$f":"((analysis!DT40-analysis!DR40)*100/ABS(analysis!DR40))","v":9.916367980884107},{"$f":"((analysis!DU40-analysis!DR40)*100/ABS(analysis!DR40))","v":9.916367980884107},{"$f":"((analysis!DV40-analysis!DR40)*100/ABS(analysis!DR40))","v":3.9426523297491003},{"$f":"((analysis!DW40-analysis!DR40)*100/ABS(analysis!DR40))","v":2.747909199522099},{"$f":"((analysis!DX40-analysis!DR40)*100/ABS(analysis!DR40))","v":5.137395459976101},{"$f":"((analysis!DY40-analysis!DR40)*100/ABS(analysis!DR40))","v":3.9426523297491003},{"$f":"((analysis!DZ40-analysis!DR40)*100/ABS(analysis!DR40))","v":-3.2258064516129066},{"$f":"((analysis!EA40-analysis!DR40)*100/ABS(analysis!DR40))","v":-3.2258064516129066},{"$f":"((analysis!EB40-analysis!DR40)*100/ABS(analysis!DR40))","v":0.35842293906809697},4.181600955794501,null,-1.8247,-3.6729999999999983]
[{"$f":"analysis!A41","v":"IF101"},{"$f":"(((analysis!CW41-analysis!CV41)*100/ABS(analysis!CV41)))","v":12.359550561797754},{"$f":"(((analysis!CX41-analysis!CV41)*100/ABS(analysis!CV41)))","v":21.348314606741575},{"$f":"(((analysis!CY41-analysis!CV41)*100/ABS(analysis!CV41)))","v":15.730337078651685},{"$f":"(((analysis!CZ41-analysis!CV41)*100/ABS(analysis!CV41)))","v":13.48314606741573},{"$f":"(((analysis!DA41-analysis!CV41)*100/ABS(analysis!CV41)))","v":11.235955056179776},{"$f":"(((analysis!DB41-analysis!CV41)*100/ABS(analysis!CV41)))","v":11.235955056179776},{"$f":"(((analysis!DC41-analysis!CV41)*100/ABS(analysis!CV41)))","v":5.617977528089888},{"$f":"(((analysis!DD41-analysis!CV41)*100/ABS(analysis!CV41)))","v":12.359550561797754},{"$f":"(((analysis!DE41-analysis!CV41)*100/ABS(analysis!CV41)))","v":8.98876404494382},{"$f":"(((analysis!DF41-analysis!CV41)*100/ABS(analysis!CV41)))","v":8.98876404494382},12.134831460674159,null,{"$f":"((analysis!DS41-analysis!DR41)*100/ABS(analysis!DR41))","v":19.820828667413217},{"$f":"((analysis!DT41-analysis!DR41)*100/ABS(analysis!DR41))","v":15.341545352743564},{"$f":"((analysis!DU41-analysis!DR41)*100/ABS(analysis!DR41))","v":16.461366181410977},{"$f":"((analysis!DV41-analysis!DR41)*100/ABS(analysis!DR41))","v":9.742441209406497},{"$f":"((analysis!DW41-analysis!DR41)*100/ABS(analysis!DR41))","v":10.862262038073911},{"$f":"((analysis!DX41-analysis!DR41)*100/ABS(analysis!DR41))","v":11.982082866741324},{"$f":"((analysis!DY41-analysis!DR41)*100/ABS(analysis!DR41))","v":11.982082866741324},{"$f":"((analysis!DZ41-analysis!DR41)*100/ABS(analysis!DR41))","v":13.101903695408737},{"$f":"((analysis!EA41-analysis!DR41)*100/ABS(analysis!DR41))","v":-1.455767077267634},{"$f":"((analysis!EB41-analysis!DR41)*100/ABS(analysis!DR41))","v":5.263157894736845},11.310190369540875,null,-1.5576000000000005,-1.5562999999999978]
[{"$f":"analysis!A42","v":"IG101"},{"$f":"(((analysis!CW42-analysis!CV42)*100/ABS(analysis!CV42)))","v":15.456238361266289},{"$f":"(((analysis!CX42-analysis!CV42)*100/ABS(analysis!CV42)))","v":8.007448789571688},{"$f":"(((analysis!CY42-analysis!CV42)*100/ABS(analysis!CV42)))","v":14.525139664804465},{"$f":"(((analysis!CZ42-analysis!CV42)*100/ABS(analysis!CV42)))","v":13.59404096834264},{"$f":"(((analysis!DA42-analysis!CV42)*100/ABS(analysis!CV42)))","v":10.800744878957165},{"$f":"(((analysis!DB42-analysis!CV42)*100/ABS(analysis!CV42)))","v":13.59404096834264},{"$f":"(((analysis!DC42-analysis!CV42)*100/ABS(analysis!CV42)))","v":18.249534450651765},{"$f":"(((analysis!DD42-analysis!CV42)*100/ABS(analysis!CV42)))","v":8.938547486033514},{"$f":"(((analysis!DE42-analysis!CV42)*100/ABS(analysis!CV42)))","v":15.456238361266289},{"$f":"(((analysis!DF42-analysis!CV42)*100/ABS(analysis!CV42)))","v":18.249534450651765},13.68715083798882,null,{"$f":"((analysis!DS42-analysis!DR42)*100/ABS(analysis!DR42))","v":18.93434823977165},{"$f":"((analysis!DT42-analysis!DR42)*100/ABS(analysis!DR42))","v":21.788772597526172},{"$f":"((analysis!DU42-analysis!DR42)*100/ABS(analysis!DR42))","v":10.371075166508092},{"$f":"((analysis!DV42-analysis!DR42)*100/ABS(analysis!DR42))","v":20.837297811607996},{"$f":"((analysis!DW42-analysis!DR42)*100/ABS(analysis!DR42))","v":17.031398667935306},{"$f":"((analysis!DX42-analysis!DR42)*100/ABS(analysis!DR42))","v":15.128449096098958},{"$f":"((analysis!DY42-analysis!DR42)*100/ABS(analysis!DR42))","v":17.031398667935306},{"$f":"((analysis!DZ42-analysis!DR42)*100/ABS(analysis!DR42))","v":14.176974310180785},{"$f":"((analysis!EA42-analysis!DR42)*100/ABS(analysis!DR42))","v":15.128449096098958},{"$f":"((analysis!EB42-analysis!DR42)*100/ABS(analysis!DR42))","v":17.98287345385348},16.84110371075167,null,-2.358199999999999,-7.807799999999995]
[{"$f":"analysis!A43","v":"IH101"},{"$f":"(((analysis!CW43-analysis!CV43)*100/ABS(analysis!CV43)))","v":38.88888888888888},{"$f":"(((analysis!CX43-analysis!CV43)*100/ABS(analysis!CV43)))","v":38.88888888888888},{"$f":"(((analysis!CY43-analysis!CV43)*100/ABS(analysis!CV43)))","v":42.3611111111111},{"$f":"(((analysis!CZ43-analysis!CV43)*100/ABS(analysis!CV43)))","v":37.731481481481474},{"$f":"(((analysis!DA43-analysis!CV43)*100/ABS(analysis!CV43)))","v":27.314814814814806},{"$f":"(((analysis!DB43-analysis!CV43)*100/ABS(analysis!CV43)))","v":18.05555555555555},{"$f":"(((analysis!DC43-analysis!CV43)*100/ABS(analysis!CV43)))","v":24.999999999999993},{"$f":"(((analysis!DD43-analysis!CV43)*100/ABS(analysis!CV43)))","v":26.1574074074074},{"$f":"(((analysis!DE43-analysis!CV43)*100/ABS(analysis!CV43)))","v":22.68518518518518},{"$f":"(((analysis!DF43-analysis!CV43)*100/ABS(analysis!CV43)))","v":30.78703703703703},30.787037037037027,null,{"$f":"((analysis!DS43-analysis!DR43)*100/ABS(analysis!DR43))","v":38.85647607934655},{"$f":"((analysis!DT43-analysis!DR43)*100/ABS(analysis!DR43))","v":40.023337222870474},{"$f":"((analysis!DU43-analysis!DR43)*100/ABS(analysis!DR43))","v":29.521586931155188},{"$f":"((analysis!DV43-analysis!DR43)*100/ABS(analysis!DR43))","v":37.68961493582263},{"$f":"((analysis!DW43-analysis!DR43)*100/ABS(analysis!DR43))","v":29.521586931155188},{"$f":"((analysis!DX43-analysis!DR43)*100/ABS(analysis!DR43))","v":34.18903150525087},{"$f":"((analysis!DY43-analysis!DR43)*100/ABS(analysis!DR43))","v":29.521586931155188},{"$f":"((analysis!DZ43-analysis!DR43)*100/ABS(analysis!DR43))","v":27.187864644107346},{"$f":"((analysis!EA43-analysis!DR43)*100/ABS(analysis!DR43))","v":22.520420070011664},{"$f":"((analysis!EB43-analysis!DR43)*100/ABS(analysis!DR43))","v":23.687281213535584},31.271878646441063,null,-1.5592999999999972,-3.581100000000004]
[{"$f":"analysis!A44","v":"IOD101"},{"$f":"(((analysis!CW44-analysis!CV44)*100/ABS(analysis!CV44)))","v":15.973741794310715},{"$f":"(((analysis!CX44-analysis!CV44)*100/ABS(analysis!CV44)))","v":14.879649890590803},{"$f":"(((analysis!CY44-analysis!CV44)*100/ABS(analysis!CV44)))","v":11.597374179431066},{"$f":"(((analysis!CZ44-analysis!CV44)*100/ABS(analysis!CV44)))","v":6.1269146608315035},{"$f":"(((analysis!DA44-analysis!CV44)*100/ABS(analysis!CV44)))","v":13.785557986870892},{"$f":"(((analysis!DB44-analysis!CV44)*100/ABS(analysis!CV44)))","v":7.221006564551415},{"$f":"(((analysis!DC44-analysis!CV44)*100/ABS(analysis!CV44)))","v":13.785557986870892},{"$f":"(((analysis!DD44-analysis!CV44)*100/ABS(analysis!CV44)))","v":9.40919037199124},{"$f":"(((analysis!DE44-analysis!CV44)*100/ABS(analysis!CV44)))","v":6.1269146608315035},{"$f":"(((analysis!DF44-analysis!CV44)*100/ABS(analysis!CV44)))","v":6.1269146608315035},10.503282275711154,null,{"$f":"((analysis!DS44-analysis!DR44)*100/ABS(analysis!DR44))","v":15.301724137931037},{"$f":"((analysis!DT44-analysis!DR44)*100/ABS(analysis!DR44))","v":3.448275862068969},{"$f":"((analysis!DU44-analysis!DR44)*100/ABS(analysis!DR44))","v":13.146551724137934},{"$f":"((analysis!DV44-analysis!DR44)*100/ABS(analysis!DR44))","v":7.758620689655175},{"$f":"((analysis!DW44-analysis!DR44)*100/ABS(analysis!DR44))","v":7.758620689655175},{"$f":"((analysis!DX44-analysis!DR44)*100/ABS(analysis!DR44))","v":4.5258620689655205},{"$f":"((analysis!DY44-analysis!DR44)*100/ABS(analysis!DR44))","v":9.91379310344828},{"$f":"((analysis!DZ44-analysis!DR44)*100/ABS(analysis!DR44))","v":7.758620689655175},{"$f":"((analysis!EA44-analysis!DR44)*100/ABS(analysis!DR44))","v":3.448275862068969},{"$f":"((analysis!EB44-analysis!DR44)*100/ABS(analysis!DR44))","v":0.2155172413793134},7.327586206896555,null,-2.051199999999998,-3.3825000000000003]
[{"$f":"analysis!A45","v":"JB101"},{"$f":"(((analysis!CW45-analysis!CV45)*100/ABS(analysis!CV45)))","v":19.41747572815534},{"$f":"(((analysis!CX45-analysis!CV45)*100/ABS(analysis!CV45)))","v":9.70873786407767},{"$f":"(((analysis!CY45-analysis!CV45)*100/ABS(analysis!CV45)))","v":5.825242718446602},{"$f":"(((analysis!CZ45-analysis!CV45)*100/ABS(analysis!CV45)))","v":14.563106796116505},{"$f":"(((analysis!DA45-analysis!CV45)*100/ABS(analysis!CV45)))","v":4.854368932038835},{"$f":"(((analysis!DB45-analysis!CV45)*100/ABS(analysis!CV45)))","v":2.912621359223301},{"$f":"(((analysis!DC45-analysis!CV45)*100/ABS(analysis!CV45)))","v":3.883495145631068},{"$f":"(((analysis!DD45-analysis!CV45)*100/ABS(analysis!CV45)))","v":7.766990291262136},{"$f":"(((analysis!DE45-analysis!CV45)*100/ABS(analysis!CV45)))","v":3.883495145631068},{"$f":"(((analysis!DF45-analysis!CV45)*100/ABS(analysis!CV45)))","v":6.796116504854369},7.961165048543689,null,{"$f":"((analysis!DS45-analysis!DR45)*100/ABS(analysis!DR45))","v":13.846153846153847},{"$f":"((analysis!DT45-analysis!DR45)*100/ABS(analysis!DR45))","v":10.76923076923077},{"$f":"((analysis!DU45-analysis!DR45)*100/ABS(analysis!DR45))","v":15.897435897435898},{"$f":"((analysis!DV45-analysis!DR45)*100/ABS(analysis!DR45))","v":11.794871794871796},{"$f":"((analysis!DW45-analysis!DR45)*100/ABS(analysis!DR45))","v":9.743589743589743},{"$f":"((analysis!DX45-analysis!DR45)*100/ABS(analysis!DR45))","v":16.923076923076923},{"$f":"((analysis!DY45-analysis!DR45)*100/ABS(analysis!DR45))","v":15.897435897435898},{"$f":"((analysis!DZ45-analysis!DR45)*100/ABS(analysis!DR45))","v":11.794871794871796},{"$f":"((analysis!EA45-analysis!DR45)*100/ABS(analysis!DR45))","v":8.717948717948717},{"$f":"((analysis!EB45-analysis!DR45)*100/ABS(analysis!DR45))","v":0.5128205128205128},11.58974358974359,null,-1.1910999999999994,0.550400000000004]
[{"$f":"analysis!A46","v":"JC102"},{"$f":"(((analysis!CW46-analysis!CV46)*100/ABS(analysis!CV46)))","v":5.91133004926108},{"$f":"(((analysis!CX46-analysis!CV46)*100/ABS(analysis!CV46)))","v":-0.24630541871921532},{"$f":"(((analysis!CY46-analysis!CV46)*100/ABS(analysis!CV46)))","v":3.4482758620689618},{"$f":"(((analysis!CZ46-analysis!CV46)*100/ABS(analysis!CV46)))","v":-0.24630541871921532},{"$f":"(((analysis!DA46-analysis!CV46)*100/ABS(analysis!CV46)))","v":-2.7093596059113336},{"$f":"(((analysis!DB46-analysis!CV46)*100/ABS(analysis!CV46)))","v":0.9852216748768438},{"$f":"(((analysis!DC46-analysis!CV46)*100/ABS(analysis!CV46)))","v":-0.24630541871921532},{"$f":"(((analysis!DD46-analysis!CV46)*100/ABS(analysis!CV46)))","v":-1.4778325123152745},{"$f":"(((analysis!DE46-analysis!CV46)*100/ABS(analysis!CV46)))","v":-3.9408866995073923},{"$f":"(((analysis!DF46-analysis!CV46)*100/ABS(analysis!CV46)))","v":4.679802955665021},0.6157635467980259,null,{"$f":"((analysis!DS46-analysis!DR46)*100/ABS(analysis!DR46))","v":9.607577807848436},{"$f":"((analysis!DT46-analysis!DR46)*100/ABS(analysis!DR46))","v":15.020297699594039},{"$f":"((analysis!DU46-analysis!DR46)*100/ABS(analysis!DR46))","v":10.960757780784835},{"$f":"((analysis!DV46-analysis!DR46)*100/ABS(analysis!DR46))","v":15.020297699594039},{"$f":"((analysis!DW46-analysis!DR46)*100/ABS(analysis!DR46))","v":17.72665764546684},{"$f":"((analysis!DX46-analysis!DR46)*100/ABS(analysis!DR46))","v":15.020297699594039},{"$f":"((analysis!DY46-analysis!DR46)*100/ABS(analysis!DR46))","v":8.254397834912035},{"$f":"((analysis!DZ46-analysis!DR46)*100/ABS(analysis!DR46))","v":5.548037889039234},{"$f":"((analysis!EA46-analysis!DR46)*100/ABS(analysis!DR46))","v":6.901217861975635},{"$f":"((analysis!EB46-analysis!DR46)*100/ABS(analysis!DR46))","v":1.4884979702300327},10.554803788903918,null,-1.009000000000001,-3.4260999999999937]
[{"$f":"analysis!A47","v":"JD101"},{"$f":"(((analysis!CW47-analysis!CV47)*100/ABS(analysis!CV47)))","v":-1.4454664914585997},{"$f":"(((analysis!CX47-analysis!CV47)*100/ABS(analysis!CV47)))","v":9.067017082785815},{"$f":"(((analysis!CY47-analysis!CV47)*100/ABS(analysis!CV47)))","v":-6.701708278580807},{"$f":"(((analysis!CZ47-analysis!CV47)*100/ABS(analysis!CV47)))","v":-0.13140604467804773},{"$f":"(((analysis!DA47-analysis!CV47)*100/ABS(analysis!CV47)))","v":-15.900131406044673},{"$f":"(((analysis!DB47-analysis!CV47)*100/ABS(analysis!CV47)))","v":-8.01576872536136},{"$f":"(((analysis!DC47-analysis!CV47)*100/ABS(analysis!CV47)))","v":-8.01576872536136},{"$f":"(((analysis!DD47-analysis!CV47)*100/ABS(analysis!CV47)))","v":-0.13140604467804773},{"$f":"(((analysis!DE47-analysis!CV47)*100/ABS(analysis!CV47)))","v":-6.701708278580807},{"$f":"(((analysis!DF47-analysis!CV47)*100/ABS(analysis!CV47)))","v":-11.957950065703015},-4.993429697766091,null,{"$f":"((analysis!DS47-analysis!DR47)*100/ABS(analysis!DR47))","v":-2.4081115335868257},{"$f":"((analysis!DT47-analysis!DR47)*100/ABS(analysis!DR47))","v":-3.6755386565272565},{"$f":"((analysis!DU47-analysis!DR47)*100/ABS(analysis!DR47))","v":-2.4081115335868257},{"$f":"((analysis!DV47-analysis!DR47)*100/ABS(analysis!DR47))","v":-8.74524714828898},{"$f":"((analysis!DW47-analysis!DR47)*100/ABS(analysis!DR47))","v":-8.74524714828898},{"$f":"((analysis!DX47-analysis!DR47)*100/ABS(analysis!DR47))","v":-8.74524714828898},{"$f":"((analysis!DY47-analysis!DR47)*100/ABS(analysis!DR47))","v":-8.74524714828898},{"$f":"((analysis!DZ47-analysis!DR47)*100/ABS(analysis!DR47))","v":2.6615969581748975},{"$f":"((analysis!EA47-analysis!DR47)*100/ABS(analysis!DR47))","v":3.9290240811153283},{"$f":"((analysis!EB47-analysis!DR47)*100/ABS(analysis!DR47))","v":-2.4081115335868257},-3.929024081115343,null,-3.8301999999999956,-2.039200000000003]
[{"$f":"analysis!A48","v":"JG101"},{"$f":"(((analysis!CW48-analysis!CV48)*100/ABS(analysis!CV48)))","v":47.66839378238341},{"$f":"(((analysis!CX48-analysis!CV48)*100/ABS(analysis!CV48)))","v":42.48704663212435},{"$f":"(((analysis!CY48-analysis!CV48)*100/ABS(analysis!CV48)))","v":41.191709844559576},{"$f":"(((analysis!CZ48-analysis!CV48)*100/ABS(analysis!CV48)))","v":38.60103626943005},{"$f":"(((analysis!DA48-analysis!CV48)*100/ABS(analysis!CV48)))","v":37.305699481865275},{"$f":"(((analysis!DB48-analysis!CV48)*100/ABS(analysis!CV48)))","v":32.12435233160621},{"$f":"(((analysis!DC48-analysis!CV48)*100/ABS(analysis!CV48)))","v":28.23834196891191},{"$f":"(((analysis!DD48-analysis!CV48)*100/ABS(analysis!CV48)))","v":33.419689119170975},{"$f":"(((analysis!DE48-analysis!CV48)*100/ABS(analysis!CV48)))","v":24.352331606217614},{"$f":"(((analysis!DF48-analysis!CV48)*100/ABS(analysis!CV48)))","v":20.46632124352331},34.58549222797926,null,{"$f":"((analysis!DS48-analysis!DR48)*100/ABS(analysis!DR48))","v":44.34330299089726},{"$f":"((analysis!DT48-analysis!DR48)*100/ABS(analysis!DR48))","v":48.24447334200259},{"$f":"((analysis!DU48-analysis!DR48)*100/ABS(analysis!DR48))","v":41.742522756827036},{"$f":"((analysis!DV48-analysis!DR48)*100/ABS(analysis!DR48))","v":32.639791937581265},{"$f":"((analysis!DW48-analysis!DR48)*100/ABS(analysis!DR48))","v":37.84135240572171},{"$f":"((analysis!DX48-analysis!DR48)*100/ABS(analysis!DR48))","v":30.039011703511044},{"$f":"((analysis!DY48-analysis!DR48)*100/ABS(analysis!DR48))","v":37.84135240572171},{"$f":"((analysis!DZ48-analysis!DR48)*100/ABS(analysis!DR48))","v":31.339401820546154},{"$f":"((analysis!EA48-analysis!DR48)*100/ABS(analysis!DR48))","v":22.236671001300383},{"$f":"((analysis!EB48-analysis!DR48)*100/ABS(analysis!DR48))","v":19.635890767230162},34.590377113133925,null,-3.407200000000002,-3.4571000000000014]
[{"$f":"analysis!A49","v":"JM101"},{"$f":"(((analysis!CW49-analysis!CV49)*100/ABS(analysis!CV49)))","v":4.441776710684278},{"$f":"(((analysis!CX49-analysis!CV49)*100/ABS(analysis!CV49)))","v":6.842737094837938},{"$f":"(((analysis!CY49-analysis!CV49)*100/ABS(analysis!CV49)))","v":10.44417767106843},{"$f":"(((analysis!CZ49-analysis!CV49)*100/ABS(analysis!CV49)))","v":10.44417767106843},{"$f":"(((analysis!DA49-analysis!CV49)*100/ABS(analysis!CV49)))","v":-0.3601440576230458},{"$f":"(((analysis!DB49-analysis!CV49)*100/ABS(analysis!CV49)))","v":-1.5606242496998766},{"$f":"(((analysis!DC49-analysis!CV49)*100/ABS(analysis!CV49)))","v":4.441776710684278},{"$f":"(((analysis!DD49-analysis!CV49)*100/ABS(analysis!CV49)))","v":6.842737094837938},{"$f":"(((analysis!DE49-analysis!CV49)*100/ABS(analysis!CV49)))","v":16.446578631452585},{"$f":"(((analysis!DF49-analysis!CV49)*100/ABS(analysis!CV49)))","v":3.2412965186074465},6.122448979591841,null,{"$f":"((analysis!DS49-analysis!DR49)*100/ABS(analysis!DR49))","v":1.2805587892898653},{"$f":"((analysis!DT49-analysis!DR49)*100/ABS(analysis!DR49))","v":11.757857974388816},{"$f":"((analysis!DU49-analysis!DR49)*100/ABS(analysis!DR49))","v":7.101280558789282},{"$f":"((analysis!DV49-analysis!DR49)*100/ABS(analysis!DR49))","v":-1.0477299185099018},{"$f":"((analysis!DW49-analysis!DR49)*100/ABS(analysis!DR49))","v":8.265424912689166},{"$f":"((analysis!DX49-analysis!DR49)*100/ABS(analysis!DR49))","v":8.265424912689166},{"$f":"((analysis!DY49-analysis!DR49)*100/ABS(analysis!DR49))","v":-3.3760186263096688},{"$f":"((analysis!DZ49-analysis!DR49)*100/ABS(analysis!DR49))","v":0.11641443538998174},{"$f":"((analysis!EA49-analysis!DR49)*100/ABS(analysis!DR49))","v":-1.0477299185099018},{"$f":"((analysis!EB49-analysis!DR49)*100/ABS(analysis!DR49))","v":9.42956926658905},4.074505238649586,null,-2.143600000000002,-2.427500000000001]
[{"$f":"analysis!A50","v":"JP101"},{"$f":"(((analysis!CW50-analysis!CV50)*100/ABS(analysis!CV50)))","v":0.2044989775051154},{"$f":"(((analysis!CX50-analysis!CV50)*100/ABS(analysis!CV50)))","v":1.2269938650306778},{"$f":"(((analysis!CY50-analysis!CV50)*100/ABS(analysis!CV50)))","v":0.2044989775051154},{"$f":"(((analysis!CZ50-analysis!CV50)*100/ABS(analysis!CV50)))","v":1.2269938650306778},{"$f":"(((analysis!DA50-analysis!CV50)*100/ABS(analysis!CV50)))","v":0.2044989775051154},{"$f":"(((analysis!DB50-analysis!CV50)*100/ABS(analysis!CV50)))","v":0.2044989775051154},{"$f":"(((analysis!DC50-analysis!CV50)*100/ABS(analysis!CV50)))","v":0.2044989775051154},{"$f":"(((analysis!DD50-analysis!CV50)*100/ABS(analysis!CV50)))","v":-0.817995910020447},{"$f":"(((analysis!DE50-analysis!CV50)*100/ABS(analysis!CV50)))","v":0.2044989775051154},{"$f":"(((analysis!DF50-analysis!CV50)*100/ABS(analysis!CV50)))","v":-0.817995910020447},0.2044989775051155,null,{"$f":"((analysis!DS50-analysis!DR50)*100/ABS(analysis!DR50))","v":1.2269938650306778},{"$f":"((analysis!DT50-analysis!DR50)*100/ABS(analysis!DR50))","v":1.2269938650306778},{"$f":"((analysis!DU50-analysis!DR50)*100/ABS(analysis!DR50))","v":0.2044989775051154},{"$f":"((analysis!DV50-analysis!DR50)*100/ABS(analysis!DR50))","v":0.2044989775051154},{"$f":"((analysis!DW50-analysis!DR50)*100/ABS(analysis!DR50))","v":0.2044989775051154},{"$f":"((analysis!DX50-analysis!DR50)*100/ABS(analysis!DR50))","v":0.2044989775051154},{"$f":"((analysis!DY50-analysis!DR50)*100/ABS(analysis!DR50))","v":0.2044989775051154},{"$f":"((analysis!DZ50-analysis!DR50)*100/ABS(analysis!DR50))","v":0.2044989775051154},{"$f":"((analysis!EA50-analysis!DR50)*100/ABS(analysis!DR50))","v":0.2044989775051154},{"$f":"((analysis!EB50-analysis!DR50)*100/ABS(analysis!DR50))","v":0.2044989775051154},0.40899795501022795,null,-2.1637999999999984,-5.309200000000004]
[{"$f":"analysis!A51","v":"JS102"},{"$f":"(((analysis!CW51-analysis!CV51)*100/ABS(analysis!CV51)))","v":8.02919708029197},{"$f":"(((analysis!CX51-analysis!CV51)*100/ABS(analysis!CV51)))","v":8.02919708029197},{"$f":"(((analysis!CY51-analysis!CV51)*100/ABS(analysis!CV51)))","v":6.569343065693431},{"$f":"(((analysis!CZ51-analysis!CV51)*100/ABS(analysis!CV51)))","v":6.569343065693431},{"$f":"(((analysis!DA51-analysis!CV51)*100/ABS(analysis!CV51)))","v":6.569343065693431},{"$f":"(((analysis!DB51-analysis!CV51)*100/ABS(analysis!CV51)))","v":12.408759124087592},{"$f":"(((analysis!DC51-analysis!CV51)*100/ABS(analysis!CV51)))","v":6.569343065693431},{"$f":"(((analysis!DD51-analysis!CV51)*100/ABS(analysis!CV51)))","v":9.489051094890511},{"$f":"(((analysis!DE51-analysis!CV51)*100/ABS(analysis!CV51)))","v":18.248175182481752},{"$f":"(((analysis!DF51-analysis!CV51)*100/ABS(analysis!CV51)))","v":16.78832116788321},9.927007299270075,null,{"$f":"((analysis!DS51-analysis!DR51)*100/ABS(analysis!DR51))","v":1.8131101813110142},{"$f":"((analysis!DT51-analysis!DR51)*100/ABS(analysis!DR51))","v":-2.3709902370990275},{"$f":"((analysis!DU51-analysis!DR51)*100/ABS(analysis!DR51))","v":4.602510460251042},{"$f":"((analysis!DV51-analysis!DR51)*100/ABS(analysis!DR51))","v":7.39191073919107},{"$f":"((analysis!DW51-analysis!DR51)*100/ABS(analysis!DR51))","v":3.207810320781028},{"$f":"((analysis!DX51-analysis!DR51)*100/ABS(analysis!DR51))","v":-7.949790794979083},{"$f":"((analysis!DY51-analysis!DR51)*100/ABS(analysis!DR51))","v":-10.73919107391911},{"$f":"((analysis!DZ51-analysis!DR51)*100/ABS(analysis!DR51))","v":10.181311018131098},{"$f":"((analysis!EA51-analysis!DR51)*100/ABS(analysis!DR51))","v":14.36541143654114},{"$f":"((analysis!EB51-analysis!DR51)*100/ABS(analysis!DR51))","v":3.207810320781028},2.37099023709902,null,-1.0245999999999995,-4.205800000000001]
[{"$f":"analysis!A52","v":"KM101"},{"$f":"(((analysis!CW52-analysis!CV52)*100/ABS(analysis!CV52)))","v":3.730664240218375},{"$f":"(((analysis!CX52-analysis!CV52)*100/ABS(analysis!CV52)))","v":9.190172884440395},{"$f":"(((analysis!CY52-analysis!CV52)*100/ABS(analysis!CV52)))","v":3.730664240218375},{"$f":"(((analysis!CZ52-analysis!CV52)*100/ABS(analysis!CV52)))","v":4.640582347588712},{"$f":"(((analysis!DA52-analysis!CV52)*100/ABS(analysis!CV52)))","v":11.010009099181069},{"$f":"(((analysis!DB52-analysis!CV52)*100/ABS(analysis!CV52)))","v":6.460418562329385},{"$f":"(((analysis!DC52-analysis!CV52)*100/ABS(analysis!CV52)))","v":7.3703366696997215},{"$f":"(((analysis!DD52-analysis!CV52)*100/ABS(analysis!CV52)))","v":-0.8189262966333082},{"$f":"(((analysis!DE52-analysis!CV52)*100/ABS(analysis!CV52)))","v":1.000909918107365},{"$f":"(((analysis!DF52-analysis!CV52)*100/ABS(analysis!CV52)))","v":1.000909918107365},4.7315741583257465,null,{"$f":"((analysis!DS52-analysis!DR52)*100/ABS(analysis!DR52))","v":1.4362657091561888},{"$f":"((analysis!DT52-analysis!DR52)*100/ABS(analysis!DR52))","v":7.719928186714537},{"$f":"((analysis!DU52-analysis!DR52)*100/ABS(analysis!DR52))","v":7.719928186714537},{"$f":"((analysis!DV52-analysis!DR52)*100/ABS(analysis!DR52))","v":-0.3590664272890536},{"$f":"((analysis!DW52-analysis!DR52)*100/ABS(analysis!DR52))","v":-3.052064631956917},{"$f":"((analysis!DX52-analysis!DR52)*100/ABS(analysis!DR52))","v":-1.2567324955116748},{"$f":"((analysis!DY52-analysis!DR52)*100/ABS(analysis!DR52))","v":2.33393177737881},{"$f":"((analysis!DZ52-analysis!DR52)*100/ABS(analysis!DR52))","v":-1.2567324955116748},{"$f":"((analysis!EA52-analysis!DR52)*100/ABS(analysis!DR52))","v":0.5385996409335676},{"$f":"((analysis!EB52-analysis!DR52)*100/ABS(analysis!DR52))","v":-2.1543985637342957},1.1669658886894023,null,-0.5150000000000006,-0.0607000000000049]
[{"$f":"analysis!A53","v":"KP101"},{"$f":"(((analysis!CW53-analysis!CV53)*100/ABS(analysis!CV53)))","v":48.42767295597484},{"$f":"(((analysis!CX53-analysis!CV53)*100/ABS(analysis!CV53)))","v":39.62264150943396},{"$f":"(((analysis!CY53-analysis!CV53)*100/ABS(analysis!CV53)))","v":37.106918238993714},{"$f":"(((analysis!CZ53-analysis!CV53)*100/ABS(analysis!CV53)))","v":39.62264150943396},{"$f":"(((analysis!DA53-analysis!CV53)*100/ABS(analysis!CV53)))","v":42.138364779874216},{"$f":"(((analysis!DB53-analysis!CV53)*100/ABS(analysis!CV53)))","v":44.65408805031446},{"$f":"(((analysis!DC53-analysis!CV53)*100/ABS(analysis!CV53)))","v":28.30188679245283},{"$f":"(((analysis!DD53-analysis!CV53)*100/ABS(analysis!CV53)))","v":39.62264150943396},{"$f":"(((analysis!DE53-analysis!CV53)*100/ABS(analysis!CV53)))","v":34.59119496855346},{"$f":"(((analysis!DF53-analysis!CV53)*100/ABS(analysis!CV53)))","v":39.62264150943396},39.37106918238994,null,{"$f":"((analysis!DS53-analysis!DR53)*100/ABS(analysis!DR53))","v":22.358175750834253},{"$f":"((analysis!DT53-analysis!DR53)*100/ABS(analysis!DR53))","v":24.582869855394875},{"$f":"((analysis!DU53-analysis!DR53)*100/ABS(analysis!DR53))","v":21.245828698553943},{"$f":"((analysis!DV53-analysis!DR53)*100/ABS(analysis!DR53))","v":26.8075639599555},{"$f":"((analysis!DW53-analysis!DR53)*100/ABS(analysis!DR53))","v":24.582869855394875},{"$f":"((analysis!DX53-analysis!DR53)*100/ABS(analysis!DR53))","v":25.69521690767519},{"$f":"((analysis!DY53-analysis!DR53)*100/ABS(analysis!DR53))","v":22.358175750834253},{"$f":"((analysis!DZ53-analysis!DR53)*100/ABS(analysis!DR53))","v":24.582869855394875},{"$f":"((analysis!EA53-analysis!DR53)*100/ABS(analysis!DR53))","v":29.03225806451612},{"$f":"((analysis!EB53-analysis!DR53)*100/ABS(analysis!DR53))","v":25.69521690767519},24.694104560622907,null,-3.3214000000000015,0.37499999999999717]
[{"$f":"analysis!A54","v":"LB101"},{"$f":"(((analysis!CW54-analysis!CV54)*100/ABS(analysis!CV54)))","v":24.837451235370605},{"$f":"(((analysis!CX54-analysis!CV54)*100/ABS(analysis!CV54)))","v":19.635890767230162},{"$f":"(((analysis!CY54-analysis!CV54)*100/ABS(analysis!CV54)))","v":15.73472041612483},{"$f":"(((analysis!CZ54-analysis!CV54)*100/ABS(analysis!CV54)))","v":11.833550065019498},{"$f":"(((analysis!DA54-analysis!CV54)*100/ABS(analysis!CV54)))","v":14.43433029908972},{"$f":"(((analysis!DB54-analysis!CV54)*100/ABS(analysis!CV54)))","v":9.232769830949277},{"$f":"(((analysis!DC54-analysis!CV54)*100/ABS(analysis!CV54)))","v":0.13003901170350365},{"$f":"(((analysis!DD54-analysis!CV54)*100/ABS(analysis!CV54)))","v":11.833550065019498},{"$f":"(((analysis!DE54-analysis!CV54)*100/ABS(analysis!CV54)))","v":10.533159947984387},{"$f":"(((analysis!DF54-analysis!CV54)*100/ABS(analysis!CV54)))","v":11.833550065019498},13.0039011703511,null,{"$f":"((analysis!DS54-analysis!DR54)*100/ABS(analysis!DR54))","v":14.64968152866242},{"$f":"((analysis!DT54-analysis!DR54)*100/ABS(analysis!DR54))","v":8.280254777070065},{"$f":"((analysis!DU54-analysis!DR54)*100/ABS(analysis!DR54))","v":12.101910828025478},{"$f":"((analysis!DV54-analysis!DR54)*100/ABS(analysis!DR54))","v":5.732484076433121},{"$f":"((analysis!DW54-analysis!DR54)*100/ABS(analysis!DR54))","v":13.375796178343949},{"$f":"((analysis!DX54-analysis!DR54)*100/ABS(analysis!DR54))","v":7.006369426751593},{"$f":"((analysis!DY54-analysis!DR54)*100/ABS(analysis!DR54))","v":13.375796178343949},{"$f":"((analysis!DZ54-analysis!DR54)*100/ABS(analysis!DR54))","v":5.732484076433121},{"$f":"((analysis!EA54-analysis!DR54)*100/ABS(analysis!DR54))","v":8.280254777070065},{"$f":"((analysis!EB54-analysis!DR54)*100/ABS(analysis!DR54))","v":-4.45859872611465},8.407643312101913,null,-1.8670000000000002,-3.2778999999999967]
[{"$f":"analysis!A55","v":"LT101"},{"$f":"(((analysis!CW55-analysis!CV55)*100/ABS(analysis!CV55)))","v":31.729667812142043},{"$f":"(((analysis!CX55-analysis!CV55)*100/ABS(analysis!CV55)))","v":22.565864833906076},{"$f":"(((analysis!CY55-analysis!CV55)*100/ABS(analysis!CV55)))","v":29.438717067583053},{"$f":"(((analysis!CZ55-analysis!CV55)*100/ABS(analysis!CV55)))","v":17.98396334478809},{"$f":"(((analysis!DA55-analysis!CV55)*100/ABS(analysis!CV55)))","v":21.420389461626577},{"$f":"(((analysis!DB55-analysis!CV55)*100/ABS(analysis!CV55)))","v":9.965635738831619},{"$f":"(((analysis!DC55-analysis!CV55)*100/ABS(analysis!CV55)))","v":12.25658648339061},{"$f":"(((analysis!DD55-analysis!CV55)*100/ABS(analysis!CV55)))","v":5.383734249713634},{"$f":"(((analysis!DE55-analysis!CV55)*100/ABS(analysis!CV55)))","v":16.838487972508595},{"$f":"(((analysis!DF55-analysis!CV55)*100/ABS(analysis!CV55)))","v":5.383734249713634},17.296678121420392,null,{"$f":"((analysis!DS55-analysis!DR55)*100/ABS(analysis!DR55))","v":8.764519535374866},{"$f":"((analysis!DT55-analysis!DR55)*100/ABS(analysis!DR55))","v":9.820485744456175},{"$f":"((analysis!DU55-analysis!DR55)*100/ABS(analysis!DR55))","v":17.21224920802534},{"$f":"((analysis!DV55-analysis!DR55)*100/ABS(analysis!DR55))","v":18.26821541710665},{"$f":"((analysis!DW55-analysis!DR55)*100/ABS(analysis!DR55))","v":6.652587117212247},{"$f":"((analysis!DX55-analysis!DR55)*100/ABS(analysis!DR55))","v":8.764519535374866},{"$f":"((analysis!DY55-analysis!DR55)*100/ABS(analysis!DR55))","v":5.596620908130937},{"$f":"((analysis!DZ55-analysis!DR55)*100/ABS(analysis!DR55))","v":4.540654699049627},{"$f":"((analysis!EA55-analysis!DR55)*100/ABS(analysis!DR55))","v":0.3167898627243898},{"$f":"((analysis!EB55-analysis!DR55)*100/ABS(analysis!DR55))","v":9.820485744456175},8.975712777191129,null,-8.694100000000002,0.8460000000000051]
[{"$f":"analysis!A56","v":"MD101"},{"$f":"(((analysis!CW56-analysis!CV56)*100/ABS(analysis!CV56)))","v":5.128205128205129},{"$f":"(((analysis!CX56-analysis!CV56)*100/ABS(analysis!CV56)))","v":-6.410256410256411},{"$f":"(((analysis!CY56-analysis!CV56)*100/ABS(analysis!CV56)))","v":-3.8461538461538463},{"$f":"(((analysis!CZ56-analysis!CV56)*100/ABS(analysis!CV56)))","v":-12.820512820512821},{"$f":"(((analysis!DA56-analysis!CV56)*100/ABS(analysis!CV56)))","v":-7.6923076923076925},{"$f":"(((analysis!DB56-analysis!CV56)*100/ABS(analysis!CV56)))","v":-20.512820512820515},{"$f":"(((analysis!DC56-analysis!CV56)*100/ABS(analysis!CV56)))","v":-14.102564102564102},{"$f":"(((analysis!DD56-analysis!CV56)*100/ABS(analysis!CV56)))","v":-3.8461538461538463},{"$f":"(((analysis!DE56-analysis!CV56)*100/ABS(analysis!CV56)))","v":-5.128205128205129},{"$f":"(((analysis!DF56-analysis!CV56)*100/ABS(analysis!CV56)))","v":-8.974358974358974},-7.82051282051282,null,{"$f":"((analysis!DS56-analysis!DR56)*100/ABS(analysis!DR56))","v":-0.5376344086021582},{"$f":"((analysis!DT56-analysis!DR56)*100/ABS(analysis!DR56))","v":0.8064516129032181},{"$f":"((analysis!DU56-analysis!DR56)*100/ABS(analysis!DR56))","v":-7.258064516129039},{"$f":"((analysis!DV56-analysis!DR56)*100/ABS(analysis!DR56))","v":0.8064516129032181},{"$f":"((analysis!DW56-analysis!DR56)*100/ABS(analysis!DR56))","v":-4.569892473118287},{"$f":"((analysis!DX56-analysis!DR56)*100/ABS(analysis!DR56))","v":-9.946236559139791},{"$f":"((analysis!DY56-analysis!DR56)*100/ABS(analysis!DR56))","v":-13.97849462365592},{"$f":"((analysis!DZ56-analysis!DR56)*100/ABS(analysis!DR56))","v":-4.569892473118287},{"$f":"((analysis!EA56-analysis!DR56)*100/ABS(analysis!DR56))","v":-22.043010752688176},{"$f":"((analysis!EB56-analysis!DR56)*100/ABS(analysis!DR56))","v":-11.290322580645167},-7.258064516129039,null,-5.665900000000001,-4.618099999999999]
[{"$f":"analysis!A57","v":"MK101"},{"$f":"(((analysis!CW57-analysis!CV57)*100/ABS(analysis!CV57)))","v":15.083798882681565},{"$f":"(((analysis!CX57-analysis!CV57)*100/ABS(analysis!CV57)))","v":13.966480446927374},{"$f":"(((analysis!CY57-analysis!CV57)*100/ABS(analysis!CV57)))","v":11.731843575418994},{"$f":"(((analysis!CZ57-analysis!CV57)*100/ABS(analysis!CV57)))","v":12.849162011173185},{"$f":"(((analysis!DA57-analysis!CV57)*100/ABS(analysis!CV57)))","v":16.201117318435752},{"$f":"(((analysis!DB57-analysis!CV57)*100/ABS(analysis!CV57)))","v":21.787709497206706},{"$f":"(((analysis!DC57-analysis!CV57)*100/ABS(analysis!CV57)))","v":18.435754189944134},{"$f":"(((analysis!DD57-analysis!CV57)*100/ABS(analysis!CV57)))","v":13.966480446927374},{"$f":"(((analysis!DE57-analysis!CV57)*100/ABS(analysis!CV57)))","v":18.435754189944134},{"$f":"(((analysis!DF57-analysis!CV57)*100/ABS(analysis!CV57)))","v":6.145251396648045},14.860335195530727,null,{"$f":"((analysis!DS57-analysis!DR57)*100/ABS(analysis!DR57))","v":16.37487126673533},{"$f":"((analysis!DT57-analysis!DR57)*100/ABS(analysis!DR57))","v":7.106076210092694},{"$f":"((analysis!DU57-analysis!DR57)*100/ABS(analysis!DR57))","v":7.106076210092694},{"$f":"((analysis!DV57-analysis!DR57)*100/ABS(analysis!DR57))","v":6.0762100926879565},{"$f":"((analysis!DW57-analysis!DR57)*100/ABS(analysis!DR57))","v":5.04634397528322},{"$f":"((analysis!DX57-analysis!DR57)*100/ABS(analysis!DR57))","v":1.956745623069007},{"$f":"((analysis!DY57-analysis!DR57)*100/ABS(analysis!DR57))","v":6.0762100926879565},{"$f":"((analysis!DZ57-analysis!DR57)*100/ABS(analysis!DR57))","v":7.106076210092694},{"$f":"((analysis!EA57-analysis!DR57)*100/ABS(analysis!DR57))","v":-2.162718846549943},{"$f":"((analysis!EB57-analysis!DR57)*100/ABS(analysis!DR57))","v":-2.162718846549943},5.252317198764167,null,-1.422199999999999,-7.290999999999995]
[{"$f":"analysis!A58","v":"MT101"},{"$f":"(((analysis!CW58-analysis!CV58)*100/ABS(analysis!CV58)))","v":25.866050808314096},{"$f":"(((analysis!CX58-analysis!CV58)*100/ABS(analysis!CV58)))","v":25.866050808314096},{"$f":"(((analysis!CY58-analysis!CV58)*100/ABS(analysis!CV58)))","v":21.247113163972294},{"$f":"(((analysis!CZ58-analysis!CV58)*100/ABS(analysis!CV58)))","v":22.401847575057744},{"$f":"(((analysis!DA58-analysis!CV58)*100/ABS(analysis!CV58)))","v":23.556581986143193},{"$f":"(((analysis!DB58-analysis!CV58)*100/ABS(analysis!CV58)))","v":21.247113163972294},{"$f":"(((analysis!DC58-analysis!CV58)*100/ABS(analysis!CV58)))","v":24.711316397228643},{"$f":"(((analysis!DD58-analysis!CV58)*100/ABS(analysis!CV58)))","v":21.247113163972294},{"$f":"(((analysis!DE58-analysis!CV58)*100/ABS(analysis!CV58)))","v":14.318706697459591},{"$f":"(((analysis!DF58-analysis!CV58)*100/ABS(analysis!CV58)))","v":22.401847575057744},{"$f":"AVERAGE(B58:K58)","v":22.2863741339492},null,{"$f":"((analysis!DS58-analysis!DR58)*100/ABS(analysis!DR58))","v":24.854142357059505},{"$f":"((analysis!DT58-analysis!DR58)*100/ABS(analysis!DR58))","v":23.687281213535584},{"$f":"((analysis!DU58-analysis!DR58)*100/ABS(analysis!DR58))","v":21.353558926487743},{"$f":"((analysis!DV58-analysis!DR58)*100/ABS(analysis!DR58))","v":24.854142357059505},{"$f":"((analysis!DW58-analysis!DR58)*100/ABS(analysis!DR58))","v":16.686114352392064},{"$f":"((analysis!DX58-analysis!DR58)*100/ABS(analysis!DR58))","v":20.186697782963822},{"$f":"((analysis!DY58-analysis!DR58)*100/ABS(analysis!DR58))","v":16.686114352392064},{"$f":"((analysis!DZ58-analysis!DR58)*100/ABS(analysis!DR58))","v":19.0198366394399},{"$f":"((analysis!EA58-analysis!DR58)*100/ABS(analysis!DR58))","v":9.684947491248538},{"$f":"((analysis!EB58-analysis!DR58)*100/ABS(analysis!DR58))","v":20.186697782963822},{"$f":"AVERAGE(N58:W58)","v":19.71995332555425},null,-9.133700000000001,-1.6388000000000003]
[{"$f":"analysis!A59","v":"NV101"},{"$f":"(((analysis!CW59-analysis!CV59)*100/ABS(analysis!CV59)))","v":{"$error":"#DIV/0!"}},{"$f":"(((analysis!CX59-analysis!CV59)*100/ABS(analysis!CV59)))","v":{"$error":"#DIV/0!"}},{"$f":"(((analysis!CY59-analysis!CV59)*100/ABS(analysis!CV59)))","v":{"$error":"#DIV/0!"}},{"$f":"(((analysis!CZ59-analysis!CV59)*100/ABS(analysis!CV59)))","v":{"$error":"#DIV/0!"}},{"$f":"(((analysis!DA59-analysis!CV59)*100/ABS(analysis!CV59)))","v":{"$error":"#DIV/0!"}},{"$f":"(((analysis!DB59-analysis!CV59)*100/ABS(analysis!CV59)))","v":{"$error":"#DIV/0!"}},{"$f":"(((analysis!DC59-analysis!CV59)*100/ABS(analysis!CV59)))","v":{"$error":"#DIV/0!"}},{"$f":"(((analysis!DD59-analysis!CV59)*100/ABS(analysis!CV59)))","v":{"$error":"#DIV/0!"}},{"$f":"(((analysis!DE59-analysis!CV59)*100/ABS(analysis!CV59)))","v":{"$error":"#DIV/0!"}},{"$f":"(((analysis!DF59-analysis!CV59)*100/ABS(analysis!CV59)))","v":{"$error":"#DIV/0!"}},null,null,{"$f":"((analysis!DS59-analysis!DR59)*100/ABS(analysis!DR59))","v":{"$error":"#DIV/0!"}},{"$f":"((analysis!DT59-analysis!DR59)*100/ABS(analysis!DR59))","v":{"$error":"#DIV/0!"}},{"$f":"((analysis!DU59-analysis!DR59)*100/ABS(analysis!DR59))","v":{"$error":"#DIV/0!"}},{"$f":"((analysis!DV59-analysis!DR59)*100/ABS(analysis!DR59))","v":{"$error":"#DIV/0!"}},{"$f":"((analysis!DW59-analysis!DR59)*100/ABS(analysis!DR59))","v":{"$error":"#DIV/0!"}},{"$f":"((analysis!DX59-analysis!DR59)*100/ABS(analysis!DR59))","v":{"$error":"#DIV/0!"}},{"$f":"((analysis!DY59-analysis!DR59)*100/ABS(analysis!DR59))","v":{"$error":"#DIV/0!"}},{"$f":"((analysis!DZ59-analysis!DR59)*100/ABS(analysis!DR59))","v":{"$error":"#DIV/0!"}},{"$f":"((analysis!EA59-analysis!DR59)*100/ABS(analysis!DR59))","v":{"$error":"#DIV/0!"}},{"$f":"((analysis!EB59-analysis!DR59)*100/ABS(analysis!DR59))","v":{"$error":"#DIV/0!"}},null,null,-1.5213999999999968,-1.6388000000000003]
[{"$f":"analysis!A60","v":"OA101"},{"$f":"(((analysis!CW60-analysis!CV60)*100/ABS(analysis!CV60)))","v":52.923538230884546},{"$f":"(((analysis!CX60-analysis!CV60)*100/ABS(analysis!CV60)))","v":45.42728635682158},{"$f":"(((analysis!CY60-analysis!CV60)*100/ABS(analysis!CV60)))","v":34.932533733133425},{"$f":"(((analysis!CZ60-analysis!CV60)*100/ABS(analysis!CV60)))","v":42.428785607196396},{"$f":"(((analysis!DA60-analysis!CV60)*100/ABS(analysis!CV60)))","v":40.9295352323838},{"$f":"(((analysis!DB60-analysis!CV60)*100/ABS(analysis!CV60)))","v":42.428785607196396},{"$f":"(((analysis!DC60-analysis!CV60)*100/ABS(analysis!CV60)))","v":46.92653673163417},{"$f":"(((analysis!DD60-analysis!CV60)*100/ABS(analysis!CV60)))","v":37.93103448275861},{"$f":"(((analysis!DE60-analysis!CV60)*100/ABS(analysis!CV60)))","v":24.43778110944527},{"$f":"(((analysis!DF60-analysis!CV60)*100/ABS(analysis!CV60)))","v":43.928035982008986},41.22938530734632,null,{"$f":"((analysis!DS60-analysis!DR60)*100/ABS(analysis!DR60))","v":35.02109704641351},{"$f":"((analysis!DT60-analysis!DR60)*100/ABS(analysis!DR60))","v":36.42756680731365},{"$f":"((analysis!DU60-analysis!DR60)*100/ABS(analysis!DR60))","v":40.64697609001407},{"$f":"((analysis!DV60-analysis!DR60)*100/ABS(analysis!DR60))","v":35.02109704641351},{"$f":"((analysis!DW60-analysis!DR60)*100/ABS(analysis!DR60))","v":35.02109704641351},{"$f":"((analysis!DX60-analysis!DR60)*100/ABS(analysis!DR60))","v":29.39521800281295},{"$f":"((analysis!DY60-analysis!DR60)*100/ABS(analysis!DR60))","v":22.362869198312243},{"$f":"((analysis!DZ60-analysis!DR60)*100/ABS(analysis!DR60))","v":29.39521800281295},{"$f":"((analysis!EA60-analysis!DR60)*100/ABS(analysis!DR60))","v":35.02109704641351},{"$f":"((analysis!EB60-analysis!DR60)*100/ABS(analysis!DR60))","v":27.98874824191281},32.63009845288327,null,-1.0359000000000027,-1.8826999999999985]
[{"$f":"analysis!A61","v":"OB101"},{"$f":"(((analysis!CW61-analysis!CV61)*100/ABS(analysis!CV61)))","v":8.457711442786069},{"$f":"(((analysis!CX61-analysis!CV61)*100/ABS(analysis!CV61)))","v":3.482587064676617},{"$f":"(((analysis!CY61-analysis!CV61)*100/ABS(analysis!CV61)))","v":3.482587064676617},{"$f":"(((analysis!CZ61-analysis!CV61)*100/ABS(analysis!CV61)))","v":6.467661691542289},{"$f":"(((analysis!DA61-analysis!CV61)*100/ABS(analysis!CV61)))","v":4.477611940298507},{"$f":"(((analysis!DB61-analysis!CV61)*100/ABS(analysis!CV61)))","v":5.472636815920398},{"$f":"(((analysis!DC61-analysis!CV61)*100/ABS(analysis!CV61)))","v":2.487562189054726},{"$f":"(((analysis!DD61-analysis!CV61)*100/ABS(analysis!CV61)))","v":5.472636815920398},{"$f":"(((analysis!DE61-analysis!CV61)*100/ABS(analysis!CV61)))","v":4.477611940298507},{"$f":"(((analysis!DF61-analysis!CV61)*100/ABS(analysis!CV61)))","v":1.492537313432836},4.577114427860696,null,{"$f":"((analysis!DS61-analysis!DR61)*100/ABS(analysis!DR61))","v":8.606557377049187},{"$f":"((analysis!DT61-analysis!DR61)*100/ABS(analysis!DR61))","v":5.5327868852459074},{"$f":"((analysis!DU61-analysis!DR61)*100/ABS(analysis!DR61))","v":8.606557377049187},{"$f":"((analysis!DV61-analysis!DR61)*100/ABS(analysis!DR61))","v":4.5081967213114815},{"$f":"((analysis!DW61-analysis!DR61)*100/ABS(analysis!DR61))","v":0.40983606557377633},{"$f":"((analysis!DX61-analysis!DR61)*100/ABS(analysis!DR61))","v":-0.61475409836065},{"$f":"((analysis!DY61-analysis!DR61)*100/ABS(analysis!DR61))","v":4.5081967213114815},{"$f":"((analysis!DZ61-analysis!DR61)*100/ABS(analysis!DR61))","v":6.557377049180334},{"$f":"((analysis!EA61-analysis!DR61)*100/ABS(analysis!DR61))","v":3.483606557377055},{"$f":"((analysis!EB61-analysis!DR61)*100/ABS(analysis!DR61))","v":1.4344262295082026},4.303278688524597,null,-3.6066999999999965,-11.636800000000008]
[{"$f":"analysis!A62","v":"PM101"},{"$f":"(((analysis!CW62-analysis!CV62)*100/ABS(analysis!CV62)))","v":19.073869900771772},{"$f":"(((analysis!CX62-analysis!CV62)*100/ABS(analysis!CV62)))","v":25.68908489525909},{"$f":"(((analysis!CY62-analysis!CV62)*100/ABS(analysis!CV62)))","v":19.073869900771772},{"$f":"(((analysis!CZ62-analysis!CV62)*100/ABS(analysis!CV62)))","v":20.176405733186325},{"$f":"(((analysis!DA62-analysis!CV62)*100/ABS(analysis!CV62)))","v":23.484013230429984},{"$f":"(((analysis!DB62-analysis!CV62)*100/ABS(analysis!CV62)))","v":23.484013230429984},{"$f":"(((analysis!DC62-analysis!CV62)*100/ABS(analysis!CV62)))","v":17.97133406835722},{"$f":"(((analysis!DD62-analysis!CV62)*100/ABS(analysis!CV62)))","v":26.791620727673642},{"$f":"(((analysis!DE62-analysis!CV62)*100/ABS(analysis!CV62)))","v":19.073869900771772},{"$f":"(((analysis!DF62-analysis!CV62)*100/ABS(analysis!CV62)))","v":16.868798235942666},21.168687982359423,null,{"$f":"((analysis!DS62-analysis!DR62)*100/ABS(analysis!DR62))","v":21.012101210121006},{"$f":"((analysis!DT62-analysis!DR62)*100/ABS(analysis!DR62))","v":18.811881188118807},{"$f":"((analysis!DU62-analysis!DR62)*100/ABS(analysis!DR62))","v":21.012101210121006},{"$f":"((analysis!DV62-analysis!DR62)*100/ABS(analysis!DR62))","v":22.112211221122106},{"$f":"((analysis!DW62-analysis!DR62)*100/ABS(analysis!DR62))","v":17.711771177117704},{"$f":"((analysis!DX62-analysis!DR62)*100/ABS(analysis!DR62))","v":12.211221122112205},{"$f":"((analysis!DY62-analysis!DR62)*100/ABS(analysis!DR62))","v":13.311331133113306},{"$f":"((analysis!DZ62-analysis!DR62)*100/ABS(analysis!DR62))","v":21.012101210121006},{"$f":"((analysis!EA62-analysis!DR62)*100/ABS(analysis!DR62))","v":13.311331133113306},{"$f":"((analysis!EB62-analysis!DR62)*100/ABS(analysis!DR62))","v":10.011001100110004},17.051705170517046,null,-1.3076000000000012,1.6079999999999965]
[{"$f":"analysis!A63","v":"RB101"},{"$f":"(((analysis!CW63-analysis!CV63)*100/ABS(analysis!CV63)))","v":6.285714285714286},{"$f":"(((analysis!CX63-analysis!CV63)*100/ABS(analysis!CV63)))","v":5.142857142857143},{"$f":"(((analysis!CY63-analysis!CV63)*100/ABS(analysis!CV63)))","v":7.428571428571429},{"$f":"(((analysis!CZ63-analysis!CV63)*100/ABS(analysis!CV63)))","v":10.857142857142858},{"$f":"(((analysis!DA63-analysis!CV63)*100/ABS(analysis!CV63)))","v":1.7142857142857142},{"$f":"(((analysis!DB63-analysis!CV63)*100/ABS(analysis!CV63)))","v":6.285714285714286},{"$f":"(((analysis!DC63-analysis!CV63)*100/ABS(analysis!CV63)))","v":2.857142857142857},{"$f":"(((analysis!DD63-analysis!CV63)*100/ABS(analysis!CV63)))","v":8.571428571428571},{"$f":"(((analysis!DE63-analysis!CV63)*100/ABS(analysis!CV63)))","v":2.857142857142857},{"$f":"(((analysis!DF63-analysis!CV63)*100/ABS(analysis!CV63)))","v":7.428571428571429},5.942857142857142,null,{"$f":"((analysis!DS63-analysis!DR63)*100/ABS(analysis!DR63))","v":9.070034443168778},{"$f":"((analysis!DT63-analysis!DR63)*100/ABS(analysis!DR63))","v":10.218140068886346},{"$f":"((analysis!DU63-analysis!DR63)*100/ABS(analysis!DR63))","v":1.033295063145816},{"$f":"((analysis!DV63-analysis!DR63)*100/ABS(analysis!DR63))","v":12.514351320321476},{"$f":"((analysis!DW63-analysis!DR63)*100/ABS(analysis!DR63))","v":7.921928817451213},{"$f":"((analysis!DX63-analysis!DR63)*100/ABS(analysis!DR63))","v":11.366245694603911},{"$f":"((analysis!DY63-analysis!DR63)*100/ABS(analysis!DR63))","v":5.62571756601608},{"$f":"((analysis!DZ63-analysis!DR63)*100/ABS(analysis!DR63))","v":7.921928817451213},{"$f":"((analysis!EA63-analysis!DR63)*100/ABS(analysis!DR63))","v":1.033295063145816},{"$f":"((analysis!EB63-analysis!DR63)*100/ABS(analysis!DR63))","v":3.3295063145809483},7.003444316877159,null,-1.9568999999999996,-2.0676000000000014]
[{"$f":"analysis!A64","v":"RK101"},{"$f":"(((analysis!CW64-analysis!CV64)*100/ABS(analysis!CV64)))","v":6.5651760228354},{"$f":"(((analysis!CX64-analysis!CV64)*100/ABS(analysis!CV64)))","v":12.274024738344439},{"$f":"(((analysis!CY64-analysis!CV64)*100/ABS(analysis!CV64)))","v":6.5651760228354},{"$f":"(((analysis!CZ64-analysis!CV64)*100/ABS(analysis!CV64)))","v":5.613701236917227},{"$f":"(((analysis!DA64-analysis!CV64)*100/ABS(analysis!CV64)))","v":7.516650808753574},{"$f":"(((analysis!DB64-analysis!CV64)*100/ABS(analysis!CV64)))","v":-1.0466222645099852},{"$f":"(((analysis!DC64-analysis!CV64)*100/ABS(analysis!CV64)))","v":9.41960038058992},{"$f":"(((analysis!DD64-analysis!CV64)*100/ABS(analysis!CV64)))","v":-1.9980970504281583},{"$f":"(((analysis!DE64-analysis!CV64)*100/ABS(analysis!CV64)))","v":2.759276879162708},{"$f":"(((analysis!DF64-analysis!CV64)*100/ABS(analysis!CV64)))","v":3.710751665080881},5.13796384395814,null,{"$f":"((analysis!DS64-analysis!DR64)*100/ABS(analysis!DR64))","v":16.07992388201713},{"$f":"((analysis!DT64-analysis!DR64)*100/ABS(analysis!DR64))","v":0.8563273073263613},{"$f":"((analysis!DU64-analysis!DR64)*100/ABS(analysis!DR64))","v":7.516650808753574},{"$f":"((analysis!DV64-analysis!DR64)*100/ABS(analysis!DR64))","v":9.41960038058992},{"$f":"((analysis!DW64-analysis!DR64)*100/ABS(analysis!DR64))","v":11.322549952426266},{"$f":"((analysis!DX64-analysis!DR64)*100/ABS(analysis!DR64))","v":8.468125594671747},{"$f":"((analysis!DY64-analysis!DR64)*100/ABS(analysis!DR64))","v":-1.0466222645099852},{"$f":"((analysis!DZ64-analysis!DR64)*100/ABS(analysis!DR64))","v":8.468125594671747},{"$f":"((analysis!EA64-analysis!DR64)*100/ABS(analysis!DR64))","v":5.613701236917227},{"$f":"((analysis!EB64-analysis!DR64)*100/ABS(analysis!DR64))","v":5.613701236917227},7.231208372978121,null,-1.646299999999997,-5.977299999999995]
[{"$f":"analysis!A65","v":"RT101"},{"$f":"(((analysis!CW65-analysis!CV65)*100/ABS(analysis!CV65)))","v":-10.179640718562874},{"$f":"(((analysis!CX65-analysis!CV65)*100/ABS(analysis!CV65)))","v":8.982035928143713},{"$f":"(((analysis!CY65-analysis!CV65)*100/ABS(analysis!CV65)))","v":5.389221556886228},{"$f":"(((analysis!CZ65-analysis!CV65)*100/ABS(analysis!CV65)))","v":14.970059880239521},{"$f":"(((analysis!DA65-analysis!CV65)*100/ABS(analysis!CV65)))","v":10.179640718562874},{"$f":"(((analysis!DB65-analysis!CV65)*100/ABS(analysis!CV65)))","v":11.377245508982035},{"$f":"(((analysis!DC65-analysis!CV65)*100/ABS(analysis!CV65)))","v":5.389221556886228},{"$f":"(((analysis!DD65-analysis!CV65)*100/ABS(analysis!CV65)))","v":6.586826347305389},{"$f":"(((analysis!DE65-analysis!CV65)*100/ABS(analysis!CV65)))","v":6.586826347305389},{"$f":"(((analysis!DF65-analysis!CV65)*100/ABS(analysis!CV65)))","v":6.586826347305389},6.586826347305388,null,{"$f":"((analysis!DS65-analysis!DR65)*100/ABS(analysis!DR65))","v":14.086146682188586},{"$f":"((analysis!DT65-analysis!DR65)*100/ABS(analysis!DR65))","v":3.608847497089632},{"$f":"((analysis!DU65-analysis!DR65)*100/ABS(analysis!DR65))","v":10.593713620488934},{"$f":"((analysis!DV65-analysis!DR65)*100/ABS(analysis!DR65))","v":12.922002328288702},{"$f":"((analysis!DW65-analysis!DR65)*100/ABS(analysis!DR65))","v":15.250291036088468},{"$f":"((analysis!DX65-analysis!DR65)*100/ABS(analysis!DR65))","v":8.265424912689166},{"$f":"((analysis!DY65-analysis!DR65)*100/ABS(analysis!DR65))","v":-1.0477299185099018},{"$f":"((analysis!DZ65-analysis!DR65)*100/ABS(analysis!DR65))","v":12.922002328288702},{"$f":"((analysis!EA65-analysis!DR65)*100/ABS(analysis!DR65))","v":8.265424912689166},{"$f":"((analysis!EB65-analysis!DR65)*100/ABS(analysis!DR65))","v":1.2805587892898653},8.614668218859133,null,-5.687199999999997,-3.604500000000003]
[{"$f":"analysis!A66","v":"SAV101"},{"$f":"(((analysis!CW66-analysis!CV66)*100/ABS(analysis!CV66)))","v":24.65753424657534},{"$f":"(((analysis!CX66-analysis!CV66)*100/ABS(analysis!CV66)))","v":24.65753424657534},{"$f":"(((analysis!CY66-analysis!CV66)*100/ABS(analysis!CV66)))","v":24.65753424657534},{"$f":"(((analysis!CZ66-analysis!CV66)*100/ABS(analysis!CV66)))","v":20.54794520547945},{"$f":"(((analysis!DA66-analysis!CV66)*100/ABS(analysis!CV66)))","v":34.24657534246575},{"$f":"(((analysis!DB66-analysis!CV66)*100/ABS(analysis!CV66)))","v":21.91780821917808},{"$f":"(((analysis!DC66-analysis!CV66)*100/ABS(analysis!CV66)))","v":31.506849315068493},{"$f":"(((analysis!DD66-analysis!CV66)*100/ABS(analysis!CV66)))","v":26.027397260273972},{"$f":"(((analysis!DE66-analysis!CV66)*100/ABS(analysis!CV66)))","v":24.65753424657534},{"$f":"(((analysis!DF66-analysis!CV66)*100/ABS(analysis!CV66)))","v":20.54794520547945},{"$f":"AVERAGE(B66:K66)","v":25.34246575342466},null,{"$f":"((analysis!DS66-analysis!DR66)*100/ABS(analysis!DR66))","v":25.827814569536425},{"$f":"((analysis!DT66-analysis!DR66)*100/ABS(analysis!DR66))","v":16.556291390728475},{"$f":"((analysis!DU66-analysis!DR66)*100/ABS(analysis!DR66))","v":23.178807947019866},{"$f":"((analysis!DV66-analysis!DR66)*100/ABS(analysis!DR66))","v":20.52980132450331},{"$f":"((analysis!DW66-analysis!DR66)*100/ABS(analysis!DR66))","v":20.52980132450331},{"$f":"((analysis!DX66-analysis!DR66)*100/ABS(analysis!DR66))","v":23.178807947019866},{"$f":"((analysis!DY66-analysis!DR66)*100/ABS(analysis!DR66))","v":24.503311258278146},{"$f":"((analysis!DZ66-analysis!DR66)*100/ABS(analysis!DR66))","v":21.85430463576159},{"$f":"((analysis!EA66-analysis!DR66)*100/ABS(analysis!DR66))","v":15.2317880794702},{"$f":"((analysis!EB66-analysis!DR66)*100/ABS(analysis!DR66))","v":13.907284768211921},{"$f":"AVERAGE(N66:W66)","v":20.52980132450331},null,-2.3555,-3.280799999999998]
[{"$f":"analysis!A67","v":"SGJ101"},{"$f":"(((analysis!CW67-analysis!CV67)*100/ABS(analysis!CV67)))","v":-1.6913319238900575},{"$f":"(((analysis!CX67-analysis!CV67)*100/ABS(analysis!CV67)))","v":5.70824524312897},{"$f":"(((analysis!CY67-analysis!CV67)*100/ABS(analysis!CV67)))","v":10.993657505285418},{"$f":"(((analysis!CZ67-analysis!CV67)*100/ABS(analysis!CV67)))","v":-1.6913319238900575},{"$f":"(((analysis!DA67-analysis!CV67)*100/ABS(analysis!CV67)))","v":1.4799154334038116},{"$f":"(((analysis!DB67-analysis!CV67)*100/ABS(analysis!CV67)))","v":-0.6342494714587679},{"$f":"(((analysis!DC67-analysis!CV67)*100/ABS(analysis!CV67)))","v":-6.976744186046506},{"$f":"(((analysis!DD67-analysis!CV67)*100/ABS(analysis!CV67)))","v":-2.7484143763213473},{"$f":"(((analysis!DE67-analysis!CV67)*100/ABS(analysis!CV67)))","v":-9.090909090909085},{"$f":"(((analysis!DF67-analysis!CV67)*100/ABS(analysis!CV67)))","v":-3.805496828752637},-0.845665961945026,null,{"$f":"((analysis!DS67-analysis!DR67)*100/ABS(analysis!DR67))","v":8.602150537634408},{"$f":"((analysis!DT67-analysis!DR67)*100/ABS(analysis!DR67))","v":3.225806451612903},{"$f":"((analysis!DU67-analysis!DR67)*100/ABS(analysis!DR67))","v":1.075268817204301},{"$f":"((analysis!DV67-analysis!DR67)*100/ABS(analysis!DR67))","v":2.150537634408602},{"$f":"((analysis!DW67-analysis!DR67)*100/ABS(analysis!DR67))","v":3.225806451612903},{"$f":"((analysis!DX67-analysis!DR67)*100/ABS(analysis!DR67))","v":3.225806451612903},{"$f":"((analysis!DY67-analysis!DR67)*100/ABS(analysis!DR67))","v":1.075268817204301},{"$f":"((analysis!DZ67-analysis!DR67)*100/ABS(analysis!DR67))","v":0},{"$f":"((analysis!EA67-analysis!DR67)*100/ABS(analysis!DR67))","v":1.075268817204301},{"$f":"((analysis!EB67-analysis!DR67)*100/ABS(analysis!DR67))","v":4.301075268817204},2.7956989247311825,null,-1.4297999999999966,-1.0549000000000013]
[{"$f":"analysis!A68","v":"SK101"},{"$f":"(((analysis!CW68-analysis!CV68)*100/ABS(analysis!CV68)))","v":32.7849588719154},{"$f":"(((analysis!CX68-analysis!CV68)*100/ABS(analysis!CV68)))","v":36.31022326674501},{"$f":"(((analysis!CY68-analysis!CV68)*100/ABS(analysis!CV68)))","v":28.08460634547592},{"$f":"(((analysis!CZ68-analysis!CV68)*100/ABS(analysis!CV68)))","v":36.31022326674501},{"$f":"(((analysis!DA68-analysis!CV68)*100/ABS(analysis!CV68)))","v":28.08460634547592},{"$f":"(((analysis!DB68-analysis!CV68)*100/ABS(analysis!CV68)))","v":35.135135135135144},{"$f":"(((analysis!DC68-analysis!CV68)*100/ABS(analysis!CV68)))","v":31.60987074030553},{"$f":"(((analysis!DD68-analysis!CV68)*100/ABS(analysis!CV68)))","v":37.48531139835489},{"$f":"(((analysis!DE68-analysis!CV68)*100/ABS(analysis!CV68)))","v":31.60987074030553},{"$f":"(((analysis!DF68-analysis!CV68)*100/ABS(analysis!CV68)))","v":23.384253819036434},32.07990599294948,null,{"$f":"((analysis!DS68-analysis!DR68)*100/ABS(analysis!DR68))","v":34.22007255139056},{"$f":"((analysis!DT68-analysis!DR68)*100/ABS(analysis!DR68))","v":28.17412333736396},{"$f":"((analysis!DU68-analysis!DR68)*100/ABS(analysis!DR68))","v":34.22007255139056},{"$f":"((analysis!DV68-analysis!DR68)*100/ABS(analysis!DR68))","v":28.17412333736396},{"$f":"((analysis!DW68-analysis!DR68)*100/ABS(analysis!DR68))","v":34.22007255139056},{"$f":"((analysis!DX68-analysis!DR68)*100/ABS(analysis!DR68))","v":34.22007255139056},{"$f":"((analysis!DY68-analysis!DR68)*100/ABS(analysis!DR68))","v":37.847642079806526},{"$f":"((analysis!DZ68-analysis!DR68)*100/ABS(analysis!DR68))","v":23.337363966142682},{"$f":"((analysis!EA68-analysis!DR68)*100/ABS(analysis!DR68))","v":25.75574365175332},{"$f":"((analysis!EB68-analysis!DR68)*100/ABS(analysis!DR68))","v":24.546553808948},30.47158403869407,null,-4.348800000000001,-0.9528999999999985]
[{"$f":"analysis!A69","v":"SN101"},{"$f":"(((analysis!CW69-analysis!CV69)*100/ABS(analysis!CV69)))","v":16.50485436893204},{"$f":"(((analysis!CX69-analysis!CV69)*100/ABS(analysis!CV69)))","v":12.974404236540162},{"$f":"(((analysis!CY69-analysis!CV69)*100/ABS(analysis!CV69)))","v":12.974404236540162},{"$f":"(((analysis!CZ69-analysis!CV69)*100/ABS(analysis!CV69)))","v":9.44395410414828},{"$f":"(((analysis!DA69-analysis!CV69)*100/ABS(analysis!CV69)))","v":5.030891438658431},{"$f":"(((analysis!DB69-analysis!CV69)*100/ABS(analysis!CV69)))","v":0.6178287731685815},{"$f":"(((analysis!DC69-analysis!CV69)*100/ABS(analysis!CV69)))","v":-8.208296557811119},{"$f":"(((analysis!DD69-analysis!CV69)*100/ABS(analysis!CV69)))","v":-9.97352162400706},{"$f":"(((analysis!DE69-analysis!CV69)*100/ABS(analysis!CV69)))","v":-4.677846425419239},{"$f":"(((analysis!DF69-analysis!CV69)*100/ABS(analysis!CV69)))","v":-17.03442188879082},1.7652250661959417,null,{"$f":"((analysis!DS69-analysis!DR69)*100/ABS(analysis!DR69))","v":18.067978533094816},{"$f":"((analysis!DT69-analysis!DR69)*100/ABS(analysis!DR69))","v":13.595706618962435},{"$f":"((analysis!DU69-analysis!DR69)*100/ABS(analysis!DR69))","v":11.806797853309483},{"$f":"((analysis!DV69-analysis!DR69)*100/ABS(analysis!DR69))","v":5.545617173524152},{"$f":"((analysis!DW69-analysis!DR69)*100/ABS(analysis!DR69))","v":-2.5044722719141297},{"$f":"((analysis!DX69-analysis!DR69)*100/ABS(analysis!DR69))","v":-5.187835420393558},{"$f":"((analysis!DY69-analysis!DR69)*100/ABS(analysis!DR69))","v":-5.187835420393558},{"$f":"((analysis!DZ69-analysis!DR69)*100/ABS(analysis!DR69))","v":-2.5044722719141297},{"$f":"((analysis!EA69-analysis!DR69)*100/ABS(analysis!DR69))","v":-8.765652951699462},{"$f":"((analysis!EB69-analysis!DR69)*100/ABS(analysis!DR69))","v":-6.97674418604651},1.788908765652953,null,0.8026,-7.911699999999999]
[{"$f":"analysis!A70","v":"SR101"},{"$f":"(((analysis!CW70-analysis!CV70)*100/ABS(analysis!CV70)))","v":{"$error":"#DIV/0!"}},{"$f":"(((analysis!CX70-analysis!CV70)*100/ABS(analysis!CV70)))","v":{"$error":"#DIV/0!"}},{"$f":"(((analysis!CY70-analysis!CV70)*100/ABS(analysis!CV70)))","v":{"$error":"#DIV/0!"}},{"$f":"(((analysis!CZ70-analysis!CV70)*100/ABS(analysis!CV70)))","v":{"$error":"#DIV/0!"}},{"$f":"(((analysis!DA70-analysis!CV70)*100/ABS(analysis!CV70)))","v":{"$error":"#DIV/0!"}},{"$f":"(((analysis!DB70-analysis!CV70)*100/ABS(analysis!CV70)))","v":{"$error":"#DIV/0!"}},{"$f":"(((analysis!DC70-analysis!CV70)*100/ABS(analysis!CV70)))","v":{"$error":"#DIV/0!"}},{"$f":"(((analysis!DD70-analysis!CV70)*100/ABS(analysis!CV70)))","v":{"$error":"#DIV/0!"}},{"$f":"(((analysis!DE70-analysis!CV70)*100/ABS(analysis!CV70)))","v":{"$error":"#DIV/0!"}},{"$f":"(((analysis!DF70-analysis!CV70)*100/ABS(analysis!CV70)))","v":{"$error":"#DIV/0!"}},null,null,{"$f":"((analysis!DS70-analysis!DR70)*100/ABS(analysis!DR70))","v":{"$error":"#DIV/0!"}},{"$f":"((analysis!DT70-analysis!DR70)*100/ABS(analysis!DR70))","v":{"$error":"#DIV/0!"}},{"$f":"((analysis!DU70-analysis!DR70)*100/ABS(analysis!DR70))","v":{"$error":"#DIV/0!"}},{"$f":"((analysis!DV70-analysis!DR70)*100/ABS(analysis!DR70))","v":{"$error":"#DIV/0!"}},{"$f":"((analysis!DW70-analysis!DR70)*100/ABS(analysis!DR70))","v":{"$error":"#DIV/0!"}},{"$f":"((analysis!DX70-analysis!DR70)*100/ABS(analysis!DR70))","v":{"$error":"#DIV/0!"}},{"$f":"((analysis!DY70-analysis!DR70)*100/ABS(analysis!DR70))","v":{"$error":"#DIV/0!"}},{"$f":"((analysis!DZ70-analysis!DR70)*100/ABS(analysis!DR70))","v":{"$error":"#DIV/0!"}},{"$f":"((analysis!EA70-analysis!DR70)*100/ABS(analysis!DR70))","v":{"$error":"#DIV/0!"}},{"$f":"((analysis!EB70-analysis!DR70)*100/ABS(analysis!DR70))","v":{"$error":"#DIV/0!"}},null,null,-1.457399999999999,2.275799999999998]
[{"$f":"analysis!A71","v":"TN101"},{"$f":"(((analysis!CW71-analysis!CV71)*100/ABS(analysis!CV71)))","v":37.1191135734072},{"$f":"(((analysis!CX71-analysis!CV71)*100/ABS(analysis!CV71)))","v":31.578947368421044},{"$f":"(((analysis!CY71-analysis!CV71)*100/ABS(analysis!CV71)))","v":20.498614958448748},{"$f":"(((analysis!CZ71-analysis!CV71)*100/ABS(analysis!CV71)))","v":23.268698060941823},{"$f":"(((analysis!DA71-analysis!CV71)*100/ABS(analysis!CV71)))","v":24.65373961218836},{"$f":"(((analysis!DB71-analysis!CV71)*100/ABS(analysis!CV71)))","v":19.113573407202214},{"$f":"(((analysis!DC71-analysis!CV71)*100/ABS(analysis!CV71)))","v":20.498614958448748},{"$f":"(((analysis!DD71-analysis!CV71)*100/ABS(analysis!CV71)))","v":26.038781163434898},{"$f":"(((analysis!DE71-analysis!CV71)*100/ABS(analysis!CV71)))","v":20.498614958448748},{"$f":"(((analysis!DF71-analysis!CV71)*100/ABS(analysis!CV71)))","v":16.34349030470914},23.96121883656509,null,{"$f":"((analysis!DS71-analysis!DR71)*100/ABS(analysis!DR71))","v":35.4581673306773},{"$f":"((analysis!DT71-analysis!DR71)*100/ABS(analysis!DR71))","v":20.849933598937586},{"$f":"((analysis!DU71-analysis!DR71)*100/ABS(analysis!DR71))","v":24.833997343957506},{"$f":"((analysis!DV71-analysis!DR71)*100/ABS(analysis!DR71))","v":19.521912350597614},{"$f":"((analysis!DW71-analysis!DR71)*100/ABS(analysis!DR71))","v":16.865869853917665},{"$f":"((analysis!DX71-analysis!DR71)*100/ABS(analysis!DR71))","v":15.537848605577693},{"$f":"((analysis!DY71-analysis!DR71)*100/ABS(analysis!DR71))","v":11.553784860557773},{"$f":"((analysis!DZ71-analysis!DR71)*100/ABS(analysis!DR71))","v":12.881806108897745},{"$f":"((analysis!EA71-analysis!DR71)*100/ABS(analysis!DR71))","v":12.881806108897745},{"$f":"((analysis!EB71-analysis!DR71)*100/ABS(analysis!DR71))","v":8.897742363877825},17.928286852589643,null,-0.6999999999999964,-3.438000000000005]
[{"$f":"analysis!A72","v":"TN102"},{"$f":"(((analysis!CW72-analysis!CV72)*100/ABS(analysis!CV72)))","v":36.473429951690825},{"$f":"(((analysis!CX72-analysis!CV72)*100/ABS(analysis!CV72)))","v":36.473429951690825},{"$f":"(((analysis!CY72-analysis!CV72)*100/ABS(analysis!CV72)))","v":28.01932367149759},{"$f":"(((analysis!CZ72-analysis!CV72)*100/ABS(analysis!CV72)))","v":23.188405797101453},{"$f":"(((analysis!DA72-analysis!CV72)*100/ABS(analysis!CV72)))","v":20.772946859903385},{"$f":"(((analysis!DB72-analysis!CV72)*100/ABS(analysis!CV72)))","v":23.188405797101453},{"$f":"(((analysis!DC72-analysis!CV72)*100/ABS(analysis!CV72)))","v":17.149758454106284},{"$f":"(((analysis!DD72-analysis!CV72)*100/ABS(analysis!CV72)))","v":14.734299516908216},{"$f":"(((analysis!DE72-analysis!CV72)*100/ABS(analysis!CV72)))","v":25.603864734299524},{"$f":"(((analysis!DF72-analysis!CV72)*100/ABS(analysis!CV72)))","v":17.149758454106284},24.275362318840582,null,{"$f":"((analysis!DS72-analysis!DR72)*100/ABS(analysis!DR72))","v":33.9066339066339},{"$f":"((analysis!DT72-analysis!DR72)*100/ABS(analysis!DR72))","v":27.764127764127757},{"$f":"((analysis!DU72-analysis!DR72)*100/ABS(analysis!DR72))","v":28.992628992628983},{"$f":"((analysis!DV72-analysis!DR72)*100/ABS(analysis!DR72))","v":27.764127764127757},{"$f":"((analysis!DW72-analysis!DR72)*100/ABS(analysis!DR72))","v":24.07862407862407},{"$f":"((analysis!DX72-analysis!DR72)*100/ABS(analysis!DR72))","v":22.850122850122844},{"$f":"((analysis!DY72-analysis!DR72)*100/ABS(analysis!DR72))","v":20.393120393120387},{"$f":"((analysis!DZ72-analysis!DR72)*100/ABS(analysis!DR72))","v":22.850122850122844},{"$f":"((analysis!EA72-analysis!DR72)*100/ABS(analysis!DR72))","v":17.93611793611793},{"$f":"((analysis!EB72-analysis!DR72)*100/ABS(analysis!DR72))","v":19.164619164619157},24.570024570024565,null,-0.23519999999999647,-2.984500000000003]
[{"$f":"analysis!A73","v":"YS101"},{"$f":"(((analysis!CW73-analysis!CV73)*100/ABS(analysis!CV73)))","v":{"$error":"#DIV/0!"}},{"$f":"(((analysis!CX73-analysis!CV73)*100/ABS(analysis!CV73)))","v":{"$error":"#DIV/0!"}},{"$f":"(((analysis!CY73-analysis!CV73)*100/ABS(analysis!CV73)))","v":{"$error":"#DIV/0!"}},{"$f":"(((analysis!CZ73-analysis!CV73)*100/ABS(analysis!CV73)))","v":{"$error":"#DIV/0!"}},{"$f":"(((analysis!DA73-analysis!CV73)*100/ABS(analysis!CV73)))","v":{"$error":"#DIV/0!"}},{"$f":"(((analysis!DB73-analysis!CV73)*100/ABS(analysis!CV73)))","v":{"$error":"#DIV/0!"}},{"$f":"(((analysis!DC73-analysis!CV73)*100/ABS(analysis!CV73)))","v":{"$error":"#DIV/0!"}},{"$f":"(((analysis!DD73-analysis!CV73)*100/ABS(analysis!CV73)))","v":{"$error":"#DIV/0!"}},{"$f":"(((analysis!DE73-analysis!CV73)*100/ABS(analysis!CV73)))","v":{"$error":"#DIV/0!"}},{"$f":"(((analysis!DF73-analysis!CV73)*100/ABS(analysis!CV73)))","v":{"$error":"#DIV/0!"}},null,null,{"$f":"((analysis!DS73-analysis!DR73)*100/ABS(analysis!DR73))","v":{"$error":"#DIV/0!"}},{"$f":"((analysis!DT73-analysis!DR73)*100/ABS(analysis!DR73))","v":{"$error":"#DIV/0!"}},{"$f":"((analysis!DU73-analysis!DR73)*100/ABS(analysis!DR73))","v":{"$error":"#DIV/0!"}},{"$f":"((analysis!DV73-analysis!DR73)*100/ABS(analysis!DR73))","v":{"$error":"#DIV/0!"}},{"$f":"((analysis!DW73-analysis!DR73)*100/ABS(analysis!DR73))","v":{"$error":"#DIV/0!"}},{"$f":"((analysis!DX73-analysis!DR73)*100/ABS(analysis!DR73))","v":{"$error":"#DIV/0!"}},{"$f":"((analysis!DY73-analysis!DR73)*100/ABS(analysis!DR73))","v":{"$error":"#DIV/0!"}},{"$f":"((analysis!DZ73-analysis!DR73)*100/ABS(analysis!DR73))","v":{"$error":"#DIV/0!"}},{"$f":"((analysis!EA73-analysis!DR73)*100/ABS(analysis!DR73))","v":{"$error":"#DIV/0!"}},{"$f":"((analysis!EB73-analysis!DR73)*100/ABS(analysis!DR73))","v":{"$error":"#DIV/0!"}},null,null,-0.22780000000000095,-1.3030999999999981]
[{"$f":"analysis!A74","v":"ZP101"},{"$f":"(((analysis!CW74-analysis!CV74)*100/ABS(analysis!CV74)))","v":26.582278481012654},{"$f":"(((analysis!CX74-analysis!CV74)*100/ABS(analysis!CV74)))","v":25.608568646543326},{"$f":"(((analysis!CY74-analysis!CV74)*100/ABS(analysis!CV74)))","v":24.634858812073997},{"$f":"(((analysis!CZ74-analysis!CV74)*100/ABS(analysis!CV74)))","v":24.634858812073997},{"$f":"(((analysis!DA74-analysis!CV74)*100/ABS(analysis!CV74)))","v":17.818889970788703},{"$f":"(((analysis!DB74-analysis!CV74)*100/ABS(analysis!CV74)))","v":14.897760467380717},{"$f":"(((analysis!DC74-analysis!CV74)*100/ABS(analysis!CV74)))","v":24.634858812073997},{"$f":"(((analysis!DD74-analysis!CV74)*100/ABS(analysis!CV74)))","v":21.71372930866601},{"$f":"(((analysis!DE74-analysis!CV74)*100/ABS(analysis!CV74)))","v":17.818889970788703},{"$f":"(((analysis!DF74-analysis!CV74)*100/ABS(analysis!CV74)))","v":17.818889970788703},21.61635832521908,null,{"$f":"((analysis!DS74-analysis!DR74)*100/ABS(analysis!DR74))","v":24.524714828897334},{"$f":"((analysis!DT74-analysis!DR74)*100/ABS(analysis!DR74))","v":23.57414448669201},{"$f":"((analysis!DU74-analysis!DR74)*100/ABS(analysis!DR74))","v":9.315589353612165},{"$f":"((analysis!DV74-analysis!DR74)*100/ABS(analysis!DR74))","v":16.92015209125475},{"$f":"((analysis!DW74-analysis!DR74)*100/ABS(analysis!DR74))","v":5.513307984790872},{"$f":"((analysis!DX74-analysis!DR74)*100/ABS(analysis!DR74))","v":17.870722433460074},{"$f":"((analysis!DY74-analysis!DR74)*100/ABS(analysis!DR74))","v":17.870722433460074},{"$f":"((analysis!DZ74-analysis!DR74)*100/ABS(analysis!DR74))","v":17.870722433460074},{"$f":"((analysis!EA74-analysis!DR74)*100/ABS(analysis!DR74))","v":5.513307984790872},{"$f":"((analysis!EB74-analysis!DR74)*100/ABS(analysis!DR74))","v":15.969581749049427},15.494296577946766,null,-3.6064000000000007,-6.1794]

{"sheet":"intnonex","index":25,"n_rows":31,"n_cols":27,"rows_kept":31}
[{"$f":"analysisnonex!A1","v":"ID"},"%HR-c-1","%HR-c-2","%HR-c-3","%HR-c-4","%HR-c-5","%HR-c-6","%HR-c-7","%HR-c-8","%HR-c-9","%HR-c-10","avg-change-hr-c","congruent","%HR-i-1","%HR-i-2","%HR-i-3","%HR-i-4","%HR-i-5","%HR-i-6","%HR-i-7","%HR-i-8","%HR-i-9","%HR-i-10","avg%HR-i","incongruent","%change-c-avg","%change-i-avg"]
[{"$f":"analysisnonex!A2","v":"AA102-nonexercise"},{"$f":"(((analysisnonex!CW2-analysisnonex!CV2)*100/ABS(analysisnonex!CV2)))","v":-3.1830238726790525},{"$f":"(((analysisnonex!CX2-analysisnonex!CV2)*100/ABS(analysisnonex!CV2)))","v":-20.424403183023877},{"$f":"(((analysisnonex!CY2-analysisnonex!CV2)*100/ABS(analysisnonex!CV2)))","v":-3.1830238726790525},{"$f":"(((analysisnonex!CZ2-analysisnonex!CV2)*100/ABS(analysisnonex!CV2)))","v":-13.793103448275867},{"$f":"(((analysisnonex!DA2-analysisnonex!CV2)*100/ABS(analysisnonex!CV2)))","v":2.1220159151193556},{"$f":"(((analysisnonex!DB2-analysisnonex!CV2)*100/ABS(analysisnonex!CV2)))","v":6.100795755968162},{"$f":"(((analysisnonex!DC2-analysisnonex!CV2)*100/ABS(analysisnonex!CV2)))","v":-1.8567639257294504},{"$f":"(((analysisnonex!DD2-analysisnonex!CV2)*100/ABS(analysisnonex!CV2)))","v":-0.5305039787798483},{"$f":"(((analysisnonex!DE2-analysisnonex!CV2)*100/ABS(analysisnonex!CV2)))","v":-17.771883289124673},{"$f":"(((analysisnonex!DF2-analysisnonex!CV2)*100/ABS(analysisnonex!CV2)))","v":-12.466843501326267},{"$f":"AVERAGE(B2:K2)","v":-6.498673740053055},{"$f":"AVERAGE($L$2:INDEX(L:L,MATCH(9.99999999999999E+307,L:L)))","v":-5.725411403931837},{"$f":"((analysisnonex!DS2-analysisnonex!DR2)*100/ABS(analysisnonex!DR2))","v":-20.410783055198976},{"$f":"((analysisnonex!DT2-analysisnonex!DR2)*100/ABS(analysisnonex!DR2))","v":-12.708600770218235},{"$f":"((analysisnonex!DU2-analysisnonex!DR2)*100/ABS(analysisnonex!DR2))","v":-6.290115532734282},{"$f":"((analysisnonex!DV2-analysisnonex!DR2)*100/ABS(analysisnonex!DR2))","v":-13.992297817715023},{"$f":"((analysisnonex!DW2-analysisnonex!DR2)*100/ABS(analysisnonex!DR2))","v":-8.857509627727863},{"$f":"((analysisnonex!DX2-analysisnonex!DR2)*100/ABS(analysisnonex!DR2))","v":-5.006418485237491},{"$f":"((analysisnonex!DY2-analysisnonex!DR2)*100/ABS(analysisnonex!DR2))","v":-1.155327342747119},{"$f":"((analysisnonex!DZ2-analysisnonex!DR2)*100/ABS(analysisnonex!DR2))","v":-3.7227214377407},{"$f":"((analysisnonex!EA2-analysisnonex!DR2)*100/ABS(analysisnonex!DR2))","v":-8.857509627727863},{"$f":"((analysisnonex!EB2-analysisnonex!DR2)*100/ABS(analysisnonex!DR2))","v":-11.424903722721444},{"$f":"AVERAGE(N2:W2)","v":-9.2426187419769},{"$f":"AVERAGE($X$2:INDEX(X:X,MATCH(9.99999999999999E+307,X:X)))","v":-6.1950360479878706},-2.569400000000003,-3.109300000000007]
[{"$f":"analysisnonex!A3","v":"CJ101-nonexercise"},{"$f":"(((analysisnonex!CW3-analysisnonex!CV3)*100/ABS(analysisnonex!CV3)))","v":-2.380952380952381},{"$f":"(((analysisnonex!CX3-analysisnonex!CV3)*100/ABS(analysisnonex!CV3)))","v":19.047619047619047},{"$f":"(((analysisnonex!CY3-analysisnonex!CV3)*100/ABS(analysisnonex!CV3)))","v":21.428571428571427},{"$f":"(((analysisnonex!CZ3-analysisnonex!CV3)*100/ABS(analysisnonex!CV3)))","v":14.285714285714286},{"$f":"(((analysisnonex!DA3-analysisnonex!CV3)*100/ABS(analysisnonex!CV3)))","v":14.285714285714286},{"$f":"(((analysisnonex!DB3-analysisnonex!CV3)*100/ABS(analysisnonex!CV3)))","v":4.761904761904762},{"$f":"(((analysisnonex!DC3-analysisnonex!CV3)*100/ABS(analysisnonex!CV3)))","v":-23.80952380952381},{"$f":"(((analysisnonex!DD3-analysisnonex!CV3)*100/ABS(analysisnonex!CV3)))","v":-1.1904761904761905},{"$f":"(((analysisnonex!DE3-analysisnonex!CV3)*100/ABS(analysisnonex!CV3)))","v":9.523809523809524},{"$f":"(((analysisnonex!DF3-analysisnonex!CV3)*100/ABS(analysisnonex!CV3)))","v":10.714285714285714},{"$f":"AVERAGE(B3:K3)","v":6.666666666666667},"stdev",{"$f":"((analysisnonex!DS3-analysisnonex!DR3)*100/ABS(analysisnonex!DR3))","v":-12.154031287605289},{"$f":"((analysisnonex!DT3-analysisnonex!DR3)*100/ABS(analysisnonex!DR3))","v":10.709987966305663},{"$f":"((analysisnonex!DU3-analysisnonex!DR3)*100/ABS(analysisnonex!DR3))","v":5.896510228640199},{"$f":"((analysisnonex!DV3-analysisnonex!DR3)*100/ABS(analysisnonex!DR3))","v":13.116726835138394},{"$f":"((analysisnonex!DW3-analysisnonex!DR3)*100/ABS(analysisnonex!DR3))","v":14.32009626955476},{"$f":"((analysisnonex!DX3-analysisnonex!DR3)*100/ABS(analysisnonex!DR3))","v":7.099879663056566},{"$f":"((analysisnonex!DY3-analysisnonex!DR3)*100/ABS(analysisnonex!DR3))","v":-20.577617328519853},{"$f":"((analysisnonex!DZ3-analysisnonex!DR3)*100/ABS(analysisnonex!DR3))","v":-1.3237063778579956},{"$f":"((analysisnonex!EA3-analysisnonex!DR3)*100/ABS(analysisnonex!DR3))","v":-1.3237063778579956},{"$f":"((analysisnonex!EB3-analysisnonex!DR3)*100/ABS(analysisnonex!DR3))","v":17.930204572803856},{"$f":"AVERAGE(N3:W3)","v":3.3694344163658307},"stdev",-2.383399999999999,-1.3383999999999983]
[{"$f":"analysisnonex!A4","v":"CN101-nonexercise"},{"$f":"(((analysisnonex!CW4-analysisnonex!CV4)*100/ABS(analysisnonex!CV4)))","v":17.482517482517483},{"$f":"(((analysisnonex!CX4-analysisnonex!CV4)*100/ABS(analysisnonex!CV4)))","v":7.6923076923076925},{"$f":"(((analysisnonex!CY4-analysisnonex!CV4)*100/ABS(analysisnonex!CV4)))","v":0.6993006993006993},{"$f":"(((analysisnonex!CZ4-analysisnonex!CV4)*100/ABS(analysisnonex!CV4)))","v":-0.6993006993006993},{"$f":"(((analysisnonex!DA4-analysisnonex!CV4)*100/ABS(analysisnonex!CV4)))","v":14.685314685314685},{"$f":"(((analysisnonex!DB4-analysisnonex!CV4)*100/ABS(analysisnonex!CV4)))","v":4.895104895104895},{"$f":"(((analysisnonex!DC4-analysisnonex!CV4)*100/ABS(analysisnonex!CV4)))","v":7.6923076923076925},{"$f":"(((analysisnonex!DD4-analysisnonex!CV4)*100/ABS(analysisnonex!CV4)))","v":3.4965034965034967},{"$f":"(((analysisnonex!DE4-analysisnonex!CV4)*100/ABS(analysisnonex!CV4)))","v":0.6993006993006993},{"$f":"(((analysisnonex!DF4-analysisnonex!CV4)*100/ABS(analysisnonex!CV4)))","v":10.48951048951049},6.713286713286713,{"$f":"STDEV($L$2:INDEX(L:L,MATCH(9.99999999999999E+307,L:L)))","v":7.2003967617585},{"$f":"((analysisnonex!DS4-analysisnonex!DR4)*100/ABS(analysisnonex!DR4))","v":0.5291005291005366},{"$f":"((analysisnonex!DT4-analysisnonex!DR4)*100/ABS(analysisnonex!DR4))","v":3.1746031746031824},{"$f":"((analysisnonex!DU4-analysisnonex!DR4)*100/ABS(analysisnonex!DR4))","v":4.497354497354506},{"$f":"((analysisnonex!DV4-analysisnonex!DR4)*100/ABS(analysisnonex!DR4))","v":0.5291005291005366},{"$f":"((analysisnonex!DW4-analysisnonex!DR4)*100/ABS(analysisnonex!DR4))","v":1.8518518518518594},{"$f":"((analysisnonex!DX4-analysisnonex!DR4)*100/ABS(analysisnonex!DR4))","v":7.142857142857151},{"$f":"((analysisnonex!DY4-analysisnonex!DR4)*100/ABS(analysisnonex!DR4))","v":7.142857142857151},{"$f":"((analysisnonex!DZ4-analysisnonex!DR4)*100/ABS(analysisnonex!DR4))","v":1.8518518518518594},{"$f":"((analysisnonex!EA4-analysisnonex!DR4)*100/ABS(analysisnonex!DR4))","v":0.5291005291005366},{"$f":"((analysisnonex!EB4-analysisnonex!DR4)*100/ABS(analysisnonex!DR4))","v":13.756613756613763},4.1005291005291085,{"$f":"STDEV($X$2:INDEX(X:X,MATCH(9.99999999999999E+307,X:X)))","v":6.858965618829967},-2.2792000000000026,-6.508799999999996]
[{"$f":"analysisnonex!A5","v":"DD101-nonexercise"},{"$f":"(((analysisnonex!CW5-analysisnonex!CV5)*100/ABS(analysisnonex!CV5)))","v":-2.4081115335868257},{"$f":"(((analysisnonex!CX5-analysisnonex!CV5)*100/ABS(analysisnonex!CV5)))","v":1.3941698352344667},{"$f":"(((analysisnonex!CY5-analysisnonex!CV5)*100/ABS(analysisnonex!CV5)))","v":-2.4081115335868257},{"$f":"(((analysisnonex!CZ5-analysisnonex!CV5)*100/ABS(analysisnonex!CV5)))","v":-6.210392902408119},{"$f":"(((analysisnonex!DA5-analysisnonex!CV5)*100/ABS(analysisnonex!CV5)))","v":-2.4081115335868257},{"$f":"(((analysisnonex!DB5-analysisnonex!CV5)*100/ABS(analysisnonex!CV5)))","v":-2.4081115335868257},{"$f":"(((analysisnonex!DC5-analysisnonex!CV5)*100/ABS(analysisnonex!CV5)))","v":7.731305449936621},{"$f":"(((analysisnonex!DD5-analysisnonex!CV5)*100/ABS(analysisnonex!CV5)))","v":-6.210392902408119},{"$f":"(((analysisnonex!DE5-analysisnonex!CV5)*100/ABS(analysisnonex!CV5)))","v":-2.4081115335868257},{"$f":"(((analysisnonex!DF5-analysisnonex!CV5)*100/ABS(analysisnonex!CV5)))","v":-4.942965779467688},-2.0278833967046968,"n",{"$f":"((analysisnonex!DS5-analysisnonex!DR5)*100/ABS(analysisnonex!DR5))","v":1.4304291287386142},{"$f":"((analysisnonex!DT5-analysisnonex!DR5)*100/ABS(analysisnonex!DR5))","v":-3.7711313394018275},{"$f":"((analysisnonex!DU5-analysisnonex!DR5)*100/ABS(analysisnonex!DR5))","v":-2.4707412223667173},{"$f":"((analysisnonex!DV5-analysisnonex!DR5)*100/ABS(analysisnonex!DR5))","v":1.4304291287386142},{"$f":"((analysisnonex!DW5-analysisnonex!DR5)*100/ABS(analysisnonex!DR5))","v":0.13003901170350365},{"$f":"((analysisnonex!DX5-analysisnonex!DR5)*100/ABS(analysisnonex!DR5))","v":-3.7711313394018275},{"$f":"((analysisnonex!DY5-analysisnonex!DR5)*100/ABS(analysisnonex!DR5))","v":0.13003901170350365},{"$f":"((analysisnonex!DZ5-analysisnonex!DR5)*100/ABS(analysisnonex!DR5))","v":0.13003901170350365},{"$f":"((analysisnonex!EA5-analysisnonex!DR5)*100/ABS(analysisnonex!DR5))","v":-7.672301690507159},{"$f":"((analysisnonex!EB5-analysisnonex!DR5)*100/ABS(analysisnonex!DR5))","v":0.13003901170350365},-1.4304291287386286,"n",-1.0606999999999998,-8.170800000000005]
[{"$f":"analysisnonex!A6","v":"FA102-nonexercise"},{"$f":"(((analysisnonex!CW6-analysisnonex!CV6)*100/ABS(analysisnonex!CV6)))","v":-10.165484633569735},{"$f":"(((analysisnonex!CX6-analysisnonex!CV6)*100/ABS(analysisnonex!CV6)))","v":0.4728132387706923},{"$f":"(((analysisnonex!CY6-analysisnonex!CV6)*100/ABS(analysisnonex!CV6)))","v":0.4728132387706923},{"$f":"(((analysisnonex!CZ6-analysisnonex!CV6)*100/ABS(analysisnonex!CV6)))","v":-13.711583924349878},{"$f":"(((analysisnonex!DA6-analysisnonex!CV6)*100/ABS(analysisnonex!CV6)))","v":-4.255319148936164},{"$f":"(((analysisnonex!DB6-analysisnonex!CV6)*100/ABS(analysisnonex!CV6)))","v":-8.98345153664302},{"$f":"(((analysisnonex!DC6-analysisnonex!CV6)*100/ABS(analysisnonex!CV6)))","v":-0.7092198581560217},{"$f":"(((analysisnonex!DD6-analysisnonex!CV6)*100/ABS(analysisnonex!CV6)))","v":-12.529550827423163},{"$f":"(((analysisnonex!DE6-analysisnonex!CV6)*100/ABS(analysisnonex!CV6)))","v":-7.801418439716306},{"$f":"(((analysisnonex!DF6-analysisnonex!CV6)*100/ABS(analysisnonex!CV6)))","v":-90.54373522458629},-14.775413711583917,{"$f":"COUNT($L$2:INDEX(L:L,MATCH(9.99999999999999E+307,L:L)))","v":29},{"$f":"((analysisnonex!DS6-analysisnonex!DR6)*100/ABS(analysisnonex!DR6))","v":-9.294512877939528},{"$f":"((analysisnonex!DT6-analysisnonex!DR6)*100/ABS(analysisnonex!DR6))","v":-9.294512877939528},{"$f":"((analysisnonex!DU6-analysisnonex!DR6)*100/ABS(analysisnonex!DR6))","v":-17.13325867861142},{"$f":"((analysisnonex!DV6-analysisnonex!DR6)*100/ABS(analysisnonex!DR6))","v":-13.773796192609181},{"$f":"((analysisnonex!DW6-analysisnonex!DR6)*100/ABS(analysisnonex!DR6))","v":-14.893617021276594},{"$f":"((analysisnonex!DX6-analysisnonex!DR6)*100/ABS(analysisnonex!DR6))","v":-4.815229563269874},{"$f":"((analysisnonex!DY6-analysisnonex!DR6)*100/ABS(analysisnonex!DR6))","v":-17.13325867861142},{"$f":"((analysisnonex!DZ6-analysisnonex!DR6)*100/ABS(analysisnonex!DR6))","v":-16.013437849944008},{"$f":"((analysisnonex!EA6-analysisnonex!DR6)*100/ABS(analysisnonex!DR6))","v":-14.893617021276594},{"$f":"((analysisnonex!EB6-analysisnonex!DR6)*100/ABS(analysisnonex!DR6))","v":-13.773796192609181},-13.101903695408732,{"$f":"COUNT($X$2:INDEX(X:X,MATCH(9.99999999999999E+307,X:X)))","v":29},0.571200000000001,0.644100000000001]
[{"$f":"analysisnonex!A7","v":"JF101-nonexercise"},{"$f":"(((analysisnonex!CW7-analysisnonex!CV7)*100/ABS(analysisnonex!CV7)))","v":-8.460471567267676},{"$f":"(((analysisnonex!CX7-analysisnonex!CV7)*100/ABS(analysisnonex!CV7)))","v":-9.847434119278772},{"$f":"(((analysisnonex!CY7-analysisnonex!CV7)*100/ABS(analysisnonex!CV7)))","v":-8.460471567267676},{"$f":"(((analysisnonex!CZ7-analysisnonex!CV7)*100/ABS(analysisnonex!CV7)))","v":-11.234396671289868},{"$f":"(((analysisnonex!DA7-analysisnonex!CV7)*100/ABS(analysisnonex!CV7)))","v":-9.847434119278772},{"$f":"(((analysisnonex!DB7-analysisnonex!CV7)*100/ABS(analysisnonex!CV7)))","v":-2.9126213592232935},{"$f":"(((analysisnonex!DC7-analysisnonex!CV7)*100/ABS(analysisnonex!CV7)))","v":-8.460471567267676},{"$f":"(((analysisnonex!DD7-analysisnonex!CV7)*100/ABS(analysisnonex!CV7)))","v":-5.6865464632454845},{"$f":"(((analysisnonex!DE7-analysisnonex!CV7)*100/ABS(analysisnonex!CV7)))","v":-8.460471567267676},{"$f":"(((analysisnonex!DF7-analysisnonex!CV7)*100/ABS(analysisnonex!CV7)))","v":-2.9126213592232935},-7.628294036061019,"se",{"$f":"((analysisnonex!DS7-analysisnonex!DR7)*100/ABS(analysisnonex!DR7))","v":-6.790945406125159},{"$f":"((analysisnonex!DT7-analysisnonex!DR7)*100/ABS(analysisnonex!DR7))","v":-12.117177097203722},{"$f":"((analysisnonex!DU7-analysisnonex!DR7)*100/ABS(analysisnonex!DR7))","v":-1.464713715046597},{"$f":"((analysisnonex!DV7-analysisnonex!DR7)*100/ABS(analysisnonex!DR7))","v":-12.117177097203722},{"$f":"((analysisnonex!DW7-analysisnonex!DR7)*100/ABS(analysisnonex!DR7))","v":-10.785619174434082},{"$f":"((analysisnonex!DX7-analysisnonex!DR7)*100/ABS(analysisnonex!DR7))","v":-12.117177097203722},{"$f":"((analysisnonex!DY7-analysisnonex!DR7)*100/ABS(analysisnonex!DR7))","v":-12.117177097203722},{"$f":"((analysisnonex!DZ7-analysisnonex!DR7)*100/ABS(analysisnonex!DR7))","v":-10.785619174434082},{"$f":"((analysisnonex!EA7-analysisnonex!DR7)*100/ABS(analysisnonex!DR7))","v":-10.785619174434082},{"$f":"((analysisnonex!EB7-analysisnonex!DR7)*100/ABS(analysisnonex!DR7))","v":-13.448735019973363},-10.252996005326228,"se",-0.9503999999999986,-3.9388999999999967]
[{"$f":"analysisnonex!A8","v":"JH102-nonexercise"},{"$f":"(((analysisnonex!CW8-analysisnonex!CV8)*100/ABS(analysisnonex!CV8)))","v":4.372355430183348},{"$f":"(((analysisnonex!CX8-analysisnonex!CV8)*100/ABS(analysisnonex!CV8)))","v":-5.500705218617779},{"$f":"(((analysisnonex!CY8-analysisnonex!CV8)*100/ABS(analysisnonex!CV8)))","v":-4.090267983074761},{"$f":"(((analysisnonex!CZ8-analysisnonex!CV8)*100/ABS(analysisnonex!CV8)))","v":22.708039492242587},{"$f":"(((analysisnonex!DA8-analysisnonex!CV8)*100/ABS(analysisnonex!CV8)))","v":-9.732016925246834},{"$f":"(((analysisnonex!DB8-analysisnonex!CV8)*100/ABS(analysisnonex!CV8)))","v":-4.090267983074761},{"$f":"(((analysisnonex!DC8-analysisnonex!CV8)*100/ABS(analysisnonex!CV8)))","v":14.245416078984476},{"$f":"(((analysisnonex!DD8-analysisnonex!CV8)*100/ABS(analysisnonex!CV8)))","v":-2.6798307475317427},{"$f":"(((analysisnonex!DE8-analysisnonex!CV8)*100/ABS(analysisnonex!CV8)))","v":-5.500705218617779},{"$f":"(((analysisnonex!DF8-analysisnonex!CV8)*100/ABS(analysisnonex!CV8)))","v":22.708039492242587},3.2440056417489345,{"$f":"M4/SQRT(M6)","v":1.337080111683694},{"$f":"((analysisnonex!DS8-analysisnonex!DR8)*100/ABS(analysisnonex!DR8))","v":-8.177905308464853},{"$f":"((analysisnonex!DT8-analysisnonex!DR8)*100/ABS(analysisnonex!DR8))","v":4.734576757532277},{"$f":"((analysisnonex!DU8-analysisnonex!DR8)*100/ABS(analysisnonex!DR8))","v":6.169296987087513},{"$f":"((analysisnonex!DV8-analysisnonex!DR8)*100/ABS(analysisnonex!DR8))","v":3.2998565279770404},{"$f":"((analysisnonex!DW8-analysisnonex!DR8)*100/ABS(analysisnonex!DR8))","v":3.2998565279770404},{"$f":"((analysisnonex!DX8-analysisnonex!DR8)*100/ABS(analysisnonex!DR8))","v":9.038737446197988},{"$f":"((analysisnonex!DY8-analysisnonex!DR8)*100/ABS(analysisnonex!DR8))","v":-2.4390243902439064},{"$f":"((analysisnonex!DZ8-analysisnonex!DR8)*100/ABS(analysisnonex!DR8))","v":1.8651362984218036},{"$f":"((analysisnonex!EA8-analysisnonex!DR8)*100/ABS(analysisnonex!DR8))","v":-12.482065997130562},{"$f":"((analysisnonex!EB8-analysisnonex!DR8)*100/ABS(analysisnonex!DR8))","v":7.604017216642751},1.291248206599709,{"$f":"Y4/SQRT(Y6)","v":1.2736779401334026},-1.9099999999999995,-2.427500000000001]
[{"$f":"analysisnonex!A9","v":"JR101-nonexercise"},{"$f":"(((analysisnonex!CW9-analysisnonex!CV9)*100/ABS(analysisnonex!CV9)))","v":-3.401360544217687},{"$f":"(((analysisnonex!CX9-analysisnonex!CV9)*100/ABS(analysisnonex!CV9)))","v":-3.401360544217687},{"$f":"(((analysisnonex!CY9-analysisnonex!CV9)*100/ABS(analysisnonex!CV9)))","v":-4.761904761904762},{"$f":"(((analysisnonex!CZ9-analysisnonex!CV9)*100/ABS(analysisnonex!CV9)))","v":-3.401360544217687},{"$f":"(((analysisnonex!DA9-analysisnonex!CV9)*100/ABS(analysisnonex!CV9)))","v":4.761904761904762},{"$f":"(((analysisnonex!DB9-analysisnonex!CV9)*100/ABS(analysisnonex!CV9)))","v":-7.482993197278912},{"$f":"(((analysisnonex!DC9-analysisnonex!CV9)*100/ABS(analysisnonex!CV9)))","v":6.122448979591836},{"$f":"(((analysisnonex!DD9-analysisnonex!CV9)*100/ABS(analysisnonex!CV9)))","v":-3.401360544217687},{"$f":"(((analysisnonex!DE9-analysisnonex!CV9)*100/ABS(analysisnonex!CV9)))","v":3.401360544217687},{"$f":"(((analysisnonex!DF9-analysisnonex!CV9)*100/ABS(analysisnonex!CV9)))","v":2.0408163265306123},-0.9523809523809523,"change in ex-nonex-c",{"$f":"((analysisnonex!DS9-analysisnonex!DR9)*100/ABS(analysisnonex!DR9))","v":-3.0054644808743207},{"$f":"((analysisnonex!DT9-analysisnonex!DR9)*100/ABS(analysisnonex!DR9))","v":3.8251366120218537},{"$f":"((analysisnonex!DU9-analysisnonex!DR9)*100/ABS(analysisnonex!DR9))","v":-3.0054644808743207},{"$f":"((analysisnonex!DV9-analysisnonex!DR9)*100/ABS(analysisnonex!DR9))","v":5.1912568306010884},{"$f":"((analysisnonex!DW9-analysisnonex!DR9)*100/ABS(analysisnonex!DR9))","v":1.092896174863384},{"$f":"((analysisnonex!DX9-analysisnonex!DR9)*100/ABS(analysisnonex!DR9))","v":5.1912568306010884},{"$f":"((analysisnonex!DY9-analysisnonex!DR9)*100/ABS(analysisnonex!DR9))","v":-7.103825136612024},{"$f":"((analysisnonex!DZ9-analysisnonex!DR9)*100/ABS(analysisnonex!DR9))","v":5.1912568306010884},{"$f":"((analysisnonex!EA9-analysisnonex!DR9)*100/ABS(analysisnonex!DR9))","v":1.092896174863384},{"$f":"((analysisnonex!EB9-analysisnonex!DR9)*100/ABS(analysisnonex!DR9))","v":10.65573770491803},1.9125683060109253,"change in ex-nonex-i",-1.6782000000000008,-2.7176000000000027]
[{"$f":"analysisnonex!A10","v":"MR101-nonexercise"},{"$f":"(((analysisnonex!CW10-analysisnonex!CV10)*100/ABS(analysisnonex!CV10)))","v":-7.940161104718073},{"$f":"(((analysisnonex!CX10-analysisnonex!CV10)*100/ABS(analysisnonex!CV10)))","v":-14.844649021864216},{"$f":"(((analysisnonex!CY10-analysisnonex!CV10)*100/ABS(analysisnonex!CV10)))","v":-12.543153049482168},{"$f":"(((analysisnonex!CZ10-analysisnonex!CV10)*100/ABS(analysisnonex!CV10)))","v":-10.24165707710012},{"$f":"(((analysisnonex!DA10-analysisnonex!CV10)*100/ABS(analysisnonex!CV10)))","v":-12.543153049482168},{"$f":"(((analysisnonex!DB10-analysisnonex!CV10)*100/ABS(analysisnonex!CV10)))","v":-12.543153049482168},{"$f":"(((analysisnonex!DC10-analysisnonex!CV10)*100/ABS(analysisnonex!CV10)))","v":-11.392405063291145},{"$f":"(((analysisnonex!DD10-analysisnonex!CV10)*100/ABS(analysisnonex!CV10)))","v":-14.844649021864216},{"$f":"(((analysisnonex!DE10-analysisnonex!CV10)*100/ABS(analysisnonex!CV10)))","v":-14.844649021864216},{"$f":"(((analysisnonex!DF10-analysisnonex!CV10)*100/ABS(analysisnonex!CV10)))","v":-13.693901035673193},-12.543153049482168,{"$f":"AVERAGE($L$2:INDEX(L:L,MATCH(9.99999999999999E+307,L:L)))-intnonex!M2","v":0},{"$f":"((analysisnonex!DS10-analysisnonex!DR10)*100/ABS(analysisnonex!DR10))","v":-15.116279069767442},{"$f":"((analysisnonex!DT10-analysisnonex!DR10)*100/ABS(analysisnonex!DR10))","v":-15.116279069767442},{"$f":"((analysisnonex!DU10-analysisnonex!DR10)*100/ABS(analysisnonex!DR10))","v":-15.116279069767442},{"$f":"((analysisnonex!DV10-analysisnonex!DR10)*100/ABS(analysisnonex!DR10))","v":-15.116279069767442},{"$f":"((analysisnonex!DW10-analysisnonex!DR10)*100/ABS(analysisnonex!DR10))","v":-15.116279069767442},{"$f":"((analysisnonex!DX10-analysisnonex!DR10)*100/ABS(analysisnonex!DR10))","v":-9.30232558139535},{"$f":"((analysisnonex!DY10-analysisnonex!DR10)*100/ABS(analysisnonex!DR10))","v":-10.465116279069768},{"$f":"((analysisnonex!DZ10-analysisnonex!DR10)*100/ABS(analysisnonex!DR10))","v":-16.27906976744186},{"$f":"((analysisnonex!EA10-analysisnonex!DR10)*100/ABS(analysisnonex!DR10))","v":-13.953488372093023},{"$f":"((analysisnonex!EB10-analysisnonex!DR10)*100/ABS(analysisnonex!DR10))","v":-12.790697674418604},-13.837209302325581,{"$f":"AVERAGE($X$2:INDEX(X:X,MATCH(9.99999999999999E+307,X:X)))-intnonex!Y2","v":0},-2.0650000000000004,-4.697200000000002]
[{"$f":"analysisnonex!A11","v":"RS101-nonexercise"},{"$f":"(((analysisnonex!CW11-analysisnonex!CV11)*100/ABS(analysisnonex!CV11)))","v":-11.085450346420318},{"$f":"(((analysisnonex!CX11-analysisnonex!CV11)*100/ABS(analysisnonex!CV11)))","v":1.6166281755196372},{"$f":"(((analysisnonex!CY11-analysisnonex!CV11)*100/ABS(analysisnonex!CV11)))","v":5.080831408775988},{"$f":"(((analysisnonex!CZ11-analysisnonex!CV11)*100/ABS(analysisnonex!CV11)))","v":1.6166281755196372},{"$f":"(((analysisnonex!DA11-analysisnonex!CV11)*100/ABS(analysisnonex!CV11)))","v":-8.775981524249417},{"$f":"(((analysisnonex!DB11-analysisnonex!CV11)*100/ABS(analysisnonex!CV11)))","v":3.926096997690538},{"$f":"(((analysisnonex!DC11-analysisnonex!CV11)*100/ABS(analysisnonex!CV11)))","v":-1.847575057736714},{"$f":"(((analysisnonex!DD11-analysisnonex!CV11)*100/ABS(analysisnonex!CV11)))","v":6.2355658198614385},{"$f":"(((analysisnonex!DE11-analysisnonex!CV11)*100/ABS(analysisnonex!CV11)))","v":1.6166281755196372},{"$f":"(((analysisnonex!DF11-analysisnonex!CV11)*100/ABS(analysisnonex!CV11)))","v":-6.466512702078516},-0.8083140877598091,"SE ex non-ex",{"$f":"((analysisnonex!DS11-analysisnonex!DR11)*100/ABS(analysisnonex!DR11))","v":9.30232558139535},{"$f":"((analysisnonex!DT11-analysisnonex!DR11)*100/ABS(analysisnonex!DR11))","v":3.488372093023256},{"$f":"((analysisnonex!DU11-analysisnonex!DR11)*100/ABS(analysisnonex!DR11))","v":4.651162790697675},{"$f":"((analysisnonex!DV11-analysisnonex!DR11)*100/ABS(analysisnonex!DR11))","v":-9.30232558139535},{"$f":"((analysisnonex!DW11-analysisnonex!DR11)*100/ABS(analysisnonex!DR11))","v":2.3255813953488373},{"$f":"((analysisnonex!DX11-analysisnonex!DR11)*100/ABS(analysisnonex!DR11))","v":4.651162790697675},{"$f":"((analysisnonex!DY11-analysisnonex!DR11)*100/ABS(analysisnonex!DR11))","v":6.976744186046512},{"$f":"((analysisnonex!DZ11-analysisnonex!DR11)*100/ABS(analysisnonex!DR11))","v":10.465116279069768},{"$f":"((analysisnonex!EA11-analysisnonex!DR11)*100/ABS(analysisnonex!DR11))","v":-5.813953488372093},{"$f":"((analysisnonex!EB11-analysisnonex!DR11)*100/ABS(analysisnonex!DR11))","v":4.651162790697675},3.1395348837209305,"SE ex non-ex",-10.087799999999998,-6.257200000000001]
[{"$f":"analysisnonex!A12","v":"SN102-nonexercise"},{"$f":"(((analysisnonex!CW12-analysisnonex!CV12)*100/ABS(analysisnonex!CV12)))","v":12.732095490716173},{"$f":"(((analysisnonex!CX12-analysisnonex!CV12)*100/ABS(analysisnonex!CV12)))","v":11.40583554376657},{"$f":"(((analysisnonex!CY12-analysisnonex!CV12)*100/ABS(analysisnonex!CV12)))","v":7.427055702917764},{"$f":"(((analysisnonex!CZ12-analysisnonex!CV12)*100/ABS(analysisnonex!CV12)))","v":3.4482758620689578},{"$f":"(((analysisnonex!DA12-analysisnonex!CV12)*100/ABS(analysisnonex!CV12)))","v":10.079575596816968},{"$f":"(((analysisnonex!DB12-analysisnonex!CV12)*100/ABS(analysisnonex!CV12)))","v":10.079575596816968},{"$f":"(((analysisnonex!DC12-analysisnonex!CV12)*100/ABS(analysisnonex!CV12)))","v":11.40583554376657},{"$f":"(((analysisnonex!DD12-analysisnonex!CV12)*100/ABS(analysisnonex!CV12)))","v":6.100795755968162},{"$f":"(((analysisnonex!DE12-analysisnonex!CV12)*100/ABS(analysisnonex!CV12)))","v":6.100795755968162},{"$f":"(((analysisnonex!DF12-analysisnonex!CV12)*100/ABS(analysisnonex!CV12)))","v":2.1220159151193556},8.090185676392565,{"$f":"SQRT(((M4*M4)/M6)+((PlotArray1nonex!M4*PlotArray1nonex!M4)/PlotArray1nonex!M6))","v":1.757243016694583},{"$f":"((analysisnonex!DS12-analysisnonex!DR12)*100/ABS(analysisnonex!DR12))","v":0.031178549158180354},{"$f":"((analysisnonex!DT12-analysisnonex!DR12)*100/ABS(analysisnonex!DR12))","v":1.3302847640823126},{"$f":"((analysisnonex!DU12-analysisnonex!DR12)*100/ABS(analysisnonex!DR12))","v":2.6293909790064447},{"$f":"((analysisnonex!DV12-analysisnonex!DR12)*100/ABS(analysisnonex!DR12))","v":5.227603408854709},{"$f":"((analysisnonex!DW12-analysisnonex!DR12)*100/ABS(analysisnonex!DR12))","v":3.928497193930577},{"$f":"((analysisnonex!DX12-analysisnonex!DR12)*100/ABS(analysisnonex!DR12))","v":-1.267927665765952},{"$f":"((analysisnonex!DY12-analysisnonex!DR12)*100/ABS(analysisnonex!DR12))","v":1.3302847640823126},{"$f":"((analysisnonex!DZ12-analysisnonex!DR12)*100/ABS(analysisnonex!DR12))","v":3.928497193930577},{"$f":"((analysisnonex!EA12-analysisnonex!DR12)*100/ABS(analysisnonex!DR12))","v":3.928497193930577},{"$f":"((analysisnonex!EB12-analysisnonex!DR12)*100/ABS(analysisnonex!DR12))","v":0.031178549158180354},2.109748493036792,{"$f":"SQRT(((Y4*Y4)/Y6)+((PlotArray1nonex!Y4*PlotArray1nonex!Y4)/PlotArray1nonex!Y6))","v":1.587451830785495},-1.2797000000000007,-6.257200000000001]
[{"$f":"analysisnonex!A13","v":"TB101-nonexercise"},{"$f":"(((analysisnonex!CW13-analysisnonex!CV13)*100/ABS(analysisnonex!CV13)))","v":-3.4981905910735893},{"$f":"(((analysisnonex!CX13-analysisnonex!CV13)*100/ABS(analysisnonex!CV13)))","v":0.12062726176115116},{"$f":"(((analysisnonex!CY13-analysisnonex!CV13)*100/ABS(analysisnonex!CV13)))","v":-8.32328106151991},{"$f":"(((analysisnonex!CZ13-analysisnonex!CV13)*100/ABS(analysisnonex!CV13)))","v":1.3268998793727314},{"$f":"(((analysisnonex!DA13-analysisnonex!CV13)*100/ABS(analysisnonex!CV13)))","v":-13.148371531966228},{"$f":"(((analysisnonex!DB13-analysisnonex!CV13)*100/ABS(analysisnonex!CV13)))","v":-2.291917973462009},{"$f":"(((analysisnonex!DC13-analysisnonex!CV13)*100/ABS(analysisnonex!CV13)))","v":-2.291917973462009},{"$f":"(((analysisnonex!DD13-analysisnonex!CV13)*100/ABS(analysisnonex!CV13)))","v":-4.704463208685169},{"$f":"(((analysisnonex!DE13-analysisnonex!CV13)*100/ABS(analysisnonex!CV13)))","v":-8.32328106151991},{"$f":"(((analysisnonex!DF13-analysisnonex!CV13)*100/ABS(analysisnonex!CV13)))","v":0.12062726176115116},-4.10132689987938,"p-value ttest after exercise",{"$f":"((analysisnonex!DS13-analysisnonex!DR13)*100/ABS(analysisnonex!DR13))","v":8.801955990220051},{"$f":"((analysisnonex!DT13-analysisnonex!DR13)*100/ABS(analysisnonex!DR13))","v":-5.867970660146696},{"$f":"((analysisnonex!DU13-analysisnonex!DR13)*100/ABS(analysisnonex!DR13))","v":6.356968215158927},{"$f":"((analysisnonex!DV13-analysisnonex!DR13)*100/ABS(analysisnonex!DR13))","v":-4.645476772616133},{"$f":"((analysisnonex!DW13-analysisnonex!DR13)*100/ABS(analysisnonex!DR13))","v":0.24449877750611596},{"$f":"((analysisnonex!DX13-analysisnonex!DR13)*100/ABS(analysisnonex!DR13))","v":-10.757946210268946},{"$f":"((analysisnonex!DY13-analysisnonex!DR13)*100/ABS(analysisnonex!DR13))","v":2.689486552567241},{"$f":"((analysisnonex!DZ13-analysisnonex!DR13)*100/ABS(analysisnonex!DR13))","v":-5.867970660146696},{"$f":"((analysisnonex!EA13-analysisnonex!DR13)*100/ABS(analysisnonex!DR13))","v":0.24449877750611596},{"$f":"((analysisnonex!EB13-analysisnonex!DR13)*100/ABS(analysisnonex!DR13))","v":11.246943765281177},0.24449877750611576,"p-value ttest after exercise",-1.537099999999999,-0.6447999999999994]
[{"$f":"analysisnonex!A14","v":"SW101-nonexercise"},{"$f":"(((analysisnonex!CW14-analysisnonex!CV14)*100/ABS(analysisnonex!CV14)))","v":-4.137235116044394},{"$f":"(((analysisnonex!CX14-analysisnonex!CV14)*100/ABS(analysisnonex!CV14)))","v":0.9081735620585325},{"$f":"(((analysisnonex!CY14-analysisnonex!CV14)*100/ABS(analysisnonex!CV14)))","v":0.9081735620585325},{"$f":"(((analysisnonex!CZ14-analysisnonex!CV14)*100/ABS(analysisnonex!CV14)))","v":-5.146316851664979},{"$f":"(((analysisnonex!DA14-analysisnonex!CV14)*100/ABS(analysisnonex!CV14)))","v":-11.200807265388493},{"$f":"(((analysisnonex!DB14-analysisnonex!CV14)*100/ABS(analysisnonex!CV14)))","v":-1.1099899091826382},{"$f":"(((analysisnonex!DC14-analysisnonex!CV14)*100/ABS(analysisnonex!CV14)))","v":-5.146316851664979},{"$f":"(((analysisnonex!DD14-analysisnonex!CV14)*100/ABS(analysisnonex!CV14)))","v":-2.1190716448032236},{"$f":"(((analysisnonex!DE14-analysisnonex!CV14)*100/ABS(analysisnonex!CV14)))","v":2.926337033299703},{"$f":"(((analysisnonex!DF14-analysisnonex!CV14)*100/ABS(analysisnonex!CV14)))","v":2.926337033299703},-2.1190716448032236,{"$f":"TTEST(analysisnonex!CV2:CV74,analysisnonex!DG2:DG74,2,1)","v":1.5539931515485311E-4},{"$f":"((analysisnonex!DS14-analysisnonex!DR14)*100/ABS(analysisnonex!DR14))","v":-11.6751269035533},{"$f":"((analysisnonex!DT14-analysisnonex!DR14)*100/ABS(analysisnonex!DR14))","v":-1.5228426395939085},{"$f":"((analysisnonex!DU14-analysisnonex!DR14)*100/ABS(analysisnonex!DR14))","v":-0.5076142131979695},{"$f":"((analysisnonex!DV14-analysisnonex!DR14)*100/ABS(analysisnonex!DR14))","v":-8.629441624365482},{"$f":"((analysisnonex!DW14-analysisnonex!DR14)*100/ABS(analysisnonex!DR14))","v":-5.583756345177665},{"$f":"((analysisnonex!DX14-analysisnonex!DR14)*100/ABS(analysisnonex!DR14))","v":-9.644670050761421},{"$f":"((analysisnonex!DY14-analysisnonex!DR14)*100/ABS(analysisnonex!DR14))","v":-11.6751269035533},{"$f":"((analysisnonex!DZ14-analysisnonex!DR14)*100/ABS(analysisnonex!DR14))","v":5.583756345177665},{"$f":"((analysisnonex!EA14-analysisnonex!DR14)*100/ABS(analysisnonex!DR14))","v":0.5076142131979695},{"$f":"((analysisnonex!EB14-analysisnonex!DR14)*100/ABS(analysisnonex!DR14))","v":-7.614213197969543},-5.0761421319796955,{"$f":"TTEST(analysisnonex!DR2:DR74,analysisnonex!EC2:EC74,2,1)","v":3.0784744317673971E-5},0.5641000000000013,-6.623700000000005]
[{"$f":"analysisnonex!A15","v":"BR102-nonexercise"},{"$f":"(((analysisnonex!CW15-analysisnonex!CV15)*100/ABS(analysisnonex!CV15)))","v":-14.600550964187322},{"$f":"(((analysisnonex!CX15-analysisnonex!CV15)*100/ABS(analysisnonex!CV15)))","v":-4.958677685950406},{"$f":"(((analysisnonex!CY15-analysisnonex!CV15)*100/ABS(analysisnonex!CV15)))","v":-7.713498622589524},{"$f":"(((analysisnonex!CZ15-analysisnonex!CV15)*100/ABS(analysisnonex!CV15)))","v":-2.2038567493112873},{"$f":"(((analysisnonex!DA15-analysisnonex!CV15)*100/ABS(analysisnonex!CV15)))","v":-6.336088154269965},{"$f":"(((analysisnonex!DB15-analysisnonex!CV15)*100/ABS(analysisnonex!CV15)))","v":-6.336088154269965},{"$f":"(((analysisnonex!DC15-analysisnonex!CV15)*100/ABS(analysisnonex!CV15)))","v":-11.845730027548202},{"$f":"(((analysisnonex!DD15-analysisnonex!CV15)*100/ABS(analysisnonex!CV15)))","v":-7.713498622589524},{"$f":"(((analysisnonex!DE15-analysisnonex!CV15)*100/ABS(analysisnonex!CV15)))","v":0.5509641873278316},{"$f":"(((analysisnonex!DF15-analysisnonex!CV15)*100/ABS(analysisnonex!CV15)))","v":-7.713498622589524},-6.887052341597789,"p-value ttest change with exercise vs change with nonex",{"$f":"((analysisnonex!DS15-analysisnonex!DR15)*100/ABS(analysisnonex!DR15))","v":-6.4649243466299895},{"$f":"((analysisnonex!DT15-analysisnonex!DR15)*100/ABS(analysisnonex!DR15))","v":-10.591471801925724},{"$f":"((analysisnonex!DU15-analysisnonex!DR15)*100/ABS(analysisnonex!DR15))","v":-2.338376891334254},{"$f":"((analysisnonex!DV15-analysisnonex!DR15)*100/ABS(analysisnonex!DR15))","v":-10.591471801925724},{"$f":"((analysisnonex!DW15-analysisnonex!DR15)*100/ABS(analysisnonex!DR15))","v":-10.591471801925724},{"$f":"((analysisnonex!DX15-analysisnonex!DR15)*100/ABS(analysisnonex!DR15))","v":-6.4649243466299895},{"$f":"((analysisnonex!DY15-analysisnonex!DR15)*100/ABS(analysisnonex!DR15))","v":-3.7138927097661663},{"$f":"((analysisnonex!DZ15-analysisnonex!DR15)*100/ABS(analysisnonex!DR15))","v":1.7881705639614816},{"$f":"((analysisnonex!EA15-analysisnonex!DR15)*100/ABS(analysisnonex!DR15))","v":-13.34250343878955},{"$f":"((analysisnonex!EB15-analysisnonex!DR15)*100/ABS(analysisnonex!DR15))","v":-5.089408528198078},-6.740027510316372,"p-value ttest change with exercise vs change with nonex",-2.5791000000000013,-3.654399999999999]
[{"$f":"analysisnonex!A16","v":"DJ102-nonexercise"},{"$f":"(((analysisnonex!CW16-analysisnonex!CV16)*100/ABS(analysisnonex!CV16)))","v":-19.02313624678663},{"$f":"(((analysisnonex!CX16-analysisnonex!CV16)*100/ABS(analysisnonex!CV16)))","v":-28.020565552699225},{"$f":"(((analysisnonex!CY16-analysisnonex!CV16)*100/ABS(analysisnonex!CV16)))","v":-21.59383033419023},{"$f":"(((analysisnonex!CZ16-analysisnonex!CV16)*100/ABS(analysisnonex!CV16)))","v":-22.879177377892027},{"$f":"(((analysisnonex!DA16-analysisnonex!CV16)*100/ABS(analysisnonex!CV16)))","v":-22.879177377892027},{"$f":"(((analysisnonex!DB16-analysisnonex!CV16)*100/ABS(analysisnonex!CV16)))","v":-26.735218508997423},{"$f":"(((analysisnonex!DC16-analysisnonex!CV16)*100/ABS(analysisnonex!CV16)))","v":-26.735218508997423},{"$f":"(((analysisnonex!DD16-analysisnonex!CV16)*100/ABS(analysisnonex!CV16)))","v":-26.735218508997423},{"$f":"(((analysisnonex!DE16-analysisnonex!CV16)*100/ABS(analysisnonex!CV16)))","v":-26.735218508997423},{"$f":"(((analysisnonex!DF16-analysisnonex!CV16)*100/ABS(analysisnonex!CV16)))","v":-22.879177377892027},-24.421593830334192,{"$f":"TTEST(L2:L31,intnonex!L2:L30,2,3)","v":0.9901949847061702},{"$f":"((analysisnonex!DS16-analysisnonex!DR16)*100/ABS(analysisnonex!DR16))","v":-15.05791505791506},{"$f":"((analysisnonex!DT16-analysisnonex!DR16)*100/ABS(analysisnonex!DR16))","v":-26.640926640926647},{"$f":"((analysisnonex!DU16-analysisnonex!DR16)*100/ABS(analysisnonex!DR16))","v":-20.205920205920208},{"$f":"((analysisnonex!DV16-analysisnonex!DR16)*100/ABS(analysisnonex!DR16))","v":-20.205920205920208},{"$f":"((analysisnonex!DW16-analysisnonex!DR16)*100/ABS(analysisnonex!DR16))","v":-18.918918918918923},{"$f":"((analysisnonex!DX16-analysisnonex!DR16)*100/ABS(analysisnonex!DR16))","v":-18.918918918918923},{"$f":"((analysisnonex!DY16-analysisnonex!DR16)*100/ABS(analysisnonex!DR16))","v":-27.927927927927932},{"$f":"((analysisnonex!DZ16-analysisnonex!DR16)*100/ABS(analysisnonex!DR16))","v":-29.21492921492922},{"$f":"((analysisnonex!EA16-analysisnonex!DR16)*100/ABS(analysisnonex!DR16))","v":-27.927927927927932},{"$f":"((analysisnonex!EB16-analysisnonex!DR16)*100/ABS(analysisnonex!DR16))","v":-27.927927927927932},-23.294723294723294,{"$f":"TTEST(X2:X31,PlotArray1nonex!X2:X30,2,3)","v":0.8080496682794429},-4.653799999999999,-2.0269999999999984]
[{"$f":"analysisnonex!A17","v":"FH101-nonexercise"},{"$f":"(((analysisnonex!CW17-analysisnonex!CV17)*100/ABS(analysisnonex!CV17)))","v":-0.09606147934677649},{"$f":"(((analysisnonex!CX17-analysisnonex!CV17)*100/ABS(analysisnonex!CV17)))","v":-5.859750240153693},{"$f":"(((analysisnonex!CY17-analysisnonex!CV17)*100/ABS(analysisnonex!CV17)))","v":-5.859750240153693},{"$f":"(((analysisnonex!CZ17-analysisnonex!CV17)*100/ABS(analysisnonex!CV17)))","v":-7.7809798270893324},{"$f":"(((analysisnonex!DA17-analysisnonex!CV17)*100/ABS(analysisnonex!CV17)))","v":-2.977905859750235},{"$f":"(((analysisnonex!DB17-analysisnonex!CV17)*100/ABS(analysisnonex!CV17)))","v":-5.859750240153693},{"$f":"(((analysisnonex!DC17-analysisnonex!CV17)*100/ABS(analysisnonex!CV17)))","v":-4.899135446685873},{"$f":"(((analysisnonex!DD17-analysisnonex!CV17)*100/ABS(analysisnonex!CV17)))","v":-6.8203650336215125},{"$f":"(((analysisnonex!DE17-analysisnonex!CV17)*100/ABS(analysisnonex!CV17)))","v":-8.741594620557152},{"$f":"(((analysisnonex!DF17-analysisnonex!CV17)*100/ABS(analysisnonex!CV17)))","v":-6.8203650336215125},-5.571565802113347,"pearson HR RT",{"$f":"((analysisnonex!DS17-analysisnonex!DR17)*100/ABS(analysisnonex!DR17))","v":0.29211295034079565},{"$f":"((analysisnonex!DT17-analysisnonex!DR17)*100/ABS(analysisnonex!DR17))","v":-0.6815968841285325},{"$f":"((analysisnonex!DU17-analysisnonex!DR17)*100/ABS(analysisnonex!DR17))","v":-4.576436222005845},{"$f":"((analysisnonex!DV17-analysisnonex!DR17)*100/ABS(analysisnonex!DR17))","v":-7.497565725413828},{"$f":"((analysisnonex!DW17-analysisnonex!DR17)*100/ABS(analysisnonex!DR17))","v":-1.6553067185978605},{"$f":"((analysisnonex!DX17-analysisnonex!DR17)*100/ABS(analysisnonex!DR17))","v":-5.550146056475173},{"$f":"((analysisnonex!DY17-analysisnonex!DR17)*100/ABS(analysisnonex!DR17))","v":-7.497565725413828},{"$f":"((analysisnonex!DZ17-analysisnonex!DR17)*100/ABS(analysisnonex!DR17))","v":-10.418695228821813},{"$f":"((analysisnonex!EA17-analysisnonex!DR17)*100/ABS(analysisnonex!DR17))","v":-7.497565725413828},{"$f":"((analysisnonex!EB17-analysisnonex!DR17)*100/ABS(analysisnonex!DR17))","v":-7.497565725413828},-5.258033106134374,"pearson HR RT",-3.7861999999999996,-3.8710999999999998]
[{"$f":"analysisnonex!A18","v":"JF102-nonexercise"},{"$f":"(((analysisnonex!CW18-analysisnonex!CV18)*100/ABS(analysisnonex!CV18)))","v":-15.454545454545455},{"$f":"(((analysisnonex!CX18-analysisnonex!CV18)*100/ABS(analysisnonex!CV18)))","v":-11.818181818181818},{"$f":"(((analysisnonex!CY18-analysisnonex!CV18)*100/ABS(analysisnonex!CV18)))","v":-13.636363636363637},{"$f":"(((analysisnonex!CZ18-analysisnonex!CV18)*100/ABS(analysisnonex!CV18)))","v":-17.272727272727273},{"$f":"(((analysisnonex!DA18-analysisnonex!CV18)*100/ABS(analysisnonex!CV18)))","v":-10},{"$f":"(((analysisnonex!DB18-analysisnonex!CV18)*100/ABS(analysisnonex!CV18)))","v":-10},{"$f":"(((analysisnonex!DC18-analysisnonex!CV18)*100/ABS(analysisnonex!CV18)))","v":-8.181818181818182},{"$f":"(((analysisnonex!DD18-analysisnonex!CV18)*100/ABS(analysisnonex!CV18)))","v":-13.636363636363637},{"$f":"(((analysisnonex!DE18-analysisnonex!CV18)*100/ABS(analysisnonex!CV18)))","v":-9.090909090909092},{"$f":"(((analysisnonex!DF18-analysisnonex!CV18)*100/ABS(analysisnonex!CV18)))","v":-8.181818181818182},-11.72727272727273,{"$f":"PEARSON(L2:L31,PlotArray1!L2:L74)","v":{"$error":"#N/A"}},{"$f":"((analysisnonex!DS18-analysisnonex!DR18)*100/ABS(analysisnonex!DR18))","v":-16.14066726780884},{"$f":"((analysisnonex!DT18-analysisnonex!DR18)*100/ABS(analysisnonex!DR18))","v":-8.02524797114518},{"$f":"((analysisnonex!DU18-analysisnonex!DR18)*100/ABS(analysisnonex!DR18))","v":-14.337240757439139},{"$f":"((analysisnonex!DV18-analysisnonex!DR18)*100/ABS(analysisnonex!DR18))","v":-16.14066726780884},{"$f":"((analysisnonex!DW18-analysisnonex!DR18)*100/ABS(analysisnonex!DR18))","v":-10.730387736699733},{"$f":"((analysisnonex!DX18-analysisnonex!DR18)*100/ABS(analysisnonex!DR18))","v":-12.533814247069435},{"$f":"((analysisnonex!DY18-analysisnonex!DR18)*100/ABS(analysisnonex!DR18))","v":-12.533814247069435},{"$f":"((analysisnonex!DZ18-analysisnonex!DR18)*100/ABS(analysisnonex!DR18))","v":-1.7132551848512223},{"$f":"((analysisnonex!EA18-analysisnonex!DR18)*100/ABS(analysisnonex!DR18))","v":-6.2218214607754785},{"$f":"((analysisnonex!EB18-analysisnonex!DR18)*100/ABS(analysisnonex!DR18))","v":-6.2218214607754785},-10.459873760144276,{"$f":"PEARSON(X2:X31,PlotArray1!X2:X74)","v":{"$error":"#N/A"}},-3.210000000000001,-2.9003000000000005]
[{"$f":"analysisnonex!A19","v":"JL101-nonexercise"},{"$f":"(((analysisnonex!CW19-analysisnonex!CV19)*100/ABS(analysisnonex!CV19)))","v":1.2345679012345678},{"$f":"(((analysisnonex!CX19-analysisnonex!CV19)*100/ABS(analysisnonex!CV19)))","v":-4.938271604938271},{"$f":"(((analysisnonex!CY19-analysisnonex!CV19)*100/ABS(analysisnonex!CV19)))","v":0},{"$f":"(((analysisnonex!CZ19-analysisnonex!CV19)*100/ABS(analysisnonex!CV19)))","v":-3.7037037037037037},{"$f":"(((analysisnonex!DA19-analysisnonex!CV19)*100/ABS(analysisnonex!CV19)))","v":-2.4691358024691357},{"$f":"(((analysisnonex!DB19-analysisnonex!CV19)*100/ABS(analysisnonex!CV19)))","v":-2.4691358024691357},{"$f":"(((analysisnonex!DC19-analysisnonex!CV19)*100/ABS(analysisnonex!CV19)))","v":-4.938271604938271},{"$f":"(((analysisnonex!DD19-analysisnonex!CV19)*100/ABS(analysisnonex!CV19)))","v":-2.4691358024691357},{"$f":"(((analysisnonex!DE19-analysisnonex!CV19)*100/ABS(analysisnonex!CV19)))","v":-7.407407407407407},{"$f":"(((analysisnonex!DF19-analysisnonex!CV19)*100/ABS(analysisnonex!CV19)))","v":-4.938271604938271},-3.2098765432098766,"R squared",{"$f":"((analysisnonex!DS19-analysisnonex!DR19)*100/ABS(analysisnonex!DR19))","v":4.86891385767791},{"$f":"((analysisnonex!DT19-analysisnonex!DR19)*100/ABS(analysisnonex!DR19))","v":-1.3732833957552988},{"$f":"((analysisnonex!DU19-analysisnonex!DR19)*100/ABS(analysisnonex!DR19))","v":-1.3732833957552988},{"$f":"((analysisnonex!DV19-analysisnonex!DR19)*100/ABS(analysisnonex!DR19))","v":-5.118601747815224},{"$f":"((analysisnonex!DW19-analysisnonex!DR19)*100/ABS(analysisnonex!DR19))","v":-1.3732833957552988},{"$f":"((analysisnonex!DX19-analysisnonex!DR19)*100/ABS(analysisnonex!DR19))","v":2.3720349563046264},{"$f":"((analysisnonex!DY19-analysisnonex!DR19)*100/ABS(analysisnonex!DR19))","v":-2.6217228464419406},{"$f":"((analysisnonex!DZ19-analysisnonex!DR19)*100/ABS(analysisnonex!DR19))","v":1.1235955056179847},{"$f":"((analysisnonex!EA19-analysisnonex!DR19)*100/ABS(analysisnonex!DR19))","v":-0.12484394506865708},{"$f":"((analysisnonex!EB19-analysisnonex!DR19)*100/ABS(analysisnonex!DR19))","v":3.6204744069912684},7.194245199571014e-15,"R squared",-0.3227999999999998,-4.534099999999998]
[{"$f":"analysisnonex!A20","v":"KK101-nonexercise"},{"$f":"(((analysisnonex!CW20-analysisnonex!CV20)*100/ABS(analysisnonex!CV20)))","v":-4.357066950053129},{"$f":"(((analysisnonex!CX20-analysisnonex!CV20)*100/ABS(analysisnonex!CV20)))","v":-4.357066950053129},{"$f":"(((analysisnonex!CY20-analysisnonex!CV20)*100/ABS(analysisnonex!CV20)))","v":-5.41976620616365},{"$f":"(((analysisnonex!CZ20-analysisnonex!CV20)*100/ABS(analysisnonex!CV20)))","v":0.9564293304994748},{"$f":"(((analysisnonex!DA20-analysisnonex!CV20)*100/ABS(analysisnonex!CV20)))","v":3.081827842720516},{"$f":"(((analysisnonex!DB20-analysisnonex!CV20)*100/ABS(analysisnonex!CV20)))","v":-5.41976620616365},{"$f":"(((analysisnonex!DC20-analysisnonex!CV20)*100/ABS(analysisnonex!CV20)))","v":-10.733262486716255},{"$f":"(((analysisnonex!DD20-analysisnonex!CV20)*100/ABS(analysisnonex!CV20)))","v":-4.357066950053129},{"$f":"(((analysisnonex!DE20-analysisnonex!CV20)*100/ABS(analysisnonex!CV20)))","v":-6.48246546227417},{"$f":"(((analysisnonex!DF20-analysisnonex!CV20)*100/ABS(analysisnonex!CV20)))","v":-7.545164718384692},-4.463336875664181,{"$f":"M18*M18","v":{"$error":"#N/A"}},{"$f":"((analysisnonex!DS20-analysisnonex!DR20)*100/ABS(analysisnonex!DR20))","v":0.7667031763417337},{"$f":"((analysisnonex!DT20-analysisnonex!DR20)*100/ABS(analysisnonex!DR20))","v":-1.4238773274917822},{"$f":"((analysisnonex!DU20-analysisnonex!DR20)*100/ABS(analysisnonex!DR20))","v":9.529025191675798},{"$f":"((analysisnonex!DV20-analysisnonex!DR20)*100/ABS(analysisnonex!DR20))","v":-3.614457831325298},{"$f":"((analysisnonex!DW20-analysisnonex!DR20)*100/ABS(analysisnonex!DR20))","v":-0.32858707557502426},{"$f":"((analysisnonex!DX20-analysisnonex!DR20)*100/ABS(analysisnonex!DR20))","v":-6.900328587075573},{"$f":"((analysisnonex!DY20-analysisnonex!DR20)*100/ABS(analysisnonex!DR20))","v":-0.32858707557502426},{"$f":"((analysisnonex!DZ20-analysisnonex!DR20)*100/ABS(analysisnonex!DR20))","v":-0.32858707557502426},{"$f":"((analysisnonex!EA20-analysisnonex!DR20)*100/ABS(analysisnonex!DR20))","v":-0.32858707557502426},{"$f":"((analysisnonex!EB20-analysisnonex!DR20)*100/ABS(analysisnonex!DR20))","v":-3.614457831325298},-0.6571741511500517,{"$f":"Y18*Y18","v":{"$error":"#N/A"}},-1.1684000000000005,-1.2691000000000046]
[{"$f":"analysisnonex!A21","v":"KLA101-nonexercise"},{"$f":"(((analysisnonex!CW21-analysisnonex!CV21)*100/ABS(analysisnonex!CV21)))","v":-14.36865021770683},{"$f":"(((analysisnonex!CX21-analysisnonex!CV21)*100/ABS(analysisnonex!CV21)))","v":4.499274310595057},{"$f":"(((analysisnonex!CY21-analysisnonex!CV21)*100/ABS(analysisnonex!CV21)))","v":-11.465892597968077},{"$f":"(((analysisnonex!CZ21-analysisnonex!CV21)*100/ABS(analysisnonex!CV21)))","v":-2.7576197387518224},{"$f":"(((analysisnonex!DA21-analysisnonex!CV21)*100/ABS(analysisnonex!CV21)))","v":3.047895500725681},{"$f":"(((analysisnonex!DB21-analysisnonex!CV21)*100/ABS(analysisnonex!CV21)))","v":7.402031930333808},{"$f":"(((analysisnonex!DC21-analysisnonex!CV21)*100/ABS(analysisnonex!CV21)))","v":5.950653120464432},{"$f":"(((analysisnonex!DD21-analysisnonex!CV21)*100/ABS(analysisnonex!CV21)))","v":-14.36865021770683},{"$f":"(((analysisnonex!DE21-analysisnonex!CV21)*100/ABS(analysisnonex!CV21)))","v":-1.3062409288824464},{"$f":"(((analysisnonex!DF21-analysisnonex!CV21)*100/ABS(analysisnonex!CV21)))","v":1.596516690856305},-2.177068214804072,null,{"$f":"((analysisnonex!DS21-analysisnonex!DR21)*100/ABS(analysisnonex!DR21))","v":-11.465892597968077},{"$f":"((analysisnonex!DT21-analysisnonex!DR21)*100/ABS(analysisnonex!DR21))","v":-8.563134978229325},{"$f":"((analysisnonex!DU21-analysisnonex!DR21)*100/ABS(analysisnonex!DR21))","v":-14.36865021770683},{"$f":"((analysisnonex!DV21-analysisnonex!DR21)*100/ABS(analysisnonex!DR21))","v":4.499274310595057},{"$f":"((analysisnonex!DW21-analysisnonex!DR21)*100/ABS(analysisnonex!DR21))","v":1.596516690856305},{"$f":"((analysisnonex!DX21-analysisnonex!DR21)*100/ABS(analysisnonex!DR21))","v":-17.27140783744558},{"$f":"((analysisnonex!DY21-analysisnonex!DR21)*100/ABS(analysisnonex!DR21))","v":0.14513788098692934},{"$f":"((analysisnonex!DZ21-analysisnonex!DR21)*100/ABS(analysisnonex!DR21))","v":5.950653120464432},{"$f":"((analysisnonex!EA21-analysisnonex!DR21)*100/ABS(analysisnonex!DR21))","v":10.30478955007256},{"$f":"((analysisnonex!EB21-analysisnonex!DR21)*100/ABS(analysisnonex!DR21))","v":-18.722786647314955},-4.789550072568948,null,-2.1967000000000034,-3.8890000000000007]
[{"$f":"analysisnonex!A22","v":"KV101-nonexercise"},{"$f":"(((analysisnonex!CW22-analysisnonex!CV22)*100/ABS(analysisnonex!CV22)))","v":0.12515644555693906},{"$f":"(((analysisnonex!CX22-analysisnonex!CV22)*100/ABS(analysisnonex!CV22)))","v":6.382978723404248},{"$f":"(((analysisnonex!CY22-analysisnonex!CV22)*100/ABS(analysisnonex!CV22)))","v":1.3767209011264008},{"$f":"(((analysisnonex!CZ22-analysisnonex!CV22)*100/ABS(analysisnonex!CV22)))","v":1.3767209011264008},{"$f":"(((analysisnonex!DA22-analysisnonex!CV22)*100/ABS(analysisnonex!CV22)))","v":-3.629536921151446},{"$f":"(((analysisnonex!DB22-analysisnonex!CV22)*100/ABS(analysisnonex!CV22)))","v":-1.1264080100125227},{"$f":"(((analysisnonex!DC22-analysisnonex!CV22)*100/ABS(analysisnonex!CV22)))","v":-4.881101376720908},{"$f":"(((analysisnonex!DD22-analysisnonex!CV22)*100/ABS(analysisnonex!CV22)))","v":0.12515644555693906},{"$f":"(((analysisnonex!DE22-analysisnonex!CV22)*100/ABS(analysisnonex!CV22)))","v":-7.384230287859832},{"$f":"(((analysisnonex!DF22-analysisnonex!CV22)*100/ABS(analysisnonex!CV22)))","v":-4.881101376720908},null,null,{"$f":"((analysisnonex!DS22-analysisnonex!DR22)*100/ABS(analysisnonex!DR22))","v":7.6732673267326765},{"$f":"((analysisnonex!DT22-analysisnonex!DR22)*100/ABS(analysisnonex!DR22))","v":-14.603960396039602},{"$f":"((analysisnonex!DU22-analysisnonex!DR22)*100/ABS(analysisnonex!DR22))","v":1.4851485148514887},{"$f":"((analysisnonex!DV22-analysisnonex!DR22)*100/ABS(analysisnonex!DR22))","v":-2.2277227722772244},{"$f":"((analysisnonex!DW22-analysisnonex!DR22)*100/ABS(analysisnonex!DR22))","v":-5.940594059405937},{"$f":"((analysisnonex!DX22-analysisnonex!DR22)*100/ABS(analysisnonex!DR22))","v":-5.940594059405937},{"$f":"((analysisnonex!DY22-analysisnonex!DR22)*100/ABS(analysisnonex!DR22))","v":6.435643564356439},{"$f":"((analysisnonex!DZ22-analysisnonex!DR22)*100/ABS(analysisnonex!DR22))","v":5.198019801980202},{"$f":"((analysisnonex!EA22-analysisnonex!DR22)*100/ABS(analysisnonex!DR22))","v":-12.128712871287126},{"$f":"((analysisnonex!EB22-analysisnonex!DR22)*100/ABS(analysisnonex!DR22))","v":-7.178217821782176},null,null,-2.791900000000001,-3.9125000000000014]
[{"$f":"analysisnonex!A23","v":"MA101-nonexercise"},{"$f":"(((analysisnonex!CW23-analysisnonex!CV23)*100/ABS(analysisnonex!CV23)))","v":-34.27835051546391},{"$f":"(((analysisnonex!CX23-analysisnonex!CV23)*100/ABS(analysisnonex!CV23)))","v":-16.23711340206185},{"$f":"(((analysisnonex!CY23-analysisnonex!CV23)*100/ABS(analysisnonex!CV23)))","v":0.5154639175257806},{"$f":"(((analysisnonex!CZ23-analysisnonex!CV23)*100/ABS(analysisnonex!CV23)))","v":-0.7731958762886525},{"$f":"(((analysisnonex!DA23-analysisnonex!CV23)*100/ABS(analysisnonex!CV23)))","v":-23.96907216494845},{"$f":"(((analysisnonex!DB23-analysisnonex!CV23)*100/ABS(analysisnonex!CV23)))","v":-16.23711340206185},{"$f":"(((analysisnonex!DC23-analysisnonex!CV23)*100/ABS(analysisnonex!CV23)))","v":-8.50515463917525},{"$f":"(((analysisnonex!DD23-analysisnonex!CV23)*100/ABS(analysisnonex!CV23)))","v":-13.659793814432986},{"$f":"(((analysisnonex!DE23-analysisnonex!CV23)*100/ABS(analysisnonex!CV23)))","v":-4.639175257731952},{"$f":"(((analysisnonex!DF23-analysisnonex!CV23)*100/ABS(analysisnonex!CV23)))","v":-20.10309278350515},-13.788659793814427,null,{"$f":"((analysisnonex!DS23-analysisnonex!DR23)*100/ABS(analysisnonex!DR23))","v":-36.48816936488169},{"$f":"((analysisnonex!DT23-analysisnonex!DR23)*100/ABS(analysisnonex!DR23))","v":-5.354919053549187},{"$f":"((analysisnonex!DU23-analysisnonex!DR23)*100/ABS(analysisnonex!DR23))","v":-0.37359900373598653},{"$f":"((analysisnonex!DV23-analysisnonex!DR23)*100/ABS(analysisnonex!DR23))","v":-12.82689912826899},{"$f":"((analysisnonex!DW23-analysisnonex!DR23)*100/ABS(analysisnonex!DR23))","v":-20.29887920298879},{"$f":"((analysisnonex!DX23-analysisnonex!DR23)*100/ABS(analysisnonex!DR23))","v":-6.600249066002488},{"$f":"((analysisnonex!DY23-analysisnonex!DR23)*100/ABS(analysisnonex!DR23))","v":-9.090909090909088},{"$f":"((analysisnonex!DZ23-analysisnonex!DR23)*100/ABS(analysisnonex!DR23))","v":-6.600249066002488},{"$f":"((analysisnonex!EA23-analysisnonex!DR23)*100/ABS(analysisnonex!DR23))","v":-12.82689912826899},{"$f":"((analysisnonex!EB23-analysisnonex!DR23)*100/ABS(analysisnonex!DR23))","v":-25.280199252801992},-13.57409713574097,null,-2.2829000000000006,-8.3874]
[{"$f":"analysisnonex!A24","v":"MT102-nonexercise"},{"$f":"(((analysisnonex!CW24-analysisnonex!CV24)*100/ABS(analysisnonex!CV24)))","v":15.615615615615624},{"$f":"(((analysisnonex!CX24-analysisnonex!CV24)*100/ABS(analysisnonex!CV24)))","v":-12.912912912912905},{"$f":"(((analysisnonex!CY24-analysisnonex!CV24)*100/ABS(analysisnonex!CV24)))","v":-9.909909909909903},{"$f":"(((analysisnonex!CZ24-analysisnonex!CV24)*100/ABS(analysisnonex!CV24)))","v":-15.91591591591591},{"$f":"(((analysisnonex!DA24-analysisnonex!CV24)*100/ABS(analysisnonex!CV24)))","v":-12.912912912912905},{"$f":"(((analysisnonex!DB24-analysisnonex!CV24)*100/ABS(analysisnonex!CV24)))","v":-3.903903903903896},{"$f":"(((analysisnonex!DC24-analysisnonex!CV24)*100/ABS(analysisnonex!CV24)))","v":-2.402402402402394},{"$f":"(((analysisnonex!DD24-analysisnonex!CV24)*100/ABS(analysisnonex!CV24)))","v":2.1021021021021107},{"$f":"(((analysisnonex!DE24-analysisnonex!CV24)*100/ABS(analysisnonex!CV24)))","v":-15.91591591591591},{"$f":"(((analysisnonex!DF24-analysisnonex!CV24)*100/ABS(analysisnonex!CV24)))","v":-11.411411411411404},-6.756756756756749,null,{"$f":"((analysisnonex!DS24-analysisnonex!DR24)*100/ABS(analysisnonex!DR24))","v":5.417276720351396},{"$f":"((analysisnonex!DT24-analysisnonex!DR24)*100/ABS(analysisnonex!DR24))","v":-15.080527086383599},{"$f":"((analysisnonex!DU24-analysisnonex!DR24)*100/ABS(analysisnonex!DR24))","v":-10.688140556368957},{"$f":"((analysisnonex!DV24-analysisnonex!DR24)*100/ABS(analysisnonex!DR24))","v":-19.47291361639824},{"$f":"((analysisnonex!DW24-analysisnonex!DR24)*100/ABS(analysisnonex!DR24))","v":-9.224011713030745},{"$f":"((analysisnonex!DX24-analysisnonex!DR24)*100/ABS(analysisnonex!DR24))","v":-4.831625183016102},{"$f":"((analysisnonex!DY24-analysisnonex!DR24)*100/ABS(analysisnonex!DR24))","v":-4.831625183016102},{"$f":"((analysisnonex!DZ24-analysisnonex!DR24)*100/ABS(analysisnonex!DR24))","v":-15.080527086383599},{"$f":"((analysisnonex!EA24-analysisnonex!DR24)*100/ABS(analysisnonex!DR24))","v":-19.47291361639824},{"$f":"((analysisnonex!EB24-analysisnonex!DR24)*100/ABS(analysisnonex!DR24))","v":-12.152269399707171},-10.541727672035135,null,-1.6902999999999992,-3.2515999999999963]
[{"$f":"analysisnonex!A25","v":"RA101-nonexercise"},{"$f":"(((analysisnonex!CW25-analysisnonex!CV25)*100/ABS(analysisnonex!CV25)))","v":-12.993039443155455},{"$f":"(((analysisnonex!CX25-analysisnonex!CV25)*100/ABS(analysisnonex!CV25)))","v":-10.672853828306266},{"$f":"(((analysisnonex!CY25-analysisnonex!CV25)*100/ABS(analysisnonex!CV25)))","v":-14.153132250580049},{"$f":"(((analysisnonex!CZ25-analysisnonex!CV25)*100/ABS(analysisnonex!CV25)))","v":-7.192575406032485},{"$f":"(((analysisnonex!DA25-analysisnonex!CV25)*100/ABS(analysisnonex!CV25)))","v":-10.672853828306266},{"$f":"(((analysisnonex!DB25-analysisnonex!CV25)*100/ABS(analysisnonex!CV25)))","v":-17.63341067285383},{"$f":"(((analysisnonex!DC25-analysisnonex!CV25)*100/ABS(analysisnonex!CV25)))","v":-12.993039443155455},{"$f":"(((analysisnonex!DD25-analysisnonex!CV25)*100/ABS(analysisnonex!CV25)))","v":-2.55220417633411},{"$f":"(((analysisnonex!DE25-analysisnonex!CV25)*100/ABS(analysisnonex!CV25)))","v":-1.392111368909516},{"$f":"(((analysisnonex!DF25-analysisnonex!CV25)*100/ABS(analysisnonex!CV25)))","v":-14.153132250580049},-10.440835266821347,null,{"$f":"((analysisnonex!DS25-analysisnonex!DR25)*100/ABS(analysisnonex!DR25))","v":-17.30981256890849},{"$f":"((analysisnonex!DT25-analysisnonex!DR25)*100/ABS(analysisnonex!DR25))","v":-21.719955898566706},{"$f":"((analysisnonex!DU25-analysisnonex!DR25)*100/ABS(analysisnonex!DR25))","v":-16.207276736493938},{"$f":"((analysisnonex!DV25-analysisnonex!DR25)*100/ABS(analysisnonex!DR25))","v":-17.30981256890849},{"$f":"((analysisnonex!DW25-analysisnonex!DR25)*100/ABS(analysisnonex!DR25))","v":-5.181918412348404},{"$f":"((analysisnonex!DX25-analysisnonex!DR25)*100/ABS(analysisnonex!DR25))","v":-18.412348401323044},{"$f":"((analysisnonex!DY25-analysisnonex!DR25)*100/ABS(analysisnonex!DR25))","v":-11.797133406835725},{"$f":"((analysisnonex!DZ25-analysisnonex!DR25)*100/ABS(analysisnonex!DR25))","v":-8.489525909592064},{"$f":"((analysisnonex!EA25-analysisnonex!DR25)*100/ABS(analysisnonex!DR25))","v":-7.3869900771775105},{"$f":"((analysisnonex!EB25-analysisnonex!DR25)*100/ABS(analysisnonex!DR25))","v":-16.207276736493938},-14.002205071664832,null,-2.657899999999998,-6.641599999999997]
[{"$f":"analysisnonex!A26","v":"RO101-nonexercise"},{"$f":"(((analysisnonex!CW26-analysisnonex!CV26)*100/ABS(analysisnonex!CV26)))","v":-17.840375586854464},{"$f":"(((analysisnonex!CX26-analysisnonex!CV26)*100/ABS(analysisnonex!CV26)))","v":-11.971830985915496},{"$f":"(((analysisnonex!CY26-analysisnonex!CV26)*100/ABS(analysisnonex!CV26)))","v":-8.450704225352116},{"$f":"(((analysisnonex!CZ26-analysisnonex!CV26)*100/ABS(analysisnonex!CV26)))","v":-10.798122065727702},{"$f":"(((analysisnonex!DA26-analysisnonex!CV26)*100/ABS(analysisnonex!CV26)))","v":-14.319248826291082},{"$f":"(((analysisnonex!DB26-analysisnonex!CV26)*100/ABS(analysisnonex!CV26)))","v":-4.929577464788736},{"$f":"(((analysisnonex!DC26-analysisnonex!CV26)*100/ABS(analysisnonex!CV26)))","v":-6.103286384976529},{"$f":"(((analysisnonex!DD26-analysisnonex!CV26)*100/ABS(analysisnonex!CV26)))","v":-17.840375586854464},{"$f":"(((analysisnonex!DE26-analysisnonex!CV26)*100/ABS(analysisnonex!CV26)))","v":-17.840375586854464},{"$f":"(((analysisnonex!DF26-analysisnonex!CV26)*100/ABS(analysisnonex!CV26)))","v":-26.05633802816902},-13.615023474178406,null,{"$f":"((analysisnonex!DS26-analysisnonex!DR26)*100/ABS(analysisnonex!DR26))","v":-17.420814479638015},{"$f":"((analysisnonex!DT26-analysisnonex!DR26)*100/ABS(analysisnonex!DR26))","v":-16.289592760180998},{"$f":"((analysisnonex!DU26-analysisnonex!DR26)*100/ABS(analysisnonex!DR26))","v":-17.420814479638015},{"$f":"((analysisnonex!DV26-analysisnonex!DR26)*100/ABS(analysisnonex!DR26))","v":-17.420814479638015},{"$f":"((analysisnonex!DW26-analysisnonex!DR26)*100/ABS(analysisnonex!DR26))","v":-8.371040723981906},{"$f":"((analysisnonex!DX26-analysisnonex!DR26)*100/ABS(analysisnonex!DR26))","v":5.2036199095022555},{"$f":"((analysisnonex!DY26-analysisnonex!DR26)*100/ABS(analysisnonex!DR26))","v":-20.814479638009054},{"$f":"((analysisnonex!DZ26-analysisnonex!DR26)*100/ABS(analysisnonex!DR26))","v":-20.814479638009054},{"$f":"((analysisnonex!EA26-analysisnonex!DR26)*100/ABS(analysisnonex!DR26))","v":-20.814479638009054},{"$f":"((analysisnonex!EB26-analysisnonex!DR26)*100/ABS(analysisnonex!DR26))","v":-28.73303167420815},-16.289592760181,null,-0.014400000000001434,-3.5770999999999917]
[{"$f":"analysisnonex!A27","v":"SA102-nonexercise"},{"$f":"(((analysisnonex!CW27-analysisnonex!CV27)*100/ABS(analysisnonex!CV27)))","v":-12.985274431057567},{"$f":"(((analysisnonex!CX27-analysisnonex!CV27)*100/ABS(analysisnonex!CV27)))","v":-4.9531459170013425},{"$f":"(((analysisnonex!CY27-analysisnonex!CV27)*100/ABS(analysisnonex!CV27)))","v":-0.93708165997323},{"$f":"(((analysisnonex!CZ27-analysisnonex!CV27)*100/ABS(analysisnonex!CV27)))","v":-6.29183400267738},{"$f":"(((analysisnonex!DA27-analysisnonex!CV27)*100/ABS(analysisnonex!CV27)))","v":-3.614457831325305},{"$f":"(((analysisnonex!DB27-analysisnonex!CV27)*100/ABS(analysisnonex!CV27)))","v":-7.630522088353416},{"$f":"(((analysisnonex!DC27-analysisnonex!CV27)*100/ABS(analysisnonex!CV27)))","v":3.0789825970548823},{"$f":"(((analysisnonex!DD27-analysisnonex!CV27)*100/ABS(analysisnonex!CV27)))","v":7.095046854082995},{"$f":"(((analysisnonex!DE27-analysisnonex!CV27)*100/ABS(analysisnonex!CV27)))","v":-6.29183400267738},{"$f":"(((analysisnonex!DF27-analysisnonex!CV27)*100/ABS(analysisnonex!CV27)))","v":-7.630522088353416},-4.016064257028115,null,{"$f":"((analysisnonex!DS27-analysisnonex!DR27)*100/ABS(analysisnonex!DR27))","v":0.1335113484646119},{"$f":"((analysisnonex!DT27-analysisnonex!DR27)*100/ABS(analysisnonex!DR27))","v":-2.5367156208277777},{"$f":"((analysisnonex!DU27-analysisnonex!DR27)*100/ABS(analysisnonex!DR27))","v":-6.5420560747663625},{"$f":"((analysisnonex!DV27-analysisnonex!DR27)*100/ABS(analysisnonex!DR27))","v":-5.206942590120168},{"$f":"((analysisnonex!DW27-analysisnonex!DR27)*100/ABS(analysisnonex!DR27))","v":-5.206942590120168},{"$f":"((analysisnonex!DX27-analysisnonex!DR27)*100/ABS(analysisnonex!DR27))","v":-1.201602136181583},{"$f":"((analysisnonex!DY27-analysisnonex!DR27)*100/ABS(analysisnonex!DR27))","v":1.4686248331108067},{"$f":"((analysisnonex!DZ27-analysisnonex!DR27)*100/ABS(analysisnonex!DR27))","v":-10.547396528704947},{"$f":"((analysisnonex!EA27-analysisnonex!DR27)*100/ABS(analysisnonex!DR27))","v":-6.5420560747663625},{"$f":"((analysisnonex!EB27-analysisnonex!DR27)*100/ABS(analysisnonex!DR27))","v":-9.212283044058752},-4.53938584779707,null,-1.9386999999999979,-4.155800000000001]
[{"$f":"analysisnonex!A28","v":"TM101-nonexercise"},{"$f":"(((analysisnonex!CW28-analysisnonex!CV28)*100/ABS(analysisnonex!CV28)))","v":-12.811387900355875},{"$f":"(((analysisnonex!CX28-analysisnonex!CV28)*100/ABS(analysisnonex!CV28)))","v":1.4234875444839807},{"$f":"(((analysisnonex!CY28-analysisnonex!CV28)*100/ABS(analysisnonex!CV28)))","v":-3.9145907473309656},{"$f":"(((analysisnonex!CZ28-analysisnonex!CV28)*100/ABS(analysisnonex!CV28)))","v":-3.9145907473309656},{"$f":"(((analysisnonex!DA28-analysisnonex!CV28)*100/ABS(analysisnonex!CV28)))","v":-7.47330960854093},{"$f":"(((analysisnonex!DB28-analysisnonex!CV28)*100/ABS(analysisnonex!CV28)))","v":-5.693950177935948},{"$f":"(((analysisnonex!DC28-analysisnonex!CV28)*100/ABS(analysisnonex!CV28)))","v":-3.9145907473309656},{"$f":"(((analysisnonex!DD28-analysisnonex!CV28)*100/ABS(analysisnonex!CV28)))","v":-9.25266903914591},{"$f":"(((analysisnonex!DE28-analysisnonex!CV28)*100/ABS(analysisnonex!CV28)))","v":3.2028469750889625},{"$f":"(((analysisnonex!DF28-analysisnonex!CV28)*100/ABS(analysisnonex!CV28)))","v":-5.693950177935948},-4.804270462633457,null,{"$f":"((analysisnonex!DS28-analysisnonex!DR28)*100/ABS(analysisnonex!DR28))","v":-15.517241379310345},{"$f":"((analysisnonex!DT28-analysisnonex!DR28)*100/ABS(analysisnonex!DR28))","v":5.172413793103448},{"$f":"((analysisnonex!DU28-analysisnonex!DR28)*100/ABS(analysisnonex!DR28))","v":-17.24137931034483},{"$f":"((analysisnonex!DV28-analysisnonex!DR28)*100/ABS(analysisnonex!DR28))","v":-12.068965517241379},{"$f":"((analysisnonex!DW28-analysisnonex!DR28)*100/ABS(analysisnonex!DR28))","v":-3.4482758620689653},{"$f":"((analysisnonex!DX28-analysisnonex!DR28)*100/ABS(analysisnonex!DR28))","v":-5.172413793103448},{"$f":"((analysisnonex!DY28-analysisnonex!DR28)*100/ABS(analysisnonex!DR28))","v":-15.517241379310345},{"$f":"((analysisnonex!DZ28-analysisnonex!DR28)*100/ABS(analysisnonex!DR28))","v":-3.4482758620689653},{"$f":"((analysisnonex!EA28-analysisnonex!DR28)*100/ABS(analysisnonex!DR28))","v":-3.4482758620689653},{"$f":"((analysisnonex!EB28-analysisnonex!DR28)*100/ABS(analysisnonex!DR28))","v":-17.24137931034483},-8.793103448275863,null,-0.7082000000000004,0.5618999999999964]
[{"$f":"analysisnonex!A29","v":"TP101-nonexercise"},{"$f":"(((analysisnonex!CW29-analysisnonex!CV29)*100/ABS(analysisnonex!CV29)))","v":-5.622489959839352},{"$f":"(((analysisnonex!CX29-analysisnonex!CV29)*100/ABS(analysisnonex!CV29)))","v":-29.71887550200803},{"$f":"(((analysisnonex!CY29-analysisnonex!CV29)*100/ABS(analysisnonex!CV29)))","v":-29.71887550200803},{"$f":"(((analysisnonex!CZ29-analysisnonex!CV29)*100/ABS(analysisnonex!CV29)))","v":-9.638554216867465},{"$f":"(((analysisnonex!DA29-analysisnonex!CV29)*100/ABS(analysisnonex!CV29)))","v":-6.62650602409638},{"$f":"(((analysisnonex!DB29-analysisnonex!CV29)*100/ABS(analysisnonex!CV29)))","v":-10.642570281124494},{"$f":"(((analysisnonex!DC29-analysisnonex!CV29)*100/ABS(analysisnonex!CV29)))","v":-19.678714859437747},{"$f":"(((analysisnonex!DD29-analysisnonex!CV29)*100/ABS(analysisnonex!CV29)))","v":-20.682730923694777},{"$f":"(((analysisnonex!DE29-analysisnonex!CV29)*100/ABS(analysisnonex!CV29)))","v":-15.662650602409634},{"$f":"(((analysisnonex!DF29-analysisnonex!CV29)*100/ABS(analysisnonex!CV29)))","v":-9.638554216867465},-15.763052208835338,null,{"$f":"((analysisnonex!DS29-analysisnonex!DR29)*100/ABS(analysisnonex!DR29))","v":-15.025906735751295},{"$f":"((analysisnonex!DT29-analysisnonex!DR29)*100/ABS(analysisnonex!DR29))","v":-20.207253886010363},{"$f":"((analysisnonex!DU29-analysisnonex!DR29)*100/ABS(analysisnonex!DR29))","v":-6.7357512953367875},{"$f":"((analysisnonex!DV29-analysisnonex!DR29)*100/ABS(analysisnonex!DR29))","v":-11.917098445595855},{"$f":"((analysisnonex!DW29-analysisnonex!DR29)*100/ABS(analysisnonex!DR29))","v":-6.7357512953367875},{"$f":"((analysisnonex!DX29-analysisnonex!DR29)*100/ABS(analysisnonex!DR29))","v":-13.989637305699482},{"$f":"((analysisnonex!DY29-analysisnonex!DR29)*100/ABS(analysisnonex!DR29))","v":-8.808290155440414},{"$f":"((analysisnonex!DZ29-analysisnonex!DR29)*100/ABS(analysisnonex!DR29))","v":-6.7357512953367875},{"$f":"((analysisnonex!EA29-analysisnonex!DR29)*100/ABS(analysisnonex!DR29))","v":3.626943005181347},{"$f":"((analysisnonex!EB29-analysisnonex!DR29)*100/ABS(analysisnonex!DR29))","v":-13.989637305699482},-10.051813471502593,null,-2.2904999999999984,-3.949599999999998]
[{"$f":"analysisnonex!A30","v":"TR101-nonexercise"},{"$f":"(((analysisnonex!CW30-analysisnonex!CV30)*100/ABS(analysisnonex!CV30)))","v":-1.0526315789473684},{"$f":"(((analysisnonex!CX30-analysisnonex!CV30)*100/ABS(analysisnonex!CV30)))","v":-6.315789473684211},{"$f":"(((analysisnonex!CY30-analysisnonex!CV30)*100/ABS(analysisnonex!CV30)))","v":-18.94736842105263},{"$f":"(((analysisnonex!CZ30-analysisnonex!CV30)*100/ABS(analysisnonex!CV30)))","v":-13.68421052631579},{"$f":"(((analysisnonex!DA30-analysisnonex!CV30)*100/ABS(analysisnonex!CV30)))","v":9.473684210526315},{"$f":"(((analysisnonex!DB30-analysisnonex!CV30)*100/ABS(analysisnonex!CV30)))","v":6.315789473684211},{"$f":"(((analysisnonex!DC30-analysisnonex!CV30)*100/ABS(analysisnonex!CV30)))","v":-15.789473684210526},{"$f":"(((analysisnonex!DD30-analysisnonex!CV30)*100/ABS(analysisnonex!CV30)))","v":5.2631578947368425},{"$f":"(((analysisnonex!DE30-analysisnonex!CV30)*100/ABS(analysisnonex!CV30)))","v":-9.473684210526315},{"$f":"(((analysisnonex!DF30-analysisnonex!CV30)*100/ABS(analysisnonex!CV30)))","v":-8.421052631578947},-5.263157894736842,null,{"$f":"((analysisnonex!DS30-analysisnonex!DR30)*100/ABS(analysisnonex!DR30))","v":-5.208333333333333},{"$f":"((analysisnonex!DT30-analysisnonex!DR30)*100/ABS(analysisnonex!DR30))","v":1.0416666666666667},{"$f":"((analysisnonex!DU30-analysisnonex!DR30)*100/ABS(analysisnonex!DR30))","v":-7.291666666666667},{"$f":"((analysisnonex!DV30-analysisnonex!DR30)*100/ABS(analysisnonex!DR30))","v":-7.291666666666667},{"$f":"((analysisnonex!DW30-analysisnonex!DR30)*100/ABS(analysisnonex!DR30))","v":-4.166666666666667},{"$f":"((analysisnonex!DX30-analysisnonex!DR30)*100/ABS(analysisnonex!DR30))","v":-14.583333333333334},{"$f":"((analysisnonex!DY30-analysisnonex!DR30)*100/ABS(analysisnonex!DR30))","v":-7.291666666666667},{"$f":"((analysisnonex!DZ30-analysisnonex!DR30)*100/ABS(analysisnonex!DR30))","v":-7.291666666666667},{"$f":"((analysisnonex!EA30-analysisnonex!DR30)*100/ABS(analysisnonex!DR30))","v":-5.208333333333333},{"$f":"((analysisnonex!EB30-analysisnonex!DR30)*100/ABS(analysisnonex!DR30))","v":-9.375},-6.666666666666666,null,-9.904999999999998,-2.226899999999999]
[{"$f":"analysisnonex!A31","v":"YS102-nonexercise"},{"$f":"(((analysisnonex!CW31-analysisnonex!CV31)*100/ABS(analysisnonex!CV31)))","v":-6.015037593984959},{"$f":"(((analysisnonex!CX31-analysisnonex!CV31)*100/ABS(analysisnonex!CV31)))","v":-6.015037593984959},{"$f":"(((analysisnonex!CY31-analysisnonex!CV31)*100/ABS(analysisnonex!CV31)))","v":-13.533834586466163},{"$f":"(((analysisnonex!CZ31-analysisnonex!CV31)*100/ABS(analysisnonex!CV31)))","v":-7.2681704260651605},{"$f":"(((analysisnonex!DA31-analysisnonex!CV31)*100/ABS(analysisnonex!CV31)))","v":-7.2681704260651605},{"$f":"(((analysisnonex!DB31-analysisnonex!CV31)*100/ABS(analysisnonex!CV31)))","v":-4.761904761904758},{"$f":"(((analysisnonex!DC31-analysisnonex!CV31)*100/ABS(analysisnonex!CV31)))","v":-1.0025062656641568},{"$f":"(((analysisnonex!DD31-analysisnonex!CV31)*100/ABS(analysisnonex!CV31)))","v":-8.52130325814536},{"$f":"(((analysisnonex!DE31-analysisnonex!CV31)*100/ABS(analysisnonex!CV31)))","v":-8.52130325814536},{"$f":"(((analysisnonex!DF31-analysisnonex!CV31)*100/ABS(analysisnonex!CV31)))","v":-1.0025062656641568},-6.39097744360902,null,{"$f":"((analysisnonex!DS31-analysisnonex!DR31)*100/ABS(analysisnonex!DR31))","v":7.731305449936621},{"$f":"((analysisnonex!DT31-analysisnonex!DR31)*100/ABS(analysisnonex!DR31))","v":-6.210392902408119},{"$f":"((analysisnonex!DU31-analysisnonex!DR31)*100/ABS(analysisnonex!DR31))","v":-3.6755386565272565},{"$f":"((analysisnonex!DV31-analysisnonex!DR31)*100/ABS(analysisnonex!DR31))","v":-3.6755386565272565},{"$f":"((analysisnonex!DW31-analysisnonex!DR31)*100/ABS(analysisnonex!DR31))","v":-16.349809885931563},{"$f":"((analysisnonex!DX31-analysisnonex!DR31)*100/ABS(analysisnonex!DR31))","v":-18.884664131812425},{"$f":"((analysisnonex!DY31-analysisnonex!DR31)*100/ABS(analysisnonex!DR31))","v":-13.814955640050702},{"$f":"((analysisnonex!DZ31-analysisnonex!DR31)*100/ABS(analysisnonex!DR31))","v":-7.477820025348549},{"$f":"((analysisnonex!EA31-analysisnonex!DR31)*100/ABS(analysisnonex!DR31))","v":-7.477820025348549},{"$f":"((analysisnonex!EB31-analysisnonex!DR31)*100/ABS(analysisnonex!DR31))","v":-2.4081115335868257},-7.224334600760462,null,-4.830499999999997,-26.353500000000004]